{"text_format":"2","workbook":"xlsx","n_sheets":9,"sheets":["Cover","Markov","Input","p","n","m","Ct","Vt","Output"],"not_rendered":{"charts":0,"images":1,"macros":1,"external_links":0,"defined_names":0,"comments":4,"pivot_tables":0},"unopened":[],"bounds":{"document_bytes":16777216,"sheet_cells":100000,"run_cost":"one","rows_first":2000,"rows_last":500,"rows_between":2000,"halvings":0,"cell_chars":16384,"cell_head_chars":4096},"cells_cut":0,"cells_raw":0,"read":"whole","date_system":"1900"}

{"sheet":"Cover","index":0,"n_rows":25,"n_cols":6,"rows_kept":25,"cut":false,"hidden":false,"merged":[[10,2,10,5]]}
["GC"]
{"$rows_empty":7}
[null,null,"Dynamic Programming Model for"]
[null,null,"Stochastic Equipment Replacement Problem"]
[null,null,"Start"]
{"$rows_empty":7}
[null,null,"Developer: ",null,"Kam Hoe Yin"]
[null,null,"File name:  ",null,"SERP.xlsm"]
[]
[]
[]
[null,null,"Any queries please e-mail:",null,null,"kam.yin@nottingham.edu.cn"]
[{"$nulls":5},"kamhoe.yin@gmail.com"]

{"sheet":"Markov","index":1,"n_rows":21,"n_cols":11,"rows_kept":21,"cut":false,"hidden":false,"merged":[[6,2,6,4],[6,5,6,7],[6,8,6,10]]}
[]
["Markov Chains"]
["Stochastic Equipment Replacement Problem"]
["Back To Input",{"$nulls":9},"Insert Data"]
[]
["Markovian Properties"]
["Input Markov chains",null,"Conditional probabilities, P",null,null,"Operating cost, N",null,null,"Maintenance cost, M"]
["Conditions of the equipment, Xt","↓→",1,2,3,1,2,3,1,2,3]
[1]
[2]
[3]
["Initial condition of the equipment, I"]
[]
["Markov Chain Computations Table",{"$nulls":9},"Edit"]
[]
["Stage"]
["Stage, t",1,{"$f":"B$17+1","v":2},{"$f":"C$17+1","v":3},4,5,6,7,8,9,10]
["<Description>",{"$f":"Input!B$18","v":0},{"$f":"Input!C$18","v":0},{"$f":"Input!D$18","v":0},{"$f":"Input!E$18","v":0},{"$f":"Input!F$18","v":0},{"$f":"Input!G$18","v":0},{"$f":"Input!H$18","v":0},{"$f":"Input!I$18","v":0},{"$f":"Input!J$18","v":0},{"$f":"Input!K$18","v":0}]
["Data for old equipment (with Markov chains)"]
["Operating cost of old equipment, ntO",{"$f":"MMULT(MMULT($C$12:$E$12,mpower($C$9:$E$11,B$17)), TRANSPOSE(MMULT($C$12:$E$12,$F$9:$H$11)))","v":{"$error":"#VALUE!"}},{"$f":"MMULT(MMULT($C$12:$E$12,mpower($C$9:$E$11,C$17)), TRANSPOSE(MMULT($C$12:$E$12,$F$9:$H$11)))","v":{"$error":"#VALUE!"}},{"$f":"MMULT(MMULT($C$12:$E$12,mpower($C$9:$E$11,D$17)), TRANSPOSE(MMULT($C$12:$E$12,$F$9:$H$11)))","v":{"$error":"#VALUE!"}},{"$f":"MMULT(MMULT($C$12:$E$12,mpower($C$9:$E$11,E$17)), TRANSPOSE(MMULT($C$12:$E$12,$F$9:$H$11)))","v":{"$error":"#VALUE!"}},{"$f":"MMULT(MMULT($C$12:$E$12,mpower($C$9:$E$11,F$17)), TRANSPOSE(MMULT($C$12:$E$12,$F$9:$H$11)))","v":{"$error":"#VALUE!"}},{"$f":"MMULT(MMULT($C$12:$E$12,mpower($C$9:$E$11,G$17)), TRANSPOSE(MMULT($C$12:$E$12,$F$9:$H$11)))","v":{"$error":"#VALUE!"}},{"$f":"MMULT(MMULT($C$12:$E$12,mpower($C$9:$E$11,H$17)), TRANSPOSE(MMULT($C$12:$E$12,$F$9:$H$11)))","v":{"$error":"#VALUE!"}},{"$f":"MMULT(MMULT($C$12:$E$12,mpower($C$9:$E$11,I$17)), TRANSPOSE(MMULT($C$12:$E$12,$F$9:$H$11)))","v":{"$error":"#VALUE!"}},{"$f":"MMULT(MMULT($C$12:$E$12,mpower($C$9:$E$11,J$17)), TRANSPOSE(MMULT($C$12:$E$12,$F$9:$H$11)))","v":{"$error":"#VALUE!"}},{"$f":"MMULT(MMULT($C$12:$E$12,mpower($C$9:$E$11,K$17)), TRANSPOSE(MMULT($C$12:$E$12,$F$9:$H$11)))","v":{"$error":"#VALUE!"}}]
["Maintenance cost of old equipment, mtO",{"$f":"MMULT(MMULT($C$12:$E$12,mpower($C$9:$E$11,B$17)), TRANSPOSE(MMULT($C$12:$E$12,$I$9:$K$11)))","v":{"$error":"#VALUE!"}},{"$f":"MMULT(MMULT($C$12:$E$12,mpower($C$9:$E$11,C$17)), TRANSPOSE(MMULT($C$12:$E$12,$I$9:$K$11)))","v":{"$error":"#VALUE!"}},{"$f":"MMULT(MMULT($C$12:$E$12,mpower($C$9:$E$11,D$17)), TRANSPOSE(MMULT($C$12:$E$12,$I$9:$K$11)))","v":{"$error":"#VALUE!"}},{"$f":"MMULT(MMULT($C$12:$E$12,mpower($C$9:$E$11,E$17)), TRANSPOSE(MMULT($C$12:$E$12,$I$9:$K$11)))","v":{"$error":"#VALUE!"}},{"$f":"MMULT(MMULT($C$12:$E$12,mpower($C$9:$E$11,F$17)), TRANSPOSE(MMULT($C$12:$E$12,$I$9:$K$11)))","v":{"$error":"#VALUE!"}},{"$f":"MMULT(MMULT($C$12:$E$12,mpower($C$9:$E$11,G$17)), TRANSPOSE(MMULT($C$12:$E$12,$I$9:$K$11)))","v":{"$error":"#VALUE!"}},{"$f":"MMULT(MMULT($C$12:$E$12,mpower($C$9:$E$11,H$17)), TRANSPOSE(MMULT($C$12:$E$12,$I$9:$K$11)))","v":{"$error":"#VALUE!"}},{"$f":"MMULT(MMULT($C$12:$E$12,mpower($C$9:$E$11,I$17)), TRANSPOSE(MMULT($C$12:$E$12,$I$9:$K$11)))","v":{"$error":"#VALUE!"}},{"$f":"MMULT(MMULT($C$12:$E$12,mpower($C$9:$E$11,J$17)), TRANSPOSE(MMULT($C$12:$E$12,$I$9:$K$11)))","v":{"$error":"#VALUE!"}},{"$f":"MMULT(MMULT($C$12:$E$12,mpower($C$9:$E$11,K$17)), TRANSPOSE(MMULT($C$12:$E$12,$I$9:$K$11)))","v":{"$error":"#VALUE!"}}]

{"sheet":"Input","index":2,"n_rows":46,"n_cols":11,"rows_kept":46,"cut":false,"hidden":false,"merged":[]}
[]
["Input",{"$nulls":9},"Markov Chains"]
["Stochastic Equipment Replacement Problem"]
["Go To Output",{"$nulls":9},"Insert"]
[]
["Criteria"]
["Maximum number of stages, T"]
["Maximum number of equipment, rmax"]
["Number of available equipment at stage 1"]
["Total internal transaction costs"]
["Initial operating cost of new equipment, ṅ"]
["Efficiency index of new equipment per stage, η"]
[]
["Input Display Table",{"$nulls":9},"Edit Next"]
[]
["Stage"]
["Stage, t",1,{"$f":"B$17+1","v":2},{"$f":"C$17+1","v":3},4,5,6,7,8,9,10]
["<Description, e.g., 2015, Q1, Jan>"]
["Demand"]
["Demand on the number of equipment, at"]
["Exogenous change to demand, ât"]
["Final demand on the number of equipment, ãt",{"$f":"SUM(B$20:B$21)","v":0},{"$f":"SUM(C$20:C$21)","v":0},0,0,0,0,0,0,0,0]
["Data for new equipment"]
["Number of equipment purchased, xtN"]
["Purchase price, ptN"]
["Fluctuation in purchase price, p̂tN"]
["Final purchase price per unit, p̃tN",{"$f":"SUM(B$25:B$26)","v":0},{"$f":"SUM(C$25:C$26)","v":0},0,0,0,0,0,0,0,0]
["Operating cost of new equipment, ntN",{"$f":"Output!B$28","v":0},{"$f":"Output!C$28","v":0},{"$f":"Output!D$28","v":0},{"$f":"Output!E$28","v":0},{"$f":"Output!F$28","v":0},{"$f":"Output!G$28","v":0},{"$f":"Output!H$28","v":0},{"$f":"Output!I$28","v":0},{"$f":"Output!J$28","v":0},{"$f":"Output!K$28","v":0}]
["Change in operating cost, n̂tN"]
["Final operating cost, ñtN",{"$f":"SUM(B$28:B$29)","v":0},{"$f":"SUM(C$28:C$29)","v":0},0,0,0,0,0,0,0,0]
["Maintenance cost of new equipment, mtN"]
["Change in maintenance cost, m̂tN"]
["Final maintenance cost, m̃tN",{"$f":"SUM(B$31:B$32)","v":0},{"$f":"SUM(C$31:C$32)","v":0},0,0,0,0,0,0,0,0]
["Data for old equipment"]
["Number of equipment sold, xtO"]
["Selling price, qtO"]
["Salvage value, gtO"]
["Probability of equipment failure, ztO"]
["Fluctuation in selling price, p̂tO"]
["Final selling price per unit, p̃tO",{"$f":"((1-B$38)*B$36+B$38*B$37)+B$39","v":0},{"$f":"((1-C$38)*C$36+C$38*C$37)+C$39","v":0},0,0,0,0,0,0,0,0]
["Operating cost of old equipment, ntO"]
["Change in operating cost, n̂tO"]
["Final operating cost, ñtO",{"$f":"SUM(B$41:B$42)","v":0},{"$f":"SUM(C$41:C$42)","v":0},0,0,0,0,0,0,0,0]
["Maintenance cost of old equipment, mtO"]
["Change in maintenance cost, m̂tO"]
["Final maintenance cost, m̃tO",{"$f":"SUM(B$44:B$45)","v":0},{"$f":"SUM(C$44:C$45)","v":0},0,0,0,0,0,0,0,{"$f":"SUM(K$44:K$45)","v":0}]

{"sheet":"p","index":3,"n_rows":182,"n_cols":15,"rows_kept":182,"cut":false,"hidden":false,"merged":[]}
[]
["Worksheet \"p\""]
["Stochastic Equipment Replacement Problem"]
["Back To Input",{"$nulls":9},"Insert Next"]
[]
["Criteria"]
["Maximum number of stages, T",null,{"$f":"Input!$C7","v":0}]
["Maximum number of equipment, rmax",null,{"$f":"Input!$C8","v":0}]
["Number of available equipment at stage 1",null,{"$f":"Input!$C9","v":0}]
["Total internal transaction costs",null,{"$f":"Input!$C10","v":0}]
["Initial operating cost of new equipment, ṅ",null,{"$f":"Input!$C11","v":0}]
["Efficiency index of new equipment per stage, η",null,{"$f":"Input!$C12","v":0}]
[]
["Input Display Table",{"$nulls":9},"Edit Next"]
[]
["Stage"]
["Stage, t",1,{"$f":"B$17+1","v":2},{"$f":"C$17+1","v":3},4,5,6,7,8,9,10]
["<Description>",{"$f":"Input!B18","v":0},{"$f":"Input!C18","v":0},{"$f":"Input!D18","v":0},{"$f":"Input!E18","v":0},{"$f":"Input!F18","v":0},{"$f":"Input!G18","v":0},{"$f":"Input!H18","v":0},{"$f":"Input!I18","v":0},{"$f":"Input!J18","v":0},{"$f":"Input!K18","v":0}]
["Demand"]
["Demand on the number of equipment, at",{"$f":"Input!B20","v":0},{"$f":"Input!C20","v":0},{"$f":"Input!D20","v":0},{"$f":"Input!E20","v":0},{"$f":"Input!F20","v":0},{"$f":"Input!G20","v":0},{"$f":"Input!H20","v":0},{"$f":"Input!I20","v":0},{"$f":"Input!J20","v":0},{"$f":"Input!K20","v":0}]
["Exogenous change to demand, ât",{"$f":"Input!B21","v":0},{"$f":"Input!C21","v":0},{"$f":"Input!D21","v":0},{"$f":"Input!E21","v":0},{"$f":"Input!F21","v":0},{"$f":"Input!G21","v":0},{"$f":"Input!H21","v":0},{"$f":"Input!I21","v":0},{"$f":"Input!J21","v":0},{"$f":"Input!K21","v":0}]
["Final demand on the number of equipment, ãt",{"$f":"SUM(B$20:B$21)","v":0},{"$f":"SUM(C$20:C$21)","v":0},0,0,0,0,0,0,0,0]
["Data for new equipment"]
["Number of equipment purchased, xtN",{"$f":"Input!B24","v":0},{"$f":"Input!C24","v":0},{"$f":"Input!D24","v":0},{"$f":"Input!E24","v":0},{"$f":"Input!F24","v":0},{"$f":"Input!G24","v":0},{"$f":"Input!H24","v":0},{"$f":"Input!I24","v":0},{"$f":"Input!J24","v":0},{"$f":"Input!K24","v":0}]
["Purchase price, ptN",{"$f":"Input!B25","v":0},{"$f":"Input!C25","v":0},{"$f":"Input!D25","v":0},{"$f":"Input!E25","v":0},{"$f":"Input!F25","v":0},{"$f":"Input!G25","v":0},{"$f":"Input!H25","v":0},{"$f":"Input!I25","v":0},{"$f":"Input!J25","v":0},{"$f":"Input!K25","v":0}]
["Fluctuation in purchase price, p̂tN",{"$f":"Input!B26","v":0},{"$f":"Input!C26","v":0},{"$f":"Input!D26","v":0},{"$f":"Input!E26","v":0},{"$f":"Input!F26","v":0},{"$f":"Input!G26","v":0},{"$f":"Input!H26","v":0},{"$f":"Input!I26","v":0},{"$f":"Input!J26","v":0},{"$f":"Input!K26","v":0}]
["Final purchase price per unit, p̃tN",{"$f":"SUM(B$25:B$26)","v":0},{"$f":"SUM(C$25:C$26)","v":0},0,0,0,0,0,0,0,0]
["Operating cost of new equipment, ntN",{"$f":"Input!B28","v":0},{"$f":"Input!C28","v":0},{"$f":"Input!D28","v":0},{"$f":"Input!E28","v":0},{"$f":"Input!F28","v":0},{"$f":"Input!G28","v":0},{"$f":"Input!H28","v":0},{"$f":"Input!I28","v":0},{"$f":"Input!J28","v":0},{"$f":"Input!K28","v":0}]
["Change in operating cost, n̂tN",{"$f":"Input!B29","v":0},{"$f":"Input!C29","v":0},{"$f":"Input!D29","v":0},{"$f":"Input!E29","v":0},{"$f":"Input!F29","v":0},{"$f":"Input!G29","v":0},{"$f":"Input!H29","v":0},{"$f":"Input!I29","v":0},{"$f":"Input!J29","v":0},{"$f":"Input!K29","v":0}]
["Final operating cost, ñtN",{"$f":"SUM(B$28:B$29)","v":0},{"$f":"SUM(C$28:C$29)","v":0},0,0,0,0,0,0,0,0]
["Maintenance cost of new equipment, mtN",{"$f":"Input!B31","v":0},{"$f":"Input!C31","v":0},{"$f":"Input!D31","v":0},{"$f":"Input!E31","v":0},{"$f":"Input!F31","v":0},{"$f":"Input!G31","v":0},{"$f":"Input!H31","v":0},{"$f":"Input!I31","v":0},{"$f":"Input!J31","v":0},{"$f":"Input!K31","v":0}]
["Change in maintenance cost, m̂tN",{"$f":"Input!B32","v":0},{"$f":"Input!C32","v":0},{"$f":"Input!D32","v":0},{"$f":"Input!E32","v":0},{"$f":"Input!F32","v":0},{"$f":"Input!G32","v":0},{"$f":"Input!H32","v":0},{"$f":"Input!I32","v":0},{"$f":"Input!J32","v":0},{"$f":"Input!K32","v":0}]
["Final maintenance cost, m̃tN",{"$f":"SUM(B$31:B$32)","v":0},{"$f":"SUM(C$31:C$32)","v":0},0,0,0,0,0,0,0,0]
["Data for old equipment"]
["Number of equipment sold, xtO",{"$f":"Input!B35","v":0},{"$f":"Input!C35","v":0},{"$f":"Input!D35","v":0},{"$f":"Input!E35","v":0},{"$f":"Input!F35","v":0},{"$f":"Input!G35","v":0},{"$f":"Input!H35","v":0},{"$f":"Input!I35","v":0},{"$f":"Input!J35","v":0},{"$f":"Input!K35","v":0}]
["Selling price, qtO",{"$f":"Input!B36","v":0},{"$f":"Input!C36","v":0},{"$f":"Input!D36","v":0},{"$f":"Input!E36","v":0},{"$f":"Input!F36","v":0},{"$f":"Input!G36","v":0},{"$f":"Input!H36","v":0},{"$f":"Input!I36","v":0},{"$f":"Input!J36","v":0},{"$f":"Input!K36","v":0}]
["Salvage value, gtO",{"$f":"Input!B37","v":0},{"$f":"Input!C37","v":0},{"$f":"Input!D37","v":0},{"$f":"Input!E37","v":0},{"$f":"Input!F37","v":0},{"$f":"Input!G37","v":0},{"$f":"Input!H37","v":0},{"$f":"Input!I37","v":0},{"$f":"Input!J37","v":0},{"$f":"Input!K37","v":0}]
["Probability of equipment failure, ztO",{"$f":"Input!B38","v":0},{"$f":"Input!C38","v":0},{"$f":"Input!D38","v":0},{"$f":"Input!E38","v":0},{"$f":"Input!F38","v":0},{"$f":"Input!G38","v":0},{"$f":"Input!H38","v":0},{"$f":"Input!I38","v":0},{"$f":"Input!J38","v":0},{"$f":"Input!K38","v":0}]
["Fluctuation in selling price, p̂tO",{"$f":"Input!B39","v":0},{"$f":"Input!C39","v":0},{"$f":"Input!D39","v":0},{"$f":"Input!E39","v":0},{"$f":"Input!F39","v":0},{"$f":"Input!G39","v":0},{"$f":"Input!H39","v":0},{"$f":"Input!I39","v":0},{"$f":"Input!J39","v":0},{"$f":"Input!K39","v":0}]
["Final selling price per unit, p̃tO",{"$f":"((1-B$38)*B$36+B$38*B$37)+B$39","v":0},{"$f":"((1-C$38)*C$36+C$38*C$37)+C$39","v":0},0,0,0,0,0,0,0,0]
["Operating cost of old equipment, ntO",{"$f":"Input!B41","v":0},{"$f":"Input!C41","v":0},{"$f":"Input!D41","v":0},{"$f":"Input!E41","v":0},{"$f":"Input!F41","v":0},{"$f":"Input!G41","v":0},{"$f":"Input!H41","v":0},{"$f":"Input!I41","v":0},{"$f":"Input!J41","v":0},{"$f":"Input!K41","v":0}]
["Change in operating cost, n̂tO",{"$f":"Input!B42","v":0},{"$f":"Input!C42","v":0},{"$f":"Input!D42","v":0},{"$f":"Input!E42","v":0},{"$f":"Input!F42","v":0},{"$f":"Input!G42","v":0},{"$f":"Input!H42","v":0},{"$f":"Input!I42","v":0},{"$f":"Input!J42","v":0},{"$f":"Input!K42","v":0}]
["Final operating cost, ñtO",{"$f":"SUM(B$41:B$42)","v":0},{"$f":"SUM(C$41:C$42)","v":0},0,0,0,0,0,0,0,0]
["Maintenance cost of old equipment, mtO",{"$f":"Input!B44","v":0},{"$f":"Input!C44","v":0},{"$f":"Input!D44","v":0},{"$f":"Input!E44","v":0},{"$f":"Input!F44","v":0},{"$f":"Input!G44","v":0},{"$f":"Input!H44","v":0},{"$f":"Input!I44","v":0},{"$f":"Input!J44","v":0},{"$f":"Input!K44","v":0}]
["Change in maintenance cost, m̂tO",{"$f":"Input!B45","v":0},{"$f":"Input!C45","v":0},{"$f":"Input!D45","v":0},{"$f":"Input!E45","v":0},{"$f":"Input!F45","v":0},{"$f":"Input!G45","v":0},{"$f":"Input!H45","v":0},{"$f":"Input!I45","v":0},{"$f":"Input!J45","v":0},{"$f":"Input!K45","v":0}]
["Final maintenance cost, m̃tO",{"$f":"SUM(B$44:B$45)","v":0},{"$f":"SUM(C$44:C$45)","v":0},0,0,0,0,0,0,0,0]
[]
["Stage Computations Table",{"$nulls":9},"Edit Next"]
[]
["Total number of equipment before decision, rt","rtN","rtO","kt",{"$f":"$C$7+1","v":1},{"$f":"E$50-1","v":0},{"$f":"F$50-1","v":0},0,0,0,0,0,0,0,0]
[0,0,0,0,0,{"$f":"$D51*INDEX($24:$24*$27:$27+$35:$35*$40:$40, MATCH(F$50,$17:$17, 0))","v":0},0,0,0,0,0,0,0,0,0]
[0,0,0,1,0,0,0,0,0,0,0,0,0,0,0]
[1,0,1,0,0,0,0,0,0,0,0,0,0,0,0]
[1,0,1,1,0,0,0,0,0,0,0,0,0,0,0]
[1,1,0,0,0,0,0,0,0,0,0,0,0,0,0]
[1,1,0,1,0,0,0,0,0,0,0,0,0,0,0]
[2,0,2,0,0,0,0,0,0,0,0,0,0,0,0]
[2,0,2,1,0,0,0,0,0,0,0,0,0,0,0]
[2,1,1,0,0,0,0,0,0,0,0,0,0,0,0]
[2,1,1,1,0,0,0,0,0,0,0,0,0,0,0]
[2,2,0,0,0,0,0,0,0,0,0,0,0,0,0]
[2,2,0,1,0,0,0,0,0,0,0,0,0,0,0]
[3,0,3,0,0,0,0,0,0,0,0,0,0,0,0]
[3,0,3,1,0,0,0,0,0,0,0,0,0,0,0]
[3,1,2,0,0,0,0,0,0,0,0,0,0,0,0]
[3,1,2,1,0,0,0,0,0,0,0,{"$f":"$D66*INDEX($24:$24*$27:$27+$35:$35*$40:$40, MATCH(L$50,$17:$17, 0))","v":0},0,0,0]
[3,2,1,0,0,{"$f":"$D67*INDEX($24:$24*$27:$27+$35:$35*$40:$40, MATCH(F$50,$17:$17, 0))","v":0},0,0,0,0,0,0,0,0,0]
[3,2,1,1,0,0,0,0,0,0,0,0,0,0,0]
[3,3,0,0,0,0,0,0,0,0,0,0,0,0,0]
[3,3,0,1,0,0,0,0,0,0,0,0,0,0,0]
[4,0,4,0,0,0,0,0,0,0,0,0,0,0,0]
[4,0,4,1,0,0,0,0,0,0,0,0,0,0,0]
[4,1,3,0,0,0,0,0,0,0,0,0,0,0,0]
[4,1,3,1,0,0,0,0,0,0,0,0,0,0,0]
[4,2,2,0,0,0,0,0,0,0,0,0,0,0,0]
[4,2,2,1,0,0,0,0,0,0,0,0,0,0,0]
[4,3,1,0,0,0,0,0,0,0,0,0,0,0,0]
[4,3,1,1,0,0,0,0,0,0,0,0,0,0,0]
[4,4,0,0,0,0,0,0,0,0,0,0,0,0,0]
[4,4,0,1,0,0,0,0,0,0,0,0,0,0,0]
[5,0,5,0,0,0,0,0,0,0,0,0,0,0,0]
[5,0,5,1,0,0,0,0,0,0,0,0,0,0,0]
[5,1,4,0,0,0,0,0,0,0,0,0,0,0,0]
[5,1,4,1,0,0,0,0,0,0,0,0,0,0,0]
[5,2,3,0,0,0,0,0,0,0,0,0,0,0,0]
[5,2,3,1,0,0,0,0,0,0,0,0,0,0,0]
[5,3,2,0,0,0,0,0,0,0,0,0,0,0,0]
[5,3,2,1,0,0,0,0,{"$f":"$D88*INDEX($24:$24*$27:$27+$35:$35*$40:$40, MATCH(I$50,$17:$17, 0))","v":0},0,0,0,0,0,0]
[5,4,1,0,0,0,0,0,0,0,0,0,0,0,0]
[5,4,1,1,0,0,0,0,0,0,0,0,0,0,0]
[5,5,0,0,0,0,0,0,0,0,0,0,0,0,0]
[5,5,0,1,0,0,0,0,0,0,0,0,0,0,0]
[6,0,6,0,0,0,0,0,0,0,0,0,0,0,0]
[6,0,6,1,0,0,0,0,0,0,0,0,0,0,0]
[6,1,5,0,0,0,0,0,0,0,0,0,0,0,0]
[6,1,5,1,0,0,0,0,0,0,0,0,0,0,0]
[6,2,4,0,0,0,0,0,0,0,0,0,0,0,0]
[6,2,4,1,0,0,0,0,0,0,0,0,0,0,0]
[6,3,3,0,0,0,0,0,0,0,0,0,0,0,0]
[6,3,3,1,0,0,0,0,0,0,0,0,0,0,0]
[6,4,2,0,0,0,0,0,0,0,0,0,0,0,0]
[6,4,2,1,0,0,0,0,0,0,0,0,0,0,0]
[6,5,1,0,0,0,0,0,0,0,0,0,0,0,0]
[6,5,1,1,0,0,{"$f":"$D104*INDEX($24:$24*$27:$27+$35:$35*$40:$40, MATCH(G$50,$17:$17, 0))","v":0},0,0,0,0,0,0,0,0]
[6,6,0,0,0,0,0,0,0,0,0,0,0,0,0]
[6,6,0,1,0,0,0,0,0,0,0,0,0,0,0]
[7,0,7,0,0,0,0,0,0,0,0,0,0,0,0]
[7,0,7,1,0,0,0,0,0,0,0,0,0,0,0]
[7,1,6,0,0,0,0,0,0,0,0,0,0,0,0]
[7,1,6,1,0,0,0,0,0,0,0,0,0,0,0]
[7,2,5,0,0,0,0,0,0,0,0,0,0,0,0]
[7,2,5,1,0,0,0,0,0,0,0,0,0,0,0]
[7,3,4,0,0,0,0,0,0,0,0,0,0,0,0]
[7,3,4,1,0,0,0,0,0,0,0,0,0,0,0]
[7,4,3,0,0,0,0,0,0,0,0,0,0,0,0]
[7,4,3,1,0,0,0,0,0,0,0,0,0,0,0]
[7,5,2,0,0,0,0,0,0,0,0,0,0,0,0]
[7,5,2,1,0,0,0,0,0,0,0,0,0,0,0]
[7,6,1,0,0,0,0,0,0,0,0,0,0,0,0]
[7,6,1,1,0,0,{"$f":"$D120*INDEX($24:$24*$27:$27+$35:$35*$40:$40, MATCH(G$50,$17:$17, 0))","v":0},0,0,0,0,0,0,0,0]
[7,7,0,0,0,0,0,0,0,0,0,0,0,0,0]
[7,7,0,1,0,0,0,0,0,0,0,0,0,0,0]
[8,0,8,0,0,0,0,0,0,0,0,0,0,0,0]
[8,0,8,1,0,0,0,0,0,0,0,0,0,0,0]
[8,1,7,0,0,0,0,0,0,0,0,0,0,0,0]
[8,1,7,1,0,0,0,0,0,0,0,0,0,0,0]
[8,2,6,0,0,0,0,0,0,0,0,0,0,0,0]
[8,2,6,1,0,0,0,0,0,0,0,0,0,0,0]
[8,3,5,0,0,0,0,0,0,0,0,0,0,0,0]
[8,3,5,1,0,0,0,0,0,0,0,0,0,0,0]
[8,4,4,0,0,{"$f":"$D131*INDEX($24:$24*$27:$27+$35:$35*$40:$40, MATCH(F$50,$17:$17, 0))","v":0},0,0,0,0,0,0,0,0,0]
[8,4,4,1,0,0,0,0,0,0,0,0,0,0,0]
[8,5,3,0,0,0,0,0,0,0,0,0,0,0,0]
[8,5,3,1,0,0,0,0,0,0,0,0,0,0,0]
[8,6,2,0,0,0,0,0,0,0,0,0,0,0,0]
[8,6,2,1,0,0,0,0,0,0,0,0,0,0,0]
[8,7,1,0,0,0,0,0,0,0,0,0,0,0,0]
[8,7,1,1,0,0,0,0,0,0,0,0,0,0,0]
[8,8,0,0,0,0,0,0,0,0,0,0,0,0,0]
[8,8,0,1,0,0,0,0,0,0,0,0,0,0,0]
[9,0,9,0,0,0,0,0,0,0,0,0,0,0,0]
[9,0,9,1,0,0,0,0,0,0,0,0,0,0,0]
[9,1,8,0,0,0,0,0,0,0,0,0,0,0,0]
[9,1,8,1,0,0,0,0,0,0,0,0,0,0,0]
[9,2,7,0,0,0,0,0,0,0,0,0,0,0,0]
[9,2,7,1,0,0,0,0,0,0,0,0,0,0,0]
[9,3,6,0,0,0,0,0,0,0,0,0,0,0,0]
[9,3,6,1,0,0,0,0,0,0,0,0,0,0,0]
[9,4,5,0,0,0,0,0,0,0,0,0,0,0,0]
[9,4,5,1,0,0,0,0,0,0,0,0,0,0,0]
[9,5,4,0,0,0,0,0,0,0,0,0,0,0,0]
[9,5,4,1,0,0,0,0,0,0,0,0,0,0,0]
[9,6,3,0,0,0,0,0,0,0,0,{"$f":"$D153*INDEX($24:$24*$27:$27+$35:$35*$40:$40, MATCH(L$50,$17:$17, 0))","v":0},0,0,0]
[9,6,3,1,0,0,0,0,0,0,0,0,0,0,0]
[9,7,2,0,0,0,0,0,0,0,0,0,0,0,0]
[9,7,2,1,0,0,0,0,0,0,0,0,0,0,0]
[9,8,1,0,0,0,0,0,0,0,0,0,0,0,0]
[9,8,1,1,0,0,0,0,0,0,0,0,0,0,0]
[9,9,0,0,0,0,0,0,0,0,0,0,0,0,0]
[9,9,0,1,0,0,0,0,0,0,0,0,0,0,0]
[10,0,10,0,0,0,0,0,0,0,0,0,0,0,0]
[10,0,10,1,0,0,0,0,0,0,0,0,0,0,0]
[10,1,9,0,0,0,0,0,0,0,0,0,0,0,0]
[10,1,9,1,0,0,0,0,0,0,0,0,0,0,0]
[10,2,8,0,0,0,0,0,0,0,0,0,0,0,0]
[10,2,8,1,0,0,0,0,0,0,0,0,0,0,0]
[10,3,7,0,0,0,0,0,0,0,0,0,0,0,0]
[10,3,7,1,0,0,0,0,0,0,0,0,0,0,0]
[10,4,6,0,0,0,{"$f":"$D169*INDEX($24:$24*$27:$27+$35:$35*$40:$40, MATCH(G$50,$17:$17, 0))","v":0},0,0,0,0,0,0,0,0]
[10,4,6,1,0,0,0,0,0,0,0,0,0,0,0]
[10,5,5,0,0,0,0,0,0,0,0,0,0,0,0]
[10,5,5,1,0,0,0,0,0,0,0,0,0,0,0]
[10,6,4,0,0,0,0,0,0,0,0,0,0,0,0]
[10,6,4,1,0,0,0,0,0,0,0,0,0,0,0]
[10,7,3,0,0,0,0,0,0,0,0,0,0,0,0]
[10,7,3,1,0,0,0,0,0,0,0,0,0,0,0]
[10,8,2,0,0,0,0,0,0,0,0,0,0,0,0]
[10,8,2,1,0,0,0,0,0,0,0,0,0,0,0]
[10,9,1,0,0,0,0,0,0,0,0,0,0,0,0]
[10,9,1,1,0,0,0,0,0,0,0,0,0,0,0]
[10,10,0,0,0,0,0,0,0,0,0,0,0,0,0]
[10,10,0,1,0,0,0,0,0,0,0,0,0,0,0]

{"sheet":"n","index":4,"n_rows":182,"n_cols":15,"rows_kept":182,"cut":false,"hidden":false,"merged":[]}
[]
["Worksheet \"n\" "]
["Stochastic Equipment Replacement Problem"]
["Back To Input",{"$nulls":9},"Insert Next"]
[]
["Criteria"]
["Maximum number of stages, T",null,{"$f":"Input!$C7","v":0}]
["Maximum number of equipment, rmax",null,{"$f":"Input!$C8","v":0}]
["Number of available equipment at stage 1",null,{"$f":"Input!$C9","v":0}]
["Total internal transaction costs",null,{"$f":"Input!$C10","v":0}]
["Initial operating cost of new equipment, ṅ",null,{"$f":"Input!$C11","v":0}]
["Efficiency index of new equipment per stage, η",null,{"$f":"Input!$C12","v":0}]
[]
["Input Display Table",{"$nulls":9},"Edit Next"]
[]
["Stage"]
["Stage, t",1,{"$f":"B$17+1","v":2},{"$f":"C$17+1","v":3},4,5,6,7,8,9,10]
["<Description>",{"$f":"Input!B18","v":0},{"$f":"Input!C18","v":0},{"$f":"Input!D18","v":0},{"$f":"Input!E18","v":0},{"$f":"Input!F18","v":0},{"$f":"Input!G18","v":0},{"$f":"Input!H18","v":0},{"$f":"Input!I18","v":0},{"$f":"Input!J18","v":0},{"$f":"Input!K18","v":0}]
["Demand"]
["Demand on the number of equipment, at",{"$f":"Input!B20","v":0},{"$f":"Input!C20","v":0},{"$f":"Input!D20","v":0},{"$f":"Input!E20","v":0},{"$f":"Input!F20","v":0},{"$f":"Input!G20","v":0},{"$f":"Input!H20","v":0},{"$f":"Input!I20","v":0},{"$f":"Input!J20","v":0},{"$f":"Input!K20","v":0}]
["Exogenous change to demand, ât",{"$f":"Input!B21","v":0},{"$f":"Input!C21","v":0},{"$f":"Input!D21","v":0},{"$f":"Input!E21","v":0},{"$f":"Input!F21","v":0},{"$f":"Input!G21","v":0},{"$f":"Input!H21","v":0},{"$f":"Input!I21","v":0},{"$f":"Input!J21","v":0},{"$f":"Input!K21","v":0}]
["Final demand on the number of equipment, ãt",{"$f":"SUM(B$20:B$21)","v":0},{"$f":"SUM(C$20:C$21)","v":0},0,0,0,0,0,0,0,0]
["Data for new equipment"]
["Number of equipment purchased, xtN",{"$f":"Input!B24","v":0},{"$f":"Input!C24","v":0},{"$f":"Input!D24","v":0},{"$f":"Input!E24","v":0},{"$f":"Input!F24","v":0},{"$f":"Input!G24","v":0},{"$f":"Input!H24","v":0},{"$f":"Input!I24","v":0},{"$f":"Input!J24","v":0},{"$f":"Input!K24","v":0}]
["Purchase price, ptN",{"$f":"Input!B25","v":0},{"$f":"Input!C25","v":0},{"$f":"Input!D25","v":0},{"$f":"Input!E25","v":0},{"$f":"Input!F25","v":0},{"$f":"Input!G25","v":0},{"$f":"Input!H25","v":0},{"$f":"Input!I25","v":0},{"$f":"Input!J25","v":0},{"$f":"Input!K25","v":0}]
["Fluctuation in purchase price, p̂tN",{"$f":"Input!B26","v":0},{"$f":"Input!C26","v":0},{"$f":"Input!D26","v":0},{"$f":"Input!E26","v":0},{"$f":"Input!F26","v":0},{"$f":"Input!G26","v":0},{"$f":"Input!H26","v":0},{"$f":"Input!I26","v":0},{"$f":"Input!J26","v":0},{"$f":"Input!K26","v":0}]
["Final purchase price per unit, p̃tN",{"$f":"SUM(B$25:B$26)","v":0},{"$f":"SUM(C$25:C$26)","v":0},0,0,0,0,0,0,0,0]
["Operating cost of new equipment, ntN",{"$f":"Input!B28","v":0},{"$f":"Input!C28","v":0},{"$f":"Input!D28","v":0},{"$f":"Input!E28","v":0},{"$f":"Input!F28","v":0},{"$f":"Input!G28","v":0},{"$f":"Input!H28","v":0},{"$f":"Input!I28","v":0},{"$f":"Input!J28","v":0},{"$f":"Input!K28","v":0}]
["Change in operating cost, n̂tN",{"$f":"Input!B29","v":0},{"$f":"Input!C29","v":0},{"$f":"Input!D29","v":0},{"$f":"Input!E29","v":0},{"$f":"Input!F29","v":0},{"$f":"Input!G29","v":0},{"$f":"Input!H29","v":0},{"$f":"Input!I29","v":0},{"$f":"Input!J29","v":0},{"$f":"Input!K29","v":0}]
["Final operating cost, ñtN",{"$f":"SUM(B$28:B$29)","v":0},{"$f":"SUM(C$28:C$29)","v":0},0,0,0,0,0,0,0,0]
["Maintenance cost of new equipment, mtN",{"$f":"Input!B31","v":0},{"$f":"Input!C31","v":0},{"$f":"Input!D31","v":0},{"$f":"Input!E31","v":0},{"$f":"Input!F31","v":0},{"$f":"Input!G31","v":0},{"$f":"Input!H31","v":0},{"$f":"Input!I31","v":0},{"$f":"Input!J31","v":0},{"$f":"Input!K31","v":0}]
["Change in maintenance cost, m̂tN",{"$f":"Input!B32","v":0},{"$f":"Input!C32","v":0},{"$f":"Input!D32","v":0},{"$f":"Input!E32","v":0},{"$f":"Input!F32","v":0},{"$f":"Input!G32","v":0},{"$f":"Input!H32","v":0},{"$f":"Input!I32","v":0},{"$f":"Input!J32","v":0},{"$f":"Input!K32","v":0}]
["Final maintenance cost, m̃tN",{"$f":"SUM(B$31:B$32)","v":0},{"$f":"SUM(C$31:C$32)","v":0},0,0,0,0,0,0,0,0]
["Data for old equipment"]
["Number of equipment sold, xtO",{"$f":"Input!B35","v":0},{"$f":"Input!C35","v":0},{"$f":"Input!D35","v":0},{"$f":"Input!E35","v":0},{"$f":"Input!F35","v":0},{"$f":"Input!G35","v":0},{"$f":"Input!H35","v":0},{"$f":"Input!I35","v":0},{"$f":"Input!J35","v":0},{"$f":"Input!K35","v":0}]
["Selling price, qtO",{"$f":"Input!B36","v":0},{"$f":"Input!C36","v":0},{"$f":"Input!D36","v":0},{"$f":"Input!E36","v":0},{"$f":"Input!F36","v":0},{"$f":"Input!G36","v":0},{"$f":"Input!H36","v":0},{"$f":"Input!I36","v":0},{"$f":"Input!J36","v":0},{"$f":"Input!K36","v":0}]
["Salvage value, gtO",{"$f":"Input!B37","v":0},{"$f":"Input!C37","v":0},{"$f":"Input!D37","v":0},{"$f":"Input!E37","v":0},{"$f":"Input!F37","v":0},{"$f":"Input!G37","v":0},{"$f":"Input!H37","v":0},{"$f":"Input!I37","v":0},{"$f":"Input!J37","v":0},{"$f":"Input!K37","v":0}]
["Probability of equipment failure, ztO",{"$f":"Input!B38","v":0},{"$f":"Input!C38","v":0},{"$f":"Input!D38","v":0},{"$f":"Input!E38","v":0},{"$f":"Input!F38","v":0},{"$f":"Input!G38","v":0},{"$f":"Input!H38","v":0},{"$f":"Input!I38","v":0},{"$f":"Input!J38","v":0},{"$f":"Input!K38","v":0}]
["Fluctuation in selling price, p̂tO",{"$f":"Input!B39","v":0},{"$f":"Input!C39","v":0},{"$f":"Input!D39","v":0},{"$f":"Input!E39","v":0},{"$f":"Input!F39","v":0},{"$f":"Input!G39","v":0},{"$f":"Input!H39","v":0},{"$f":"Input!I39","v":0},{"$f":"Input!J39","v":0},{"$f":"Input!K39","v":0}]
["Final selling price per unit, p̃tO",{"$f":"((1-B$38)*B$36+B$38*B$37)+B$39","v":0},{"$f":"((1-C$38)*C$36+C$38*C$37)+C$39","v":0},0,0,0,0,0,0,0,0]
["Operating cost of old equipment, ntO",{"$f":"Input!B41","v":0},{"$f":"Input!C41","v":0},{"$f":"Input!D41","v":0},{"$f":"Input!E41","v":0},{"$f":"Input!F41","v":0},{"$f":"Input!G41","v":0},{"$f":"Input!H41","v":0},{"$f":"Input!I41","v":0},{"$f":"Input!J41","v":0},{"$f":"Input!K41","v":0}]
["Change in operating cost, n̂tO",{"$f":"Input!B42","v":0},{"$f":"Input!C42","v":0},{"$f":"Input!D42","v":0},{"$f":"Input!E42","v":0},{"$f":"Input!F42","v":0},{"$f":"Input!G42","v":0},{"$f":"Input!H42","v":0},{"$f":"Input!I42","v":0},{"$f":"Input!J42","v":0},{"$f":"Input!K42","v":0}]
["Final operating cost, ñtO",{"$f":"SUM(B$41:B$42)","v":0},{"$f":"SUM(C$41:C$42)","v":0},0,0,0,0,0,0,0,0]
["Maintenance cost of old equipment, mtO",{"$f":"Input!B44","v":0},{"$f":"Input!C44","v":0},{"$f":"Input!D44","v":0},{"$f":"Input!E44","v":0},{"$f":"Input!F44","v":0},{"$f":"Input!G44","v":0},{"$f":"Input!H44","v":0},{"$f":"Input!I44","v":0},{"$f":"Input!J44","v":0},{"$f":"Input!K44","v":0}]
["Change in maintenance cost, m̂tO",{"$f":"Input!B45","v":0},{"$f":"Input!C45","v":0},{"$f":"Input!D45","v":0},{"$f":"Input!E45","v":0},{"$f":"Input!F45","v":0},{"$f":"Input!G45","v":0},{"$f":"Input!H45","v":0},{"$f":"Input!I45","v":0},{"$f":"Input!J45","v":0},{"$f":"Input!K45","v":0}]
["Final maintenance cost, m̃tO",{"$f":"SUM(B$44:B$45)","v":0},{"$f":"SUM(C$44:C$45)","v":0},0,0,0,0,0,0,0,0]
[]
["Stage Computations Table",{"$nulls":9},"Edit Next"]
[]
["Total number of equipment before decision, rt","rtN","rtO","kt",{"$f":"$C$7+1","v":1},{"$f":"E$50-1","v":0},{"$f":"F$50-1","v":0},0,0,0,0,0,0,0,0]
[0,0,0,0,0,{"$f":"IF($B51-INDEX($22:$22, MATCH(F$50,$17:$17, 0))>=0, INDEX($22:$22*$30:$30, MATCH(F$50,$17:$17, 0)), INDEX($B51*$30:$30, MATCH(F$50,$17:$17, 0)))+IF($B51-INDEX($22:$22, MATCH(F$50,$17:$17, 0))>=0, 0, INDEX(($22:$22-$B51)*$43:$43, MATCH(F$50,$17:$17, 0)))","v":0},0,0,0,0,0,0,0,0,0]
[0,0,0,1,0,0,0,0,0,0,0,0,0,0,0]
[1,0,1,0,0,0,0,0,0,0,0,0,0,0,0]
[1,0,1,1,0,0,0,0,0,0,0,0,0,0,0]
[1,1,0,0,0,0,0,0,0,0,0,0,0,0,0]
[1,1,0,1,0,0,0,0,0,0,0,0,0,0,0]
[2,0,2,0,0,0,0,0,0,0,0,0,0,0,0]
[2,0,2,1,0,0,0,0,0,0,0,0,0,0,0]
[2,1,1,0,0,0,0,0,0,0,0,0,0,0,0]
[2,1,1,1,0,0,0,0,0,0,0,0,0,0,0]
[2,2,0,0,0,0,0,0,0,0,0,0,0,0,0]
[2,2,0,1,0,0,0,0,0,0,0,0,0,0,0]
[3,0,3,0,0,0,0,0,0,0,0,0,0,0,0]
[3,0,3,1,0,0,0,0,0,0,0,0,0,0,0]
[3,1,2,0,0,0,0,0,0,0,0,0,0,0,0]
[3,1,2,1,0,0,0,0,0,0,0,{"$f":"IF($B66-INDEX($22:$22, MATCH(L$50,$17:$17, 0))>=0, INDEX($22:$22*$30:$30, MATCH(L$50,$17:$17, 0)), INDEX($B66*$30:$30, MATCH(L$50,$17:$17, 0)))+IF($B66-INDEX($22:$22, MATCH(L$50,$17:$17, 0))>=0, 0, INDEX(($22:$22-$B66)*$43:$43, MATCH(L$50,$17:$17, 0)))","v":0},0,0,0]
[3,2,1,0,0,{"$f":"IF($B67-INDEX($22:$22, MATCH(F$50,$17:$17, 0))>=0, INDEX($22:$22*$30:$30, MATCH(F$50,$17:$17, 0)), INDEX($B67*$30:$30, MATCH(F$50,$17:$17, 0)))+IF($B67-INDEX($22:$22, MATCH(F$50,$17:$17, 0))>=0, 0, INDEX(($22:$22-$B67)*$43:$43, MATCH(F$50,$17:$17, 0)))","v":0},0,0,0,0,0,0,0,0,0]
[3,2,1,1,0,0,0,0,0,0,0,0,0,0,0]
[3,3,0,0,0,0,0,0,0,0,0,0,0,0,0]
[3,3,0,1,0,0,0,0,0,0,0,0,0,0,0]
[4,0,4,0,0,0,0,0,0,0,0,0,0,0,0]
[4,0,4,1,0,0,0,0,0,0,0,0,0,0,0]
[4,1,3,0,0,0,0,0,0,0,0,0,0,0,0]
[4,1,3,1,0,0,0,0,0,0,0,0,0,0,0]
[4,2,2,0,0,0,0,0,0,0,0,0,0,0,0]
[4,2,2,1,0,0,0,0,0,0,0,0,0,0,0]
[4,3,1,0,0,0,0,0,0,0,0,0,0,0,0]
[4,3,1,1,0,0,0,0,0,0,0,0,0,0,0]
[4,4,0,0,0,0,0,0,0,0,0,0,0,0,0]
[4,4,0,1,0,0,0,0,0,0,0,0,0,0,0]
[5,0,5,0,0,0,0,0,0,0,0,0,0,0,0]
[5,0,5,1,0,0,0,0,0,0,0,0,0,0,0]
[5,1,4,0,0,0,0,0,0,0,0,0,0,0,0]
[5,1,4,1,0,0,0,0,0,0,0,0,0,0,0]
[5,2,3,0,0,0,0,0,0,0,0,0,0,0,0]
[5,2,3,1,0,0,0,0,0,0,0,0,0,0,0]
[5,3,2,0,0,0,0,0,0,0,0,0,0,0,0]
[5,3,2,1,0,0,0,0,{"$f":"IF($B88-INDEX($22:$22, MATCH(I$50,$17:$17, 0))>=0, INDEX($22:$22*$30:$30, MATCH(I$50,$17:$17, 0)), INDEX($B88*$30:$30, MATCH(I$50,$17:$17, 0)))+IF($B88-INDEX($22:$22, MATCH(I$50,$17:$17, 0))>=0, 0, INDEX(($22:$22-$B88)*$43:$43, MATCH(I$50,$17:$17, 0)))","v":0},0,0,0,0,0,0]
[5,4,1,0,0,0,0,0,0,0,0,0,0,0,0]
[5,4,1,1,0,0,0,0,0,0,0,0,0,0,0]
[5,5,0,0,0,0,0,0,0,0,0,0,0,0,0]
[5,5,0,1,0,0,0,0,0,0,0,0,0,0,0]
[6,0,6,0,0,0,0,0,0,0,0,0,0,0,0]
[6,0,6,1,0,0,0,0,0,0,0,0,0,0,0]
[6,1,5,0,0,0,0,0,0,0,0,0,0,0,0]
[6,1,5,1,0,0,0,0,0,0,0,0,0,0,0]
[6,2,4,0,0,0,0,0,0,0,0,0,0,0,0]
[6,2,4,1,0,0,0,0,0,0,0,0,0,0,0]
[6,3,3,0,0,0,0,0,0,0,0,0,0,0,0]
[6,3,3,1,0,0,0,0,0,0,0,0,0,0,0]
[6,4,2,0,0,0,0,0,0,0,0,0,0,0,0]
[6,4,2,1,0,0,0,0,0,0,0,0,0,0,0]
[6,5,1,0,0,0,0,0,0,0,0,0,0,0,0]
[6,5,1,1,0,0,{"$f":"IF($B104-INDEX($22:$22, MATCH(G$50,$17:$17, 0))>=0, INDEX($22:$22*$30:$30, MATCH(G$50,$17:$17, 0)), INDEX($B104*$30:$30, MATCH(G$50,$17:$17, 0)))+IF($B104-INDEX($22:$22, MATCH(G$50,$17:$17, 0))>=0, 0, INDEX(($22:$22-$B104)*$43:$43, MATCH(G$50,$17:$17, 0)))","v":0},0,0,0,0,0,0,0,0]
[6,6,0,0,0,0,0,0,0,0,0,0,0,0,0]
[6,6,0,1,0,0,0,0,0,0,0,0,0,0,0]
[7,0,7,0,0,0,0,0,0,0,0,0,0,0,0]
[7,0,7,1,0,0,0,0,0,0,0,0,0,0,0]
[7,1,6,0,0,0,0,0,0,0,0,0,0,0,0]
[7,1,6,1,0,0,0,0,0,0,0,0,0,0,0]
[7,2,5,0,0,0,0,0,0,0,0,0,0,0,0]
[7,2,5,1,0,0,0,0,0,0,0,0,0,0,0]
[7,3,4,0,0,0,0,0,0,0,0,0,0,0,0]
[7,3,4,1,0,0,0,0,0,0,0,0,0,0,0]
[7,4,3,0,0,0,0,0,0,0,0,0,0,0,0]
[7,4,3,1,0,0,0,0,0,0,0,0,0,0,0]
[7,5,2,0,0,0,0,0,0,0,0,0,0,0,0]
[7,5,2,1,0,0,0,0,0,0,0,0,0,0,0]
[7,6,1,0,0,0,0,0,0,0,0,0,0,0,0]
[7,6,1,1,0,0,{"$f":"IF($B120-INDEX($22:$22, MATCH(G$50,$17:$17, 0))>=0, INDEX($22:$22*$30:$30, MATCH(G$50,$17:$17, 0)), INDEX($B120*$30:$30, MATCH(G$50,$17:$17, 0)))+IF($B120-INDEX($22:$22, MATCH(G$50,$17:$17, 0))>=0, 0, INDEX(($22:$22-$B120)*$43:$43, MATCH(G$50,$17:$17, 0)))","v":0},0,0,0,0,0,0,0,0]
[7,7,0,0,0,0,0,0,0,0,0,0,0,0,0]
[7,7,0,1,0,0,0,0,0,0,0,0,0,0,0]
[8,0,8,0,0,0,0,0,0,0,0,0,0,0,0]
[8,0,8,1,0,0,0,0,0,0,0,0,0,0,0]
[8,1,7,0,0,0,0,0,0,0,0,0,0,0,0]
[8,1,7,1,0,0,0,0,0,0,0,0,0,0,0]
[8,2,6,0,0,0,0,0,0,0,0,0,0,0,0]
[8,2,6,1,0,0,0,0,0,0,0,0,0,0,0]
[8,3,5,0,0,0,0,0,0,0,0,0,0,0,0]
[8,3,5,1,0,0,0,0,0,0,0,0,0,0,0]
[8,4,4,0,0,{"$f":"IF($B131-INDEX($22:$22, MATCH(F$50,$17:$17, 0))>=0, INDEX($22:$22*$30:$30, MATCH(F$50,$17:$17, 0)), INDEX($B131*$30:$30, MATCH(F$50,$17:$17, 0)))+IF($B131-INDEX($22:$22, MATCH(F$50,$17:$17, 0))>=0, 0, INDEX(($22:$22-$B131)*$43:$43, MATCH(F$50,$17:$17, 0)))","v":0},0,0,0,0,0,0,0,0,0]
[8,4,4,1,0,0,0,0,0,0,0,0,0,0,0]
[8,5,3,0,0,0,0,0,0,0,0,0,0,0,0]
[8,5,3,1,0,0,0,0,0,0,0,0,0,0,0]
[8,6,2,0,0,0,0,0,0,0,0,0,0,0,0]
[8,6,2,1,0,0,0,0,0,0,0,0,0,0,0]
[8,7,1,0,0,0,0,0,0,0,0,0,0,0,0]
[8,7,1,1,0,0,0,0,0,0,0,0,0,0,0]
[8,8,0,0,0,0,0,0,0,0,0,0,0,0,0]
[8,8,0,1,0,0,0,0,0,0,0,0,0,0,0]
[9,0,9,0,0,0,0,0,0,0,0,0,0,0,0]
[9,0,9,1,0,0,0,0,0,0,0,0,0,0,0]
[9,1,8,0,0,0,0,0,0,0,0,0,0,0,0]
[9,1,8,1,0,0,0,0,0,0,0,0,0,0,0]
[9,2,7,0,0,0,0,0,0,0,0,0,0,0,0]
[9,2,7,1,0,0,0,0,0,0,0,0,0,0,0]
[9,3,6,0,0,0,0,0,0,0,0,0,0,0,0]
[9,3,6,1,0,0,0,0,0,0,0,0,0,0,0]
[9,4,5,0,0,0,0,0,0,0,0,0,0,0,0]
[9,4,5,1,0,0,0,0,0,0,0,0,0,0,0]
[9,5,4,0,0,0,0,0,0,0,0,0,0,0,0]
[9,5,4,1,0,0,0,0,0,0,0,0,0,0,0]
[9,6,3,0,0,0,0,0,0,0,0,{"$f":"IF($B153-INDEX($22:$22, MATCH(L$50,$17:$17, 0))>=0, INDEX($22:$22*$30:$30, MATCH(L$50,$17:$17, 0)), INDEX($B153*$30:$30, MATCH(L$50,$17:$17, 0)))+IF($B153-INDEX($22:$22, MATCH(L$50,$17:$17, 0))>=0, 0, INDEX(($22:$22-$B153)*$43:$43, MATCH(L$50,$17:$17, 0)))","v":0},0,0,0]
[9,6,3,1,0,0,0,0,0,0,0,0,0,0,0]
[9,7,2,0,0,0,0,0,0,0,0,0,0,0,0]
[9,7,2,1,0,0,0,0,0,0,0,0,0,0,0]
[9,8,1,0,0,0,0,0,0,0,0,0,0,0,0]
[9,8,1,1,0,0,0,0,0,0,0,0,0,0,0]
[9,9,0,0,0,0,0,0,0,0,0,0,0,0,0]
[9,9,0,1,0,0,0,0,0,0,0,0,0,0,0]
[10,0,10,0,0,0,0,0,0,0,0,0,0,0,0]
[10,0,10,1,0,0,0,0,0,0,0,0,0,0,0]
[10,1,9,0,0,0,0,0,0,0,0,0,0,0,0]
[10,1,9,1,0,0,0,0,0,0,0,0,0,0,0]
[10,2,8,0,0,0,0,0,0,0,0,0,0,0,0]
[10,2,8,1,0,0,0,0,0,0,0,0,0,0,0]
[10,3,7,0,0,0,0,0,0,0,0,0,0,0,0]
[10,3,7,1,0,0,0,0,0,0,0,0,0,0,0]
[10,4,6,0,0,0,{"$f":"IF($B169-INDEX($22:$22, MATCH(G$50,$17:$17, 0))>=0, INDEX($22:$22*$30:$30, MATCH(G$50,$17:$17, 0)), INDEX($B169*$30:$30, MATCH(G$50,$17:$17, 0)))+IF($B169-INDEX($22:$22, MATCH(G$50,$17:$17, 0))>=0, 0, INDEX(($22:$22-$B169)*$43:$43, MATCH(G$50,$17:$17, 0)))","v":0},0,0,0,0,0,0,0,0]
[10,4,6,1,0,0,0,0,0,0,0,0,0,0,0]
[10,5,5,0,0,0,0,0,0,0,0,0,0,0,0]
[10,5,5,1,0,0,0,0,0,0,0,0,0,0,0]
[10,6,4,0,0,0,0,0,0,0,0,0,0,0,0]
[10,6,4,1,0,0,0,0,0,0,0,0,0,0,0]
[10,7,3,0,0,0,0,0,0,0,0,0,0,0,0]
[10,7,3,1,0,0,0,0,0,0,0,0,0,0,0]
[10,8,2,0,0,0,0,0,0,0,0,0,0,0,0]
[10,8,2,1,0,0,0,0,0,0,0,0,0,0,0]
[10,9,1,0,0,0,0,0,0,0,0,0,0,0,0]
[10,9,1,1,0,0,0,0,0,0,0,0,0,0,0]
[10,10,0,0,0,0,0,0,0,0,0,0,0,0,0]
[10,10,0,1,0,0,0,0,0,0,0,0,0,0,0]

{"sheet":"m","index":5,"n_rows":182,"n_cols":15,"rows_kept":182,"cut":false,"hidden":false,"merged":[]}
[]
["Worksheet \"m\" "]
["Stochastic Equipment Replacement Problem"]
["Back To Input",{"$nulls":9},"Insert Next"]
[]
["Criteria"]
["Maximum number of stages, T",null,{"$f":"Input!$C7","v":0}]
["Maximum number of equipment, rmax",null,{"$f":"Input!$C8","v":0}]
["Number of available equipment at stage 1",null,{"$f":"Input!$C9","v":0}]
["Total internal transaction costs",null,{"$f":"Input!$C10","v":0}]
["Initial operating cost of new equipment, ṅ",null,{"$f":"Input!$C11","v":0}]
["Efficiency index of new equipment per stage, η",null,{"$f":"Input!$C12","v":0}]
[]
["Input Display Table",{"$nulls":9},"Edit Next"]
[]
["Stage"]
["Stage, t",1,{"$f":"B$17+1","v":2},{"$f":"C$17+1","v":3},4,5,6,7,8,9,10]
["<Description>",{"$f":"Input!B18","v":0},{"$f":"Input!C18","v":0},{"$f":"Input!D18","v":0},{"$f":"Input!E18","v":0},{"$f":"Input!F18","v":0},{"$f":"Input!G18","v":0},{"$f":"Input!H18","v":0},{"$f":"Input!I18","v":0},{"$f":"Input!J18","v":0},{"$f":"Input!K18","v":0}]
["Demand"]
["Demand on the number of equipment, at",{"$f":"Input!B20","v":0},{"$f":"Input!C20","v":0},{"$f":"Input!D20","v":0},{"$f":"Input!E20","v":0},{"$f":"Input!F20","v":0},{"$f":"Input!G20","v":0},{"$f":"Input!H20","v":0},{"$f":"Input!I20","v":0},{"$f":"Input!J20","v":0},{"$f":"Input!K20","v":0}]
["Exogenous change to demand, ât",{"$f":"Input!B21","v":0},{"$f":"Input!C21","v":0},{"$f":"Input!D21","v":0},{"$f":"Input!E21","v":0},{"$f":"Input!F21","v":0},{"$f":"Input!G21","v":0},{"$f":"Input!H21","v":0},{"$f":"Input!I21","v":0},{"$f":"Input!J21","v":0},{"$f":"Input!K21","v":0}]
["Final demand on the number of equipment, ãt",{"$f":"SUM(B$20:B$21)","v":0},{"$f":"SUM(C$20:C$21)","v":0},0,0,0,0,0,0,0,0]
["Data for new equipment"]
["Number of equipment purchased, xtN",{"$f":"Input!B24","v":0},{"$f":"Input!C24","v":0},{"$f":"Input!D24","v":0},{"$f":"Input!E24","v":0},{"$f":"Input!F24","v":0},{"$f":"Input!G24","v":0},{"$f":"Input!H24","v":0},{"$f":"Input!I24","v":0},{"$f":"Input!J24","v":0},{"$f":"Input!K24","v":0}]
["Purchase price, ptN",{"$f":"Input!B25","v":0},{"$f":"Input!C25","v":0},{"$f":"Input!D25","v":0},{"$f":"Input!E25","v":0},{"$f":"Input!F25","v":0},{"$f":"Input!G25","v":0},{"$f":"Input!H25","v":0},{"$f":"Input!I25","v":0},{"$f":"Input!J25","v":0},{"$f":"Input!K25","v":0}]
["Fluctuation in purchase price, p̂tN",{"$f":"Input!B26","v":0},{"$f":"Input!C26","v":0},{"$f":"Input!D26","v":0},{"$f":"Input!E26","v":0},{"$f":"Input!F26","v":0},{"$f":"Input!G26","v":0},{"$f":"Input!H26","v":0},{"$f":"Input!I26","v":0},{"$f":"Input!J26","v":0},{"$f":"Input!K26","v":0}]
["Final purchase price per unit, p̃tN",{"$f":"SUM(B$25:B$26)","v":0},{"$f":"SUM(C$25:C$26)","v":0},0,0,0,0,0,0,0,0]
["Operating cost of new equipment, ntN",{"$f":"Input!B28","v":0},{"$f":"Input!C28","v":0},{"$f":"Input!D28","v":0},{"$f":"Input!E28","v":0},{"$f":"Input!F28","v":0},{"$f":"Input!G28","v":0},{"$f":"Input!H28","v":0},{"$f":"Input!I28","v":0},{"$f":"Input!J28","v":0},{"$f":"Input!K28","v":0}]
["Change in operating cost, n̂tN",{"$f":"Input!B29","v":0},{"$f":"Input!C29","v":0},{"$f":"Input!D29","v":0},{"$f":"Input!E29","v":0},{"$f":"Input!F29","v":0},{"$f":"Input!G29","v":0},{"$f":"Input!H29","v":0},{"$f":"Input!I29","v":0},{"$f":"Input!J29","v":0},{"$f":"Input!K29","v":0}]
["Final operating cost, ñtN",{"$f":"SUM(B$28:B$29)","v":0},{"$f":"SUM(C$28:C$29)","v":0},0,0,0,0,0,0,0,0]
["Maintenance cost of new equipment, mtN",{"$f":"Input!B31","v":0},{"$f":"Input!C31","v":0},{"$f":"Input!D31","v":0},{"$f":"Input!E31","v":0},{"$f":"Input!F31","v":0},{"$f":"Input!G31","v":0},{"$f":"Input!H31","v":0},{"$f":"Input!I31","v":0},{"$f":"Input!J31","v":0},{"$f":"Input!K31","v":0}]
["Change in maintenance cost, m̂tN",{"$f":"Input!B32","v":0},{"$f":"Input!C32","v":0},{"$f":"Input!D32","v":0},{"$f":"Input!E32","v":0},{"$f":"Input!F32","v":0},{"$f":"Input!G32","v":0},{"$f":"Input!H32","v":0},{"$f":"Input!I32","v":0},{"$f":"Input!J32","v":0},{"$f":"Input!K32","v":0}]
["Final maintenance cost, m̃tN",{"$f":"SUM(B$31:B$32)","v":0},{"$f":"SUM(C$31:C$32)","v":0},0,0,0,0,0,0,0,0]
["Data for old equipment"]
["Number of equipment sold, xtO",{"$f":"Input!B35","v":0},{"$f":"Input!C35","v":0},{"$f":"Input!D35","v":0},{"$f":"Input!E35","v":0},{"$f":"Input!F35","v":0},{"$f":"Input!G35","v":0},{"$f":"Input!H35","v":0},{"$f":"Input!I35","v":0},{"$f":"Input!J35","v":0},{"$f":"Input!K35","v":0}]
["Selling price, qtO",{"$f":"Input!B36","v":0},{"$f":"Input!C36","v":0},{"$f":"Input!D36","v":0},{"$f":"Input!E36","v":0},{"$f":"Input!F36","v":0},{"$f":"Input!G36","v":0},{"$f":"Input!H36","v":0},{"$f":"Input!I36","v":0},{"$f":"Input!J36","v":0},{"$f":"Input!K36","v":0}]
["Salvage value, gtO",{"$f":"Input!B37","v":0},{"$f":"Input!C37","v":0},{"$f":"Input!D37","v":0},{"$f":"Input!E37","v":0},{"$f":"Input!F37","v":0},{"$f":"Input!G37","v":0},{"$f":"Input!H37","v":0},{"$f":"Input!I37","v":0},{"$f":"Input!J37","v":0},{"$f":"Input!K37","v":0}]
["Probability of equipment failure, ztO",{"$f":"Input!B38","v":0},{"$f":"Input!C38","v":0},{"$f":"Input!D38","v":0},{"$f":"Input!E38","v":0},{"$f":"Input!F38","v":0},{"$f":"Input!G38","v":0},{"$f":"Input!H38","v":0},{"$f":"Input!I38","v":0},{"$f":"Input!J38","v":0},{"$f":"Input!K38","v":0}]
["Fluctuation in selling price, p̂tO",{"$f":"Input!B39","v":0},{"$f":"Input!C39","v":0},{"$f":"Input!D39","v":0},{"$f":"Input!E39","v":0},{"$f":"Input!F39","v":0},{"$f":"Input!G39","v":0},{"$f":"Input!H39","v":0},{"$f":"Input!I39","v":0},{"$f":"Input!J39","v":0},{"$f":"Input!K39","v":0}]
["Final selling price per unit, p̃tO",{"$f":"((1-B$38)*B$36+B$38*B$37)+B$39","v":0},{"$f":"((1-C$38)*C$36+C$38*C$37)+C$39","v":0},0,0,0,0,0,0,0,0]
["Operating cost of old equipment, ntO",{"$f":"Input!B41","v":0},{"$f":"Input!C41","v":0},{"$f":"Input!D41","v":0},{"$f":"Input!E41","v":0},{"$f":"Input!F41","v":0},{"$f":"Input!G41","v":0},{"$f":"Input!H41","v":0},{"$f":"Input!I41","v":0},{"$f":"Input!J41","v":0},{"$f":"Input!K41","v":0}]
["Change in operating cost, n̂tO",{"$f":"Input!B42","v":0},{"$f":"Input!C42","v":0},{"$f":"Input!D42","v":0},{"$f":"Input!E42","v":0},{"$f":"Input!F42","v":0},{"$f":"Input!G42","v":0},{"$f":"Input!H42","v":0},{"$f":"Input!I42","v":0},{"$f":"Input!J42","v":0},{"$f":"Input!K42","v":0}]
["Final operating cost, ñtO",{"$f":"SUM(B$41:B$42)","v":0},{"$f":"SUM(C$41:C$42)","v":0},0,0,0,0,0,0,0,0]
["Maintenance cost of old equipment, mtO",{"$f":"Input!B44","v":0},{"$f":"Input!C44","v":0},{"$f":"Input!D44","v":0},{"$f":"Input!E44","v":0},{"$f":"Input!F44","v":0},{"$f":"Input!G44","v":0},{"$f":"Input!H44","v":0},{"$f":"Input!I44","v":0},{"$f":"Input!J44","v":0},{"$f":"Input!K44","v":0}]
["Change in maintenance cost, m̂tO",{"$f":"Input!B45","v":0},{"$f":"Input!C45","v":0},{"$f":"Input!D45","v":0},{"$f":"Input!E45","v":0},{"$f":"Input!F45","v":0},{"$f":"Input!G45","v":0},{"$f":"Input!H45","v":0},{"$f":"Input!I45","v":0},{"$f":"Input!J45","v":0},{"$f":"Input!K45","v":0}]
["Final maintenance cost, m̃tO",{"$f":"SUM(B$44:B$45)","v":0},{"$f":"SUM(C$44:C$45)","v":0},0,0,0,0,0,0,0,0]
[]
["Stage Computations Table",{"$nulls":9},"Edit Next"]
[]
["Total number of equipment before decision, rt","rtN","rtO","kt",{"$f":"$C$7+1","v":1},{"$f":"E$50-1","v":0},{"$f":"F$50-1","v":0},0,0,0,0,0,0,0,0]
[0,0,0,0,0,{"$f":"INDEX(($B51+$D51*$24:$24)*$33:$33, MATCH(F$50,$17:$17, 0))+INDEX(($C51-$D51*$35:$35)*$46:$46, MATCH(F$50,$17:$17, 0))","v":0},0,0,0,0,0,0,0,0,0]
[0,0,0,1,0,0,0,0,0,0,0,0,0,0,0]
[1,0,1,0,0,0,0,0,0,0,0,0,0,0,0]
[1,0,1,1,0,0,0,0,0,0,0,0,0,0,0]
[1,1,0,0,0,0,0,0,0,0,0,0,0,0,0]
[1,1,0,1,0,0,0,0,0,0,0,0,0,0,0]
[2,0,2,0,0,0,0,0,0,0,0,0,0,0,0]
[2,0,2,1,0,0,0,0,0,0,0,0,0,0,0]
[2,1,1,0,0,0,0,0,0,0,0,0,0,0,0]
[2,1,1,1,0,0,0,0,0,0,0,0,0,0,0]
[2,2,0,0,0,0,0,0,0,0,0,0,0,0,0]
[2,2,0,1,0,0,0,0,0,0,0,0,0,0,0]
[3,0,3,0,0,0,0,0,0,0,0,0,0,0,0]
[3,0,3,1,0,0,0,0,0,0,0,0,0,0,0]
[3,1,2,0,0,0,0,0,0,0,0,0,0,0,0]
[3,1,2,1,0,0,0,0,0,0,0,{"$f":"INDEX(($B66+$D66*$24:$24)*$33:$33, MATCH(L$50,$17:$17, 0))+INDEX(($C66-$D66*$35:$35)*$46:$46, MATCH(L$50,$17:$17, 0))","v":0},0,0,0]
[3,2,1,0,0,{"$f":"INDEX(($B67+$D67*$24:$24)*$33:$33, MATCH(F$50,$17:$17, 0))+INDEX(($C67-$D67*$35:$35)*$46:$46, MATCH(F$50,$17:$17, 0))","v":0},0,0,0,0,0,0,0,0,0]
[3,2,1,1,0,0,0,0,0,0,0,0,0,0,0]
[3,3,0,0,0,0,0,0,0,0,0,0,0,0,0]
[3,3,0,1,0,0,0,0,0,0,0,0,0,0,0]
[4,0,4,0,0,0,0,0,0,0,0,0,0,0,0]
[4,0,4,1,0,0,0,0,0,0,0,0,0,0,0]
[4,1,3,0,0,0,0,0,0,0,0,0,0,0,0]
[4,1,3,1,0,0,0,0,0,0,0,0,0,0,0]
[4,2,2,0,0,0,0,0,0,0,0,0,0,0,0]
[4,2,2,1,0,0,0,0,0,0,0,0,0,0,0]
[4,3,1,0,0,0,0,0,0,0,0,0,0,0,0]
[4,3,1,1,0,0,0,0,0,0,0,0,0,0,0]
[4,4,0,0,0,0,0,0,0,0,0,0,0,0,0]
[4,4,0,1,0,0,0,0,0,0,0,0,0,0,0]
[5,0,5,0,0,0,0,0,0,0,0,0,0,0,0]
[5,0,5,1,0,0,0,0,0,0,0,0,0,0,0]
[5,1,4,0,0,0,0,0,0,0,0,0,0,0,0]
[5,1,4,1,0,0,0,0,0,0,0,0,0,0,0]
[5,2,3,0,0,0,0,0,0,0,0,0,0,0,0]
[5,2,3,1,0,0,0,0,0,0,0,0,0,0,0]
[5,3,2,0,0,0,0,0,0,0,0,0,0,0,0]
[5,3,2,1,0,0,0,0,{"$f":"INDEX(($B88+$D88*$24:$24)*$33:$33, MATCH(I$50,$17:$17, 0))+INDEX(($C88-$D88*$35:$35)*$46:$46, MATCH(I$50,$17:$17, 0))","v":0},0,0,0,0,0,0]
[5,4,1,0,0,0,0,0,0,0,0,0,0,0,0]
[5,4,1,1,0,0,0,0,0,0,0,0,0,0,0]
[5,5,0,0,0,0,0,0,0,0,0,0,0,0,0]
[5,5,0,1,0,0,0,0,0,0,0,0,0,0,0]
[6,0,6,0,0,0,0,0,0,0,0,0,0,0,0]
[6,0,6,1,0,0,0,0,0,0,0,0,0,0,0]
[6,1,5,0,0,0,0,0,0,0,0,0,0,0,0]
[6,1,5,1,0,0,0,0,0,0,0,0,0,0,0]
[6,2,4,0,0,0,0,0,0,0,0,0,0,0,0]
[6,2,4,1,0,0,0,0,0,0,0,0,0,0,0]
[6,3,3,0,0,0,0,0,0,0,0,0,0,0,0]
[6,3,3,1,0,0,0,0,0,0,0,0,0,0,0]
[6,4,2,0,0,0,0,0,0,0,0,0,0,0,0]
[6,4,2,1,0,0,0,0,0,0,0,0,0,0,0]
[6,5,1,0,0,0,0,0,0,0,0,0,0,0,0]
[6,5,1,1,0,0,{"$f":"INDEX(($B104+$D104*$24:$24)*$33:$33, MATCH(G$50,$17:$17, 0))+INDEX(($C104-$D104*$35:$35)*$46:$46, MATCH(G$50,$17:$17, 0))","v":0},0,0,0,0,0,0,0,0]
[6,6,0,0,0,0,0,0,0,0,0,0,0,0,0]
[6,6,0,1,0,0,0,0,0,0,0,0,0,0,0]
[7,0,7,0,0,0,0,0,0,0,0,0,0,0,0]
[7,0,7,1,0,0,0,0,0,0,0,0,0,0,0]
[7,1,6,0,0,0,0,0,0,0,0,0,0,0,0]
[7,1,6,1,0,0,0,0,0,0,0,0,0,0,0]
[7,2,5,0,0,0,0,0,0,0,0,0,0,0,0]
[7,2,5,1,0,0,0,0,0,0,0,0,0,0,0]
[7,3,4,0,0,0,0,0,0,0,0,0,0,0,0]
[7,3,4,1,0,0,0,0,0,0,0,0,0,0,0]
[7,4,3,0,0,0,0,0,0,0,0,0,0,0,0]
[7,4,3,1,0,0,0,0,0,0,0,0,0,0,0]
[7,5,2,0,0,0,0,0,0,0,0,0,0,0,0]
[7,5,2,1,0,0,0,0,0,0,0,0,0,0,0]
[7,6,1,0,0,0,0,0,0,0,0,0,0,0,0]
[7,6,1,1,0,0,{"$f":"INDEX(($B120+$D120*$24:$24)*$33:$33, MATCH(G$50,$17:$17, 0))+INDEX(($C120-$D120*$35:$35)*$46:$46, MATCH(G$50,$17:$17, 0))","v":0},0,0,0,0,0,0,0,0]
[7,7,0,0,0,0,0,0,0,0,0,0,0,0,0]
[7,7,0,1,0,0,0,0,0,0,0,0,0,0,0]
[8,0,8,0,0,0,0,0,0,0,0,0,0,0,0]
[8,0,8,1,0,0,0,0,0,0,0,0,0,0,0]
[8,1,7,0,0,0,0,0,0,0,0,0,0,0,0]
[8,1,7,1,0,0,0,0,0,0,0,0,0,0,0]
[8,2,6,0,0,0,0,0,0,0,0,0,0,0,0]
[8,2,6,1,0,0,0,0,0,0,0,0,0,0,0]
[8,3,5,0,0,0,0,0,0,0,0,0,0,0,0]
[8,3,5,1,0,0,0,0,0,0,0,0,0,0,0]
[8,4,4,0,0,{"$f":"INDEX(($B131+$D131*$24:$24)*$33:$33, MATCH(F$50,$17:$17, 0))+INDEX(($C131-$D131*$35:$35)*$46:$46, MATCH(F$50,$17:$17, 0))","v":0},0,0,0,0,0,0,0,0,0]
[8,4,4,1,0,0,0,0,0,0,0,0,0,0,0]
[8,5,3,0,0,0,0,0,0,0,0,0,0,0,0]
[8,5,3,1,0,0,0,0,0,0,0,0,0,0,0]
[8,6,2,0,0,0,0,0,0,0,0,0,0,0,0]
[8,6,2,1,0,0,0,0,0,0,0,0,0,0,0]
[8,7,1,0,0,0,0,0,0,0,0,0,0,0,0]
[8,7,1,1,0,0,0,0,0,0,0,0,0,0,0]
[8,8,0,0,0,0,0,0,0,0,0,0,0,0,0]
[8,8,0,1,0,0,0,0,0,0,0,0,0,0,0]
[9,0,9,0,0,0,0,0,0,0,0,0,0,0,0]
[9,0,9,1,0,0,0,0,0,0,0,0,0,0,0]
[9,1,8,0,0,0,0,0,0,0,0,0,0,0,0]
[9,1,8,1,0,0,0,0,0,0,0,0,0,0,0]
[9,2,7,0,0,0,0,0,0,0,0,0,0,0,0]
[9,2,7,1,0,0,0,0,0,0,0,0,0,0,0]
[9,3,6,0,0,0,0,0,0,0,0,0,0,0,0]
[9,3,6,1,0,0,0,0,0,0,0,0,0,0,0]
[9,4,5,0,0,0,0,0,0,0,0,0,0,0,0]
[9,4,5,1,0,0,0,0,0,0,0,0,0,0,0]
[9,5,4,0,0,0,0,0,0,0,0,0,0,0,0]
[9,5,4,1,0,0,0,0,0,0,0,0,0,0,0]
[9,6,3,0,0,0,0,0,0,0,0,{"$f":"INDEX(($B153+$D153*$24:$24)*$33:$33, MATCH(L$50,$17:$17, 0))+INDEX(($C153-$D153*$35:$35)*$46:$46, MATCH(L$50,$17:$17, 0))","v":0},0,0,0]
[9,6,3,1,0,0,0,0,0,0,0,0,0,0,0]
[9,7,2,0,0,0,0,0,0,0,0,0,0,0,0]
[9,7,2,1,0,0,0,0,0,0,0,0,0,0,0]
[9,8,1,0,0,0,0,0,0,0,0,0,0,0,0]
[9,8,1,1,0,0,0,0,0,0,0,0,0,0,0]
[9,9,0,0,0,0,0,0,0,0,0,0,0,0,0]
[9,9,0,1,0,0,0,0,0,0,0,0,0,0,0]
[10,0,10,0,0,0,0,0,0,0,0,0,0,0,0]
[10,0,10,1,0,0,0,0,0,0,0,0,0,0,0]
[10,1,9,0,0,0,0,0,0,0,0,0,0,0,0]
[10,1,9,1,0,0,0,0,0,0,0,0,0,0,0]
[10,2,8,0,0,0,0,0,0,0,0,0,0,0,0]
[10,2,8,1,0,0,0,0,0,0,0,0,0,0,0]
[10,3,7,0,0,0,0,0,0,0,0,0,0,0,0]
[10,3,7,1,0,0,0,0,0,0,0,0,0,0,0]
[10,4,6,0,0,0,{"$f":"INDEX(($B169+$D169*$24:$24)*$33:$33, MATCH(G$50,$17:$17, 0))+INDEX(($C169-$D169*$35:$35)*$46:$46, MATCH(G$50,$17:$17, 0))","v":0},0,0,0,0,0,0,0,0]
[10,4,6,1,0,0,0,0,0,0,0,0,0,0,0]
[10,5,5,0,0,0,0,0,0,0,0,0,0,0,0]
[10,5,5,1,0,0,0,0,0,0,0,0,0,0,0]
[10,6,4,0,0,0,0,0,0,0,0,0,0,0,0]
[10,6,4,1,0,0,0,0,0,0,0,0,0,0,0]
[10,7,3,0,0,0,0,0,0,0,0,0,0,0,0]
[10,7,3,1,0,0,0,0,0,0,0,0,0,0,0]
[10,8,2,0,0,0,0,0,0,0,0,0,0,0,0]
[10,8,2,1,0,0,0,0,0,0,0,0,0,0,0]
[10,9,1,0,0,0,0,0,0,0,0,0,0,0,0]
[10,9,1,1,0,0,0,0,0,0,0,0,0,0,0]
[10,10,0,0,0,0,0,0,0,0,0,0,0,0,0]
[10,10,0,1,0,0,0,0,0,0,0,0,0,0,0]

{"sheet":"Ct","index":6,"n_rows":182,"n_cols":15,"rows_kept":182,"cut":false,"hidden":false,"merged":[]}
[]
["Worksheet \"Ct\" "]
["Stochastic Equipment Replacement Problem"]
["Back To Input",{"$nulls":9},"Insert Next"]
[]
["Criteria"]
["Maximum number of stages, T",null,{"$f":"Input!$C7","v":0}]
["Maximum number of equipment, rmax",null,{"$f":"Input!$C8","v":0}]
["Number of available equipment at stage 1",null,{"$f":"Input!$C9","v":0}]
["Total internal transaction costs",null,{"$f":"Input!$C10","v":0}]
["Initial operating cost of new equipment, ṅ",null,{"$f":"Input!$C11","v":0}]
["Efficiency index of new equipment per stage, η",null,{"$f":"Input!$C12","v":0}]
[]
["Input Display Table",{"$nulls":9},"Edit Next"]
[]
["Stage"]
["Stage, t",1,{"$f":"B$17+1","v":2},{"$f":"C$17+1","v":3},4,5,6,7,8,9,10]
["<Description>",{"$f":"Input!B18","v":0},{"$f":"Input!C18","v":0},{"$f":"Input!D18","v":0},{"$f":"Input!E18","v":0},{"$f":"Input!F18","v":0},{"$f":"Input!G18","v":0},{"$f":"Input!H18","v":0},{"$f":"Input!I18","v":0},{"$f":"Input!J18","v":0},{"$f":"Input!K18","v":0}]
["Demand"]
["Demand on the number of equipment, at",{"$f":"Input!B20","v":0},{"$f":"Input!C20","v":0},{"$f":"Input!D20","v":0},{"$f":"Input!E20","v":0},{"$f":"Input!F20","v":0},{"$f":"Input!G20","v":0},{"$f":"Input!H20","v":0},{"$f":"Input!I20","v":0},{"$f":"Input!J20","v":0},{"$f":"Input!K20","v":0}]
["Exogenous change to demand, ât",{"$f":"Input!B21","v":0},{"$f":"Input!C21","v":0},{"$f":"Input!D21","v":0},{"$f":"Input!E21","v":0},{"$f":"Input!F21","v":0},{"$f":"Input!G21","v":0},{"$f":"Input!H21","v":0},{"$f":"Input!I21","v":0},{"$f":"Input!J21","v":0},{"$f":"Input!K21","v":0}]
["Final demand on the number of equipment, ãt",{"$f":"SUM(B$20:B$21)","v":0},{"$f":"SUM(C$20:C$21)","v":0},0,0,0,0,0,0,0,0]
["Data for new equipment"]
["Number of equipment purchased, xtN",{"$f":"Input!B24","v":0},{"$f":"Input!C24","v":0},{"$f":"Input!D24","v":0},{"$f":"Input!E24","v":0},{"$f":"Input!F24","v":0},{"$f":"Input!G24","v":0},{"$f":"Input!H24","v":0},{"$f":"Input!I24","v":0},{"$f":"Input!J24","v":0},{"$f":"Input!K24","v":0}]
["Purchase price, ptN",{"$f":"Input!B25","v":0},{"$f":"Input!C25","v":0},{"$f":"Input!D25","v":0},{"$f":"Input!E25","v":0},{"$f":"Input!F25","v":0},{"$f":"Input!G25","v":0},{"$f":"Input!H25","v":0},{"$f":"Input!I25","v":0},{"$f":"Input!J25","v":0},{"$f":"Input!K25","v":0}]
["Fluctuation in purchase price, p̂tN",{"$f":"Input!B26","v":0},{"$f":"Input!C26","v":0},{"$f":"Input!D26","v":0},{"$f":"Input!E26","v":0},{"$f":"Input!F26","v":0},{"$f":"Input!G26","v":0},{"$f":"Input!H26","v":0},{"$f":"Input!I26","v":0},{"$f":"Input!J26","v":0},{"$f":"Input!K26","v":0}]
["Final purchase price per unit, p̃tN",{"$f":"SUM(B$25:B$26)","v":0},{"$f":"SUM(C$25:C$26)","v":0},0,0,0,0,0,0,0,0]
["Operating cost of new equipment, ntN",{"$f":"Input!B28","v":0},{"$f":"Input!C28","v":0},{"$f":"Input!D28","v":0},{"$f":"Input!E28","v":0},{"$f":"Input!F28","v":0},{"$f":"Input!G28","v":0},{"$f":"Input!H28","v":0},{"$f":"Input!I28","v":0},{"$f":"Input!J28","v":0},{"$f":"Input!K28","v":0}]
["Change in operating cost, n̂tN",{"$f":"Input!B29","v":0},{"$f":"Input!C29","v":0},{"$f":"Input!D29","v":0},{"$f":"Input!E29","v":0},{"$f":"Input!F29","v":0},{"$f":"Input!G29","v":0},{"$f":"Input!H29","v":0},{"$f":"Input!I29","v":0},{"$f":"Input!J29","v":0},{"$f":"Input!K29","v":0}]
["Final operating cost, ñtN",{"$f":"SUM(B$28:B$29)","v":0},{"$f":"SUM(C$28:C$29)","v":0},0,0,0,0,0,0,0,0]
["Maintenance cost of new equipment, mtN",{"$f":"Input!B31","v":0},{"$f":"Input!C31","v":0},{"$f":"Input!D31","v":0},{"$f":"Input!E31","v":0},{"$f":"Input!F31","v":0},{"$f":"Input!G31","v":0},{"$f":"Input!H31","v":0},{"$f":"Input!I31","v":0},{"$f":"Input!J31","v":0},{"$f":"Input!K31","v":0}]
["Change in maintenance cost, m̂tN",{"$f":"Input!B32","v":0},{"$f":"Input!C32","v":0},{"$f":"Input!D32","v":0},{"$f":"Input!E32","v":0},{"$f":"Input!F32","v":0},{"$f":"Input!G32","v":0},{"$f":"Input!H32","v":0},{"$f":"Input!I32","v":0},{"$f":"Input!J32","v":0},{"$f":"Input!K32","v":0}]
["Final maintenance cost, m̃tN",{"$f":"SUM(B$31:B$32)","v":0},{"$f":"SUM(C$31:C$32)","v":0},0,0,0,0,0,0,0,0]
["Data for old equipment"]
["Number of equipment sold, xtO",{"$f":"Input!B35","v":0},{"$f":"Input!C35","v":0},{"$f":"Input!D35","v":0},{"$f":"Input!E35","v":0},{"$f":"Input!F35","v":0},{"$f":"Input!G35","v":0},{"$f":"Input!H35","v":0},{"$f":"Input!I35","v":0},{"$f":"Input!J35","v":0},{"$f":"Input!K35","v":0}]
["Selling price, qtO",{"$f":"Input!B36","v":0},{"$f":"Input!C36","v":0},{"$f":"Input!D36","v":0},{"$f":"Input!E36","v":0},{"$f":"Input!F36","v":0},{"$f":"Input!G36","v":0},{"$f":"Input!H36","v":0},{"$f":"Input!I36","v":0},{"$f":"Input!J36","v":0},{"$f":"Input!K36","v":0}]
["Salvage value, gtO",{"$f":"Input!B37","v":0},{"$f":"Input!C37","v":0},{"$f":"Input!D37","v":0},{"$f":"Input!E37","v":0},{"$f":"Input!F37","v":0},{"$f":"Input!G37","v":0},{"$f":"Input!H37","v":0},{"$f":"Input!I37","v":0},{"$f":"Input!J37","v":0},{"$f":"Input!K37","v":0}]
["Probability of equipment failure, ztO",{"$f":"Input!B38","v":0},{"$f":"Input!C38","v":0},{"$f":"Input!D38","v":0},{"$f":"Input!E38","v":0},{"$f":"Input!F38","v":0},{"$f":"Input!G38","v":0},{"$f":"Input!H38","v":0},{"$f":"Input!I38","v":0},{"$f":"Input!J38","v":0},{"$f":"Input!K38","v":0}]
["Fluctuation in selling price, p̂tO",{"$f":"Input!B39","v":0},{"$f":"Input!C39","v":0},{"$f":"Input!D39","v":0},{"$f":"Input!E39","v":0},{"$f":"Input!F39","v":0},{"$f":"Input!G39","v":0},{"$f":"Input!H39","v":0},{"$f":"Input!I39","v":0},{"$f":"Input!J39","v":0},{"$f":"Input!K39","v":0}]
["Final selling price per unit, p̃tO",{"$f":"((1-B$38)*B$36+B$38*B$37)+B$39","v":0},{"$f":"((1-C$38)*C$36+C$38*C$37)+C$39","v":0},0,0,0,0,0,0,0,0]
["Operating cost of old equipment, ntO",{"$f":"Input!B41","v":0},{"$f":"Input!C41","v":0},{"$f":"Input!D41","v":0},{"$f":"Input!E41","v":0},{"$f":"Input!F41","v":0},{"$f":"Input!G41","v":0},{"$f":"Input!H41","v":0},{"$f":"Input!I41","v":0},{"$f":"Input!J41","v":0},{"$f":"Input!K41","v":0}]
["Change in operating cost, n̂tO",{"$f":"Input!B42","v":0},{"$f":"Input!C42","v":0},{"$f":"Input!D42","v":0},{"$f":"Input!E42","v":0},{"$f":"Input!F42","v":0},{"$f":"Input!G42","v":0},{"$f":"Input!H42","v":0},{"$f":"Input!I42","v":0},{"$f":"Input!J42","v":0},{"$f":"Input!K42","v":0}]
["Final operating cost, ñtO",{"$f":"SUM(B$41:B$42)","v":0},{"$f":"SUM(C$41:C$42)","v":0},0,0,0,0,0,0,0,0]
["Maintenance cost of old equipment, mtO",{"$f":"Input!B44","v":0},{"$f":"Input!C44","v":0},{"$f":"Input!D44","v":0},{"$f":"Input!E44","v":0},{"$f":"Input!F44","v":0},{"$f":"Input!G44","v":0},{"$f":"Input!H44","v":0},{"$f":"Input!I44","v":0},{"$f":"Input!J44","v":0},{"$f":"Input!K44","v":0}]
["Change in maintenance cost, m̂tO",{"$f":"Input!B45","v":0},{"$f":"Input!C45","v":0},{"$f":"Input!D45","v":0},{"$f":"Input!E45","v":0},{"$f":"Input!F45","v":0},{"$f":"Input!G45","v":0},{"$f":"Input!H45","v":0},{"$f":"Input!I45","v":0},{"$f":"Input!J45","v":0},{"$f":"Input!K45","v":0}]
["Final maintenance cost, m̃tO",{"$f":"SUM(B$44:B$45)","v":0},{"$f":"SUM(C$44:C$45)","v":0},0,0,0,0,0,0,0,0]
[]
["Stage Computations Table",{"$nulls":9},"Edit Next"]
[]
["Total number of equipment before decision, rt","rtN","rtO","kt",{"$f":"$C$7+1","v":1},{"$f":"E$50-1","v":0},{"$f":"F$50-1","v":0},0,0,0,0,0,0,0,0]
[0,0,0,0,0,{"$f":"IF(($A51+INDEX($D51*($24:$24-$35:$35), MATCH(F$50,$17:$17, 0)))>$C$8,1000000000,(IF(OR(INDEX($22:$22-($A51-$D51*$35:$35), MATCH(F$50,$17:$17, 0))>0, INDEX($D51*$35:$35-$C51, MATCH(F$50,$17:$17, 0))>0),1000000000,(p!F51+n!F51+m!F51+INDEX(Vt!E:E, MATCH(($A51+INDEX($D51*($24:$24-$35:$35), MATCH(F$50,$17:$17, 0))),Vt!$A:$A,0)+INDEX($B51+$D51*$24:$24, MATCH(F$50,$17:$17, 0))*2)))))","v":0},{"$f":"IF(($A51+INDEX($D51*($24:$24-$35:$35), MATCH(G$50,$17:$17, 0)))>$C$8,1000000000,(IF(OR(INDEX($22:$22-($A51-$D51*$35:$35), MATCH(G$50,$17:$17, 0))>0, INDEX($D51*$35:$35-$C51, MATCH(G$50,$17:$17, 0))>0),1000000000,(p!G51+n!G51+m!G51+INDEX(Vt!F:F, MATCH(($A51+INDEX($D51*($24:$24-$35:$35), MATCH(G$50,$17:$17, 0))),Vt!$A:$A,0)+INDEX($B51+$D51*$24:$24, MATCH(G$50,$17:$17, 0))*2)))))","v":0},{"$f":"IF(($A51+INDEX($D51*($24:$24-$35:$35), MATCH(H$50,$17:$17, 0)))>$C$8,1000000000,(IF(OR(INDEX($22:$22-($A51-$D51*$35:$35), MATCH(H$50,$17:$17, 0))>0, INDEX($D51*$35:$35-$C51, MATCH(H$50,$17:$17, 0))>0),1000000000,(p!H51+n!H51+m!H51+INDEX(Vt!G:G, MATCH(($A51+INDEX($D51*($24:$24-$35:$35), MATCH(H$50,$17:$17, 0))),Vt!$A:$A,0)+INDEX($B51+$D51*$24:$24, MATCH(H$50,$17:$17, 0))*2)))))","v":0},{"$f":"IF(($A51+INDEX($D51*($24:$24-$35:$35), MATCH(I$50,$17:$17, 0)))>$C$8,1000000000,(IF(OR(INDEX($22:$22-($A51-$D51*$35:$35), MATCH(I$50,$17:$17, 0))>0, INDEX($D51*$35:$35-$C51, MATCH(I$50,$17:$17, 0))>0),1000000000,(p!I51+n!I51+m!I51+INDEX(Vt!H:H, MATCH(($A51+INDEX($D51*($24:$24-$35:$35), MATCH(I$50,$17:$17, 0))),Vt!$A:$A,0)+INDEX($B51+$D51*$24:$24, MATCH(I$50,$17:$17, 0))*2)))))","v":0},{"$f":"IF(($A51+INDEX($D51*($24:$24-$35:$35), MATCH(J$50,$17:$17, 0)))>$C$8,1000000000,(IF(OR(INDEX($22:$22-($A51-$D51*$35:$35), MATCH(J$50,$17:$17, 0))>0, INDEX($D51*$35:$35-$C51, MATCH(J$50,$17:$17, 0))>0),1000000000,(p!J51+n!J51+m!J51+INDEX(Vt!I:I, MATCH(($A51+INDEX($D51*($24:$24-$35:$35), MATCH(J$50,$17:$17, 0))),Vt!$A:$A,0)+INDEX($B51+$D51*$24:$24, MATCH(J$50,$17:$17, 0))*2)))))","v":0},{"$f":"IF(($A51+INDEX($D51*($24:$24-$35:$35), MATCH(K$50,$17:$17, 0)))>$C$8,1000000000,(IF(OR(INDEX($22:$22-($A51-$D51*$35:$35), MATCH(K$50,$17:$17, 0))>0, INDEX($D51*$35:$35-$C51, MATCH(K$50,$17:$17, 0))>0),1000000000,(p!K51+n!K51+m!K51+INDEX(Vt!J:J, MATCH(($A51+INDEX($D51*($24:$24-$35:$35), MATCH(K$50,$17:$17, 0))),Vt!$A:$A,0)+INDEX($B51+$D51*$24:$24, MATCH(K$50,$17:$17, 0))*2)))))","v":0},{"$f":"IF(($A51+INDEX($D51*($24:$24-$35:$35), MATCH(L$50,$17:$17, 0)))>$C$8,1000000000,(IF(OR(INDEX($22:$22-($A51-$D51*$35:$35), MATCH(L$50,$17:$17, 0))>0, INDEX($D51*$35:$35-$C51, MATCH(L$50,$17:$17, 0))>0),1000000000,(p!L51+n!L51+m!L51+INDEX(Vt!K:K, MATCH(($A51+INDEX($D51*($24:$24-$35:$35), MATCH(L$50,$17:$17, 0))),Vt!$A:$A,0)+INDEX($B51+$D51*$24:$24, MATCH(L$50,$17:$17, 0))*2)))))","v":0},{"$f":"IF(($A51+INDEX($D51*($24:$24-$35:$35), MATCH(M$50,$17:$17, 0)))>$C$8,1000000000,(IF(OR(INDEX($22:$22-($A51-$D51*$35:$35), MATCH(M$50,$17:$17, 0))>0, INDEX($D51*$35:$35-$C51, MATCH(M$50,$17:$17, 0))>0),1000000000,(p!M51+n!M51+m!M51+INDEX(Vt!L:L, MATCH(($A51+INDEX($D51*($24:$24-$35:$35), MATCH(M$50,$17:$17, 0))),Vt!$A:$A,0)+INDEX($B51+$D51*$24:$24, MATCH(M$50,$17:$17, 0))*2)))))","v":0},{"$f":"IF(($A51+INDEX($D51*($24:$24-$35:$35), MATCH(N$50,$17:$17, 0)))>$C$8,1000000000,(IF(OR(INDEX($22:$22-($A51-$D51*$35:$35), MATCH(N$50,$17:$17, 0))>0, INDEX($D51*$35:$35-$C51, MATCH(N$50,$17:$17, 0))>0),1000000000,(p!N51+n!N51+m!N51+INDEX(Vt!M:M, MATCH(($A51+INDEX($D51*($24:$24-$35:$35), MATCH(N$50,$17:$17, 0))),Vt!$A:$A,0)+INDEX($B51+$D51*$24:$24, MATCH(N$50,$17:$17, 0))*2)))))","v":0},{"$f":"IF(($A51+INDEX($D51*($24:$24-$35:$35), MATCH(O$50,$17:$17, 0)))>$C$8,1000000000,(IF(OR(INDEX($22:$22-($A51-$D51*$35:$35), MATCH(O$50,$17:$17, 0))>0, INDEX($D51*$35:$35-$C51, MATCH(O$50,$17:$17, 0))>0),1000000000,(p!O51+n!O51+m!O51+INDEX(Vt!N:N, MATCH(($A51+INDEX($D51*($24:$24-$35:$35), MATCH(O$50,$17:$17, 0))),Vt!$A:$A,0)+INDEX($B51+$D51*$24:$24, MATCH(O$50,$17:$17, 0))*2)))))","v":0}]
[0,0,0,1,0,{"$f":"IF(($A52+INDEX($D52*($24:$24-$35:$35), MATCH(F$50,$17:$17, 0)))>$C$8,1000000000,(IF(OR(INDEX($22:$22-($A52-$D52*$35:$35), MATCH(F$50,$17:$17, 0))>0, INDEX($D52*$35:$35-$C52, MATCH(F$50,$17:$17, 0))>0),1000000000,(p!F52+n!F52+m!F52+INDEX(Vt!E:E, MATCH(($A52+INDEX($D52*($24:$24-$35:$35), MATCH(F$50,$17:$17, 0))),Vt!$A:$A,0)+INDEX($B52+$D52*$24:$24, MATCH(F$50,$17:$17, 0))*2)))))","v":0},{"$f":"IF(($A52+INDEX($D52*($24:$24-$35:$35), MATCH(G$50,$17:$17, 0)))>$C$8,1000000000,(IF(OR(INDEX($22:$22-($A52-$D52*$35:$35), MATCH(G$50,$17:$17, 0))>0, INDEX($D52*$35:$35-$C52, MATCH(G$50,$17:$17, 0))>0),1000000000,(p!G52+n!G52+m!G52+INDEX(Vt!F:F, MATCH(($A52+INDEX($D52*($24:$24-$35:$35), MATCH(G$50,$17:$17, 0))),Vt!$A:$A,0)+INDEX($B52+$D52*$24:$24, MATCH(G$50,$17:$17, 0))*2)))))","v":0},{"$f":"IF(($A52+INDEX($D52*($24:$24-$35:$35), MATCH(H$50,$17:$17, 0)))>$C$8,1000000000,(IF(OR(INDEX($22:$22-($A52-$D52*$35:$35), MATCH(H$50,$17:$17, 0))>0, INDEX($D52*$35:$35-$C52, MATCH(H$50,$17:$17, 0))>0),1000000000,(p!H52+n!H52+m!H52+INDEX(Vt!G:G, MATCH(($A52+INDEX($D52*($24:$24-$35:$35), MATCH(H$50,$17:$17, 0))),Vt!$A:$A,0)+INDEX($B52+$D52*$24:$24, MATCH(H$50,$17:$17, 0))*2)))))","v":0},{"$f":"IF(($A52+INDEX($D52*($24:$24-$35:$35), MATCH(I$50,$17:$17, 0)))>$C$8,1000000000,(IF(OR(INDEX($22:$22-($A52-$D52*$35:$35), MATCH(I$50,$17:$17, 0))>0, INDEX($D52*$35:$35-$C52, MATCH(I$50,$17:$17, 0))>0),1000000000,(p!I52+n!I52+m!I52+INDEX(Vt!H:H, MATCH(($A52+INDEX($D52*($24:$24-$35:$35), MATCH(I$50,$17:$17, 0))),Vt!$A:$A,0)+INDEX($B52+$D52*$24:$24, MATCH(I$50,$17:$17, 0))*2)))))","v":0},{"$f":"IF(($A52+INDEX($D52*($24:$24-$35:$35), MATCH(J$50,$17:$17, 0)))>$C$8,1000000000,(IF(OR(INDEX($22:$22-($A52-$D52*$35:$35), MATCH(J$50,$17:$17, 0))>0, INDEX($D52*$35:$35-$C52, MATCH(J$50,$17:$17, 0))>0),1000000000,(p!J52+n!J52+m!J52+INDEX(Vt!I:I, MATCH(($A52+INDEX($D52*($24:$24-$35:$35), MATCH(J$50,$17:$17, 0))),Vt!$A:$A,0)+INDEX($B52+$D52*$24:$24, MATCH(J$50,$17:$17, 0))*2)))))","v":0},{"$f":"IF(($A52+INDEX($D52*($24:$24-$35:$35), MATCH(K$50,$17:$17, 0)))>$C$8,1000000000,(IF(OR(INDEX($22:$22-($A52-$D52*$35:$35), MATCH(K$50,$17:$17, 0))>0, INDEX($D52*$35:$35-$C52, MATCH(K$50,$17:$17, 0))>0),1000000000,(p!K52+n!K52+m!K52+INDEX(Vt!J:J, MATCH(($A52+INDEX($D52*($24:$24-$35:$35), MATCH(K$50,$17:$17, 0))),Vt!$A:$A,0)+INDEX($B52+$D52*$24:$24, MATCH(K$50,$17:$17, 0))*2)))))","v":0},{"$f":"IF(($A52+INDEX($D52*($24:$24-$35:$35), MATCH(L$50,$17:$17, 0)))>$C$8,1000000000,(IF(OR(INDEX($22:$22-($A52-$D52*$35:$35), MATCH(L$50,$17:$17, 0))>0, INDEX($D52*$35:$35-$C52, MATCH(L$50,$17:$17, 0))>0),1000000000,(p!L52+n!L52+m!L52+INDEX(Vt!K:K, MATCH(($A52+INDEX($D52*($24:$24-$35:$35), MATCH(L$50,$17:$17, 0))),Vt!$A:$A,0)+INDEX($B52+$D52*$24:$24, MATCH(L$50,$17:$17, 0))*2)))))","v":0},{"$f":"IF(($A52+INDEX($D52*($24:$24-$35:$35), MATCH(M$50,$17:$17, 0)))>$C$8,1000000000,(IF(OR(INDEX($22:$22-($A52-$D52*$35:$35), MATCH(M$50,$17:$17, 0))>0, INDEX($D52*$35:$35-$C52, MATCH(M$50,$17:$17, 0))>0),1000000000,(p!M52+n!M52+m!M52+INDEX(Vt!L:L, MATCH(($A52+INDEX($D52*($24:$24-$35:$35), MATCH(M$50,$17:$17, 0))),Vt!$A:$A,0)+INDEX($B52+$D52*$24:$24, MATCH(M$50,$17:$17, 0))*2)))))","v":0},{"$f":"IF(($A52+INDEX($D52*($24:$24-$35:$35), MATCH(N$50,$17:$17, 0)))>$C$8,1000000000,(IF(OR(INDEX($22:$22-($A52-$D52*$35:$35), MATCH(N$50,$17:$17, 0))>0, INDEX($D52*$35:$35-$C52, MATCH(N$50,$17:$17, 0))>0),1000000000,(p!N52+n!N52+m!N52+INDEX(Vt!M:M, MATCH(($A52+INDEX($D52*($24:$24-$35:$35), MATCH(N$50,$17:$17, 0))),Vt!$A:$A,0)+INDEX($B52+$D52*$24:$24, MATCH(N$50,$17:$17, 0))*2)))))","v":0},{"$f":"IF(($A52+INDEX($D52*($24:$24-$35:$35), MATCH(O$50,$17:$17, 0)))>$C$8,1000000000,(IF(OR(INDEX($22:$22-($A52-$D52*$35:$35), MATCH(O$50,$17:$17, 0))>0, INDEX($D52*$35:$35-$C52, MATCH(O$50,$17:$17, 0))>0),1000000000,(p!O52+n!O52+m!O52+INDEX(Vt!N:N, MATCH(($A52+INDEX($D52*($24:$24-$35:$35), MATCH(O$50,$17:$17, 0))),Vt!$A:$A,0)+INDEX($B52+$D52*$24:$24, MATCH(O$50,$17:$17, 0))*2)))))","v":0}]
[1,0,1,0,0,{"$f":"IF(($A53+INDEX($D53*($24:$24-$35:$35), MATCH(F$50,$17:$17, 0)))>$C$8,1000000000,(IF(OR(INDEX($22:$22-($A53-$D53*$35:$35), MATCH(F$50,$17:$17, 0))>0, INDEX($D53*$35:$35-$C53, MATCH(F$50,$17:$17, 0))>0),1000000000,(p!F53+n!F53+m!F53+INDEX(Vt!E:E, MATCH(($A53+INDEX($D53*($24:$24-$35:$35), MATCH(F$50,$17:$17, 0))),Vt!$A:$A,0)+INDEX($B53+$D53*$24:$24, MATCH(F$50,$17:$17, 0))*2)))))","v":0},{"$f":"IF(($A53+INDEX($D53*($24:$24-$35:$35), MATCH(G$50,$17:$17, 0)))>$C$8,1000000000,(IF(OR(INDEX($22:$22-($A53-$D53*$35:$35), MATCH(G$50,$17:$17, 0))>0, INDEX($D53*$35:$35-$C53, MATCH(G$50,$17:$17, 0))>0),1000000000,(p!G53+n!G53+m!G53+INDEX(Vt!F:F, MATCH(($A53+INDEX($D53*($24:$24-$35:$35), MATCH(G$50,$17:$17, 0))),Vt!$A:$A,0)+INDEX($B53+$D53*$24:$24, MATCH(G$50,$17:$17, 0))*2)))))","v":0},{"$f":"IF(($A53+INDEX($D53*($24:$24-$35:$35), MATCH(H$50,$17:$17, 0)))>$C$8,1000000000,(IF(OR(INDEX($22:$22-($A53-$D53*$35:$35), MATCH(H$50,$17:$17, 0))>0, INDEX($D53*$35:$35-$C53, MATCH(H$50,$17:$17, 0))>0),1000000000,(p!H53+n!H53+m!H53+INDEX(Vt!G:G, MATCH(($A53+INDEX($D53*($24:$24-$35:$35), MATCH(H$50,$17:$17, 0))),Vt!$A:$A,0)+INDEX($B53+$D53*$24:$24, MATCH(H$50,$17:$17, 0))*2)))))","v":0},{"$f":"IF(($A53+INDEX($D53*($24:$24-$35:$35), MATCH(I$50,$17:$17, 0)))>$C$8,1000000000,(IF(OR(INDEX($22:$22-($A53-$D53*$35:$35), MATCH(I$50,$17:$17, 0))>0, INDEX($D53*$35:$35-$C53, MATCH(I$50,$17:$17, 0))>0),1000000000,(p!I53+n!I53+m!I53+INDEX(Vt!H:H, MATCH(($A53+INDEX($D53*($24:$24-$35:$35), MATCH(I$50,$17:$17, 0))),Vt!$A:$A,0)+INDEX($B53+$D53*$24:$24, MATCH(I$50,$17:$17, 0))*2)))))","v":0},{"$f":"IF(($A53+INDEX($D53*($24:$24-$35:$35), MATCH(J$50,$17:$17, 0)))>$C$8,1000000000,(IF(OR(INDEX($22:$22-($A53-$D53*$35:$35), MATCH(J$50,$17:$17, 0))>0, INDEX($D53*$35:$35-$C53, MATCH(J$50,$17:$17, 0))>0),1000000000,(p!J53+n!J53+m!J53+INDEX(Vt!I:I, MATCH(($A53+INDEX($D53*($24:$24-$35:$35), MATCH(J$50,$17:$17, 0))),Vt!$A:$A,0)+INDEX($B53+$D53*$24:$24, MATCH(J$50,$17:$17, 0))*2)))))","v":0},{"$f":"IF(($A53+INDEX($D53*($24:$24-$35:$35), MATCH(K$50,$17:$17, 0)))>$C$8,1000000000,(IF(OR(INDEX($22:$22-($A53-$D53*$35:$35), MATCH(K$50,$17:$17, 0))>0, INDEX($D53*$35:$35-$C53, MATCH(K$50,$17:$17, 0))>0),1000000000,(p!K53+n!K53+m!K53+INDEX(Vt!J:J, MATCH(($A53+INDEX($D53*($24:$24-$35:$35), MATCH(K$50,$17:$17, 0))),Vt!$A:$A,0)+INDEX($B53+$D53*$24:$24, MATCH(K$50,$17:$17, 0))*2)))))","v":0},{"$f":"IF(($A53+INDEX($D53*($24:$24-$35:$35), MATCH(L$50,$17:$17, 0)))>$C$8,1000000000,(IF(OR(INDEX($22:$22-($A53-$D53*$35:$35), MATCH(L$50,$17:$17, 0))>0, INDEX($D53*$35:$35-$C53, MATCH(L$50,$17:$17, 0))>0),1000000000,(p!L53+n!L53+m!L53+INDEX(Vt!K:K, MATCH(($A53+INDEX($D53*($24:$24-$35:$35), MATCH(L$50,$17:$17, 0))),Vt!$A:$A,0)+INDEX($B53+$D53*$24:$24, MATCH(L$50,$17:$17, 0))*2)))))","v":0},{"$f":"IF(($A53+INDEX($D53*($24:$24-$35:$35), MATCH(M$50,$17:$17, 0)))>$C$8,1000000000,(IF(OR(INDEX($22:$22-($A53-$D53*$35:$35), MATCH(M$50,$17:$17, 0))>0, INDEX($D53*$35:$35-$C53, MATCH(M$50,$17:$17, 0))>0),1000000000,(p!M53+n!M53+m!M53+INDEX(Vt!L:L, MATCH(($A53+INDEX($D53*($24:$24-$35:$35), MATCH(M$50,$17:$17, 0))),Vt!$A:$A,0)+INDEX($B53+$D53*$24:$24, MATCH(M$50,$17:$17, 0))*2)))))","v":0},{"$f":"IF(($A53+INDEX($D53*($24:$24-$35:$35), MATCH(N$50,$17:$17, 0)))>$C$8,1000000000,(IF(OR(INDEX($22:$22-($A53-$D53*$35:$35), MATCH(N$50,$17:$17, 0))>0, INDEX($D53*$35:$35-$C53, MATCH(N$50,$17:$17, 0))>0),1000000000,(p!N53+n!N53+m!N53+INDEX(Vt!M:M, MATCH(($A53+INDEX($D53*($24:$24-$35:$35), MATCH(N$50,$17:$17, 0))),Vt!$A:$A,0)+INDEX($B53+$D53*$24:$24, MATCH(N$50,$17:$17, 0))*2)))))","v":0},{"$f":"IF(($A53+INDEX($D53*($24:$24-$35:$35), MATCH(O$50,$17:$17, 0)))>$C$8,1000000000,(IF(OR(INDEX($22:$22-($A53-$D53*$35:$35), MATCH(O$50,$17:$17, 0))>0, INDEX($D53*$35:$35-$C53, MATCH(O$50,$17:$17, 0))>0),1000000000,(p!O53+n!O53+m!O53+INDEX(Vt!N:N, MATCH(($A53+INDEX($D53*($24:$24-$35:$35), MATCH(O$50,$17:$17, 0))),Vt!$A:$A,0)+INDEX($B53+$D53*$24:$24, MATCH(O$50,$17:$17, 0))*2)))))","v":0}]
[1,0,1,1,0,{"$f":"IF(($A54+INDEX($D54*($24:$24-$35:$35), MATCH(F$50,$17:$17, 0)))>$C$8,1000000000,(IF(OR(INDEX($22:$22-($A54-$D54*$35:$35), MATCH(F$50,$17:$17, 0))>0, INDEX($D54*$35:$35-$C54, MATCH(F$50,$17:$17, 0))>0),1000000000,(p!F54+n!F54+m!F54+INDEX(Vt!E:E, MATCH(($A54+INDEX($D54*($24:$24-$35:$35), MATCH(F$50,$17:$17, 0))),Vt!$A:$A,0)+INDEX($B54+$D54*$24:$24, MATCH(F$50,$17:$17, 0))*2)))))","v":0},{"$f":"IF(($A54+INDEX($D54*($24:$24-$35:$35), MATCH(G$50,$17:$17, 0)))>$C$8,1000000000,(IF(OR(INDEX($22:$22-($A54-$D54*$35:$35), MATCH(G$50,$17:$17, 0))>0, INDEX($D54*$35:$35-$C54, MATCH(G$50,$17:$17, 0))>0),1000000000,(p!G54+n!G54+m!G54+INDEX(Vt!F:F, MATCH(($A54+INDEX($D54*($24:$24-$35:$35), MATCH(G$50,$17:$17, 0))),Vt!$A:$A,0)+INDEX($B54+$D54*$24:$24, MATCH(G$50,$17:$17, 0))*2)))))","v":0},{"$f":"IF(($A54+INDEX($D54*($24:$24-$35:$35), MATCH(H$50,$17:$17, 0)))>$C$8,1000000000,(IF(OR(INDEX($22:$22-($A54-$D54*$35:$35), MATCH(H$50,$17:$17, 0))>0, INDEX($D54*$35:$35-$C54, MATCH(H$50,$17:$17, 0))>0),1000000000,(p!H54+n!H54+m!H54+INDEX(Vt!G:G, MATCH(($A54+INDEX($D54*($24:$24-$35:$35), MATCH(H$50,$17:$17, 0))),Vt!$A:$A,0)+INDEX($B54+$D54*$24:$24, MATCH(H$50,$17:$17, 0))*2)))))","v":0},{"$f":"IF(($A54+INDEX($D54*($24:$24-$35:$35), MATCH(I$50,$17:$17, 0)))>$C$8,1000000000,(IF(OR(INDEX($22:$22-($A54-$D54*$35:$35), MATCH(I$50,$17:$17, 0))>0, INDEX($D54*$35:$35-$C54, MATCH(I$50,$17:$17, 0))>0),1000000000,(p!I54+n!I54+m!I54+INDEX(Vt!H:H, MATCH(($A54+INDEX($D54*($24:$24-$35:$35), MATCH(I$50,$17:$17, 0))),Vt!$A:$A,0)+INDEX($B54+$D54*$24:$24, MATCH(I$50,$17:$17, 0))*2)))))","v":0},{"$f":"IF(($A54+INDEX($D54*($24:$24-$35:$35), MATCH(J$50,$17:$17, 0)))>$C$8,1000000000,(IF(OR(INDEX($22:$22-($A54-$D54*$35:$35), MATCH(J$50,$17:$17, 0))>0, INDEX($D54*$35:$35-$C54, MATCH(J$50,$17:$17, 0))>0),1000000000,(p!J54+n!J54+m!J54+INDEX(Vt!I:I, MATCH(($A54+INDEX($D54*($24:$24-$35:$35), MATCH(J$50,$17:$17, 0))),Vt!$A:$A,0)+INDEX($B54+$D54*$24:$24, MATCH(J$50,$17:$17, 0))*2)))))","v":0},{"$f":"IF(($A54+INDEX($D54*($24:$24-$35:$35), MATCH(K$50,$17:$17, 0)))>$C$8,1000000000,(IF(OR(INDEX($22:$22-($A54-$D54*$35:$35), MATCH(K$50,$17:$17, 0))>0, INDEX($D54*$35:$35-$C54, MATCH(K$50,$17:$17, 0))>0),1000000000,(p!K54+n!K54+m!K54+INDEX(Vt!J:J, MATCH(($A54+INDEX($D54*($24:$24-$35:$35), MATCH(K$50,$17:$17, 0))),Vt!$A:$A,0)+INDEX($B54+$D54*$24:$24, MATCH(K$50,$17:$17, 0))*2)))))","v":0},{"$f":"IF(($A54+INDEX($D54*($24:$24-$35:$35), MATCH(L$50,$17:$17, 0)))>$C$8,1000000000,(IF(OR(INDEX($22:$22-($A54-$D54*$35:$35), MATCH(L$50,$17:$17, 0))>0, INDEX($D54*$35:$35-$C54, MATCH(L$50,$17:$17, 0))>0),1000000000,(p!L54+n!L54+m!L54+INDEX(Vt!K:K, MATCH(($A54+INDEX($D54*($24:$24-$35:$35), MATCH(L$50,$17:$17, 0))),Vt!$A:$A,0)+INDEX($B54+$D54*$24:$24, MATCH(L$50,$17:$17, 0))*2)))))","v":0},{"$f":"IF(($A54+INDEX($D54*($24:$24-$35:$35), MATCH(M$50,$17:$17, 0)))>$C$8,1000000000,(IF(OR(INDEX($22:$22-($A54-$D54*$35:$35), MATCH(M$50,$17:$17, 0))>0, INDEX($D54*$35:$35-$C54, MATCH(M$50,$17:$17, 0))>0),1000000000,(p!M54+n!M54+m!M54+INDEX(Vt!L:L, MATCH(($A54+INDEX($D54*($24:$24-$35:$35), MATCH(M$50,$17:$17, 0))),Vt!$A:$A,0)+INDEX($B54+$D54*$24:$24, MATCH(M$50,$17:$17, 0))*2)))))","v":0},{"$f":"IF(($A54+INDEX($D54*($24:$24-$35:$35), MATCH(N$50,$17:$17, 0)))>$C$8,1000000000,(IF(OR(INDEX($22:$22-($A54-$D54*$35:$35), MATCH(N$50,$17:$17, 0))>0, INDEX($D54*$35:$35-$C54, MATCH(N$50,$17:$17, 0))>0),1000000000,(p!N54+n!N54+m!N54+INDEX(Vt!M:M, MATCH(($A54+INDEX($D54*($24:$24-$35:$35), MATCH(N$50,$17:$17, 0))),Vt!$A:$A,0)+INDEX($B54+$D54*$24:$24, MATCH(N$50,$17:$17, 0))*2)))))","v":0},{"$f":"IF(($A54+INDEX($D54*($24:$24-$35:$35), MATCH(O$50,$17:$17, 0)))>$C$8,1000000000,(IF(OR(INDEX($22:$22-($A54-$D54*$35:$35), MATCH(O$50,$17:$17, 0))>0, INDEX($D54*$35:$35-$C54, MATCH(O$50,$17:$17, 0))>0),1000000000,(p!O54+n!O54+m!O54+INDEX(Vt!N:N, MATCH(($A54+INDEX($D54*($24:$24-$35:$35), MATCH(O$50,$17:$17, 0))),Vt!$A:$A,0)+INDEX($B54+$D54*$24:$24, MATCH(O$50,$17:$17, 0))*2)))))","v":0}]
[1,1,0,0,0,{"$f":"IF(($A55+INDEX($D55*($24:$24-$35:$35), MATCH(F$50,$17:$17, 0)))>$C$8,1000000000,(IF(OR(INDEX($22:$22-($A55-$D55*$35:$35), MATCH(F$50,$17:$17, 0))>0, INDEX($D55*$35:$35-$C55, MATCH(F$50,$17:$17, 0))>0),1000000000,(p!F55+n!F55+m!F55+INDEX(Vt!E:E, MATCH(($A55+INDEX($D55*($24:$24-$35:$35), MATCH(F$50,$17:$17, 0))),Vt!$A:$A,0)+INDEX($B55+$D55*$24:$24, MATCH(F$50,$17:$17, 0))*2)))))","v":0},{"$f":"IF(($A55+INDEX($D55*($24:$24-$35:$35), MATCH(G$50,$17:$17, 0)))>$C$8,1000000000,(IF(OR(INDEX($22:$22-($A55-$D55*$35:$35), MATCH(G$50,$17:$17, 0))>0, INDEX($D55*$35:$35-$C55, MATCH(G$50,$17:$17, 0))>0),1000000000,(p!G55+n!G55+m!G55+INDEX(Vt!F:F, MATCH(($A55+INDEX($D55*($24:$24-$35:$35), MATCH(G$50,$17:$17, 0))),Vt!$A:$A,0)+INDEX($B55+$D55*$24:$24, MATCH(G$50,$17:$17, 0))*2)))))","v":0},{"$f":"IF(($A55+INDEX($D55*($24:$24-$35:$35), MATCH(H$50,$17:$17, 0)))>$C$8,1000000000,(IF(OR(INDEX($22:$22-($A55-$D55*$35:$35), MATCH(H$50,$17:$17, 0))>0, INDEX($D55*$35:$35-$C55, MATCH(H$50,$17:$17, 0))>0),1000000000,(p!H55+n!H55+m!H55+INDEX(Vt!G:G, MATCH(($A55+INDEX($D55*($24:$24-$35:$35), MATCH(H$50,$17:$17, 0))),Vt!$A:$A,0)+INDEX($B55+$D55*$24:$24, MATCH(H$50,$17:$17, 0))*2)))))","v":0},{"$f":"IF(($A55+INDEX($D55*($24:$24-$35:$35), MATCH(I$50,$17:$17, 0)))>$C$8,1000000000,(IF(OR(INDEX($22:$22-($A55-$D55*$35:$35), MATCH(I$50,$17:$17, 0))>0, INDEX($D55*$35:$35-$C55, MATCH(I$50,$17:$17, 0))>0),1000000000,(p!I55+n!I55+m!I55+INDEX(Vt!H:H, MATCH(($A55+INDEX($D55*($24:$24-$35:$35), MATCH(I$50,$17:$17, 0))),Vt!$A:$A,0)+INDEX($B55+$D55*$24:$24, MATCH(I$50,$17:$17, 0))*2)))))","v":0},{"$f":"IF(($A55+INDEX($D55*($24:$24-$35:$35), MATCH(J$50,$17:$17, 0)))>$C$8,1000000000,(IF(OR(INDEX($22:$22-($A55-$D55*$35:$35), MATCH(J$50,$17:$17, 0))>0, INDEX($D55*$35:$35-$C55, MATCH(J$50,$17:$17, 0))>0),1000000000,(p!J55+n!J55+m!J55+INDEX(Vt!I:I, MATCH(($A55+INDEX($D55*($24:$24-$35:$35), MATCH(J$50,$17:$17, 0))),Vt!$A:$A,0)+INDEX($B55+$D55*$24:$24, MATCH(J$50,$17:$17, 0))*2)))))","v":0},{"$f":"IF(($A55+INDEX($D55*($24:$24-$35:$35), MATCH(K$50,$17:$17, 0)))>$C$8,1000000000,(IF(OR(INDEX($22:$22-($A55-$D55*$35:$35), MATCH(K$50,$17:$17, 0))>0, INDEX($D55*$35:$35-$C55, MATCH(K$50,$17:$17, 0))>0),1000000000,(p!K55+n!K55+m!K55+INDEX(Vt!J:J, MATCH(($A55+INDEX($D55*($24:$24-$35:$35), MATCH(K$50,$17:$17, 0))),Vt!$A:$A,0)+INDEX($B55+$D55*$24:$24, MATCH(K$50,$17:$17, 0))*2)))))","v":0},{"$f":"IF(($A55+INDEX($D55*($24:$24-$35:$35), MATCH(L$50,$17:$17, 0)))>$C$8,1000000000,(IF(OR(INDEX($22:$22-($A55-$D55*$35:$35), MATCH(L$50,$17:$17, 0))>0, INDEX($D55*$35:$35-$C55, MATCH(L$50,$17:$17, 0))>0),1000000000,(p!L55+n!L55+m!L55+INDEX(Vt!K:K, MATCH(($A55+INDEX($D55*($24:$24-$35:$35), MATCH(L$50,$17:$17, 0))),Vt!$A:$A,0)+INDEX($B55+$D55*$24:$24, MATCH(L$50,$17:$17, 0))*2)))))","v":0},{"$f":"IF(($A55+INDEX($D55*($24:$24-$35:$35), MATCH(M$50,$17:$17, 0)))>$C$8,1000000000,(IF(OR(INDEX($22:$22-($A55-$D55*$35:$35), MATCH(M$50,$17:$17, 0))>0, INDEX($D55*$35:$35-$C55, MATCH(M$50,$17:$17, 0))>0),1000000000,(p!M55+n!M55+m!M55+INDEX(Vt!L:L, MATCH(($A55+INDEX($D55*($24:$24-$35:$35), MATCH(M$50,$17:$17, 0))),Vt!$A:$A,0)+INDEX($B55+$D55*$24:$24, MATCH(M$50,$17:$17, 0))*2)))))","v":0},{"$f":"IF(($A55+INDEX($D55*($24:$24-$35:$35), MATCH(N$50,$17:$17, 0)))>$C$8,1000000000,(IF(OR(INDEX($22:$22-($A55-$D55*$35:$35), MATCH(N$50,$17:$17, 0))>0, INDEX($D55*$35:$35-$C55, MATCH(N$50,$17:$17, 0))>0),1000000000,(p!N55+n!N55+m!N55+INDEX(Vt!M:M, MATCH(($A55+INDEX($D55*($24:$24-$35:$35), MATCH(N$50,$17:$17, 0))),Vt!$A:$A,0)+INDEX($B55+$D55*$24:$24, MATCH(N$50,$17:$17, 0))*2)))))","v":0},{"$f":"IF(($A55+INDEX($D55*($24:$24-$35:$35), MATCH(O$50,$17:$17, 0)))>$C$8,1000000000,(IF(OR(INDEX($22:$22-($A55-$D55*$35:$35), MATCH(O$50,$17:$17, 0))>0, INDEX($D55*$35:$35-$C55, MATCH(O$50,$17:$17, 0))>0),1000000000,(p!O55+n!O55+m!O55+INDEX(Vt!N:N, MATCH(($A55+INDEX($D55*($24:$24-$35:$35), MATCH(O$50,$17:$17, 0))),Vt!$A:$A,0)+INDEX($B55+$D55*$24:$24, MATCH(O$50,$17:$17, 0))*2)))))","v":0}]
[1,1,0,1,0,{"$f":"IF(($A56+INDEX($D56*($24:$24-$35:$35), MATCH(F$50,$17:$17, 0)))>$C$8,1000000000,(IF(OR(INDEX($22:$22-($A56-$D56*$35:$35), MATCH(F$50,$17:$17, 0))>0, INDEX($D56*$35:$35-$C56, MATCH(F$50,$17:$17, 0))>0),1000000000,(p!F56+n!F56+m!F56+INDEX(Vt!E:E, MATCH(($A56+INDEX($D56*($24:$24-$35:$35), MATCH(F$50,$17:$17, 0))),Vt!$A:$A,0)+INDEX($B56+$D56*$24:$24, MATCH(F$50,$17:$17, 0))*2)))))","v":0},{"$f":"IF(($A56+INDEX($D56*($24:$24-$35:$35), MATCH(G$50,$17:$17, 0)))>$C$8,1000000000,(IF(OR(INDEX($22:$22-($A56-$D56*$35:$35), MATCH(G$50,$17:$17, 0))>0, INDEX($D56*$35:$35-$C56, MATCH(G$50,$17:$17, 0))>0),1000000000,(p!G56+n!G56+m!G56+INDEX(Vt!F:F, MATCH(($A56+INDEX($D56*($24:$24-$35:$35), MATCH(G$50,$17:$17, 0))),Vt!$A:$A,0)+INDEX($B56+$D56*$24:$24, MATCH(G$50,$17:$17, 0))*2)))))","v":0},{"$f":"IF(($A56+INDEX($D56*($24:$24-$35:$35), MATCH(H$50,$17:$17, 0)))>$C$8,1000000000,(IF(OR(INDEX($22:$22-($A56-$D56*$35:$35), MATCH(H$50,$17:$17, 0))>0, INDEX($D56*$35:$35-$C56, MATCH(H$50,$17:$17, 0))>0),1000000000,(p!H56+n!H56+m!H56+INDEX(Vt!G:G, MATCH(($A56+INDEX($D56*($24:$24-$35:$35), MATCH(H$50,$17:$17, 0))),Vt!$A:$A,0)+INDEX($B56+$D56*$24:$24, MATCH(H$50,$17:$17, 0))*2)))))","v":0},{"$f":"IF(($A56+INDEX($D56*($24:$24-$35:$35), MATCH(I$50,$17:$17, 0)))>$C$8,1000000000,(IF(OR(INDEX($22:$22-($A56-$D56*$35:$35), MATCH(I$50,$17:$17, 0))>0, INDEX($D56*$35:$35-$C56, MATCH(I$50,$17:$17, 0))>0),1000000000,(p!I56+n!I56+m!I56+INDEX(Vt!H:H, MATCH(($A56+INDEX($D56*($24:$24-$35:$35), MATCH(I$50,$17:$17, 0))),Vt!$A:$A,0)+INDEX($B56+$D56*$24:$24, MATCH(I$50,$17:$17, 0))*2)))))","v":0},{"$f":"IF(($A56+INDEX($D56*($24:$24-$35:$35), MATCH(J$50,$17:$17, 0)))>$C$8,1000000000,(IF(OR(INDEX($22:$22-($A56-$D56*$35:$35), MATCH(J$50,$17:$17, 0))>0, INDEX($D56*$35:$35-$C56, MATCH(J$50,$17:$17, 0))>0),1000000000,(p!J56+n!J56+m!J56+INDEX(Vt!I:I, MATCH(($A56+INDEX($D56*($24:$24-$35:$35), MATCH(J$50,$17:$17, 0))),Vt!$A:$A,0)+INDEX($B56+$D56*$24:$24, MATCH(J$50,$17:$17, 0))*2)))))","v":0},{"$f":"IF(($A56+INDEX($D56*($24:$24-$35:$35), MATCH(K$50,$17:$17, 0)))>$C$8,1000000000,(IF(OR(INDEX($22:$22-($A56-$D56*$35:$35), MATCH(K$50,$17:$17, 0))>0, INDEX($D56*$35:$35-$C56, MATCH(K$50,$17:$17, 0))>0),1000000000,(p!K56+n!K56+m!K56+INDEX(Vt!J:J, MATCH(($A56+INDEX($D56*($24:$24-$35:$35), MATCH(K$50,$17:$17, 0))),Vt!$A:$A,0)+INDEX($B56+$D56*$24:$24, MATCH(K$50,$17:$17, 0))*2)))))","v":0},{"$f":"IF(($A56+INDEX($D56*($24:$24-$35:$35), MATCH(L$50,$17:$17, 0)))>$C$8,1000000000,(IF(OR(INDEX($22:$22-($A56-$D56*$35:$35), MATCH(L$50,$17:$17, 0))>0, INDEX($D56*$35:$35-$C56, MATCH(L$50,$17:$17, 0))>0),1000000000,(p!L56+n!L56+m!L56+INDEX(Vt!K:K, MATCH(($A56+INDEX($D56*($24:$24-$35:$35), MATCH(L$50,$17:$17, 0))),Vt!$A:$A,0)+INDEX($B56+$D56*$24:$24, MATCH(L$50,$17:$17, 0))*2)))))","v":0},{"$f":"IF(($A56+INDEX($D56*($24:$24-$35:$35), MATCH(M$50,$17:$17, 0)))>$C$8,1000000000,(IF(OR(INDEX($22:$22-($A56-$D56*$35:$35), MATCH(M$50,$17:$17, 0))>0, INDEX($D56*$35:$35-$C56, MATCH(M$50,$17:$17, 0))>0),1000000000,(p!M56+n!M56+m!M56+INDEX(Vt!L:L, MATCH(($A56+INDEX($D56*($24:$24-$35:$35), MATCH(M$50,$17:$17, 0))),Vt!$A:$A,0)+INDEX($B56+$D56*$24:$24, MATCH(M$50,$17:$17, 0))*2)))))","v":0},{"$f":"IF(($A56+INDEX($D56*($24:$24-$35:$35), MATCH(N$50,$17:$17, 0)))>$C$8,1000000000,(IF(OR(INDEX($22:$22-($A56-$D56*$35:$35), MATCH(N$50,$17:$17, 0))>0, INDEX($D56*$35:$35-$C56, MATCH(N$50,$17:$17, 0))>0),1000000000,(p!N56+n!N56+m!N56+INDEX(Vt!M:M, MATCH(($A56+INDEX($D56*($24:$24-$35:$35), MATCH(N$50,$17:$17, 0))),Vt!$A:$A,0)+INDEX($B56+$D56*$24:$24, MATCH(N$50,$17:$17, 0))*2)))))","v":0},{"$f":"IF(($A56+INDEX($D56*($24:$24-$35:$35), MATCH(O$50,$17:$17, 0)))>$C$8,1000000000,(IF(OR(INDEX($22:$22-($A56-$D56*$35:$35), MATCH(O$50,$17:$17, 0))>0, INDEX($D56*$35:$35-$C56, MATCH(O$50,$17:$17, 0))>0),1000000000,(p!O56+n!O56+m!O56+INDEX(Vt!N:N, MATCH(($A56+INDEX($D56*($24:$24-$35:$35), MATCH(O$50,$17:$17, 0))),Vt!$A:$A,0)+INDEX($B56+$D56*$24:$24, MATCH(O$50,$17:$17, 0))*2)))))","v":0}]
[2,0,2,0,0,{"$f":"IF(($A57+INDEX($D57*($24:$24-$35:$35), MATCH(F$50,$17:$17, 0)))>$C$8,1000000000,(IF(OR(INDEX($22:$22-($A57-$D57*$35:$35), MATCH(F$50,$17:$17, 0))>0, INDEX($D57*$35:$35-$C57, MATCH(F$50,$17:$17, 0))>0),1000000000,(p!F57+n!F57+m!F57+INDEX(Vt!E:E, MATCH(($A57+INDEX($D57*($24:$24-$35:$35), MATCH(F$50,$17:$17, 0))),Vt!$A:$A,0)+INDEX($B57+$D57*$24:$24, MATCH(F$50,$17:$17, 0))*2)))))","v":0},{"$f":"IF(($A57+INDEX($D57*($24:$24-$35:$35), MATCH(G$50,$17:$17, 0)))>$C$8,1000000000,(IF(OR(INDEX($22:$22-($A57-$D57*$35:$35), MATCH(G$50,$17:$17, 0))>0, INDEX($D57*$35:$35-$C57, MATCH(G$50,$17:$17, 0))>0),1000000000,(p!G57+n!G57+m!G57+INDEX(Vt!F:F, MATCH(($A57+INDEX($D57*($24:$24-$35:$35), MATCH(G$50,$17:$17, 0))),Vt!$A:$A,0)+INDEX($B57+$D57*$24:$24, MATCH(G$50,$17:$17, 0))*2)))))","v":0},{"$f":"IF(($A57+INDEX($D57*($24:$24-$35:$35), MATCH(H$50,$17:$17, 0)))>$C$8,1000000000,(IF(OR(INDEX($22:$22-($A57-$D57*$35:$35), MATCH(H$50,$17:$17, 0))>0, INDEX($D57*$35:$35-$C57, MATCH(H$50,$17:$17, 0))>0),1000000000,(p!H57+n!H57+m!H57+INDEX(Vt!G:G, MATCH(($A57+INDEX($D57*($24:$24-$35:$35), MATCH(H$50,$17:$17, 0))),Vt!$A:$A,0)+INDEX($B57+$D57*$24:$24, MATCH(H$50,$17:$17, 0))*2)))))","v":0},{"$f":"IF(($A57+INDEX($D57*($24:$24-$35:$35), MATCH(I$50,$17:$17, 0)))>$C$8,1000000000,(IF(OR(INDEX($22:$22-($A57-$D57*$35:$35), MATCH(I$50,$17:$17, 0))>0, INDEX($D57*$35:$35-$C57, MATCH(I$50,$17:$17, 0))>0),1000000000,(p!I57+n!I57+m!I57+INDEX(Vt!H:H, MATCH(($A57+INDEX($D57*($24:$24-$35:$35), MATCH(I$50,$17:$17, 0))),Vt!$A:$A,0)+INDEX($B57+$D57*$24:$24, MATCH(I$50,$17:$17, 0))*2)))))","v":0},{"$f":"IF(($A57+INDEX($D57*($24:$24-$35:$35), MATCH(J$50,$17:$17, 0)))>$C$8,1000000000,(IF(OR(INDEX($22:$22-($A57-$D57*$35:$35), MATCH(J$50,$17:$17, 0))>0, INDEX($D57*$35:$35-$C57, MATCH(J$50,$17:$17, 0))>0),1000000000,(p!J57+n!J57+m!J57+INDEX(Vt!I:I, MATCH(($A57+INDEX($D57*($24:$24-$35:$35), MATCH(J$50,$17:$17, 0))),Vt!$A:$A,0)+INDEX($B57+$D57*$24:$24, MATCH(J$50,$17:$17, 0))*2)))))","v":0},{"$f":"IF(($A57+INDEX($D57*($24:$24-$35:$35), MATCH(K$50,$17:$17, 0)))>$C$8,1000000000,(IF(OR(INDEX($22:$22-($A57-$D57*$35:$35), MATCH(K$50,$17:$17, 0))>0, INDEX($D57*$35:$35-$C57, MATCH(K$50,$17:$17, 0))>0),1000000000,(p!K57+n!K57+m!K57+INDEX(Vt!J:J, MATCH(($A57+INDEX($D57*($24:$24-$35:$35), MATCH(K$50,$17:$17, 0))),Vt!$A:$A,0)+INDEX($B57+$D57*$24:$24, MATCH(K$50,$17:$17, 0))*2)))))","v":0},{"$f":"IF(($A57+INDEX($D57*($24:$24-$35:$35), MATCH(L$50,$17:$17, 0)))>$C$8,1000000000,(IF(OR(INDEX($22:$22-($A57-$D57*$35:$35), MATCH(L$50,$17:$17, 0))>0, INDEX($D57*$35:$35-$C57, MATCH(L$50,$17:$17, 0))>0),1000000000,(p!L57+n!L57+m!L57+INDEX(Vt!K:K, MATCH(($A57+INDEX($D57*($24:$24-$35:$35), MATCH(L$50,$17:$17, 0))),Vt!$A:$A,0)+INDEX($B57+$D57*$24:$24, MATCH(L$50,$17:$17, 0))*2)))))","v":0},{"$f":"IF(($A57+INDEX($D57*($24:$24-$35:$35), MATCH(M$50,$17:$17, 0)))>$C$8,1000000000,(IF(OR(INDEX($22:$22-($A57-$D57*$35:$35), MATCH(M$50,$17:$17, 0))>0, INDEX($D57*$35:$35-$C57, MATCH(M$50,$17:$17, 0))>0),1000000000,(p!M57+n!M57+m!M57+INDEX(Vt!L:L, MATCH(($A57+INDEX($D57*($24:$24-$35:$35), MATCH(M$50,$17:$17, 0))),Vt!$A:$A,0)+INDEX($B57+$D57*$24:$24, MATCH(M$50,$17:$17, 0))*2)))))","v":0},{"$f":"IF(($A57+INDEX($D57*($24:$24-$35:$35), MATCH(N$50,$17:$17, 0)))>$C$8,1000000000,(IF(OR(INDEX($22:$22-($A57-$D57*$35:$35), MATCH(N$50,$17:$17, 0))>0, INDEX($D57*$35:$35-$C57, MATCH(N$50,$17:$17, 0))>0),1000000000,(p!N57+n!N57+m!N57+INDEX(Vt!M:M, MATCH(($A57+INDEX($D57*($24:$24-$35:$35), MATCH(N$50,$17:$17, 0))),Vt!$A:$A,0)+INDEX($B57+$D57*$24:$24, MATCH(N$50,$17:$17, 0))*2)))))","v":0},{"$f":"IF(($A57+INDEX($D57*($24:$24-$35:$35), MATCH(O$50,$17:$17, 0)))>$C$8,1000000000,(IF(OR(INDEX($22:$22-($A57-$D57*$35:$35), MATCH(O$50,$17:$17, 0))>0, INDEX($D57*$35:$35-$C57, MATCH(O$50,$17:$17, 0))>0),1000000000,(p!O57+n!O57+m!O57+INDEX(Vt!N:N, MATCH(($A57+INDEX($D57*($24:$24-$35:$35), MATCH(O$50,$17:$17, 0))),Vt!$A:$A,0)+INDEX($B57+$D57*$24:$24, MATCH(O$50,$17:$17, 0))*2)))))","v":0}]
[2,0,2,1,0,{"$f":"IF(($A58+INDEX($D58*($24:$24-$35:$35), MATCH(F$50,$17:$17, 0)))>$C$8,1000000000,(IF(OR(INDEX($22:$22-($A58-$D58*$35:$35), MATCH(F$50,$17:$17, 0))>0, INDEX($D58*$35:$35-$C58, MATCH(F$50,$17:$17, 0))>0),1000000000,(p!F58+n!F58+m!F58+INDEX(Vt!E:E, MATCH(($A58+INDEX($D58*($24:$24-$35:$35), MATCH(F$50,$17:$17, 0))),Vt!$A:$A,0)+INDEX($B58+$D58*$24:$24, MATCH(F$50,$17:$17, 0))*2)))))","v":0},{"$f":"IF(($A58+INDEX($D58*($24:$24-$35:$35), MATCH(G$50,$17:$17, 0)))>$C$8,1000000000,(IF(OR(INDEX($22:$22-($A58-$D58*$35:$35), MATCH(G$50,$17:$17, 0))>0, INDEX($D58*$35:$35-$C58, MATCH(G$50,$17:$17, 0))>0),1000000000,(p!G58+n!G58+m!G58+INDEX(Vt!F:F, MATCH(($A58+INDEX($D58*($24:$24-$35:$35), MATCH(G$50,$17:$17, 0))),Vt!$A:$A,0)+INDEX($B58+$D58*$24:$24, MATCH(G$50,$17:$17, 0))*2)))))","v":0},{"$f":"IF(($A58+INDEX($D58*($24:$24-$35:$35), MATCH(H$50,$17:$17, 0)))>$C$8,1000000000,(IF(OR(INDEX($22:$22-($A58-$D58*$35:$35), MATCH(H$50,$17:$17, 0))>0, INDEX($D58*$35:$35-$C58, MATCH(H$50,$17:$17, 0))>0),1000000000,(p!H58+n!H58+m!H58+INDEX(Vt!G:G, MATCH(($A58+INDEX($D58*($24:$24-$35:$35), MATCH(H$50,$17:$17, 0))),Vt!$A:$A,0)+INDEX($B58+$D58*$24:$24, MATCH(H$50,$17:$17, 0))*2)))))","v":0},{"$f":"IF(($A58+INDEX($D58*($24:$24-$35:$35), MATCH(I$50,$17:$17, 0)))>$C$8,1000000000,(IF(OR(INDEX($22:$22-($A58-$D58*$35:$35), MATCH(I$50,$17:$17, 0))>0, INDEX($D58*$35:$35-$C58, MATCH(I$50,$17:$17, 0))>0),1000000000,(p!I58+n!I58+m!I58+INDEX(Vt!H:H, MATCH(($A58+INDEX($D58*($24:$24-$35:$35), MATCH(I$50,$17:$17, 0))),Vt!$A:$A,0)+INDEX($B58+$D58*$24:$24, MATCH(I$50,$17:$17, 0))*2)))))","v":0},{"$f":"IF(($A58+INDEX($D58*($24:$24-$35:$35), MATCH(J$50,$17:$17, 0)))>$C$8,1000000000,(IF(OR(INDEX($22:$22-($A58-$D58*$35:$35), MATCH(J$50,$17:$17, 0))>0, INDEX($D58*$35:$35-$C58, MATCH(J$50,$17:$17, 0))>0),1000000000,(p!J58+n!J58+m!J58+INDEX(Vt!I:I, MATCH(($A58+INDEX($D58*($24:$24-$35:$35), MATCH(J$50,$17:$17, 0))),Vt!$A:$A,0)+INDEX($B58+$D58*$24:$24, MATCH(J$50,$17:$17, 0))*2)))))","v":0},{"$f":"IF(($A58+INDEX($D58*($24:$24-$35:$35), MATCH(K$50,$17:$17, 0)))>$C$8,1000000000,(IF(OR(INDEX($22:$22-($A58-$D58*$35:$35), MATCH(K$50,$17:$17, 0))>0, INDEX($D58*$35:$35-$C58, MATCH(K$50,$17:$17, 0))>0),1000000000,(p!K58+n!K58+m!K58+INDEX(Vt!J:J, MATCH(($A58+INDEX($D58*($24:$24-$35:$35), MATCH(K$50,$17:$17, 0))),Vt!$A:$A,0)+INDEX($B58+$D58*$24:$24, MATCH(K$50,$17:$17, 0))*2)))))","v":0},{"$f":"IF(($A58+INDEX($D58*($24:$24-$35:$35), MATCH(L$50,$17:$17, 0)))>$C$8,1000000000,(IF(OR(INDEX($22:$22-($A58-$D58*$35:$35), MATCH(L$50,$17:$17, 0))>0, INDEX($D58*$35:$35-$C58, MATCH(L$50,$17:$17, 0))>0),1000000000,(p!L58+n!L58+m!L58+INDEX(Vt!K:K, MATCH(($A58+INDEX($D58*($24:$24-$35:$35), MATCH(L$50,$17:$17, 0))),Vt!$A:$A,0)+INDEX($B58+$D58*$24:$24, MATCH(L$50,$17:$17, 0))*2)))))","v":0},{"$f":"IF(($A58+INDEX($D58*($24:$24-$35:$35), MATCH(M$50,$17:$17, 0)))>$C$8,1000000000,(IF(OR(INDEX($22:$22-($A58-$D58*$35:$35), MATCH(M$50,$17:$17, 0))>0, INDEX($D58*$35:$35-$C58, MATCH(M$50,$17:$17, 0))>0),1000000000,(p!M58+n!M58+m!M58+INDEX(Vt!L:L, MATCH(($A58+INDEX($D58*($24:$24-$35:$35), MATCH(M$50,$17:$17, 0))),Vt!$A:$A,0)+INDEX($B58+$D58*$24:$24, MATCH(M$50,$17:$17, 0))*2)))))","v":0},{"$f":"IF(($A58+INDEX($D58*($24:$24-$35:$35), MATCH(N$50,$17:$17, 0)))>$C$8,1000000000,(IF(OR(INDEX($22:$22-($A58-$D58*$35:$35), MATCH(N$50,$17:$17, 0))>0, INDEX($D58*$35:$35-$C58, MATCH(N$50,$17:$17, 0))>0),1000000000,(p!N58+n!N58+m!N58+INDEX(Vt!M:M, MATCH(($A58+INDEX($D58*($24:$24-$35:$35), MATCH(N$50,$17:$17, 0))),Vt!$A:$A,0)+INDEX($B58+$D58*$24:$24, MATCH(N$50,$17:$17, 0))*2)))))","v":0},{"$f":"IF(($A58+INDEX($D58*($24:$24-$35:$35), MATCH(O$50,$17:$17, 0)))>$C$8,1000000000,(IF(OR(INDEX($22:$22-($A58-$D58*$35:$35), MATCH(O$50,$17:$17, 0))>0, INDEX($D58*$35:$35-$C58, MATCH(O$50,$17:$17, 0))>0),1000000000,(p!O58+n!O58+m!O58+INDEX(Vt!N:N, MATCH(($A58+INDEX($D58*($24:$24-$35:$35), MATCH(O$50,$17:$17, 0))),Vt!$A:$A,0)+INDEX($B58+$D58*$24:$24, MATCH(O$50,$17:$17, 0))*2)))))","v":0}]
[2,1,1,0,0,{"$f":"IF(($A59+INDEX($D59*($24:$24-$35:$35), MATCH(F$50,$17:$17, 0)))>$C$8,1000000000,(IF(OR(INDEX($22:$22-($A59-$D59*$35:$35), MATCH(F$50,$17:$17, 0))>0, INDEX($D59*$35:$35-$C59, MATCH(F$50,$17:$17, 0))>0),1000000000,(p!F59+n!F59+m!F59+INDEX(Vt!E:E, MATCH(($A59+INDEX($D59*($24:$24-$35:$35), MATCH(F$50,$17:$17, 0))),Vt!$A:$A,0)+INDEX($B59+$D59*$24:$24, MATCH(F$50,$17:$17, 0))*2)))))","v":0},{"$f":"IF(($A59+INDEX($D59*($24:$24-$35:$35), MATCH(G$50,$17:$17, 0)))>$C$8,1000000000,(IF(OR(INDEX($22:$22-($A59-$D59*$35:$35), MATCH(G$50,$17:$17, 0))>0, INDEX($D59*$35:$35-$C59, MATCH(G$50,$17:$17, 0))>0),1000000000,(p!G59+n!G59+m!G59+INDEX(Vt!F:F, MATCH(($A59+INDEX($D59*($24:$24-$35:$35), MATCH(G$50,$17:$17, 0))),Vt!$A:$A,0)+INDEX($B59+$D59*$24:$24, MATCH(G$50,$17:$17, 0))*2)))))","v":0},{"$f":"IF(($A59+INDEX($D59*($24:$24-$35:$35), MATCH(H$50,$17:$17, 0)))>$C$8,1000000000,(IF(OR(INDEX($22:$22-($A59-$D59*$35:$35), MATCH(H$50,$17:$17, 0))>0, INDEX($D59*$35:$35-$C59, MATCH(H$50,$17:$17, 0))>0),1000000000,(p!H59+n!H59+m!H59+INDEX(Vt!G:G, MATCH(($A59+INDEX($D59*($24:$24-$35:$35), MATCH(H$50,$17:$17, 0))),Vt!$A:$A,0)+INDEX($B59+$D59*$24:$24, MATCH(H$50,$17:$17, 0))*2)))))","v":0},{"$f":"IF(($A59+INDEX($D59*($24:$24-$35:$35), MATCH(I$50,$17:$17, 0)))>$C$8,1000000000,(IF(OR(INDEX($22:$22-($A59-$D59*$35:$35), MATCH(I$50,$17:$17, 0))>0, INDEX($D59*$35:$35-$C59, MATCH(I$50,$17:$17, 0))>0),1000000000,(p!I59+n!I59+m!I59+INDEX(Vt!H:H, MATCH(($A59+INDEX($D59*($24:$24-$35:$35), MATCH(I$50,$17:$17, 0))),Vt!$A:$A,0)+INDEX($B59+$D59*$24:$24, MATCH(I$50,$17:$17, 0))*2)))))","v":0},{"$f":"IF(($A59+INDEX($D59*($24:$24-$35:$35), MATCH(J$50,$17:$17, 0)))>$C$8,1000000000,(IF(OR(INDEX($22:$22-($A59-$D59*$35:$35), MATCH(J$50,$17:$17, 0))>0, INDEX($D59*$35:$35-$C59, MATCH(J$50,$17:$17, 0))>0),1000000000,(p!J59+n!J59+m!J59+INDEX(Vt!I:I, MATCH(($A59+INDEX($D59*($24:$24-$35:$35), MATCH(J$50,$17:$17, 0))),Vt!$A:$A,0)+INDEX($B59+$D59*$24:$24, MATCH(J$50,$17:$17, 0))*2)))))","v":0},{"$f":"IF(($A59+INDEX($D59*($24:$24-$35:$35), MATCH(K$50,$17:$17, 0)))>$C$8,1000000000,(IF(OR(INDEX($22:$22-($A59-$D59*$35:$35), MATCH(K$50,$17:$17, 0))>0, INDEX($D59*$35:$35-$C59, MATCH(K$50,$17:$17, 0))>0),1000000000,(p!K59+n!K59+m!K59+INDEX(Vt!J:J, MATCH(($A59+INDEX($D59*($24:$24-$35:$35), MATCH(K$50,$17:$17, 0))),Vt!$A:$A,0)+INDEX($B59+$D59*$24:$24, MATCH(K$50,$17:$17, 0))*2)))))","v":0},{"$f":"IF(($A59+INDEX($D59*($24:$24-$35:$35), MATCH(L$50,$17:$17, 0)))>$C$8,1000000000,(IF(OR(INDEX($22:$22-($A59-$D59*$35:$35), MATCH(L$50,$17:$17, 0))>0, INDEX($D59*$35:$35-$C59, MATCH(L$50,$17:$17, 0))>0),1000000000,(p!L59+n!L59+m!L59+INDEX(Vt!K:K, MATCH(($A59+INDEX($D59*($24:$24-$35:$35), MATCH(L$50,$17:$17, 0))),Vt!$A:$A,0)+INDEX($B59+$D59*$24:$24, MATCH(L$50,$17:$17, 0))*2)))))","v":0},{"$f":"IF(($A59+INDEX($D59*($24:$24-$35:$35), MATCH(M$50,$17:$17, 0)))>$C$8,1000000000,(IF(OR(INDEX($22:$22-($A59-$D59*$35:$35), MATCH(M$50,$17:$17, 0))>0, INDEX($D59*$35:$35-$C59, MATCH(M$50,$17:$17, 0))>0),1000000000,(p!M59+n!M59+m!M59+INDEX(Vt!L:L, MATCH(($A59+INDEX($D59*($24:$24-$35:$35), MATCH(M$50,$17:$17, 0))),Vt!$A:$A,0)+INDEX($B59+$D59*$24:$24, MATCH(M$50,$17:$17, 0))*2)))))","v":0},{"$f":"IF(($A59+INDEX($D59*($24:$24-$35:$35), MATCH(N$50,$17:$17, 0)))>$C$8,1000000000,(IF(OR(INDEX($22:$22-($A59-$D59*$35:$35), MATCH(N$50,$17:$17, 0))>0, INDEX($D59*$35:$35-$C59, MATCH(N$50,$17:$17, 0))>0),1000000000,(p!N59+n!N59+m!N59+INDEX(Vt!M:M, MATCH(($A59+INDEX($D59*($24:$24-$35:$35), MATCH(N$50,$17:$17, 0))),Vt!$A:$A,0)+INDEX($B59+$D59*$24:$24, MATCH(N$50,$17:$17, 0))*2)))))","v":0},{"$f":"IF(($A59+INDEX($D59*($24:$24-$35:$35), MATCH(O$50,$17:$17, 0)))>$C$8,1000000000,(IF(OR(INDEX($22:$22-($A59-$D59*$35:$35), MATCH(O$50,$17:$17, 0))>0, INDEX($D59*$35:$35-$C59, MATCH(O$50,$17:$17, 0))>0),1000000000,(p!O59+n!O59+m!O59+INDEX(Vt!N:N, MATCH(($A59+INDEX($D59*($24:$24-$35:$35), MATCH(O$50,$17:$17, 0))),Vt!$A:$A,0)+INDEX($B59+$D59*$24:$24, MATCH(O$50,$17:$17, 0))*2)))))","v":0}]
[2,1,1,1,0,{"$f":"IF(($A60+INDEX($D60*($24:$24-$35:$35), MATCH(F$50,$17:$17, 0)))>$C$8,1000000000,(IF(OR(INDEX($22:$22-($A60-$D60*$35:$35), MATCH(F$50,$17:$17, 0))>0, INDEX($D60*$35:$35-$C60, MATCH(F$50,$17:$17, 0))>0),1000000000,(p!F60+n!F60+m!F60+INDEX(Vt!E:E, MATCH(($A60+INDEX($D60*($24:$24-$35:$35), MATCH(F$50,$17:$17, 0))),Vt!$A:$A,0)+INDEX($B60+$D60*$24:$24, MATCH(F$50,$17:$17, 0))*2)))))","v":0},{"$f":"IF(($A60+INDEX($D60*($24:$24-$35:$35), MATCH(G$50,$17:$17, 0)))>$C$8,1000000000,(IF(OR(INDEX($22:$22-($A60-$D60*$35:$35), MATCH(G$50,$17:$17, 0))>0, INDEX($D60*$35:$35-$C60, MATCH(G$50,$17:$17, 0))>0),1000000000,(p!G60+n!G60+m!G60+INDEX(Vt!F:F, MATCH(($A60+INDEX($D60*($24:$24-$35:$35), MATCH(G$50,$17:$17, 0))),Vt!$A:$A,0)+INDEX($B60+$D60*$24:$24, MATCH(G$50,$17:$17, 0))*2)))))","v":0},{"$f":"IF(($A60+INDEX($D60*($24:$24-$35:$35), MATCH(H$50,$17:$17, 0)))>$C$8,1000000000,(IF(OR(INDEX($22:$22-($A60-$D60*$35:$35), MATCH(H$50,$17:$17, 0))>0, INDEX($D60*$35:$35-$C60, MATCH(H$50,$17:$17, 0))>0),1000000000,(p!H60+n!H60+m!H60+INDEX(Vt!G:G, MATCH(($A60+INDEX($D60*($24:$24-$35:$35), MATCH(H$50,$17:$17, 0))),Vt!$A:$A,0)+INDEX($B60+$D60*$24:$24, MATCH(H$50,$17:$17, 0))*2)))))","v":0},{"$f":"IF(($A60+INDEX($D60*($24:$24-$35:$35), MATCH(I$50,$17:$17, 0)))>$C$8,1000000000,(IF(OR(INDEX($22:$22-($A60-$D60*$35:$35), MATCH(I$50,$17:$17, 0))>0, INDEX($D60*$35:$35-$C60, MATCH(I$50,$17:$17, 0))>0),1000000000,(p!I60+n!I60+m!I60+INDEX(Vt!H:H, MATCH(($A60+INDEX($D60*($24:$24-$35:$35), MATCH(I$50,$17:$17, 0))),Vt!$A:$A,0)+INDEX($B60+$D60*$24:$24, MATCH(I$50,$17:$17, 0))*2)))))","v":0},{"$f":"IF(($A60+INDEX($D60*($24:$24-$35:$35), MATCH(J$50,$17:$17, 0)))>$C$8,1000000000,(IF(OR(INDEX($22:$22-($A60-$D60*$35:$35), MATCH(J$50,$17:$17, 0))>0, INDEX($D60*$35:$35-$C60, MATCH(J$50,$17:$17, 0))>0),1000000000,(p!J60+n!J60+m!J60+INDEX(Vt!I:I, MATCH(($A60+INDEX($D60*($24:$24-$35:$35), MATCH(J$50,$17:$17, 0))),Vt!$A:$A,0)+INDEX($B60+$D60*$24:$24, MATCH(J$50,$17:$17, 0))*2)))))","v":0},{"$f":"IF(($A60+INDEX($D60*($24:$24-$35:$35), MATCH(K$50,$17:$17, 0)))>$C$8,1000000000,(IF(OR(INDEX($22:$22-($A60-$D60*$35:$35), MATCH(K$50,$17:$17, 0))>0, INDEX($D60*$35:$35-$C60, MATCH(K$50,$17:$17, 0))>0),1000000000,(p!K60+n!K60+m!K60+INDEX(Vt!J:J, MATCH(($A60+INDEX($D60*($24:$24-$35:$35), MATCH(K$50,$17:$17, 0))),Vt!$A:$A,0)+INDEX($B60+$D60*$24:$24, MATCH(K$50,$17:$17, 0))*2)))))","v":0},{"$f":"IF(($A60+INDEX($D60*($24:$24-$35:$35), MATCH(L$50,$17:$17, 0)))>$C$8,1000000000,(IF(OR(INDEX($22:$22-($A60-$D60*$35:$35), MATCH(L$50,$17:$17, 0))>0, INDEX($D60*$35:$35-$C60, MATCH(L$50,$17:$17, 0))>0),1000000000,(p!L60+n!L60+m!L60+INDEX(Vt!K:K, MATCH(($A60+INDEX($D60*($24:$24-$35:$35), MATCH(L$50,$17:$17, 0))),Vt!$A:$A,0)+INDEX($B60+$D60*$24:$24, MATCH(L$50,$17:$17, 0))*2)))))","v":0},{"$f":"IF(($A60+INDEX($D60*($24:$24-$35:$35), MATCH(M$50,$17:$17, 0)))>$C$8,1000000000,(IF(OR(INDEX($22:$22-($A60-$D60*$35:$35), MATCH(M$50,$17:$17, 0))>0, INDEX($D60*$35:$35-$C60, MATCH(M$50,$17:$17, 0))>0),1000000000,(p!M60+n!M60+m!M60+INDEX(Vt!L:L, MATCH(($A60+INDEX($D60*($24:$24-$35:$35), MATCH(M$50,$17:$17, 0))),Vt!$A:$A,0)+INDEX($B60+$D60*$24:$24, MATCH(M$50,$17:$17, 0))*2)))))","v":0},{"$f":"IF(($A60+INDEX($D60*($24:$24-$35:$35), MATCH(N$50,$17:$17, 0)))>$C$8,1000000000,(IF(OR(INDEX($22:$22-($A60-$D60*$35:$35), MATCH(N$50,$17:$17, 0))>0, INDEX($D60*$35:$35-$C60, MATCH(N$50,$17:$17, 0))>0),1000000000,(p!N60+n!N60+m!N60+INDEX(Vt!M:M, MATCH(($A60+INDEX($D60*($24:$24-$35:$35), MATCH(N$50,$17:$17, 0))),Vt!$A:$A,0)+INDEX($B60+$D60*$24:$24, MATCH(N$50,$17:$17, 0))*2)))))","v":0},{"$f":"IF(($A60+INDEX($D60*($24:$24-$35:$35), MATCH(O$50,$17:$17, 0)))>$C$8,1000000000,(IF(OR(INDEX($22:$22-($A60-$D60*$35:$35), MATCH(O$50,$17:$17, 0))>0, INDEX($D60*$35:$35-$C60, MATCH(O$50,$17:$17, 0))>0),1000000000,(p!O60+n!O60+m!O60+INDEX(Vt!N:N, MATCH(($A60+INDEX($D60*($24:$24-$35:$35), MATCH(O$50,$17:$17, 0))),Vt!$A:$A,0)+INDEX($B60+$D60*$24:$24, MATCH(O$50,$17:$17, 0))*2)))))","v":0}]
[2,2,0,0,0,{"$f":"IF(($A61+INDEX($D61*($24:$24-$35:$35), MATCH(F$50,$17:$17, 0)))>$C$8,1000000000,(IF(OR(INDEX($22:$22-($A61-$D61*$35:$35), MATCH(F$50,$17:$17, 0))>0, INDEX($D61*$35:$35-$C61, MATCH(F$50,$17:$17, 0))>0),1000000000,(p!F61+n!F61+m!F61+INDEX(Vt!E:E, MATCH(($A61+INDEX($D61*($24:$24-$35:$35), MATCH(F$50,$17:$17, 0))),Vt!$A:$A,0)+INDEX($B61+$D61*$24:$24, MATCH(F$50,$17:$17, 0))*2)))))","v":0},{"$f":"IF(($A61+INDEX($D61*($24:$24-$35:$35), MATCH(G$50,$17:$17, 0)))>$C$8,1000000000,(IF(OR(INDEX($22:$22-($A61-$D61*$35:$35), MATCH(G$50,$17:$17, 0))>0, INDEX($D61*$35:$35-$C61, MATCH(G$50,$17:$17, 0))>0),1000000000,(p!G61+n!G61+m!G61+INDEX(Vt!F:F, MATCH(($A61+INDEX($D61*($24:$24-$35:$35), MATCH(G$50,$17:$17, 0))),Vt!$A:$A,0)+INDEX($B61+$D61*$24:$24, MATCH(G$50,$17:$17, 0))*2)))))","v":0},{"$f":"IF(($A61+INDEX($D61*($24:$24-$35:$35), MATCH(H$50,$17:$17, 0)))>$C$8,1000000000,(IF(OR(INDEX($22:$22-($A61-$D61*$35:$35), MATCH(H$50,$17:$17, 0))>0, INDEX($D61*$35:$35-$C61, MATCH(H$50,$17:$17, 0))>0),1000000000,(p!H61+n!H61+m!H61+INDEX(Vt!G:G, MATCH(($A61+INDEX($D61*($24:$24-$35:$35), MATCH(H$50,$17:$17, 0))),Vt!$A:$A,0)+INDEX($B61+$D61*$24:$24, MATCH(H$50,$17:$17, 0))*2)))))","v":0},{"$f":"IF(($A61+INDEX($D61*($24:$24-$35:$35), MATCH(I$50,$17:$17, 0)))>$C$8,1000000000,(IF(OR(INDEX($22:$22-($A61-$D61*$35:$35), MATCH(I$50,$17:$17, 0))>0, INDEX($D61*$35:$35-$C61, MATCH(I$50,$17:$17, 0))>0),1000000000,(p!I61+n!I61+m!I61+INDEX(Vt!H:H, MATCH(($A61+INDEX($D61*($24:$24-$35:$35), MATCH(I$50,$17:$17, 0))),Vt!$A:$A,0)+INDEX($B61+$D61*$24:$24, MATCH(I$50,$17:$17, 0))*2)))))","v":0},{"$f":"IF(($A61+INDEX($D61*($24:$24-$35:$35), MATCH(J$50,$17:$17, 0)))>$C$8,1000000000,(IF(OR(INDEX($22:$22-($A61-$D61*$35:$35), MATCH(J$50,$17:$17, 0))>0, INDEX($D61*$35:$35-$C61, MATCH(J$50,$17:$17, 0))>0),1000000000,(p!J61+n!J61+m!J61+INDEX(Vt!I:I, MATCH(($A61+INDEX($D61*($24:$24-$35:$35), MATCH(J$50,$17:$17, 0))),Vt!$A:$A,0)+INDEX($B61+$D61*$24:$24, MATCH(J$50,$17:$17, 0))*2)))))","v":0},{"$f":"IF(($A61+INDEX($D61*($24:$24-$35:$35), MATCH(K$50,$17:$17, 0)))>$C$8,1000000000,(IF(OR(INDEX($22:$22-($A61-$D61*$35:$35), MATCH(K$50,$17:$17, 0))>0, INDEX($D61*$35:$35-$C61, MATCH(K$50,$17:$17, 0))>0),1000000000,(p!K61+n!K61+m!K61+INDEX(Vt!J:J, MATCH(($A61+INDEX($D61*($24:$24-$35:$35), MATCH(K$50,$17:$17, 0))),Vt!$A:$A,0)+INDEX($B61+$D61*$24:$24, MATCH(K$50,$17:$17, 0))*2)))))","v":0},{"$f":"IF(($A61+INDEX($D61*($24:$24-$35:$35), MATCH(L$50,$17:$17, 0)))>$C$8,1000000000,(IF(OR(INDEX($22:$22-($A61-$D61*$35:$35), MATCH(L$50,$17:$17, 0))>0, INDEX($D61*$35:$35-$C61, MATCH(L$50,$17:$17, 0))>0),1000000000,(p!L61+n!L61+m!L61+INDEX(Vt!K:K, MATCH(($A61+INDEX($D61*($24:$24-$35:$35), MATCH(L$50,$17:$17, 0))),Vt!$A:$A,0)+INDEX($B61+$D61*$24:$24, MATCH(L$50,$17:$17, 0))*2)))))","v":0},{"$f":"IF(($A61+INDEX($D61*($24:$24-$35:$35), MATCH(M$50,$17:$17, 0)))>$C$8,1000000000,(IF(OR(INDEX($22:$22-($A61-$D61*$35:$35), MATCH(M$50,$17:$17, 0))>0, INDEX($D61*$35:$35-$C61, MATCH(M$50,$17:$17, 0))>0),1000000000,(p!M61+n!M61+m!M61+INDEX(Vt!L:L, MATCH(($A61+INDEX($D61*($24:$24-$35:$35), MATCH(M$50,$17:$17, 0))),Vt!$A:$A,0)+INDEX($B61+$D61*$24:$24, MATCH(M$50,$17:$17, 0))*2)))))","v":0},{"$f":"IF(($A61+INDEX($D61*($24:$24-$35:$35), MATCH(N$50,$17:$17, 0)))>$C$8,1000000000,(IF(OR(INDEX($22:$22-($A61-$D61*$35:$35), MATCH(N$50,$17:$17, 0))>0, INDEX($D61*$35:$35-$C61, MATCH(N$50,$17:$17, 0))>0),1000000000,(p!N61+n!N61+m!N61+INDEX(Vt!M:M, MATCH(($A61+INDEX($D61*($24:$24-$35:$35), MATCH(N$50,$17:$17, 0))),Vt!$A:$A,0)+INDEX($B61+$D61*$24:$24, MATCH(N$50,$17:$17, 0))*2)))))","v":0},{"$f":"IF(($A61+INDEX($D61*($24:$24-$35:$35), MATCH(O$50,$17:$17, 0)))>$C$8,1000000000,(IF(OR(INDEX($22:$22-($A61-$D61*$35:$35), MATCH(O$50,$17:$17, 0))>0, INDEX($D61*$35:$35-$C61, MATCH(O$50,$17:$17, 0))>0),1000000000,(p!O61+n!O61+m!O61+INDEX(Vt!N:N, MATCH(($A61+INDEX($D61*($24:$24-$35:$35), MATCH(O$50,$17:$17, 0))),Vt!$A:$A,0)+INDEX($B61+$D61*$24:$24, MATCH(O$50,$17:$17, 0))*2)))))","v":0}]
[2,2,0,1,0,{"$f":"IF(($A62+INDEX($D62*($24:$24-$35:$35), MATCH(F$50,$17:$17, 0)))>$C$8,1000000000,(IF(OR(INDEX($22:$22-($A62-$D62*$35:$35), MATCH(F$50,$17:$17, 0))>0, INDEX($D62*$35:$35-$C62, MATCH(F$50,$17:$17, 0))>0),1000000000,(p!F62+n!F62+m!F62+INDEX(Vt!E:E, MATCH(($A62+INDEX($D62*($24:$24-$35:$35), MATCH(F$50,$17:$17, 0))),Vt!$A:$A,0)+INDEX($B62+$D62*$24:$24, MATCH(F$50,$17:$17, 0))*2)))))","v":0},{"$f":"IF(($A62+INDEX($D62*($24:$24-$35:$35), MATCH(G$50,$17:$17, 0)))>$C$8,1000000000,(IF(OR(INDEX($22:$22-($A62-$D62*$35:$35), MATCH(G$50,$17:$17, 0))>0, INDEX($D62*$35:$35-$C62, MATCH(G$50,$17:$17, 0))>0),1000000000,(p!G62+n!G62+m!G62+INDEX(Vt!F:F, MATCH(($A62+INDEX($D62*($24:$24-$35:$35), MATCH(G$50,$17:$17, 0))),Vt!$A:$A,0)+INDEX($B62+$D62*$24:$24, MATCH(G$50,$17:$17, 0))*2)))))","v":0},{"$f":"IF(($A62+INDEX($D62*($24:$24-$35:$35), MATCH(H$50,$17:$17, 0)))>$C$8,1000000000,(IF(OR(INDEX($22:$22-($A62-$D62*$35:$35), MATCH(H$50,$17:$17, 0))>0, INDEX($D62*$35:$35-$C62, MATCH(H$50,$17:$17, 0))>0),1000000000,(p!H62+n!H62+m!H62+INDEX(Vt!G:G, MATCH(($A62+INDEX($D62*($24:$24-$35:$35), MATCH(H$50,$17:$17, 0))),Vt!$A:$A,0)+INDEX($B62+$D62*$24:$24, MATCH(H$50,$17:$17, 0))*2)))))","v":0},{"$f":"IF(($A62+INDEX($D62*($24:$24-$35:$35), MATCH(I$50,$17:$17, 0)))>$C$8,1000000000,(IF(OR(INDEX($22:$22-($A62-$D62*$35:$35), MATCH(I$50,$17:$17, 0))>0, INDEX($D62*$35:$35-$C62, MATCH(I$50,$17:$17, 0))>0),1000000000,(p!I62+n!I62+m!I62+INDEX(Vt!H:H, MATCH(($A62+INDEX($D62*($24:$24-$35:$35), MATCH(I$50,$17:$17, 0))),Vt!$A:$A,0)+INDEX($B62+$D62*$24:$24, MATCH(I$50,$17:$17, 0))*2)))))","v":0},{"$f":"IF(($A62+INDEX($D62*($24:$24-$35:$35), MATCH(J$50,$17:$17, 0)))>$C$8,1000000000,(IF(OR(INDEX($22:$22-($A62-$D62*$35:$35), MATCH(J$50,$17:$17, 0))>0, INDEX($D62*$35:$35-$C62, MATCH(J$50,$17:$17, 0))>0),1000000000,(p!J62+n!J62+m!J62+INDEX(Vt!I:I, MATCH(($A62+INDEX($D62*($24:$24-$35:$35), MATCH(J$50,$17:$17, 0))),Vt!$A:$A,0)+INDEX($B62+$D62*$24:$24, MATCH(J$50,$17:$17, 0))*2)))))","v":0},{"$f":"IF(($A62+INDEX($D62*($24:$24-$35:$35), MATCH(K$50,$17:$17, 0)))>$C$8,1000000000,(IF(OR(INDEX($22:$22-($A62-$D62*$35:$35), MATCH(K$50,$17:$17, 0))>0, INDEX($D62*$35:$35-$C62, MATCH(K$50,$17:$17, 0))>0),1000000000,(p!K62+n!K62+m!K62+INDEX(Vt!J:J, MATCH(($A62+INDEX($D62*($24:$24-$35:$35), MATCH(K$50,$17:$17, 0))),Vt!$A:$A,0)+INDEX($B62+$D62*$24:$24, MATCH(K$50,$17:$17, 0))*2)))))","v":0},{"$f":"IF(($A62+INDEX($D62*($24:$24-$35:$35), MATCH(L$50,$17:$17, 0)))>$C$8,1000000000,(IF(OR(INDEX($22:$22-($A62-$D62*$35:$35), MATCH(L$50,$17:$17, 0))>0, INDEX($D62*$35:$35-$C62, MATCH(L$50,$17:$17, 0))>0),1000000000,(p!L62+n!L62+m!L62+INDEX(Vt!K:K, MATCH(($A62+INDEX($D62*($24:$24-$35:$35), MATCH(L$50,$17:$17, 0))),Vt!$A:$A,0)+INDEX($B62+$D62*$24:$24, MATCH(L$50,$17:$17, 0))*2)))))","v":0},{"$f":"IF(($A62+INDEX($D62*($24:$24-$35:$35), MATCH(M$50,$17:$17, 0)))>$C$8,1000000000,(IF(OR(INDEX($22:$22-($A62-$D62*$35:$35), MATCH(M$50,$17:$17, 0))>0, INDEX($D62*$35:$35-$C62, MATCH(M$50,$17:$17, 0))>0),1000000000,(p!M62+n!M62+m!M62+INDEX(Vt!L:L, MATCH(($A62+INDEX($D62*($24:$24-$35:$35), MATCH(M$50,$17:$17, 0))),Vt!$A:$A,0)+INDEX($B62+$D62*$24:$24, MATCH(M$50,$17:$17, 0))*2)))))","v":0},{"$f":"IF(($A62+INDEX($D62*($24:$24-$35:$35), MATCH(N$50,$17:$17, 0)))>$C$8,1000000000,(IF(OR(INDEX($22:$22-($A62-$D62*$35:$35), MATCH(N$50,$17:$17, 0))>0, INDEX($D62*$35:$35-$C62, MATCH(N$50,$17:$17, 0))>0),1000000000,(p!N62+n!N62+m!N62+INDEX(Vt!M:M, MATCH(($A62+INDEX($D62*($24:$24-$35:$35), MATCH(N$50,$17:$17, 0))),Vt!$A:$A,0)+INDEX($B62+$D62*$24:$24, MATCH(N$50,$17:$17, 0))*2)))))","v":0},{"$f":"IF(($A62+INDEX($D62*($24:$24-$35:$35), MATCH(O$50,$17:$17, 0)))>$C$8,1000000000,(IF(OR(INDEX($22:$22-($A62-$D62*$35:$35), MATCH(O$50,$17:$17, 0))>0, INDEX($D62*$35:$35-$C62, MATCH(O$50,$17:$17, 0))>0),1000000000,(p!O62+n!O62+m!O62+INDEX(Vt!N:N, MATCH(($A62+INDEX($D62*($24:$24-$35:$35), MATCH(O$50,$17:$17, 0))),Vt!$A:$A,0)+INDEX($B62+$D62*$24:$24, MATCH(O$50,$17:$17, 0))*2)))))","v":0}]
[3,0,3,0,0,{"$f":"IF(($A63+INDEX($D63*($24:$24-$35:$35), MATCH(F$50,$17:$17, 0)))>$C$8,1000000000,(IF(OR(INDEX($22:$22-($A63-$D63*$35:$35), MATCH(F$50,$17:$17, 0))>0, INDEX($D63*$35:$35-$C63, MATCH(F$50,$17:$17, 0))>0),1000000000,(p!F63+n!F63+m!F63+INDEX(Vt!E:E, MATCH(($A63+INDEX($D63*($24:$24-$35:$35), MATCH(F$50,$17:$17, 0))),Vt!$A:$A,0)+INDEX($B63+$D63*$24:$24, MATCH(F$50,$17:$17, 0))*2)))))","v":0},{"$f":"IF(($A63+INDEX($D63*($24:$24-$35:$35), MATCH(G$50,$17:$17, 0)))>$C$8,1000000000,(IF(OR(INDEX($22:$22-($A63-$D63*$35:$35), MATCH(G$50,$17:$17, 0))>0, INDEX($D63*$35:$35-$C63, MATCH(G$50,$17:$17, 0))>0),1000000000,(p!G63+n!G63+m!G63+INDEX(Vt!F:F, MATCH(($A63+INDEX($D63*($24:$24-$35:$35), MATCH(G$50,$17:$17, 0))),Vt!$A:$A,0)+INDEX($B63+$D63*$24:$24, MATCH(G$50,$17:$17, 0))*2)))))","v":0},{"$f":"IF(($A63+INDEX($D63*($24:$24-$35:$35), MATCH(H$50,$17:$17, 0)))>$C$8,1000000000,(IF(OR(INDEX($22:$22-($A63-$D63*$35:$35), MATCH(H$50,$17:$17, 0))>0, INDEX($D63*$35:$35-$C63, MATCH(H$50,$17:$17, 0))>0),1000000000,(p!H63+n!H63+m!H63+INDEX(Vt!G:G, MATCH(($A63+INDEX($D63*($24:$24-$35:$35), MATCH(H$50,$17:$17, 0))),Vt!$A:$A,0)+INDEX($B63+$D63*$24:$24, MATCH(H$50,$17:$17, 0))*2)))))","v":0},{"$f":"IF(($A63+INDEX($D63*($24:$24-$35:$35), MATCH(I$50,$17:$17, 0)))>$C$8,1000000000,(IF(OR(INDEX($22:$22-($A63-$D63*$35:$35), MATCH(I$50,$17:$17, 0))>0, INDEX($D63*$35:$35-$C63, MATCH(I$50,$17:$17, 0))>0),1000000000,(p!I63+n!I63+m!I63+INDEX(Vt!H:H, MATCH(($A63+INDEX($D63*($24:$24-$35:$35), MATCH(I$50,$17:$17, 0))),Vt!$A:$A,0)+INDEX($B63+$D63*$24:$24, MATCH(I$50,$17:$17, 0))*2)))))","v":0},{"$f":"IF(($A63+INDEX($D63*($24:$24-$35:$35), MATCH(J$50,$17:$17, 0)))>$C$8,1000000000,(IF(OR(INDEX($22:$22-($A63-$D63*$35:$35), MATCH(J$50,$17:$17, 0))>0, INDEX($D63*$35:$35-$C63, MATCH(J$50,$17:$17, 0))>0),1000000000,(p!J63+n!J63+m!J63+INDEX(Vt!I:I, MATCH(($A63+INDEX($D63*($24:$24-$35:$35), MATCH(J$50,$17:$17, 0))),Vt!$A:$A,0)+INDEX($B63+$D63*$24:$24, MATCH(J$50,$17:$17, 0))*2)))))","v":0},{"$f":"IF(($A63+INDEX($D63*($24:$24-$35:$35), MATCH(K$50,$17:$17, 0)))>$C$8,1000000000,(IF(OR(INDEX($22:$22-($A63-$D63*$35:$35), MATCH(K$50,$17:$17, 0))>0, INDEX($D63*$35:$35-$C63, MATCH(K$50,$17:$17, 0))>0),1000000000,(p!K63+n!K63+m!K63+INDEX(Vt!J:J, MATCH(($A63+INDEX($D63*($24:$24-$35:$35), MATCH(K$50,$17:$17, 0))),Vt!$A:$A,0)+INDEX($B63+$D63*$24:$24, MATCH(K$50,$17:$17, 0))*2)))))","v":0},{"$f":"IF(($A63+INDEX($D63*($24:$24-$35:$35), MATCH(L$50,$17:$17, 0)))>$C$8,1000000000,(IF(OR(INDEX($22:$22-($A63-$D63*$35:$35), MATCH(L$50,$17:$17, 0))>0, INDEX($D63*$35:$35-$C63, MATCH(L$50,$17:$17, 0))>0),1000000000,(p!L63+n!L63+m!L63+INDEX(Vt!K:K, MATCH(($A63+INDEX($D63*($24:$24-$35:$35), MATCH(L$50,$17:$17, 0))),Vt!$A:$A,0)+INDEX($B63+$D63*$24:$24, MATCH(L$50,$17:$17, 0))*2)))))","v":0},{"$f":"IF(($A63+INDEX($D63*($24:$24-$35:$35), MATCH(M$50,$17:$17, 0)))>$C$8,1000000000,(IF(OR(INDEX($22:$22-($A63-$D63*$35:$35), MATCH(M$50,$17:$17, 0))>0, INDEX($D63*$35:$35-$C63, MATCH(M$50,$17:$17, 0))>0),1000000000,(p!M63+n!M63+m!M63+INDEX(Vt!L:L, MATCH(($A63+INDEX($D63*($24:$24-$35:$35), MATCH(M$50,$17:$17, 0))),Vt!$A:$A,0)+INDEX($B63+$D63*$24:$24, MATCH(M$50,$17:$17, 0))*2)))))","v":0},{"$f":"IF(($A63+INDEX($D63*($24:$24-$35:$35), MATCH(N$50,$17:$17, 0)))>$C$8,1000000000,(IF(OR(INDEX($22:$22-($A63-$D63*$35:$35), MATCH(N$50,$17:$17, 0))>0, INDEX($D63*$35:$35-$C63, MATCH(N$50,$17:$17, 0))>0),1000000000,(p!N63+n!N63+m!N63+INDEX(Vt!M:M, MATCH(($A63+INDEX($D63*($24:$24-$35:$35), MATCH(N$50,$17:$17, 0))),Vt!$A:$A,0)+INDEX($B63+$D63*$24:$24, MATCH(N$50,$17:$17, 0))*2)))))","v":0},{"$f":"IF(($A63+INDEX($D63*($24:$24-$35:$35), MATCH(O$50,$17:$17, 0)))>$C$8,1000000000,(IF(OR(INDEX($22:$22-($A63-$D63*$35:$35), MATCH(O$50,$17:$17, 0))>0, INDEX($D63*$35:$35-$C63, MATCH(O$50,$17:$17, 0))>0),1000000000,(p!O63+n!O63+m!O63+INDEX(Vt!N:N, MATCH(($A63+INDEX($D63*($24:$24-$35:$35), MATCH(O$50,$17:$17, 0))),Vt!$A:$A,0)+INDEX($B63+$D63*$24:$24, MATCH(O$50,$17:$17, 0))*2)))))","v":0}]
[3,0,3,1,0,{"$f":"IF(($A64+INDEX($D64*($24:$24-$35:$35), MATCH(F$50,$17:$17, 0)))>$C$8,1000000000,(IF(OR(INDEX($22:$22-($A64-$D64*$35:$35), MATCH(F$50,$17:$17, 0))>0, INDEX($D64*$35:$35-$C64, MATCH(F$50,$17:$17, 0))>0),1000000000,(p!F64+n!F64+m!F64+INDEX(Vt!E:E, MATCH(($A64+INDEX($D64*($24:$24-$35:$35), MATCH(F$50,$17:$17, 0))),Vt!$A:$A,0)+INDEX($B64+$D64*$24:$24, MATCH(F$50,$17:$17, 0))*2)))))","v":0},{"$f":"IF(($A64+INDEX($D64*($24:$24-$35:$35), MATCH(G$50,$17:$17, 0)))>$C$8,1000000000,(IF(OR(INDEX($22:$22-($A64-$D64*$35:$35), MATCH(G$50,$17:$17, 0))>0, INDEX($D64*$35:$35-$C64, MATCH(G$50,$17:$17, 0))>0),1000000000,(p!G64+n!G64+m!G64+INDEX(Vt!F:F, MATCH(($A64+INDEX($D64*($24:$24-$35:$35), MATCH(G$50,$17:$17, 0))),Vt!$A:$A,0)+INDEX($B64+$D64*$24:$24, MATCH(G$50,$17:$17, 0))*2)))))","v":0},{"$f":"IF(($A64+INDEX($D64*($24:$24-$35:$35), MATCH(H$50,$17:$17, 0)))>$C$8,1000000000,(IF(OR(INDEX($22:$22-($A64-$D64*$35:$35), MATCH(H$50,$17:$17, 0))>0, INDEX($D64*$35:$35-$C64, MATCH(H$50,$17:$17, 0))>0),1000000000,(p!H64+n!H64+m!H64+INDEX(Vt!G:G, MATCH(($A64+INDEX($D64*($24:$24-$35:$35), MATCH(H$50,$17:$17, 0))),Vt!$A:$A,0)+INDEX($B64+$D64*$24:$24, MATCH(H$50,$17:$17, 0))*2)))))","v":0},{"$f":"IF(($A64+INDEX($D64*($24:$24-$35:$35), MATCH(I$50,$17:$17, 0)))>$C$8,1000000000,(IF(OR(INDEX($22:$22-($A64-$D64*$35:$35), MATCH(I$50,$17:$17, 0))>0, INDEX($D64*$35:$35-$C64, MATCH(I$50,$17:$17, 0))>0),1000000000,(p!I64+n!I64+m!I64+INDEX(Vt!H:H, MATCH(($A64+INDEX($D64*($24:$24-$35:$35), MATCH(I$50,$17:$17, 0))),Vt!$A:$A,0)+INDEX($B64+$D64*$24:$24, MATCH(I$50,$17:$17, 0))*2)))))","v":0},{"$f":"IF(($A64+INDEX($D64*($24:$24-$35:$35), MATCH(J$50,$17:$17, 0)))>$C$8,1000000000,(IF(OR(INDEX($22:$22-($A64-$D64*$35:$35), MATCH(J$50,$17:$17, 0))>0, INDEX($D64*$35:$35-$C64, MATCH(J$50,$17:$17, 0))>0),1000000000,(p!J64+n!J64+m!J64+INDEX(Vt!I:I, MATCH(($A64+INDEX($D64*($24:$24-$35:$35), MATCH(J$50,$17:$17, 0))),Vt!$A:$A,0)+INDEX($B64+$D64*$24:$24, MATCH(J$50,$17:$17, 0))*2)))))","v":0},{"$f":"IF(($A64+INDEX($D64*($24:$24-$35:$35), MATCH(K$50,$17:$17, 0)))>$C$8,1000000000,(IF(OR(INDEX($22:$22-($A64-$D64*$35:$35), MATCH(K$50,$17:$17, 0))>0, INDEX($D64*$35:$35-$C64, MATCH(K$50,$17:$17, 0))>0),1000000000,(p!K64+n!K64+m!K64+INDEX(Vt!J:J, MATCH(($A64+INDEX($D64*($24:$24-$35:$35), MATCH(K$50,$17:$17, 0))),Vt!$A:$A,0)+INDEX($B64+$D64*$24:$24, MATCH(K$50,$17:$17, 0))*2)))))","v":0},{"$f":"IF(($A64+INDEX($D64*($24:$24-$35:$35), MATCH(L$50,$17:$17, 0)))>$C$8,1000000000,(IF(OR(INDEX($22:$22-($A64-$D64*$35:$35), MATCH(L$50,$17:$17, 0))>0, INDEX($D64*$35:$35-$C64, MATCH(L$50,$17:$17, 0))>0),1000000000,(p!L64+n!L64+m!L64+INDEX(Vt!K:K, MATCH(($A64+INDEX($D64*($24:$24-$35:$35), MATCH(L$50,$17:$17, 0))),Vt!$A:$A,0)+INDEX($B64+$D64*$24:$24, MATCH(L$50,$17:$17, 0))*2)))))","v":0},{"$f":"IF(($A64+INDEX($D64*($24:$24-$35:$35), MATCH(M$50,$17:$17, 0)))>$C$8,1000000000,(IF(OR(INDEX($22:$22-($A64-$D64*$35:$35), MATCH(M$50,$17:$17, 0))>0, INDEX($D64*$35:$35-$C64, MATCH(M$50,$17:$17, 0))>0),1000000000,(p!M64+n!M64+m!M64+INDEX(Vt!L:L, MATCH(($A64+INDEX($D64*($24:$24-$35:$35), MATCH(M$50,$17:$17, 0))),Vt!$A:$A,0)+INDEX($B64+$D64*$24:$24, MATCH(M$50,$17:$17, 0))*2)))))","v":0},{"$f":"IF(($A64+INDEX($D64*($24:$24-$35:$35), MATCH(N$50,$17:$17, 0)))>$C$8,1000000000,(IF(OR(INDEX($22:$22-($A64-$D64*$35:$35), MATCH(N$50,$17:$17, 0))>0, INDEX($D64*$35:$35-$C64, MATCH(N$50,$17:$17, 0))>0),1000000000,(p!N64+n!N64+m!N64+INDEX(Vt!M:M, MATCH(($A64+INDEX($D64*($24:$24-$35:$35), MATCH(N$50,$17:$17, 0))),Vt!$A:$A,0)+INDEX($B64+$D64*$24:$24, MATCH(N$50,$17:$17, 0))*2)))))","v":0},{"$f":"IF(($A64+INDEX($D64*($24:$24-$35:$35), MATCH(O$50,$17:$17, 0)))>$C$8,1000000000,(IF(OR(INDEX($22:$22-($A64-$D64*$35:$35), MATCH(O$50,$17:$17, 0))>0, INDEX($D64*$35:$35-$C64, MATCH(O$50,$17:$17, 0))>0),1000000000,(p!O64+n!O64+m!O64+INDEX(Vt!N:N, MATCH(($A64+INDEX($D64*($24:$24-$35:$35), MATCH(O$50,$17:$17, 0))),Vt!$A:$A,0)+INDEX($B64+$D64*$24:$24, MATCH(O$50,$17:$17, 0))*2)))))","v":0}]
[3,1,2,0,0,{"$f":"IF(($A65+INDEX($D65*($24:$24-$35:$35), MATCH(F$50,$17:$17, 0)))>$C$8,1000000000,(IF(OR(INDEX($22:$22-($A65-$D65*$35:$35), MATCH(F$50,$17:$17, 0))>0, INDEX($D65*$35:$35-$C65, MATCH(F$50,$17:$17, 0))>0),1000000000,(p!F65+n!F65+m!F65+INDEX(Vt!E:E, MATCH(($A65+INDEX($D65*($24:$24-$35:$35), MATCH(F$50,$17:$17, 0))),Vt!$A:$A,0)+INDEX($B65+$D65*$24:$24, MATCH(F$50,$17:$17, 0))*2)))))","v":0},{"$f":"IF(($A65+INDEX($D65*($24:$24-$35:$35), MATCH(G$50,$17:$17, 0)))>$C$8,1000000000,(IF(OR(INDEX($22:$22-($A65-$D65*$35:$35), MATCH(G$50,$17:$17, 0))>0, INDEX($D65*$35:$35-$C65, MATCH(G$50,$17:$17, 0))>0),1000000000,(p!G65+n!G65+m!G65+INDEX(Vt!F:F, MATCH(($A65+INDEX($D65*($24:$24-$35:$35), MATCH(G$50,$17:$17, 0))),Vt!$A:$A,0)+INDEX($B65+$D65*$24:$24, MATCH(G$50,$17:$17, 0))*2)))))","v":0},{"$f":"IF(($A65+INDEX($D65*($24:$24-$35:$35), MATCH(H$50,$17:$17, 0)))>$C$8,1000000000,(IF(OR(INDEX($22:$22-($A65-$D65*$35:$35), MATCH(H$50,$17:$17, 0))>0, INDEX($D65*$35:$35-$C65, MATCH(H$50,$17:$17, 0))>0),1000000000,(p!H65+n!H65+m!H65+INDEX(Vt!G:G, MATCH(($A65+INDEX($D65*($24:$24-$35:$35), MATCH(H$50,$17:$17, 0))),Vt!$A:$A,0)+INDEX($B65+$D65*$24:$24, MATCH(H$50,$17:$17, 0))*2)))))","v":0},{"$f":"IF(($A65+INDEX($D65*($24:$24-$35:$35), MATCH(I$50,$17:$17, 0)))>$C$8,1000000000,(IF(OR(INDEX($22:$22-($A65-$D65*$35:$35), MATCH(I$50,$17:$17, 0))>0, INDEX($D65*$35:$35-$C65, MATCH(I$50,$17:$17, 0))>0),1000000000,(p!I65+n!I65+m!I65+INDEX(Vt!H:H, MATCH(($A65+INDEX($D65*($24:$24-$35:$35), MATCH(I$50,$17:$17, 0))),Vt!$A:$A,0)+INDEX($B65+$D65*$24:$24, MATCH(I$50,$17:$17, 0))*2)))))","v":0},{"$f":"IF(($A65+INDEX($D65*($24:$24-$35:$35), MATCH(J$50,$17:$17, 0)))>$C$8,1000000000,(IF(OR(INDEX($22:$22-($A65-$D65*$35:$35), MATCH(J$50,$17:$17, 0))>0, INDEX($D65*$35:$35-$C65, MATCH(J$50,$17:$17, 0))>0),1000000000,(p!J65+n!J65+m!J65+INDEX(Vt!I:I, MATCH(($A65+INDEX($D65*($24:$24-$35:$35), MATCH(J$50,$17:$17, 0))),Vt!$A:$A,0)+INDEX($B65+$D65*$24:$24, MATCH(J$50,$17:$17, 0))*2)))))","v":0},{"$f":"IF(($A65+INDEX($D65*($24:$24-$35:$35), MATCH(K$50,$17:$17, 0)))>$C$8,1000000000,(IF(OR(INDEX($22:$22-($A65-$D65*$35:$35), MATCH(K$50,$17:$17, 0))>0, INDEX($D65*$35:$35-$C65, MATCH(K$50,$17:$17, 0))>0),1000000000,(p!K65+n!K65+m!K65+INDEX(Vt!J:J, MATCH(($A65+INDEX($D65*($24:$24-$35:$35), MATCH(K$50,$17:$17, 0))),Vt!$A:$A,0)+INDEX($B65+$D65*$24:$24, MATCH(K$50,$17:$17, 0))*2)))))","v":0},{"$f":"IF(($A65+INDEX($D65*($24:$24-$35:$35), MATCH(L$50,$17:$17, 0)))>$C$8,1000000000,(IF(OR(INDEX($22:$22-($A65-$D65*$35:$35), MATCH(L$50,$17:$17, 0))>0, INDEX($D65*$35:$35-$C65, MATCH(L$50,$17:$17, 0))>0),1000000000,(p!L65+n!L65+m!L65+INDEX(Vt!K:K, MATCH(($A65+INDEX($D65*($24:$24-$35:$35), MATCH(L$50,$17:$17, 0))),Vt!$A:$A,0)+INDEX($B65+$D65*$24:$24, MATCH(L$50,$17:$17, 0))*2)))))","v":0},{"$f":"IF(($A65+INDEX($D65*($24:$24-$35:$35), MATCH(M$50,$17:$17, 0)))>$C$8,1000000000,(IF(OR(INDEX($22:$22-($A65-$D65*$35:$35), MATCH(M$50,$17:$17, 0))>0, INDEX($D65*$35:$35-$C65, MATCH(M$50,$17:$17, 0))>0),1000000000,(p!M65+n!M65+m!M65+INDEX(Vt!L:L, MATCH(($A65+INDEX($D65*($24:$24-$35:$35), MATCH(M$50,$17:$17, 0))),Vt!$A:$A,0)+INDEX($B65+$D65*$24:$24, MATCH(M$50,$17:$17, 0))*2)))))","v":0},{"$f":"IF(($A65+INDEX($D65*($24:$24-$35:$35), MATCH(N$50,$17:$17, 0)))>$C$8,1000000000,(IF(OR(INDEX($22:$22-($A65-$D65*$35:$35), MATCH(N$50,$17:$17, 0))>0, INDEX($D65*$35:$35-$C65, MATCH(N$50,$17:$17, 0))>0),1000000000,(p!N65+n!N65+m!N65+INDEX(Vt!M:M, MATCH(($A65+INDEX($D65*($24:$24-$35:$35), MATCH(N$50,$17:$17, 0))),Vt!$A:$A,0)+INDEX($B65+$D65*$24:$24, MATCH(N$50,$17:$17, 0))*2)))))","v":0},{"$f":"IF(($A65+INDEX($D65*($24:$24-$35:$35), MATCH(O$50,$17:$17, 0)))>$C$8,1000000000,(IF(OR(INDEX($22:$22-($A65-$D65*$35:$35), MATCH(O$50,$17:$17, 0))>0, INDEX($D65*$35:$35-$C65, MATCH(O$50,$17:$17, 0))>0),1000000000,(p!O65+n!O65+m!O65+INDEX(Vt!N:N, MATCH(($A65+INDEX($D65*($24:$24-$35:$35), MATCH(O$50,$17:$17, 0))),Vt!$A:$A,0)+INDEX($B65+$D65*$24:$24, MATCH(O$50,$17:$17, 0))*2)))))","v":0}]
[3,1,2,1,0,{"$f":"IF(($A66+INDEX($D66*($24:$24-$35:$35), MATCH(F$50,$17:$17, 0)))>$C$8,1000000000,(IF(OR(INDEX($22:$22-($A66-$D66*$35:$35), MATCH(F$50,$17:$17, 0))>0, INDEX($D66*$35:$35-$C66, MATCH(F$50,$17:$17, 0))>0),1000000000,(p!F66+n!F66+m!F66+INDEX(Vt!E:E, MATCH(($A66+INDEX($D66*($24:$24-$35:$35), MATCH(F$50,$17:$17, 0))),Vt!$A:$A,0)+INDEX($B66+$D66*$24:$24, MATCH(F$50,$17:$17, 0))*2)))))","v":0},{"$f":"IF(($A66+INDEX($D66*($24:$24-$35:$35), MATCH(G$50,$17:$17, 0)))>$C$8,1000000000,(IF(OR(INDEX($22:$22-($A66-$D66*$35:$35), MATCH(G$50,$17:$17, 0))>0, INDEX($D66*$35:$35-$C66, MATCH(G$50,$17:$17, 0))>0),1000000000,(p!G66+n!G66+m!G66+INDEX(Vt!F:F, MATCH(($A66+INDEX($D66*($24:$24-$35:$35), MATCH(G$50,$17:$17, 0))),Vt!$A:$A,0)+INDEX($B66+$D66*$24:$24, MATCH(G$50,$17:$17, 0))*2)))))","v":0},{"$f":"IF(($A66+INDEX($D66*($24:$24-$35:$35), MATCH(H$50,$17:$17, 0)))>$C$8,1000000000,(IF(OR(INDEX($22:$22-($A66-$D66*$35:$35), MATCH(H$50,$17:$17, 0))>0, INDEX($D66*$35:$35-$C66, MATCH(H$50,$17:$17, 0))>0),1000000000,(p!H66+n!H66+m!H66+INDEX(Vt!G:G, MATCH(($A66+INDEX($D66*($24:$24-$35:$35), MATCH(H$50,$17:$17, 0))),Vt!$A:$A,0)+INDEX($B66+$D66*$24:$24, MATCH(H$50,$17:$17, 0))*2)))))","v":0},{"$f":"IF(($A66+INDEX($D66*($24:$24-$35:$35), MATCH(I$50,$17:$17, 0)))>$C$8,1000000000,(IF(OR(INDEX($22:$22-($A66-$D66*$35:$35), MATCH(I$50,$17:$17, 0))>0, INDEX($D66*$35:$35-$C66, MATCH(I$50,$17:$17, 0))>0),1000000000,(p!I66+n!I66+m!I66+INDEX(Vt!H:H, MATCH(($A66+INDEX($D66*($24:$24-$35:$35), MATCH(I$50,$17:$17, 0))),Vt!$A:$A,0)+INDEX($B66+$D66*$24:$24, MATCH(I$50,$17:$17, 0))*2)))))","v":0},{"$f":"IF(($A66+INDEX($D66*($24:$24-$35:$35), MATCH(J$50,$17:$17, 0)))>$C$8,1000000000,(IF(OR(INDEX($22:$22-($A66-$D66*$35:$35), MATCH(J$50,$17:$17, 0))>0, INDEX($D66*$35:$35-$C66, MATCH(J$50,$17:$17, 0))>0),1000000000,(p!J66+n!J66+m!J66+INDEX(Vt!I:I, MATCH(($A66+INDEX($D66*($24:$24-$35:$35), MATCH(J$50,$17:$17, 0))),Vt!$A:$A,0)+INDEX($B66+$D66*$24:$24, MATCH(J$50,$17:$17, 0))*2)))))","v":0},{"$f":"IF(($A66+INDEX($D66*($24:$24-$35:$35), MATCH(K$50,$17:$17, 0)))>$C$8,1000000000,(IF(OR(INDEX($22:$22-($A66-$D66*$35:$35), MATCH(K$50,$17:$17, 0))>0, INDEX($D66*$35:$35-$C66, MATCH(K$50,$17:$17, 0))>0),1000000000,(p!K66+n!K66+m!K66+INDEX(Vt!J:J, MATCH(($A66+INDEX($D66*($24:$24-$35:$35), MATCH(K$50,$17:$17, 0))),Vt!$A:$A,0)+INDEX($B66+$D66*$24:$24, MATCH(K$50,$17:$17, 0))*2)))))","v":0},{"$f":"IF(($A66+INDEX($D66*($24:$24-$35:$35), MATCH(L$50,$17:$17, 0)))>$C$8,1000000000,(IF(OR(INDEX($22:$22-($A66-$D66*$35:$35), MATCH(L$50,$17:$17, 0))>0, INDEX($D66*$35:$35-$C66, MATCH(L$50,$17:$17, 0))>0),1000000000,(p!L66+n!L66+m!L66+INDEX(Vt!K:K, MATCH(($A66+INDEX($D66*($24:$24-$35:$35), MATCH(L$50,$17:$17, 0))),Vt!$A:$A,0)+INDEX($B66+$D66*$24:$24, MATCH(L$50,$17:$17, 0))*2)))))","v":0},{"$f":"IF(($A66+INDEX($D66*($24:$24-$35:$35), MATCH(M$50,$17:$17, 0)))>$C$8,1000000000,(IF(OR(INDEX($22:$22-($A66-$D66*$35:$35), MATCH(M$50,$17:$17, 0))>0, INDEX($D66*$35:$35-$C66, MATCH(M$50,$17:$17, 0))>0),1000000000,(p!M66+n!M66+m!M66+INDEX(Vt!L:L, MATCH(($A66+INDEX($D66*($24:$24-$35:$35), MATCH(M$50,$17:$17, 0))),Vt!$A:$A,0)+INDEX($B66+$D66*$24:$24, MATCH(M$50,$17:$17, 0))*2)))))","v":0},{"$f":"IF(($A66+INDEX($D66*($24:$24-$35:$35), MATCH(N$50,$17:$17, 0)))>$C$8,1000000000,(IF(OR(INDEX($22:$22-($A66-$D66*$35:$35), MATCH(N$50,$17:$17, 0))>0, INDEX($D66*$35:$35-$C66, MATCH(N$50,$17:$17, 0))>0),1000000000,(p!N66+n!N66+m!N66+INDEX(Vt!M:M, MATCH(($A66+INDEX($D66*($24:$24-$35:$35), MATCH(N$50,$17:$17, 0))),Vt!$A:$A,0)+INDEX($B66+$D66*$24:$24, MATCH(N$50,$17:$17, 0))*2)))))","v":0},{"$f":"IF(($A66+INDEX($D66*($24:$24-$35:$35), MATCH(O$50,$17:$17, 0)))>$C$8,1000000000,(IF(OR(INDEX($22:$22-($A66-$D66*$35:$35), MATCH(O$50,$17:$17, 0))>0, INDEX($D66*$35:$35-$C66, MATCH(O$50,$17:$17, 0))>0),1000000000,(p!O66+n!O66+m!O66+INDEX(Vt!N:N, MATCH(($A66+INDEX($D66*($24:$24-$35:$35), MATCH(O$50,$17:$17, 0))),Vt!$A:$A,0)+INDEX($B66+$D66*$24:$24, MATCH(O$50,$17:$17, 0))*2)))))","v":0}]
[3,2,1,0,0,{"$f":"IF(($A67+INDEX($D67*($24:$24-$35:$35), MATCH(F$50,$17:$17, 0)))>$C$8,1000000000,(IF(OR(INDEX($22:$22-($A67-$D67*$35:$35), MATCH(F$50,$17:$17, 0))>0, INDEX($D67*$35:$35-$C67, MATCH(F$50,$17:$17, 0))>0),1000000000,(p!F67+n!F67+m!F67+INDEX(Vt!E:E, MATCH(($A67+INDEX($D67*($24:$24-$35:$35), MATCH(F$50,$17:$17, 0))),Vt!$A:$A,0)+INDEX($B67+$D67*$24:$24, MATCH(F$50,$17:$17, 0))*2)))))","v":0},{"$f":"IF(($A67+INDEX($D67*($24:$24-$35:$35), MATCH(G$50,$17:$17, 0)))>$C$8,1000000000,(IF(OR(INDEX($22:$22-($A67-$D67*$35:$35), MATCH(G$50,$17:$17, 0))>0, INDEX($D67*$35:$35-$C67, MATCH(G$50,$17:$17, 0))>0),1000000000,(p!G67+n!G67+m!G67+INDEX(Vt!F:F, MATCH(($A67+INDEX($D67*($24:$24-$35:$35), MATCH(G$50,$17:$17, 0))),Vt!$A:$A,0)+INDEX($B67+$D67*$24:$24, MATCH(G$50,$17:$17, 0))*2)))))","v":0},{"$f":"IF(($A67+INDEX($D67*($24:$24-$35:$35), MATCH(H$50,$17:$17, 0)))>$C$8,1000000000,(IF(OR(INDEX($22:$22-($A67-$D67*$35:$35), MATCH(H$50,$17:$17, 0))>0, INDEX($D67*$35:$35-$C67, MATCH(H$50,$17:$17, 0))>0),1000000000,(p!H67+n!H67+m!H67+INDEX(Vt!G:G, MATCH(($A67+INDEX($D67*($24:$24-$35:$35), MATCH(H$50,$17:$17, 0))),Vt!$A:$A,0)+INDEX($B67+$D67*$24:$24, MATCH(H$50,$17:$17, 0))*2)))))","v":0},{"$f":"IF(($A67+INDEX($D67*($24:$24-$35:$35), MATCH(I$50,$17:$17, 0)))>$C$8,1000000000,(IF(OR(INDEX($22:$22-($A67-$D67*$35:$35), MATCH(I$50,$17:$17, 0))>0, INDEX($D67*$35:$35-$C67, MATCH(I$50,$17:$17, 0))>0),1000000000,(p!I67+n!I67+m!I67+INDEX(Vt!H:H, MATCH(($A67+INDEX($D67*($24:$24-$35:$35), MATCH(I$50,$17:$17, 0))),Vt!$A:$A,0)+INDEX($B67+$D67*$24:$24, MATCH(I$50,$17:$17, 0))*2)))))","v":0},{"$f":"IF(($A67+INDEX($D67*($24:$24-$35:$35), MATCH(J$50,$17:$17, 0)))>$C$8,1000000000,(IF(OR(INDEX($22:$22-($A67-$D67*$35:$35), MATCH(J$50,$17:$17, 0))>0, INDEX($D67*$35:$35-$C67, MATCH(J$50,$17:$17, 0))>0),1000000000,(p!J67+n!J67+m!J67+INDEX(Vt!I:I, MATCH(($A67+INDEX($D67*($24:$24-$35:$35), MATCH(J$50,$17:$17, 0))),Vt!$A:$A,0)+INDEX($B67+$D67*$24:$24, MATCH(J$50,$17:$17, 0))*2)))))","v":0},{"$f":"IF(($A67+INDEX($D67*($24:$24-$35:$35), MATCH(K$50,$17:$17, 0)))>$C$8,1000000000,(IF(OR(INDEX($22:$22-($A67-$D67*$35:$35), MATCH(K$50,$17:$17, 0))>0, INDEX($D67*$35:$35-$C67, MATCH(K$50,$17:$17, 0))>0),1000000000,(p!K67+n!K67+m!K67+INDEX(Vt!J:J, MATCH(($A67+INDEX($D67*($24:$24-$35:$35), MATCH(K$50,$17:$17, 0))),Vt!$A:$A,0)+INDEX($B67+$D67*$24:$24, MATCH(K$50,$17:$17, 0))*2)))))","v":0},{"$f":"IF(($A67+INDEX($D67*($24:$24-$35:$35), MATCH(L$50,$17:$17, 0)))>$C$8,1000000000,(IF(OR(INDEX($22:$22-($A67-$D67*$35:$35), MATCH(L$50,$17:$17, 0))>0, INDEX($D67*$35:$35-$C67, MATCH(L$50,$17:$17, 0))>0),1000000000,(p!L67+n!L67+m!L67+INDEX(Vt!K:K, MATCH(($A67+INDEX($D67*($24:$24-$35:$35), MATCH(L$50,$17:$17, 0))),Vt!$A:$A,0)+INDEX($B67+$D67*$24:$24, MATCH(L$50,$17:$17, 0))*2)))))","v":0},{"$f":"IF(($A67+INDEX($D67*($24:$24-$35:$35), MATCH(M$50,$17:$17, 0)))>$C$8,1000000000,(IF(OR(INDEX($22:$22-($A67-$D67*$35:$35), MATCH(M$50,$17:$17, 0))>0, INDEX($D67*$35:$35-$C67, MATCH(M$50,$17:$17, 0))>0),1000000000,(p!M67+n!M67+m!M67+INDEX(Vt!L:L, MATCH(($A67+INDEX($D67*($24:$24-$35:$35), MATCH(M$50,$17:$17, 0))),Vt!$A:$A,0)+INDEX($B67+$D67*$24:$24, MATCH(M$50,$17:$17, 0))*2)))))","v":0},{"$f":"IF(($A67+INDEX($D67*($24:$24-$35:$35), MATCH(N$50,$17:$17, 0)))>$C$8,1000000000,(IF(OR(INDEX($22:$22-($A67-$D67*$35:$35), MATCH(N$50,$17:$17, 0))>0, INDEX($D67*$35:$35-$C67, MATCH(N$50,$17:$17, 0))>0),1000000000,(p!N67+n!N67+m!N67+INDEX(Vt!M:M, MATCH(($A67+INDEX($D67*($24:$24-$35:$35), MATCH(N$50,$17:$17, 0))),Vt!$A:$A,0)+INDEX($B67+$D67*$24:$24, MATCH(N$50,$17:$17, 0))*2)))))","v":0},{"$f":"IF(($A67+INDEX($D67*($24:$24-$35:$35), MATCH(O$50,$17:$17, 0)))>$C$8,1000000000,(IF(OR(INDEX($22:$22-($A67-$D67*$35:$35), MATCH(O$50,$17:$17, 0))>0, INDEX($D67*$35:$35-$C67, MATCH(O$50,$17:$17, 0))>0),1000000000,(p!O67+n!O67+m!O67+INDEX(Vt!N:N, MATCH(($A67+INDEX($D67*($24:$24-$35:$35), MATCH(O$50,$17:$17, 0))),Vt!$A:$A,0)+INDEX($B67+$D67*$24:$24, MATCH(O$50,$17:$17, 0))*2)))))","v":0}]
[3,2,1,1,0,{"$f":"IF(($A68+INDEX($D68*($24:$24-$35:$35), MATCH(F$50,$17:$17, 0)))>$C$8,1000000000,(IF(OR(INDEX($22:$22-($A68-$D68*$35:$35), MATCH(F$50,$17:$17, 0))>0, INDEX($D68*$35:$35-$C68, MATCH(F$50,$17:$17, 0))>0),1000000000,(p!F68+n!F68+m!F68+INDEX(Vt!E:E, MATCH(($A68+INDEX($D68*($24:$24-$35:$35), MATCH(F$50,$17:$17, 0))),Vt!$A:$A,0)+INDEX($B68+$D68*$24:$24, MATCH(F$50,$17:$17, 0))*2)))))","v":0},{"$f":"IF(($A68+INDEX($D68*($24:$24-$35:$35), MATCH(G$50,$17:$17, 0)))>$C$8,1000000000,(IF(OR(INDEX($22:$22-($A68-$D68*$35:$35), MATCH(G$50,$17:$17, 0))>0, INDEX($D68*$35:$35-$C68, MATCH(G$50,$17:$17, 0))>0),1000000000,(p!G68+n!G68+m!G68+INDEX(Vt!F:F, MATCH(($A68+INDEX($D68*($24:$24-$35:$35), MATCH(G$50,$17:$17, 0))),Vt!$A:$A,0)+INDEX($B68+$D68*$24:$24, MATCH(G$50,$17:$17, 0))*2)))))","v":0},{"$f":"IF(($A68+INDEX($D68*($24:$24-$35:$35), MATCH(H$50,$17:$17, 0)))>$C$8,1000000000,(IF(OR(INDEX($22:$22-($A68-$D68*$35:$35), MATCH(H$50,$17:$17, 0))>0, INDEX($D68*$35:$35-$C68, MATCH(H$50,$17:$17, 0))>0),1000000000,(p!H68+n!H68+m!H68+INDEX(Vt!G:G, MATCH(($A68+INDEX($D68*($24:$24-$35:$35), MATCH(H$50,$17:$17, 0))),Vt!$A:$A,0)+INDEX($B68+$D68*$24:$24, MATCH(H$50,$17:$17, 0))*2)))))","v":0},{"$f":"IF(($A68+INDEX($D68*($24:$24-$35:$35), MATCH(I$50,$17:$17, 0)))>$C$8,1000000000,(IF(OR(INDEX($22:$22-($A68-$D68*$35:$35), MATCH(I$50,$17:$17, 0))>0, INDEX($D68*$35:$35-$C68, MATCH(I$50,$17:$17, 0))>0),1000000000,(p!I68+n!I68+m!I68+INDEX(Vt!H:H, MATCH(($A68+INDEX($D68*($24:$24-$35:$35), MATCH(I$50,$17:$17, 0))),Vt!$A:$A,0)+INDEX($B68+$D68*$24:$24, MATCH(I$50,$17:$17, 0))*2)))))","v":0},{"$f":"IF(($A68+INDEX($D68*($24:$24-$35:$35), MATCH(J$50,$17:$17, 0)))>$C$8,1000000000,(IF(OR(INDEX($22:$22-($A68-$D68*$35:$35), MATCH(J$50,$17:$17, 0))>0, INDEX($D68*$35:$35-$C68, MATCH(J$50,$17:$17, 0))>0),1000000000,(p!J68+n!J68+m!J68+INDEX(Vt!I:I, MATCH(($A68+INDEX($D68*($24:$24-$35:$35), MATCH(J$50,$17:$17, 0))),Vt!$A:$A,0)+INDEX($B68+$D68*$24:$24, MATCH(J$50,$17:$17, 0))*2)))))","v":0},{"$f":"IF(($A68+INDEX($D68*($24:$24-$35:$35), MATCH(K$50,$17:$17, 0)))>$C$8,1000000000,(IF(OR(INDEX($22:$22-($A68-$D68*$35:$35), MATCH(K$50,$17:$17, 0))>0, INDEX($D68*$35:$35-$C68, MATCH(K$50,$17:$17, 0))>0),1000000000,(p!K68+n!K68+m!K68+INDEX(Vt!J:J, MATCH(($A68+INDEX($D68*($24:$24-$35:$35), MATCH(K$50,$17:$17, 0))),Vt!$A:$A,0)+INDEX($B68+$D68*$24:$24, MATCH(K$50,$17:$17, 0))*2)))))","v":0},{"$f":"IF(($A68+INDEX($D68*($24:$24-$35:$35), MATCH(L$50,$17:$17, 0)))>$C$8,1000000000,(IF(OR(INDEX($22:$22-($A68-$D68*$35:$35), MATCH(L$50,$17:$17, 0))>0, INDEX($D68*$35:$35-$C68, MATCH(L$50,$17:$17, 0))>0),1000000000,(p!L68+n!L68+m!L68+INDEX(Vt!K:K, MATCH(($A68+INDEX($D68*($24:$24-$35:$35), MATCH(L$50,$17:$17, 0))),Vt!$A:$A,0)+INDEX($B68+$D68*$24:$24, MATCH(L$50,$17:$17, 0))*2)))))","v":0},{"$f":"IF(($A68+INDEX($D68*($24:$24-$35:$35), MATCH(M$50,$17:$17, 0)))>$C$8,1000000000,(IF(OR(INDEX($22:$22-($A68-$D68*$35:$35), MATCH(M$50,$17:$17, 0))>0, INDEX($D68*$35:$35-$C68, MATCH(M$50,$17:$17, 0))>0),1000000000,(p!M68+n!M68+m!M68+INDEX(Vt!L:L, MATCH(($A68+INDEX($D68*($24:$24-$35:$35), MATCH(M$50,$17:$17, 0))),Vt!$A:$A,0)+INDEX($B68+$D68*$24:$24, MATCH(M$50,$17:$17, 0))*2)))))","v":0},{"$f":"IF(($A68+INDEX($D68*($24:$24-$35:$35), MATCH(N$50,$17:$17, 0)))>$C$8,1000000000,(IF(OR(INDEX($22:$22-($A68-$D68*$35:$35), MATCH(N$50,$17:$17, 0))>0, INDEX($D68*$35:$35-$C68, MATCH(N$50,$17:$17, 0))>0),1000000000,(p!N68+n!N68+m!N68+INDEX(Vt!M:M, MATCH(($A68+INDEX($D68*($24:$24-$35:$35), MATCH(N$50,$17:$17, 0))),Vt!$A:$A,0)+INDEX($B68+$D68*$24:$24, MATCH(N$50,$17:$17, 0))*2)))))","v":0},{"$f":"IF(($A68+INDEX($D68*($24:$24-$35:$35), MATCH(O$50,$17:$17, 0)))>$C$8,1000000000,(IF(OR(INDEX($22:$22-($A68-$D68*$35:$35), MATCH(O$50,$17:$17, 0))>0, INDEX($D68*$35:$35-$C68, MATCH(O$50,$17:$17, 0))>0),1000000000,(p!O68+n!O68+m!O68+INDEX(Vt!N:N, MATCH(($A68+INDEX($D68*($24:$24-$35:$35), MATCH(O$50,$17:$17, 0))),Vt!$A:$A,0)+INDEX($B68+$D68*$24:$24, MATCH(O$50,$17:$17, 0))*2)))))","v":0}]
[3,3,0,0,0,{"$f":"IF(($A69+INDEX($D69*($24:$24-$35:$35), MATCH(F$50,$17:$17, 0)))>$C$8,1000000000,(IF(OR(INDEX($22:$22-($A69-$D69*$35:$35), MATCH(F$50,$17:$17, 0))>0, INDEX($D69*$35:$35-$C69, MATCH(F$50,$17:$17, 0))>0),1000000000,(p!F69+n!F69+m!F69+INDEX(Vt!E:E, MATCH(($A69+INDEX($D69*($24:$24-$35:$35), MATCH(F$50,$17:$17, 0))),Vt!$A:$A,0)+INDEX($B69+$D69*$24:$24, MATCH(F$50,$17:$17, 0))*2)))))","v":0},{"$f":"IF(($A69+INDEX($D69*($24:$24-$35:$35), MATCH(G$50,$17:$17, 0)))>$C$8,1000000000,(IF(OR(INDEX($22:$22-($A69-$D69*$35:$35), MATCH(G$50,$17:$17, 0))>0, INDEX($D69*$35:$35-$C69, MATCH(G$50,$17:$17, 0))>0),1000000000,(p!G69+n!G69+m!G69+INDEX(Vt!F:F, MATCH(($A69+INDEX($D69*($24:$24-$35:$35), MATCH(G$50,$17:$17, 0))),Vt!$A:$A,0)+INDEX($B69+$D69*$24:$24, MATCH(G$50,$17:$17, 0))*2)))))","v":0},{"$f":"IF(($A69+INDEX($D69*($24:$24-$35:$35), MATCH(H$50,$17:$17, 0)))>$C$8,1000000000,(IF(OR(INDEX($22:$22-($A69-$D69*$35:$35), MATCH(H$50,$17:$17, 0))>0, INDEX($D69*$35:$35-$C69, MATCH(H$50,$17:$17, 0))>0),1000000000,(p!H69+n!H69+m!H69+INDEX(Vt!G:G, MATCH(($A69+INDEX($D69*($24:$24-$35:$35), MATCH(H$50,$17:$17, 0))),Vt!$A:$A,0)+INDEX($B69+$D69*$24:$24, MATCH(H$50,$17:$17, 0))*2)))))","v":0},{"$f":"IF(($A69+INDEX($D69*($24:$24-$35:$35), MATCH(I$50,$17:$17, 0)))>$C$8,1000000000,(IF(OR(INDEX($22:$22-($A69-$D69*$35:$35), MATCH(I$50,$17:$17, 0))>0, INDEX($D69*$35:$35-$C69, MATCH(I$50,$17:$17, 0))>0),1000000000,(p!I69+n!I69+m!I69+INDEX(Vt!H:H, MATCH(($A69+INDEX($D69*($24:$24-$35:$35), MATCH(I$50,$17:$17, 0))),Vt!$A:$A,0)+INDEX($B69+$D69*$24:$24, MATCH(I$50,$17:$17, 0))*2)))))","v":0},{"$f":"IF(($A69+INDEX($D69*($24:$24-$35:$35), MATCH(J$50,$17:$17, 0)))>$C$8,1000000000,(IF(OR(INDEX($22:$22-($A69-$D69*$35:$35), MATCH(J$50,$17:$17, 0))>0, INDEX($D69*$35:$35-$C69, MATCH(J$50,$17:$17, 0))>0),1000000000,(p!J69+n!J69+m!J69+INDEX(Vt!I:I, MATCH(($A69+INDEX($D69*($24:$24-$35:$35), MATCH(J$50,$17:$17, 0))),Vt!$A:$A,0)+INDEX($B69+$D69*$24:$24, MATCH(J$50,$17:$17, 0))*2)))))","v":0},{"$f":"IF(($A69+INDEX($D69*($24:$24-$35:$35), MATCH(K$50,$17:$17, 0)))>$C$8,1000000000,(IF(OR(INDEX($22:$22-($A69-$D69*$35:$35), MATCH(K$50,$17:$17, 0))>0, INDEX($D69*$35:$35-$C69, MATCH(K$50,$17:$17, 0))>0),1000000000,(p!K69+n!K69+m!K69+INDEX(Vt!J:J, MATCH(($A69+INDEX($D69*($24:$24-$35:$35), MATCH(K$50,$17:$17, 0))),Vt!$A:$A,0)+INDEX($B69+$D69*$24:$24, MATCH(K$50,$17:$17, 0))*2)))))","v":0},{"$f":"IF(($A69+INDEX($D69*($24:$24-$35:$35), MATCH(L$50,$17:$17, 0)))>$C$8,1000000000,(IF(OR(INDEX($22:$22-($A69-$D69*$35:$35), MATCH(L$50,$17:$17, 0))>0, INDEX($D69*$35:$35-$C69, MATCH(L$50,$17:$17, 0))>0),1000000000,(p!L69+n!L69+m!L69+INDEX(Vt!K:K, MATCH(($A69+INDEX($D69*($24:$24-$35:$35), MATCH(L$50,$17:$17, 0))),Vt!$A:$A,0)+INDEX($B69+$D69*$24:$24, MATCH(L$50,$17:$17, 0))*2)))))","v":0},{"$f":"IF(($A69+INDEX($D69*($24:$24-$35:$35), MATCH(M$50,$17:$17, 0)))>$C$8,1000000000,(IF(OR(INDEX($22:$22-($A69-$D69*$35:$35), MATCH(M$50,$17:$17, 0))>0, INDEX($D69*$35:$35-$C69, MATCH(M$50,$17:$17, 0))>0),1000000000,(p!M69+n!M69+m!M69+INDEX(Vt!L:L, MATCH(($A69+INDEX($D69*($24:$24-$35:$35), MATCH(M$50,$17:$17, 0))),Vt!$A:$A,0)+INDEX($B69+$D69*$24:$24, MATCH(M$50,$17:$17, 0))*2)))))","v":0},{"$f":"IF(($A69+INDEX($D69*($24:$24-$35:$35), MATCH(N$50,$17:$17, 0)))>$C$8,1000000000,(IF(OR(INDEX($22:$22-($A69-$D69*$35:$35), MATCH(N$50,$17:$17, 0))>0, INDEX($D69*$35:$35-$C69, MATCH(N$50,$17:$17, 0))>0),1000000000,(p!N69+n!N69+m!N69+INDEX(Vt!M:M, MATCH(($A69+INDEX($D69*($24:$24-$35:$35), MATCH(N$50,$17:$17, 0))),Vt!$A:$A,0)+INDEX($B69+$D69*$24:$24, MATCH(N$50,$17:$17, 0))*2)))))","v":0},{"$f":"IF(($A69+INDEX($D69*($24:$24-$35:$35), MATCH(O$50,$17:$17, 0)))>$C$8,1000000000,(IF(OR(INDEX($22:$22-($A69-$D69*$35:$35), MATCH(O$50,$17:$17, 0))>0, INDEX($D69*$35:$35-$C69, MATCH(O$50,$17:$17, 0))>0),1000000000,(p!O69+n!O69+m!O69+INDEX(Vt!N:N, MATCH(($A69+INDEX($D69*($24:$24-$35:$35), MATCH(O$50,$17:$17, 0))),Vt!$A:$A,0)+INDEX($B69+$D69*$24:$24, MATCH(O$50,$17:$17, 0))*2)))))","v":0}]
[3,3,0,1,0,{"$f":"IF(($A70+INDEX($D70*($24:$24-$35:$35), MATCH(F$50,$17:$17, 0)))>$C$8,1000000000,(IF(OR(INDEX($22:$22-($A70-$D70*$35:$35), MATCH(F$50,$17:$17, 0))>0, INDEX($D70*$35:$35-$C70, MATCH(F$50,$17:$17, 0))>0),1000000000,(p!F70+n!F70+m!F70+INDEX(Vt!E:E, MATCH(($A70+INDEX($D70*($24:$24-$35:$35), MATCH(F$50,$17:$17, 0))),Vt!$A:$A,0)+INDEX($B70+$D70*$24:$24, MATCH(F$50,$17:$17, 0))*2)))))","v":0},{"$f":"IF(($A70+INDEX($D70*($24:$24-$35:$35), MATCH(G$50,$17:$17, 0)))>$C$8,1000000000,(IF(OR(INDEX($22:$22-($A70-$D70*$35:$35), MATCH(G$50,$17:$17, 0))>0, INDEX($D70*$35:$35-$C70, MATCH(G$50,$17:$17, 0))>0),1000000000,(p!G70+n!G70+m!G70+INDEX(Vt!F:F, MATCH(($A70+INDEX($D70*($24:$24-$35:$35), MATCH(G$50,$17:$17, 0))),Vt!$A:$A,0)+INDEX($B70+$D70*$24:$24, MATCH(G$50,$17:$17, 0))*2)))))","v":0},{"$f":"IF(($A70+INDEX($D70*($24:$24-$35:$35), MATCH(H$50,$17:$17, 0)))>$C$8,1000000000,(IF(OR(INDEX($22:$22-($A70-$D70*$35:$35), MATCH(H$50,$17:$17, 0))>0, INDEX($D70*$35:$35-$C70, MATCH(H$50,$17:$17, 0))>0),1000000000,(p!H70+n!H70+m!H70+INDEX(Vt!G:G, MATCH(($A70+INDEX($D70*($24:$24-$35:$35), MATCH(H$50,$17:$17, 0))),Vt!$A:$A,0)+INDEX($B70+$D70*$24:$24, MATCH(H$50,$17:$17, 0))*2)))))","v":0},{"$f":"IF(($A70+INDEX($D70*($24:$24-$35:$35), MATCH(I$50,$17:$17, 0)))>$C$8,1000000000,(IF(OR(INDEX($22:$22-($A70-$D70*$35:$35), MATCH(I$50,$17:$17, 0))>0, INDEX($D70*$35:$35-$C70, MATCH(I$50,$17:$17, 0))>0),1000000000,(p!I70+n!I70+m!I70+INDEX(Vt!H:H, MATCH(($A70+INDEX($D70*($24:$24-$35:$35), MATCH(I$50,$17:$17, 0))),Vt!$A:$A,0)+INDEX($B70+$D70*$24:$24, MATCH(I$50,$17:$17, 0))*2)))))","v":0},{"$f":"IF(($A70+INDEX($D70*($24:$24-$35:$35), MATCH(J$50,$17:$17, 0)))>$C$8,1000000000,(IF(OR(INDEX($22:$22-($A70-$D70*$35:$35), MATCH(J$50,$17:$17, 0))>0, INDEX($D70*$35:$35-$C70, MATCH(J$50,$17:$17, 0))>0),1000000000,(p!J70+n!J70+m!J70+INDEX(Vt!I:I, MATCH(($A70+INDEX($D70*($24:$24-$35:$35), MATCH(J$50,$17:$17, 0))),Vt!$A:$A,0)+INDEX($B70+$D70*$24:$24, MATCH(J$50,$17:$17, 0))*2)))))","v":0},{"$f":"IF(($A70+INDEX($D70*($24:$24-$35:$35), MATCH(K$50,$17:$17, 0)))>$C$8,1000000000,(IF(OR(INDEX($22:$22-($A70-$D70*$35:$35), MATCH(K$50,$17:$17, 0))>0, INDEX($D70*$35:$35-$C70, MATCH(K$50,$17:$17, 0))>0),1000000000,(p!K70+n!K70+m!K70+INDEX(Vt!J:J, MATCH(($A70+INDEX($D70*($24:$24-$35:$35), MATCH(K$50,$17:$17, 0))),Vt!$A:$A,0)+INDEX($B70+$D70*$24:$24, MATCH(K$50,$17:$17, 0))*2)))))","v":0},{"$f":"IF(($A70+INDEX($D70*($24:$24-$35:$35), MATCH(L$50,$17:$17, 0)))>$C$8,1000000000,(IF(OR(INDEX($22:$22-($A70-$D70*$35:$35), MATCH(L$50,$17:$17, 0))>0, INDEX($D70*$35:$35-$C70, MATCH(L$50,$17:$17, 0))>0),1000000000,(p!L70+n!L70+m!L70+INDEX(Vt!K:K, MATCH(($A70+INDEX($D70*($24:$24-$35:$35), MATCH(L$50,$17:$17, 0))),Vt!$A:$A,0)+INDEX($B70+$D70*$24:$24, MATCH(L$50,$17:$17, 0))*2)))))","v":0},{"$f":"IF(($A70+INDEX($D70*($24:$24-$35:$35), MATCH(M$50,$17:$17, 0)))>$C$8,1000000000,(IF(OR(INDEX($22:$22-($A70-$D70*$35:$35), MATCH(M$50,$17:$17, 0))>0, INDEX($D70*$35:$35-$C70, MATCH(M$50,$17:$17, 0))>0),1000000000,(p!M70+n!M70+m!M70+INDEX(Vt!L:L, MATCH(($A70+INDEX($D70*($24:$24-$35:$35), MATCH(M$50,$17:$17, 0))),Vt!$A:$A,0)+INDEX($B70+$D70*$24:$24, MATCH(M$50,$17:$17, 0))*2)))))","v":0},{"$f":"IF(($A70+INDEX($D70*($24:$24-$35:$35), MATCH(N$50,$17:$17, 0)))>$C$8,1000000000,(IF(OR(INDEX($22:$22-($A70-$D70*$35:$35), MATCH(N$50,$17:$17, 0))>0, INDEX($D70*$35:$35-$C70, MATCH(N$50,$17:$17, 0))>0),1000000000,(p!N70+n!N70+m!N70+INDEX(Vt!M:M, MATCH(($A70+INDEX($D70*($24:$24-$35:$35), MATCH(N$50,$17:$17, 0))),Vt!$A:$A,0)+INDEX($B70+$D70*$24:$24, MATCH(N$50,$17:$17, 0))*2)))))","v":0},{"$f":"IF(($A70+INDEX($D70*($24:$24-$35:$35), MATCH(O$50,$17:$17, 0)))>$C$8,1000000000,(IF(OR(INDEX($22:$22-($A70-$D70*$35:$35), MATCH(O$50,$17:$17, 0))>0, INDEX($D70*$35:$35-$C70, MATCH(O$50,$17:$17, 0))>0),1000000000,(p!O70+n!O70+m!O70+INDEX(Vt!N:N, MATCH(($A70+INDEX($D70*($24:$24-$35:$35), MATCH(O$50,$17:$17, 0))),Vt!$A:$A,0)+INDEX($B70+$D70*$24:$24, MATCH(O$50,$17:$17, 0))*2)))))","v":0}]
[4,0,4,0,0,{"$f":"IF(($A71+INDEX($D71*($24:$24-$35:$35), MATCH(F$50,$17:$17, 0)))>$C$8,1000000000,(IF(OR(INDEX($22:$22-($A71-$D71*$35:$35), MATCH(F$50,$17:$17, 0))>0, INDEX($D71*$35:$35-$C71, MATCH(F$50,$17:$17, 0))>0),1000000000,(p!F71+n!F71+m!F71+INDEX(Vt!E:E, MATCH(($A71+INDEX($D71*($24:$24-$35:$35), MATCH(F$50,$17:$17, 0))),Vt!$A:$A,0)+INDEX($B71+$D71*$24:$24, MATCH(F$50,$17:$17, 0))*2)))))","v":0},{"$f":"IF(($A71+INDEX($D71*($24:$24-$35:$35), MATCH(G$50,$17:$17, 0)))>$C$8,1000000000,(IF(OR(INDEX($22:$22-($A71-$D71*$35:$35), MATCH(G$50,$17:$17, 0))>0, INDEX($D71*$35:$35-$C71, MATCH(G$50,$17:$17, 0))>0),1000000000,(p!G71+n!G71+m!G71+INDEX(Vt!F:F, MATCH(($A71+INDEX($D71*($24:$24-$35:$35), MATCH(G$50,$17:$17, 0))),Vt!$A:$A,0)+INDEX($B71+$D71*$24:$24, MATCH(G$50,$17:$17, 0))*2)))))","v":0},{"$f":"IF(($A71+INDEX($D71*($24:$24-$35:$35), MATCH(H$50,$17:$17, 0)))>$C$8,1000000000,(IF(OR(INDEX($22:$22-($A71-$D71*$35:$35), MATCH(H$50,$17:$17, 0))>0, INDEX($D71*$35:$35-$C71, MATCH(H$50,$17:$17, 0))>0),1000000000,(p!H71+n!H71+m!H71+INDEX(Vt!G:G, MATCH(($A71+INDEX($D71*($24:$24-$35:$35), MATCH(H$50,$17:$17, 0))),Vt!$A:$A,0)+INDEX($B71+$D71*$24:$24, MATCH(H$50,$17:$17, 0))*2)))))","v":0},{"$f":"IF(($A71+INDEX($D71*($24:$24-$35:$35), MATCH(I$50,$17:$17, 0)))>$C$8,1000000000,(IF(OR(INDEX($22:$22-($A71-$D71*$35:$35), MATCH(I$50,$17:$17, 0))>0, INDEX($D71*$35:$35-$C71, MATCH(I$50,$17:$17, 0))>0),1000000000,(p!I71+n!I71+m!I71+INDEX(Vt!H:H, MATCH(($A71+INDEX($D71*($24:$24-$35:$35), MATCH(I$50,$17:$17, 0))),Vt!$A:$A,0)+INDEX($B71+$D71*$24:$24, MATCH(I$50,$17:$17, 0))*2)))))","v":0},{"$f":"IF(($A71+INDEX($D71*($24:$24-$35:$35), MATCH(J$50,$17:$17, 0)))>$C$8,1000000000,(IF(OR(INDEX($22:$22-($A71-$D71*$35:$35), MATCH(J$50,$17:$17, 0))>0, INDEX($D71*$35:$35-$C71, MATCH(J$50,$17:$17, 0))>0),1000000000,(p!J71+n!J71+m!J71+INDEX(Vt!I:I, MATCH(($A71+INDEX($D71*($24:$24-$35:$35), MATCH(J$50,$17:$17, 0))),Vt!$A:$A,0)+INDEX($B71+$D71*$24:$24, MATCH(J$50,$17:$17, 0))*2)))))","v":0},{"$f":"IF(($A71+INDEX($D71*($24:$24-$35:$35), MATCH(K$50,$17:$17, 0)))>$C$8,1000000000,(IF(OR(INDEX($22:$22-($A71-$D71*$35:$35), MATCH(K$50,$17:$17, 0))>0, INDEX($D71*$35:$35-$C71, MATCH(K$50,$17:$17, 0))>0),1000000000,(p!K71+n!K71+m!K71+INDEX(Vt!J:J, MATCH(($A71+INDEX($D71*($24:$24-$35:$35), MATCH(K$50,$17:$17, 0))),Vt!$A:$A,0)+INDEX($B71+$D71*$24:$24, MATCH(K$50,$17:$17, 0))*2)))))","v":0},{"$f":"IF(($A71+INDEX($D71*($24:$24-$35:$35), MATCH(L$50,$17:$17, 0)))>$C$8,1000000000,(IF(OR(INDEX($22:$22-($A71-$D71*$35:$35), MATCH(L$50,$17:$17, 0))>0, INDEX($D71*$35:$35-$C71, MATCH(L$50,$17:$17, 0))>0),1000000000,(p!L71+n!L71+m!L71+INDEX(Vt!K:K, MATCH(($A71+INDEX($D71*($24:$24-$35:$35), MATCH(L$50,$17:$17, 0))),Vt!$A:$A,0)+INDEX($B71+$D71*$24:$24, MATCH(L$50,$17:$17, 0))*2)))))","v":0},{"$f":"IF(($A71+INDEX($D71*($24:$24-$35:$35), MATCH(M$50,$17:$17, 0)))>$C$8,1000000000,(IF(OR(INDEX($22:$22-($A71-$D71*$35:$35), MATCH(M$50,$17:$17, 0))>0, INDEX($D71*$35:$35-$C71, MATCH(M$50,$17:$17, 0))>0),1000000000,(p!M71+n!M71+m!M71+INDEX(Vt!L:L, MATCH(($A71+INDEX($D71*($24:$24-$35:$35), MATCH(M$50,$17:$17, 0))),Vt!$A:$A,0)+INDEX($B71+$D71*$24:$24, MATCH(M$50,$17:$17, 0))*2)))))","v":0},{"$f":"IF(($A71+INDEX($D71*($24:$24-$35:$35), MATCH(N$50,$17:$17, 0)))>$C$8,1000000000,(IF(OR(INDEX($22:$22-($A71-$D71*$35:$35), MATCH(N$50,$17:$17, 0))>0, INDEX($D71*$35:$35-$C71, MATCH(N$50,$17:$17, 0))>0),1000000000,(p!N71+n!N71+m!N71+INDEX(Vt!M:M, MATCH(($A71+INDEX($D71*($24:$24-$35:$35), MATCH(N$50,$17:$17, 0))),Vt!$A:$A,0)+INDEX($B71+$D71*$24:$24, MATCH(N$50,$17:$17, 0))*2)))))","v":0},{"$f":"IF(($A71+INDEX($D71*($24:$24-$35:$35), MATCH(O$50,$17:$17, 0)))>$C$8,1000000000,(IF(OR(INDEX($22:$22-($A71-$D71*$35:$35), MATCH(O$50,$17:$17, 0))>0, INDEX($D71*$35:$35-$C71, MATCH(O$50,$17:$17, 0))>0),1000000000,(p!O71+n!O71+m!O71+INDEX(Vt!N:N, MATCH(($A71+INDEX($D71*($24:$24-$35:$35), MATCH(O$50,$17:$17, 0))),Vt!$A:$A,0)+INDEX($B71+$D71*$24:$24, MATCH(O$50,$17:$17, 0))*2)))))","v":0}]
[4,0,4,1,0,{"$f":"IF(($A72+INDEX($D72*($24:$24-$35:$35), MATCH(F$50,$17:$17, 0)))>$C$8,1000000000,(IF(OR(INDEX($22:$22-($A72-$D72*$35:$35), MATCH(F$50,$17:$17, 0))>0, INDEX($D72*$35:$35-$C72, MATCH(F$50,$17:$17, 0))>0),1000000000,(p!F72+n!F72+m!F72+INDEX(Vt!E:E, MATCH(($A72+INDEX($D72*($24:$24-$35:$35), MATCH(F$50,$17:$17, 0))),Vt!$A:$A,0)+INDEX($B72+$D72*$24:$24, MATCH(F$50,$17:$17, 0))*2)))))","v":0},{"$f":"IF(($A72+INDEX($D72*($24:$24-$35:$35), MATCH(G$50,$17:$17, 0)))>$C$8,1000000000,(IF(OR(INDEX($22:$22-($A72-$D72*$35:$35), MATCH(G$50,$17:$17, 0))>0, INDEX($D72*$35:$35-$C72, MATCH(G$50,$17:$17, 0))>0),1000000000,(p!G72+n!G72+m!G72+INDEX(Vt!F:F, MATCH(($A72+INDEX($D72*($24:$24-$35:$35), MATCH(G$50,$17:$17, 0))),Vt!$A:$A,0)+INDEX($B72+$D72*$24:$24, MATCH(G$50,$17:$17, 0))*2)))))","v":0},{"$f":"IF(($A72+INDEX($D72*($24:$24-$35:$35), MATCH(H$50,$17:$17, 0)))>$C$8,1000000000,(IF(OR(INDEX($22:$22-($A72-$D72*$35:$35), MATCH(H$50,$17:$17, 0))>0, INDEX($D72*$35:$35-$C72, MATCH(H$50,$17:$17, 0))>0),1000000000,(p!H72+n!H72+m!H72+INDEX(Vt!G:G, MATCH(($A72+INDEX($D72*($24:$24-$35:$35), MATCH(H$50,$17:$17, 0))),Vt!$A:$A,0)+INDEX($B72+$D72*$24:$24, MATCH(H$50,$17:$17, 0))*2)))))","v":0},{"$f":"IF(($A72+INDEX($D72*($24:$24-$35:$35), MATCH(I$50,$17:$17, 0)))>$C$8,1000000000,(IF(OR(INDEX($22:$22-($A72-$D72*$35:$35), MATCH(I$50,$17:$17, 0))>0, INDEX($D72*$35:$35-$C72, MATCH(I$50,$17:$17, 0))>0),1000000000,(p!I72+n!I72+m!I72+INDEX(Vt!H:H, MATCH(($A72+INDEX($D72*($24:$24-$35:$35), MATCH(I$50,$17:$17, 0))),Vt!$A:$A,0)+INDEX($B72+$D72*$24:$24, MATCH(I$50,$17:$17, 0))*2)))))","v":0},{"$f":"IF(($A72+INDEX($D72*($24:$24-$35:$35), MATCH(J$50,$17:$17, 0)))>$C$8,1000000000,(IF(OR(INDEX($22:$22-($A72-$D72*$35:$35), MATCH(J$50,$17:$17, 0))>0, INDEX($D72*$35:$35-$C72, MATCH(J$50,$17:$17, 0))>0),1000000000,(p!J72+n!J72+m!J72+INDEX(Vt!I:I, MATCH(($A72+INDEX($D72*($24:$24-$35:$35), MATCH(J$50,$17:$17, 0))),Vt!$A:$A,0)+INDEX($B72+$D72*$24:$24, MATCH(J$50,$17:$17, 0))*2)))))","v":0},{"$f":"IF(($A72+INDEX($D72*($24:$24-$35:$35), MATCH(K$50,$17:$17, 0)))>$C$8,1000000000,(IF(OR(INDEX($22:$22-($A72-$D72*$35:$35), MATCH(K$50,$17:$17, 0))>0, INDEX($D72*$35:$35-$C72, MATCH(K$50,$17:$17, 0))>0),1000000000,(p!K72+n!K72+m!K72+INDEX(Vt!J:J, MATCH(($A72+INDEX($D72*($24:$24-$35:$35), MATCH(K$50,$17:$17, 0))),Vt!$A:$A,0)+INDEX($B72+$D72*$24:$24, MATCH(K$50,$17:$17, 0))*2)))))","v":0},{"$f":"IF(($A72+INDEX($D72*($24:$24-$35:$35), MATCH(L$50,$17:$17, 0)))>$C$8,1000000000,(IF(OR(INDEX($22:$22-($A72-$D72*$35:$35), MATCH(L$50,$17:$17, 0))>0, INDEX($D72*$35:$35-$C72, MATCH(L$50,$17:$17, 0))>0),1000000000,(p!L72+n!L72+m!L72+INDEX(Vt!K:K, MATCH(($A72+INDEX($D72*($24:$24-$35:$35), MATCH(L$50,$17:$17, 0))),Vt!$A:$A,0)+INDEX($B72+$D72*$24:$24, MATCH(L$50,$17:$17, 0))*2)))))","v":0},{"$f":"IF(($A72+INDEX($D72*($24:$24-$35:$35), MATCH(M$50,$17:$17, 0)))>$C$8,1000000000,(IF(OR(INDEX($22:$22-($A72-$D72*$35:$35), MATCH(M$50,$17:$17, 0))>0, INDEX($D72*$35:$35-$C72, MATCH(M$50,$17:$17, 0))>0),1000000000,(p!M72+n!M72+m!M72+INDEX(Vt!L:L, MATCH(($A72+INDEX($D72*($24:$24-$35:$35), MATCH(M$50,$17:$17, 0))),Vt!$A:$A,0)+INDEX($B72+$D72*$24:$24, MATCH(M$50,$17:$17, 0))*2)))))","v":0},{"$f":"IF(($A72+INDEX($D72*($24:$24-$35:$35), MATCH(N$50,$17:$17, 0)))>$C$8,1000000000,(IF(OR(INDEX($22:$22-($A72-$D72*$35:$35), MATCH(N$50,$17:$17, 0))>0, INDEX($D72*$35:$35-$C72, MATCH(N$50,$17:$17, 0))>0),1000000000,(p!N72+n!N72+m!N72+INDEX(Vt!M:M, MATCH(($A72+INDEX($D72*($24:$24-$35:$35), MATCH(N$50,$17:$17, 0))),Vt!$A:$A,0)+INDEX($B72+$D72*$24:$24, MATCH(N$50,$17:$17, 0))*2)))))","v":0},{"$f":"IF(($A72+INDEX($D72*($24:$24-$35:$35), MATCH(O$50,$17:$17, 0)))>$C$8,1000000000,(IF(OR(INDEX($22:$22-($A72-$D72*$35:$35), MATCH(O$50,$17:$17, 0))>0, INDEX($D72*$35:$35-$C72, MATCH(O$50,$17:$17, 0))>0),1000000000,(p!O72+n!O72+m!O72+INDEX(Vt!N:N, MATCH(($A72+INDEX($D72*($24:$24-$35:$35), MATCH(O$50,$17:$17, 0))),Vt!$A:$A,0)+INDEX($B72+$D72*$24:$24, MATCH(O$50,$17:$17, 0))*2)))))","v":0}]
[4,1,3,0,0,{"$f":"IF(($A73+INDEX($D73*($24:$24-$35:$35), MATCH(F$50,$17:$17, 0)))>$C$8,1000000000,(IF(OR(INDEX($22:$22-($A73-$D73*$35:$35), MATCH(F$50,$17:$17, 0))>0, INDEX($D73*$35:$35-$C73, MATCH(F$50,$17:$17, 0))>0),1000000000,(p!F73+n!F73+m!F73+INDEX(Vt!E:E, MATCH(($A73+INDEX($D73*($24:$24-$35:$35), MATCH(F$50,$17:$17, 0))),Vt!$A:$A,0)+INDEX($B73+$D73*$24:$24, MATCH(F$50,$17:$17, 0))*2)))))","v":0},{"$f":"IF(($A73+INDEX($D73*($24:$24-$35:$35), MATCH(G$50,$17:$17, 0)))>$C$8,1000000000,(IF(OR(INDEX($22:$22-($A73-$D73*$35:$35), MATCH(G$50,$17:$17, 0))>0, INDEX($D73*$35:$35-$C73, MATCH(G$50,$17:$17, 0))>0),1000000000,(p!G73+n!G73+m!G73+INDEX(Vt!F:F, MATCH(($A73+INDEX($D73*($24:$24-$35:$35), MATCH(G$50,$17:$17, 0))),Vt!$A:$A,0)+INDEX($B73+$D73*$24:$24, MATCH(G$50,$17:$17, 0))*2)))))","v":0},{"$f":"IF(($A73+INDEX($D73*($24:$24-$35:$35), MATCH(H$50,$17:$17, 0)))>$C$8,1000000000,(IF(OR(INDEX($22:$22-($A73-$D73*$35:$35), MATCH(H$50,$17:$17, 0))>0, INDEX($D73*$35:$35-$C73, MATCH(H$50,$17:$17, 0))>0),1000000000,(p!H73+n!H73+m!H73+INDEX(Vt!G:G, MATCH(($A73+INDEX($D73*($24:$24-$35:$35), MATCH(H$50,$17:$17, 0))),Vt!$A:$A,0)+INDEX($B73+$D73*$24:$24, MATCH(H$50,$17:$17, 0))*2)))))","v":0},{"$f":"IF(($A73+INDEX($D73*($24:$24-$35:$35), MATCH(I$50,$17:$17, 0)))>$C$8,1000000000,(IF(OR(INDEX($22:$22-($A73-$D73*$35:$35), MATCH(I$50,$17:$17, 0))>0, INDEX($D73*$35:$35-$C73, MATCH(I$50,$17:$17, 0))>0),1000000000,(p!I73+n!I73+m!I73+INDEX(Vt!H:H, MATCH(($A73+INDEX($D73*($24:$24-$35:$35), MATCH(I$50,$17:$17, 0))),Vt!$A:$A,0)+INDEX($B73+$D73*$24:$24, MATCH(I$50,$17:$17, 0))*2)))))","v":0},{"$f":"IF(($A73+INDEX($D73*($24:$24-$35:$35), MATCH(J$50,$17:$17, 0)))>$C$8,1000000000,(IF(OR(INDEX($22:$22-($A73-$D73*$35:$35), MATCH(J$50,$17:$17, 0))>0, INDEX($D73*$35:$35-$C73, MATCH(J$50,$17:$17, 0))>0),1000000000,(p!J73+n!J73+m!J73+INDEX(Vt!I:I, MATCH(($A73+INDEX($D73*($24:$24-$35:$35), MATCH(J$50,$17:$17, 0))),Vt!$A:$A,0)+INDEX($B73+$D73*$24:$24, MATCH(J$50,$17:$17, 0))*2)))))","v":0},{"$f":"IF(($A73+INDEX($D73*($24:$24-$35:$35), MATCH(K$50,$17:$17, 0)))>$C$8,1000000000,(IF(OR(INDEX($22:$22-($A73-$D73*$35:$35), MATCH(K$50,$17:$17, 0))>0, INDEX($D73*$35:$35-$C73, MATCH(K$50,$17:$17, 0))>0),1000000000,(p!K73+n!K73+m!K73+INDEX(Vt!J:J, MATCH(($A73+INDEX($D73*($24:$24-$35:$35), MATCH(K$50,$17:$17, 0))),Vt!$A:$A,0)+INDEX($B73+$D73*$24:$24, MATCH(K$50,$17:$17, 0))*2)))))","v":0},{"$f":"IF(($A73+INDEX($D73*($24:$24-$35:$35), MATCH(L$50,$17:$17, 0)))>$C$8,1000000000,(IF(OR(INDEX($22:$22-($A73-$D73*$35:$35), MATCH(L$50,$17:$17, 0))>0, INDEX($D73*$35:$35-$C73, MATCH(L$50,$17:$17, 0))>0),1000000000,(p!L73+n!L73+m!L73+INDEX(Vt!K:K, MATCH(($A73+INDEX($D73*($24:$24-$35:$35), MATCH(L$50,$17:$17, 0))),Vt!$A:$A,0)+INDEX($B73+$D73*$24:$24, MATCH(L$50,$17:$17, 0))*2)))))","v":0},{"$f":"IF(($A73+INDEX($D73*($24:$24-$35:$35), MATCH(M$50,$17:$17, 0)))>$C$8,1000000000,(IF(OR(INDEX($22:$22-($A73-$D73*$35:$35), MATCH(M$50,$17:$17, 0))>0, INDEX($D73*$35:$35-$C73, MATCH(M$50,$17:$17, 0))>0),1000000000,(p!M73+n!M73+m!M73+INDEX(Vt!L:L, MATCH(($A73+INDEX($D73*($24:$24-$35:$35), MATCH(M$50,$17:$17, 0))),Vt!$A:$A,0)+INDEX($B73+$D73*$24:$24, MATCH(M$50,$17:$17, 0))*2)))))","v":0},{"$f":"IF(($A73+INDEX($D73*($24:$24-$35:$35), MATCH(N$50,$17:$17, 0)))>$C$8,1000000000,(IF(OR(INDEX($22:$22-($A73-$D73*$35:$35), MATCH(N$50,$17:$17, 0))>0, INDEX($D73*$35:$35-$C73, MATCH(N$50,$17:$17, 0))>0),1000000000,(p!N73+n!N73+m!N73+INDEX(Vt!M:M, MATCH(($A73+INDEX($D73*($24:$24-$35:$35), MATCH(N$50,$17:$17, 0))),Vt!$A:$A,0)+INDEX($B73+$D73*$24:$24, MATCH(N$50,$17:$17, 0))*2)))))","v":0},{"$f":"IF(($A73+INDEX($D73*($24:$24-$35:$35), MATCH(O$50,$17:$17, 0)))>$C$8,1000000000,(IF(OR(INDEX($22:$22-($A73-$D73*$35:$35), MATCH(O$50,$17:$17, 0))>0, INDEX($D73*$35:$35-$C73, MATCH(O$50,$17:$17, 0))>0),1000000000,(p!O73+n!O73+m!O73+INDEX(Vt!N:N, MATCH(($A73+INDEX($D73*($24:$24-$35:$35), MATCH(O$50,$17:$17, 0))),Vt!$A:$A,0)+INDEX($B73+$D73*$24:$24, MATCH(O$50,$17:$17, 0))*2)))))","v":0}]
[4,1,3,1,0,{"$f":"IF(($A74+INDEX($D74*($24:$24-$35:$35), MATCH(F$50,$17:$17, 0)))>$C$8,1000000000,(IF(OR(INDEX($22:$22-($A74-$D74*$35:$35), MATCH(F$50,$17:$17, 0))>0, INDEX($D74*$35:$35-$C74, MATCH(F$50,$17:$17, 0))>0),1000000000,(p!F74+n!F74+m!F74+INDEX(Vt!E:E, MATCH(($A74+INDEX($D74*($24:$24-$35:$35), MATCH(F$50,$17:$17, 0))),Vt!$A:$A,0)+INDEX($B74+$D74*$24:$24, MATCH(F$50,$17:$17, 0))*2)))))","v":0},{"$f":"IF(($A74+INDEX($D74*($24:$24-$35:$35), MATCH(G$50,$17:$17, 0)))>$C$8,1000000000,(IF(OR(INDEX($22:$22-($A74-$D74*$35:$35), MATCH(G$50,$17:$17, 0))>0, INDEX($D74*$35:$35-$C74, MATCH(G$50,$17:$17, 0))>0),1000000000,(p!G74+n!G74+m!G74+INDEX(Vt!F:F, MATCH(($A74+INDEX($D74*($24:$24-$35:$35), MATCH(G$50,$17:$17, 0))),Vt!$A:$A,0)+INDEX($B74+$D74*$24:$24, MATCH(G$50,$17:$17, 0))*2)))))","v":0},{"$f":"IF(($A74+INDEX($D74*($24:$24-$35:$35), MATCH(H$50,$17:$17, 0)))>$C$8,1000000000,(IF(OR(INDEX($22:$22-($A74-$D74*$35:$35), MATCH(H$50,$17:$17, 0))>0, INDEX($D74*$35:$35-$C74, MATCH(H$50,$17:$17, 0))>0),1000000000,(p!H74+n!H74+m!H74+INDEX(Vt!G:G, MATCH(($A74+INDEX($D74*($24:$24-$35:$35), MATCH(H$50,$17:$17, 0))),Vt!$A:$A,0)+INDEX($B74+$D74*$24:$24, MATCH(H$50,$17:$17, 0))*2)))))","v":0},{"$f":"IF(($A74+INDEX($D74*($24:$24-$35:$35), MATCH(I$50,$17:$17, 0)))>$C$8,1000000000,(IF(OR(INDEX($22:$22-($A74-$D74*$35:$35), MATCH(I$50,$17:$17, 0))>0, INDEX($D74*$35:$35-$C74, MATCH(I$50,$17:$17, 0))>0),1000000000,(p!I74+n!I74+m!I74+INDEX(Vt!H:H, MATCH(($A74+INDEX($D74*($24:$24-$35:$35), MATCH(I$50,$17:$17, 0))),Vt!$A:$A,0)+INDEX($B74+$D74*$24:$24, MATCH(I$50,$17:$17, 0))*2)))))","v":0},{"$f":"IF(($A74+INDEX($D74*($24:$24-$35:$35), MATCH(J$50,$17:$17, 0)))>$C$8,1000000000,(IF(OR(INDEX($22:$22-($A74-$D74*$35:$35), MATCH(J$50,$17:$17, 0))>0, INDEX($D74*$35:$35-$C74, MATCH(J$50,$17:$17, 0))>0),1000000000,(p!J74+n!J74+m!J74+INDEX(Vt!I:I, MATCH(($A74+INDEX($D74*($24:$24-$35:$35), MATCH(J$50,$17:$17, 0))),Vt!$A:$A,0)+INDEX($B74+$D74*$24:$24, MATCH(J$50,$17:$17, 0))*2)))))","v":0},{"$f":"IF(($A74+INDEX($D74*($24:$24-$35:$35), MATCH(K$50,$17:$17, 0)))>$C$8,1000000000,(IF(OR(INDEX($22:$22-($A74-$D74*$35:$35), MATCH(K$50,$17:$17, 0))>0, INDEX($D74*$35:$35-$C74, MATCH(K$50,$17:$17, 0))>0),1000000000,(p!K74+n!K74+m!K74+INDEX(Vt!J:J, MATCH(($A74+INDEX($D74*($24:$24-$35:$35), MATCH(K$50,$17:$17, 0))),Vt!$A:$A,0)+INDEX($B74+$D74*$24:$24, MATCH(K$50,$17:$17, 0))*2)))))","v":0},{"$f":"IF(($A74+INDEX($D74*($24:$24-$35:$35), MATCH(L$50,$17:$17, 0)))>$C$8,1000000000,(IF(OR(INDEX($22:$22-($A74-$D74*$35:$35), MATCH(L$50,$17:$17, 0))>0, INDEX($D74*$35:$35-$C74, MATCH(L$50,$17:$17, 0))>0),1000000000,(p!L74+n!L74+m!L74+INDEX(Vt!K:K, MATCH(($A74+INDEX($D74*($24:$24-$35:$35), MATCH(L$50,$17:$17, 0))),Vt!$A:$A,0)+INDEX($B74+$D74*$24:$24, MATCH(L$50,$17:$17, 0))*2)))))","v":0},{"$f":"IF(($A74+INDEX($D74*($24:$24-$35:$35), MATCH(M$50,$17:$17, 0)))>$C$8,1000000000,(IF(OR(INDEX($22:$22-($A74-$D74*$35:$35), MATCH(M$50,$17:$17, 0))>0, INDEX($D74*$35:$35-$C74, MATCH(M$50,$17:$17, 0))>0),1000000000,(p!M74+n!M74+m!M74+INDEX(Vt!L:L, MATCH(($A74+INDEX($D74*($24:$24-$35:$35), MATCH(M$50,$17:$17, 0))),Vt!$A:$A,0)+INDEX($B74+$D74*$24:$24, MATCH(M$50,$17:$17, 0))*2)))))","v":0},{"$f":"IF(($A74+INDEX($D74*($24:$24-$35:$35), MATCH(N$50,$17:$17, 0)))>$C$8,1000000000,(IF(OR(INDEX($22:$22-($A74-$D74*$35:$35), MATCH(N$50,$17:$17, 0))>0, INDEX($D74*$35:$35-$C74, MATCH(N$50,$17:$17, 0))>0),1000000000,(p!N74+n!N74+m!N74+INDEX(Vt!M:M, MATCH(($A74+INDEX($D74*($24:$24-$35:$35), MATCH(N$50,$17:$17, 0))),Vt!$A:$A,0)+INDEX($B74+$D74*$24:$24, MATCH(N$50,$17:$17, 0))*2)))))","v":0},{"$f":"IF(($A74+INDEX($D74*($24:$24-$35:$35), MATCH(O$50,$17:$17, 0)))>$C$8,1000000000,(IF(OR(INDEX($22:$22-($A74-$D74*$35:$35), MATCH(O$50,$17:$17, 0))>0, INDEX($D74*$35:$35-$C74, MATCH(O$50,$17:$17, 0))>0),1000000000,(p!O74+n!O74+m!O74+INDEX(Vt!N:N, MATCH(($A74+INDEX($D74*($24:$24-$35:$35), MATCH(O$50,$17:$17, 0))),Vt!$A:$A,0)+INDEX($B74+$D74*$24:$24, MATCH(O$50,$17:$17, 0))*2)))))","v":0}]
[4,2,2,0,0,{"$f":"IF(($A75+INDEX($D75*($24:$24-$35:$35), MATCH(F$50,$17:$17, 0)))>$C$8,1000000000,(IF(OR(INDEX($22:$22-($A75-$D75*$35:$35), MATCH(F$50,$17:$17, 0))>0, INDEX($D75*$35:$35-$C75, MATCH(F$50,$17:$17, 0))>0),1000000000,(p!F75+n!F75+m!F75+INDEX(Vt!E:E, MATCH(($A75+INDEX($D75*($24:$24-$35:$35), MATCH(F$50,$17:$17, 0))),Vt!$A:$A,0)+INDEX($B75+$D75*$24:$24, MATCH(F$50,$17:$17, 0))*2)))))","v":0},{"$f":"IF(($A75+INDEX($D75*($24:$24-$35:$35), MATCH(G$50,$17:$17, 0)))>$C$8,1000000000,(IF(OR(INDEX($22:$22-($A75-$D75*$35:$35), MATCH(G$50,$17:$17, 0))>0, INDEX($D75*$35:$35-$C75, MATCH(G$50,$17:$17, 0))>0),1000000000,(p!G75+n!G75+m!G75+INDEX(Vt!F:F, MATCH(($A75+INDEX($D75*($24:$24-$35:$35), MATCH(G$50,$17:$17, 0))),Vt!$A:$A,0)+INDEX($B75+$D75*$24:$24, MATCH(G$50,$17:$17, 0))*2)))))","v":0},{"$f":"IF(($A75+INDEX($D75*($24:$24-$35:$35), MATCH(H$50,$17:$17, 0)))>$C$8,1000000000,(IF(OR(INDEX($22:$22-($A75-$D75*$35:$35), MATCH(H$50,$17:$17, 0))>0, INDEX($D75*$35:$35-$C75, MATCH(H$50,$17:$17, 0))>0),1000000000,(p!H75+n!H75+m!H75+INDEX(Vt!G:G, MATCH(($A75+INDEX($D75*($24:$24-$35:$35), MATCH(H$50,$17:$17, 0))),Vt!$A:$A,0)+INDEX($B75+$D75*$24:$24, MATCH(H$50,$17:$17, 0))*2)))))","v":0},{"$f":"IF(($A75+INDEX($D75*($24:$24-$35:$35), MATCH(I$50,$17:$17, 0)))>$C$8,1000000000,(IF(OR(INDEX($22:$22-($A75-$D75*$35:$35), MATCH(I$50,$17:$17, 0))>0, INDEX($D75*$35:$35-$C75, MATCH(I$50,$17:$17, 0))>0),1000000000,(p!I75+n!I75+m!I75+INDEX(Vt!H:H, MATCH(($A75+INDEX($D75*($24:$24-$35:$35), MATCH(I$50,$17:$17, 0))),Vt!$A:$A,0)+INDEX($B75+$D75*$24:$24, MATCH(I$50,$17:$17, 0))*2)))))","v":0},{"$f":"IF(($A75+INDEX($D75*($24:$24-$35:$35), MATCH(J$50,$17:$17, 0)))>$C$8,1000000000,(IF(OR(INDEX($22:$22-($A75-$D75*$35:$35), MATCH(J$50,$17:$17, 0))>0, INDEX($D75*$35:$35-$C75, MATCH(J$50,$17:$17, 0))>0),1000000000,(p!J75+n!J75+m!J75+INDEX(Vt!I:I, MATCH(($A75+INDEX($D75*($24:$24-$35:$35), MATCH(J$50,$17:$17, 0))),Vt!$A:$A,0)+INDEX($B75+$D75*$24:$24, MATCH(J$50,$17:$17, 0))*2)))))","v":0},{"$f":"IF(($A75+INDEX($D75*($24:$24-$35:$35), MATCH(K$50,$17:$17, 0)))>$C$8,1000000000,(IF(OR(INDEX($22:$22-($A75-$D75*$35:$35), MATCH(K$50,$17:$17, 0))>0, INDEX($D75*$35:$35-$C75, MATCH(K$50,$17:$17, 0))>0),1000000000,(p!K75+n!K75+m!K75+INDEX(Vt!J:J, MATCH(($A75+INDEX($D75*($24:$24-$35:$35), MATCH(K$50,$17:$17, 0))),Vt!$A:$A,0)+INDEX($B75+$D75*$24:$24, MATCH(K$50,$17:$17, 0))*2)))))","v":0},{"$f":"IF(($A75+INDEX($D75*($24:$24-$35:$35), MATCH(L$50,$17:$17, 0)))>$C$8,1000000000,(IF(OR(INDEX($22:$22-($A75-$D75*$35:$35), MATCH(L$50,$17:$17, 0))>0, INDEX($D75*$35:$35-$C75, MATCH(L$50,$17:$17, 0))>0),1000000000,(p!L75+n!L75+m!L75+INDEX(Vt!K:K, MATCH(($A75+INDEX($D75*($24:$24-$35:$35), MATCH(L$50,$17:$17, 0))),Vt!$A:$A,0)+INDEX($B75+$D75*$24:$24, MATCH(L$50,$17:$17, 0))*2)))))","v":0},{"$f":"IF(($A75+INDEX($D75*($24:$24-$35:$35), MATCH(M$50,$17:$17, 0)))>$C$8,1000000000,(IF(OR(INDEX($22:$22-($A75-$D75*$35:$35), MATCH(M$50,$17:$17, 0))>0, INDEX($D75*$35:$35-$C75, MATCH(M$50,$17:$17, 0))>0),1000000000,(p!M75+n!M75+m!M75+INDEX(Vt!L:L, MATCH(($A75+INDEX($D75*($24:$24-$35:$35), MATCH(M$50,$17:$17, 0))),Vt!$A:$A,0)+INDEX($B75+$D75*$24:$24, MATCH(M$50,$17:$17, 0))*2)))))","v":0},{"$f":"IF(($A75+INDEX($D75*($24:$24-$35:$35), MATCH(N$50,$17:$17, 0)))>$C$8,1000000000,(IF(OR(INDEX($22:$22-($A75-$D75*$35:$35), MATCH(N$50,$17:$17, 0))>0, INDEX($D75*$35:$35-$C75, MATCH(N$50,$17:$17, 0))>0),1000000000,(p!N75+n!N75+m!N75+INDEX(Vt!M:M, MATCH(($A75+INDEX($D75*($24:$24-$35:$35), MATCH(N$50,$17:$17, 0))),Vt!$A:$A,0)+INDEX($B75+$D75*$24:$24, MATCH(N$50,$17:$17, 0))*2)))))","v":0},{"$f":"IF(($A75+INDEX($D75*($24:$24-$35:$35), MATCH(O$50,$17:$17, 0)))>$C$8,1000000000,(IF(OR(INDEX($22:$22-($A75-$D75*$35:$35), MATCH(O$50,$17:$17, 0))>0, INDEX($D75*$35:$35-$C75, MATCH(O$50,$17:$17, 0))>0),1000000000,(p!O75+n!O75+m!O75+INDEX(Vt!N:N, MATCH(($A75+INDEX($D75*($24:$24-$35:$35), MATCH(O$50,$17:$17, 0))),Vt!$A:$A,0)+INDEX($B75+$D75*$24:$24, MATCH(O$50,$17:$17, 0))*2)))))","v":0}]
[4,2,2,1,0,{"$f":"IF(($A76+INDEX($D76*($24:$24-$35:$35), MATCH(F$50,$17:$17, 0)))>$C$8,1000000000,(IF(OR(INDEX($22:$22-($A76-$D76*$35:$35), MATCH(F$50,$17:$17, 0))>0, INDEX($D76*$35:$35-$C76, MATCH(F$50,$17:$17, 0))>0),1000000000,(p!F76+n!F76+m!F76+INDEX(Vt!E:E, MATCH(($A76+INDEX($D76*($24:$24-$35:$35), MATCH(F$50,$17:$17, 0))),Vt!$A:$A,0)+INDEX($B76+$D76*$24:$24, MATCH(F$50,$17:$17, 0))*2)))))","v":0},{"$f":"IF(($A76+INDEX($D76*($24:$24-$35:$35), MATCH(G$50,$17:$17, 0)))>$C$8,1000000000,(IF(OR(INDEX($22:$22-($A76-$D76*$35:$35), MATCH(G$50,$17:$17, 0))>0, INDEX($D76*$35:$35-$C76, MATCH(G$50,$17:$17, 0))>0),1000000000,(p!G76+n!G76+m!G76+INDEX(Vt!F:F, MATCH(($A76+INDEX($D76*($24:$24-$35:$35), MATCH(G$50,$17:$17, 0))),Vt!$A:$A,0)+INDEX($B76+$D76*$24:$24, MATCH(G$50,$17:$17, 0))*2)))))","v":0},{"$f":"IF(($A76+INDEX($D76*($24:$24-$35:$35), MATCH(H$50,$17:$17, 0)))>$C$8,1000000000,(IF(OR(INDEX($22:$22-($A76-$D76*$35:$35), MATCH(H$50,$17:$17, 0))>0, INDEX($D76*$35:$35-$C76, MATCH(H$50,$17:$17, 0))>0),1000000000,(p!H76+n!H76+m!H76+INDEX(Vt!G:G, MATCH(($A76+INDEX($D76*($24:$24-$35:$35), MATCH(H$50,$17:$17, 0))),Vt!$A:$A,0)+INDEX($B76+$D76*$24:$24, MATCH(H$50,$17:$17, 0))*2)))))","v":0},{"$f":"IF(($A76+INDEX($D76*($24:$24-$35:$35), MATCH(I$50,$17:$17, 0)))>$C$8,1000000000,(IF(OR(INDEX($22:$22-($A76-$D76*$35:$35), MATCH(I$50,$17:$17, 0))>0, INDEX($D76*$35:$35-$C76, MATCH(I$50,$17:$17, 0))>0),1000000000,(p!I76+n!I76+m!I76+INDEX(Vt!H:H, MATCH(($A76+INDEX($D76*($24:$24-$35:$35), MATCH(I$50,$17:$17, 0))),Vt!$A:$A,0)+INDEX($B76+$D76*$24:$24, MATCH(I$50,$17:$17, 0))*2)))))","v":0},{"$f":"IF(($A76+INDEX($D76*($24:$24-$35:$35), MATCH(J$50,$17:$17, 0)))>$C$8,1000000000,(IF(OR(INDEX($22:$22-($A76-$D76*$35:$35), MATCH(J$50,$17:$17, 0))>0, INDEX($D76*$35:$35-$C76, MATCH(J$50,$17:$17, 0))>0),1000000000,(p!J76+n!J76+m!J76+INDEX(Vt!I:I, MATCH(($A76+INDEX($D76*($24:$24-$35:$35), MATCH(J$50,$17:$17, 0))),Vt!$A:$A,0)+INDEX($B76+$D76*$24:$24, MATCH(J$50,$17:$17, 0))*2)))))","v":0},{"$f":"IF(($A76+INDEX($D76*($24:$24-$35:$35), MATCH(K$50,$17:$17, 0)))>$C$8,1000000000,(IF(OR(INDEX($22:$22-($A76-$D76*$35:$35), MATCH(K$50,$17:$17, 0))>0, INDEX($D76*$35:$35-$C76, MATCH(K$50,$17:$17, 0))>0),1000000000,(p!K76+n!K76+m!K76+INDEX(Vt!J:J, MATCH(($A76+INDEX($D76*($24:$24-$35:$35), MATCH(K$50,$17:$17, 0))),Vt!$A:$A,0)+INDEX($B76+$D76*$24:$24, MATCH(K$50,$17:$17, 0))*2)))))","v":0},{"$f":"IF(($A76+INDEX($D76*($24:$24-$35:$35), MATCH(L$50,$17:$17, 0)))>$C$8,1000000000,(IF(OR(INDEX($22:$22-($A76-$D76*$35:$35), MATCH(L$50,$17:$17, 0))>0, INDEX($D76*$35:$35-$C76, MATCH(L$50,$17:$17, 0))>0),1000000000,(p!L76+n!L76+m!L76+INDEX(Vt!K:K, MATCH(($A76+INDEX($D76*($24:$24-$35:$35), MATCH(L$50,$17:$17, 0))),Vt!$A:$A,0)+INDEX($B76+$D76*$24:$24, MATCH(L$50,$17:$17, 0))*2)))))","v":0},{"$f":"IF(($A76+INDEX($D76*($24:$24-$35:$35), MATCH(M$50,$17:$17, 0)))>$C$8,1000000000,(IF(OR(INDEX($22:$22-($A76-$D76*$35:$35), MATCH(M$50,$17:$17, 0))>0, INDEX($D76*$35:$35-$C76, MATCH(M$50,$17:$17, 0))>0),1000000000,(p!M76+n!M76+m!M76+INDEX(Vt!L:L, MATCH(($A76+INDEX($D76*($24:$24-$35:$35), MATCH(M$50,$17:$17, 0))),Vt!$A:$A,0)+INDEX($B76+$D76*$24:$24, MATCH(M$50,$17:$17, 0))*2)))))","v":0},{"$f":"IF(($A76+INDEX($D76*($24:$24-$35:$35), MATCH(N$50,$17:$17, 0)))>$C$8,1000000000,(IF(OR(INDEX($22:$22-($A76-$D76*$35:$35), MATCH(N$50,$17:$17, 0))>0, INDEX($D76*$35:$35-$C76, MATCH(N$50,$17:$17, 0))>0),1000000000,(p!N76+n!N76+m!N76+INDEX(Vt!M:M, MATCH(($A76+INDEX($D76*($24:$24-$35:$35), MATCH(N$50,$17:$17, 0))),Vt!$A:$A,0)+INDEX($B76+$D76*$24:$24, MATCH(N$50,$17:$17, 0))*2)))))","v":0},{"$f":"IF(($A76+INDEX($D76*($24:$24-$35:$35), MATCH(O$50,$17:$17, 0)))>$C$8,1000000000,(IF(OR(INDEX($22:$22-($A76-$D76*$35:$35), MATCH(O$50,$17:$17, 0))>0, INDEX($D76*$35:$35-$C76, MATCH(O$50,$17:$17, 0))>0),1000000000,(p!O76+n!O76+m!O76+INDEX(Vt!N:N, MATCH(($A76+INDEX($D76*($24:$24-$35:$35), MATCH(O$50,$17:$17, 0))),Vt!$A:$A,0)+INDEX($B76+$D76*$24:$24, MATCH(O$50,$17:$17, 0))*2)))))","v":0}]
[4,3,1,0,0,{"$f":"IF(($A77+INDEX($D77*($24:$24-$35:$35), MATCH(F$50,$17:$17, 0)))>$C$8,1000000000,(IF(OR(INDEX($22:$22-($A77-$D77*$35:$35), MATCH(F$50,$17:$17, 0))>0, INDEX($D77*$35:$35-$C77, MATCH(F$50,$17:$17, 0))>0),1000000000,(p!F77+n!F77+m!F77+INDEX(Vt!E:E, MATCH(($A77+INDEX($D77*($24:$24-$35:$35), MATCH(F$50,$17:$17, 0))),Vt!$A:$A,0)+INDEX($B77+$D77*$24:$24, MATCH(F$50,$17:$17, 0))*2)))))","v":0},{"$f":"IF(($A77+INDEX($D77*($24:$24-$35:$35), MATCH(G$50,$17:$17, 0)))>$C$8,1000000000,(IF(OR(INDEX($22:$22-($A77-$D77*$35:$35), MATCH(G$50,$17:$17, 0))>0, INDEX($D77*$35:$35-$C77, MATCH(G$50,$17:$17, 0))>0),1000000000,(p!G77+n!G77+m!G77+INDEX(Vt!F:F, MATCH(($A77+INDEX($D77*($24:$24-$35:$35), MATCH(G$50,$17:$17, 0))),Vt!$A:$A,0)+INDEX($B77+$D77*$24:$24, MATCH(G$50,$17:$17, 0))*2)))))","v":0},{"$f":"IF(($A77+INDEX($D77*($24:$24-$35:$35), MATCH(H$50,$17:$17, 0)))>$C$8,1000000000,(IF(OR(INDEX($22:$22-($A77-$D77*$35:$35), MATCH(H$50,$17:$17, 0))>0, INDEX($D77*$35:$35-$C77, MATCH(H$50,$17:$17, 0))>0),1000000000,(p!H77+n!H77+m!H77+INDEX(Vt!G:G, MATCH(($A77+INDEX($D77*($24:$24-$35:$35), MATCH(H$50,$17:$17, 0))),Vt!$A:$A,0)+INDEX($B77+$D77*$24:$24, MATCH(H$50,$17:$17, 0))*2)))))","v":0},{"$f":"IF(($A77+INDEX($D77*($24:$24-$35:$35), MATCH(I$50,$17:$17, 0)))>$C$8,1000000000,(IF(OR(INDEX($22:$22-($A77-$D77*$35:$35), MATCH(I$50,$17:$17, 0))>0, INDEX($D77*$35:$35-$C77, MATCH(I$50,$17:$17, 0))>0),1000000000,(p!I77+n!I77+m!I77+INDEX(Vt!H:H, MATCH(($A77+INDEX($D77*($24:$24-$35:$35), MATCH(I$50,$17:$17, 0))),Vt!$A:$A,0)+INDEX($B77+$D77*$24:$24, MATCH(I$50,$17:$17, 0))*2)))))","v":0},{"$f":"IF(($A77+INDEX($D77*($24:$24-$35:$35), MATCH(J$50,$17:$17, 0)))>$C$8,1000000000,(IF(OR(INDEX($22:$22-($A77-$D77*$35:$35), MATCH(J$50,$17:$17, 0))>0, INDEX($D77*$35:$35-$C77, MATCH(J$50,$17:$17, 0))>0),1000000000,(p!J77+n!J77+m!J77+INDEX(Vt!I:I, MATCH(($A77+INDEX($D77*($24:$24-$35:$35), MATCH(J$50,$17:$17, 0))),Vt!$A:$A,0)+INDEX($B77+$D77*$24:$24, MATCH(J$50,$17:$17, 0))*2)))))","v":0},{"$f":"IF(($A77+INDEX($D77*($24:$24-$35:$35), MATCH(K$50,$17:$17, 0)))>$C$8,1000000000,(IF(OR(INDEX($22:$22-($A77-$D77*$35:$35), MATCH(K$50,$17:$17, 0))>0, INDEX($D77*$35:$35-$C77, MATCH(K$50,$17:$17, 0))>0),1000000000,(p!K77+n!K77+m!K77+INDEX(Vt!J:J, MATCH(($A77+INDEX($D77*($24:$24-$35:$35), MATCH(K$50,$17:$17, 0))),Vt!$A:$A,0)+INDEX($B77+$D77*$24:$24, MATCH(K$50,$17:$17, 0))*2)))))","v":0},{"$f":"IF(($A77+INDEX($D77*($24:$24-$35:$35), MATCH(L$50,$17:$17, 0)))>$C$8,1000000000,(IF(OR(INDEX($22:$22-($A77-$D77*$35:$35), MATCH(L$50,$17:$17, 0))>0, INDEX($D77*$35:$35-$C77, MATCH(L$50,$17:$17, 0))>0),1000000000,(p!L77+n!L77+m!L77+INDEX(Vt!K:K, MATCH(($A77+INDEX($D77*($24:$24-$35:$35), MATCH(L$50,$17:$17, 0))),Vt!$A:$A,0)+INDEX($B77+$D77*$24:$24, MATCH(L$50,$17:$17, 0))*2)))))","v":0},{"$f":"IF(($A77+INDEX($D77*($24:$24-$35:$35), MATCH(M$50,$17:$17, 0)))>$C$8,1000000000,(IF(OR(INDEX($22:$22-($A77-$D77*$35:$35), MATCH(M$50,$17:$17, 0))>0, INDEX($D77*$35:$35-$C77, MATCH(M$50,$17:$17, 0))>0),1000000000,(p!M77+n!M77+m!M77+INDEX(Vt!L:L, MATCH(($A77+INDEX($D77*($24:$24-$35:$35), MATCH(M$50,$17:$17, 0))),Vt!$A:$A,0)+INDEX($B77+$D77*$24:$24, MATCH(M$50,$17:$17, 0))*2)))))","v":0},{"$f":"IF(($A77+INDEX($D77*($24:$24-$35:$35), MATCH(N$50,$17:$17, 0)))>$C$8,1000000000,(IF(OR(INDEX($22:$22-($A77-$D77*$35:$35), MATCH(N$50,$17:$17, 0))>0, INDEX($D77*$35:$35-$C77, MATCH(N$50,$17:$17, 0))>0),1000000000,(p!N77+n!N77+m!N77+INDEX(Vt!M:M, MATCH(($A77+INDEX($D77*($24:$24-$35:$35), MATCH(N$50,$17:$17, 0))),Vt!$A:$A,0)+INDEX($B77+$D77*$24:$24, MATCH(N$50,$17:$17, 0))*2)))))","v":0},{"$f":"IF(($A77+INDEX($D77*($24:$24-$35:$35), MATCH(O$50,$17:$17, 0)))>$C$8,1000000000,(IF(OR(INDEX($22:$22-($A77-$D77*$35:$35), MATCH(O$50,$17:$17, 0))>0, INDEX($D77*$35:$35-$C77, MATCH(O$50,$17:$17, 0))>0),1000000000,(p!O77+n!O77+m!O77+INDEX(Vt!N:N, MATCH(($A77+INDEX($D77*($24:$24-$35:$35), MATCH(O$50,$17:$17, 0))),Vt!$A:$A,0)+INDEX($B77+$D77*$24:$24, MATCH(O$50,$17:$17, 0))*2)))))","v":0}]
[4,3,1,1,0,{"$f":"IF(($A78+INDEX($D78*($24:$24-$35:$35), MATCH(F$50,$17:$17, 0)))>$C$8,1000000000,(IF(OR(INDEX($22:$22-($A78-$D78*$35:$35), MATCH(F$50,$17:$17, 0))>0, INDEX($D78*$35:$35-$C78, MATCH(F$50,$17:$17, 0))>0),1000000000,(p!F78+n!F78+m!F78+INDEX(Vt!E:E, MATCH(($A78+INDEX($D78*($24:$24-$35:$35), MATCH(F$50,$17:$17, 0))),Vt!$A:$A,0)+INDEX($B78+$D78*$24:$24, MATCH(F$50,$17:$17, 0))*2)))))","v":0},{"$f":"IF(($A78+INDEX($D78*($24:$24-$35:$35), MATCH(G$50,$17:$17, 0)))>$C$8,1000000000,(IF(OR(INDEX($22:$22-($A78-$D78*$35:$35), MATCH(G$50,$17:$17, 0))>0, INDEX($D78*$35:$35-$C78, MATCH(G$50,$17:$17, 0))>0),1000000000,(p!G78+n!G78+m!G78+INDEX(Vt!F:F, MATCH(($A78+INDEX($D78*($24:$24-$35:$35), MATCH(G$50,$17:$17, 0))),Vt!$A:$A,0)+INDEX($B78+$D78*$24:$24, MATCH(G$50,$17:$17, 0))*2)))))","v":0},{"$f":"IF(($A78+INDEX($D78*($24:$24-$35:$35), MATCH(H$50,$17:$17, 0)))>$C$8,1000000000,(IF(OR(INDEX($22:$22-($A78-$D78*$35:$35), MATCH(H$50,$17:$17, 0))>0, INDEX($D78*$35:$35-$C78, MATCH(H$50,$17:$17, 0))>0),1000000000,(p!H78+n!H78+m!H78+INDEX(Vt!G:G, MATCH(($A78+INDEX($D78*($24:$24-$35:$35), MATCH(H$50,$17:$17, 0))),Vt!$A:$A,0)+INDEX($B78+$D78*$24:$24, MATCH(H$50,$17:$17, 0))*2)))))","v":0},{"$f":"IF(($A78+INDEX($D78*($24:$24-$35:$35), MATCH(I$50,$17:$17, 0)))>$C$8,1000000000,(IF(OR(INDEX($22:$22-($A78-$D78*$35:$35), MATCH(I$50,$17:$17, 0))>0, INDEX($D78*$35:$35-$C78, MATCH(I$50,$17:$17, 0))>0),1000000000,(p!I78+n!I78+m!I78+INDEX(Vt!H:H, MATCH(($A78+INDEX($D78*($24:$24-$35:$35), MATCH(I$50,$17:$17, 0))),Vt!$A:$A,0)+INDEX($B78+$D78*$24:$24, MATCH(I$50,$17:$17, 0))*2)))))","v":0},{"$f":"IF(($A78+INDEX($D78*($24:$24-$35:$35), MATCH(J$50,$17:$17, 0)))>$C$8,1000000000,(IF(OR(INDEX($22:$22-($A78-$D78*$35:$35), MATCH(J$50,$17:$17, 0))>0, INDEX($D78*$35:$35-$C78, MATCH(J$50,$17:$17, 0))>0),1000000000,(p!J78+n!J78+m!J78+INDEX(Vt!I:I, MATCH(($A78+INDEX($D78*($24:$24-$35:$35), MATCH(J$50,$17:$17, 0))),Vt!$A:$A,0)+INDEX($B78+$D78*$24:$24, MATCH(J$50,$17:$17, 0))*2)))))","v":0},{"$f":"IF(($A78+INDEX($D78*($24:$24-$35:$35), MATCH(K$50,$17:$17, 0)))>$C$8,1000000000,(IF(OR(INDEX($22:$22-($A78-$D78*$35:$35), MATCH(K$50,$17:$17, 0))>0, INDEX($D78*$35:$35-$C78, MATCH(K$50,$17:$17, 0))>0),1000000000,(p!K78+n!K78+m!K78+INDEX(Vt!J:J, MATCH(($A78+INDEX($D78*($24:$24-$35:$35), MATCH(K$50,$17:$17, 0))),Vt!$A:$A,0)+INDEX($B78+$D78*$24:$24, MATCH(K$50,$17:$17, 0))*2)))))","v":0},{"$f":"IF(($A78+INDEX($D78*($24:$24-$35:$35), MATCH(L$50,$17:$17, 0)))>$C$8,1000000000,(IF(OR(INDEX($22:$22-($A78-$D78*$35:$35), MATCH(L$50,$17:$17, 0))>0, INDEX($D78*$35:$35-$C78, MATCH(L$50,$17:$17, 0))>0),1000000000,(p!L78+n!L78+m!L78+INDEX(Vt!K:K, MATCH(($A78+INDEX($D78*($24:$24-$35:$35), MATCH(L$50,$17:$17, 0))),Vt!$A:$A,0)+INDEX($B78+$D78*$24:$24, MATCH(L$50,$17:$17, 0))*2)))))","v":0},{"$f":"IF(($A78+INDEX($D78*($24:$24-$35:$35), MATCH(M$50,$17:$17, 0)))>$C$8,1000000000,(IF(OR(INDEX($22:$22-($A78-$D78*$35:$35), MATCH(M$50,$17:$17, 0))>0, INDEX($D78*$35:$35-$C78, MATCH(M$50,$17:$17, 0))>0),1000000000,(p!M78+n!M78+m!M78+INDEX(Vt!L:L, MATCH(($A78+INDEX($D78*($24:$24-$35:$35), MATCH(M$50,$17:$17, 0))),Vt!$A:$A,0)+INDEX($B78+$D78*$24:$24, MATCH(M$50,$17:$17, 0))*2)))))","v":0},{"$f":"IF(($A78+INDEX($D78*($24:$24-$35:$35), MATCH(N$50,$17:$17, 0)))>$C$8,1000000000,(IF(OR(INDEX($22:$22-($A78-$D78*$35:$35), MATCH(N$50,$17:$17, 0))>0, INDEX($D78*$35:$35-$C78, MATCH(N$50,$17:$17, 0))>0),1000000000,(p!N78+n!N78+m!N78+INDEX(Vt!M:M, MATCH(($A78+INDEX($D78*($24:$24-$35:$35), MATCH(N$50,$17:$17, 0))),Vt!$A:$A,0)+INDEX($B78+$D78*$24:$24, MATCH(N$50,$17:$17, 0))*2)))))","v":0},{"$f":"IF(($A78+INDEX($D78*($24:$24-$35:$35), MATCH(O$50,$17:$17, 0)))>$C$8,1000000000,(IF(OR(INDEX($22:$22-($A78-$D78*$35:$35), MATCH(O$50,$17:$17, 0))>0, INDEX($D78*$35:$35-$C78, MATCH(O$50,$17:$17, 0))>0),1000000000,(p!O78+n!O78+m!O78+INDEX(Vt!N:N, MATCH(($A78+INDEX($D78*($24:$24-$35:$35), MATCH(O$50,$17:$17, 0))),Vt!$A:$A,0)+INDEX($B78+$D78*$24:$24, MATCH(O$50,$17:$17, 0))*2)))))","v":0}]
[4,4,0,0,0,{"$f":"IF(($A79+INDEX($D79*($24:$24-$35:$35), MATCH(F$50,$17:$17, 0)))>$C$8,1000000000,(IF(OR(INDEX($22:$22-($A79-$D79*$35:$35), MATCH(F$50,$17:$17, 0))>0, INDEX($D79*$35:$35-$C79, MATCH(F$50,$17:$17, 0))>0),1000000000,(p!F79+n!F79+m!F79+INDEX(Vt!E:E, MATCH(($A79+INDEX($D79*($24:$24-$35:$35), MATCH(F$50,$17:$17, 0))),Vt!$A:$A,0)+INDEX($B79+$D79*$24:$24, MATCH(F$50,$17:$17, 0))*2)))))","v":0},{"$f":"IF(($A79+INDEX($D79*($24:$24-$35:$35), MATCH(G$50,$17:$17, 0)))>$C$8,1000000000,(IF(OR(INDEX($22:$22-($A79-$D79*$35:$35), MATCH(G$50,$17:$17, 0))>0, INDEX($D79*$35:$35-$C79, MATCH(G$50,$17:$17, 0))>0),1000000000,(p!G79+n!G79+m!G79+INDEX(Vt!F:F, MATCH(($A79+INDEX($D79*($24:$24-$35:$35), MATCH(G$50,$17:$17, 0))),Vt!$A:$A,0)+INDEX($B79+$D79*$24:$24, MATCH(G$50,$17:$17, 0))*2)))))","v":0},{"$f":"IF(($A79+INDEX($D79*($24:$24-$35:$35), MATCH(H$50,$17:$17, 0)))>$C$8,1000000000,(IF(OR(INDEX($22:$22-($A79-$D79*$35:$35), MATCH(H$50,$17:$17, 0))>0, INDEX($D79*$35:$35-$C79, MATCH(H$50,$17:$17, 0))>0),1000000000,(p!H79+n!H79+m!H79+INDEX(Vt!G:G, MATCH(($A79+INDEX($D79*($24:$24-$35:$35), MATCH(H$50,$17:$17, 0))),Vt!$A:$A,0)+INDEX($B79+$D79*$24:$24, MATCH(H$50,$17:$17, 0))*2)))))","v":0},{"$f":"IF(($A79+INDEX($D79*($24:$24-$35:$35), MATCH(I$50,$17:$17, 0)))>$C$8,1000000000,(IF(OR(INDEX($22:$22-($A79-$D79*$35:$35), MATCH(I$50,$17:$17, 0))>0, INDEX($D79*$35:$35-$C79, MATCH(I$50,$17:$17, 0))>0),1000000000,(p!I79+n!I79+m!I79+INDEX(Vt!H:H, MATCH(($A79+INDEX($D79*($24:$24-$35:$35), MATCH(I$50,$17:$17, 0))),Vt!$A:$A,0)+INDEX($B79+$D79*$24:$24, MATCH(I$50,$17:$17, 0))*2)))))","v":0},{"$f":"IF(($A79+INDEX($D79*($24:$24-$35:$35), MATCH(J$50,$17:$17, 0)))>$C$8,1000000000,(IF(OR(INDEX($22:$22-($A79-$D79*$35:$35), MATCH(J$50,$17:$17, 0))>0, INDEX($D79*$35:$35-$C79, MATCH(J$50,$17:$17, 0))>0),1000000000,(p!J79+n!J79+m!J79+INDEX(Vt!I:I, MATCH(($A79+INDEX($D79*($24:$24-$35:$35), MATCH(J$50,$17:$17, 0))),Vt!$A:$A,0)+INDEX($B79+$D79*$24:$24, MATCH(J$50,$17:$17, 0))*2)))))","v":0},{"$f":"IF(($A79+INDEX($D79*($24:$24-$35:$35), MATCH(K$50,$17:$17, 0)))>$C$8,1000000000,(IF(OR(INDEX($22:$22-($A79-$D79*$35:$35), MATCH(K$50,$17:$17, 0))>0, INDEX($D79*$35:$35-$C79, MATCH(K$50,$17:$17, 0))>0),1000000000,(p!K79+n!K79+m!K79+INDEX(Vt!J:J, MATCH(($A79+INDEX($D79*($24:$24-$35:$35), MATCH(K$50,$17:$17, 0))),Vt!$A:$A,0)+INDEX($B79+$D79*$24:$24, MATCH(K$50,$17:$17, 0))*2)))))","v":0},{"$f":"IF(($A79+INDEX($D79*($24:$24-$35:$35), MATCH(L$50,$17:$17, 0)))>$C$8,1000000000,(IF(OR(INDEX($22:$22-($A79-$D79*$35:$35), MATCH(L$50,$17:$17, 0))>0, INDEX($D79*$35:$35-$C79, MATCH(L$50,$17:$17, 0))>0),1000000000,(p!L79+n!L79+m!L79+INDEX(Vt!K:K, MATCH(($A79+INDEX($D79*($24:$24-$35:$35), MATCH(L$50,$17:$17, 0))),Vt!$A:$A,0)+INDEX($B79+$D79*$24:$24, MATCH(L$50,$17:$17, 0))*2)))))","v":0},{"$f":"IF(($A79+INDEX($D79*($24:$24-$35:$35), MATCH(M$50,$17:$17, 0)))>$C$8,1000000000,(IF(OR(INDEX($22:$22-($A79-$D79*$35:$35), MATCH(M$50,$17:$17, 0))>0, INDEX($D79*$35:$35-$C79, MATCH(M$50,$17:$17, 0))>0),1000000000,(p!M79+n!M79+m!M79+INDEX(Vt!L:L, MATCH(($A79+INDEX($D79*($24:$24-$35:$35), MATCH(M$50,$17:$17, 0))),Vt!$A:$A,0)+INDEX($B79+$D79*$24:$24, MATCH(M$50,$17:$17, 0))*2)))))","v":0},{"$f":"IF(($A79+INDEX($D79*($24:$24-$35:$35), MATCH(N$50,$17:$17, 0)))>$C$8,1000000000,(IF(OR(INDEX($22:$22-($A79-$D79*$35:$35), MATCH(N$50,$17:$17, 0))>0, INDEX($D79*$35:$35-$C79, MATCH(N$50,$17:$17, 0))>0),1000000000,(p!N79+n!N79+m!N79+INDEX(Vt!M:M, MATCH(($A79+INDEX($D79*($24:$24-$35:$35), MATCH(N$50,$17:$17, 0))),Vt!$A:$A,0)+INDEX($B79+$D79*$24:$24, MATCH(N$50,$17:$17, 0))*2)))))","v":0},{"$f":"IF(($A79+INDEX($D79*($24:$24-$35:$35), MATCH(O$50,$17:$17, 0)))>$C$8,1000000000,(IF(OR(INDEX($22:$22-($A79-$D79*$35:$35), MATCH(O$50,$17:$17, 0))>0, INDEX($D79*$35:$35-$C79, MATCH(O$50,$17:$17, 0))>0),1000000000,(p!O79+n!O79+m!O79+INDEX(Vt!N:N, MATCH(($A79+INDEX($D79*($24:$24-$35:$35), MATCH(O$50,$17:$17, 0))),Vt!$A:$A,0)+INDEX($B79+$D79*$24:$24, MATCH(O$50,$17:$17, 0))*2)))))","v":0}]
[4,4,0,1,0,{"$f":"IF(($A80+INDEX($D80*($24:$24-$35:$35), MATCH(F$50,$17:$17, 0)))>$C$8,1000000000,(IF(OR(INDEX($22:$22-($A80-$D80*$35:$35), MATCH(F$50,$17:$17, 0))>0, INDEX($D80*$35:$35-$C80, MATCH(F$50,$17:$17, 0))>0),1000000000,(p!F80+n!F80+m!F80+INDEX(Vt!E:E, MATCH(($A80+INDEX($D80*($24:$24-$35:$35), MATCH(F$50,$17:$17, 0))),Vt!$A:$A,0)+INDEX($B80+$D80*$24:$24, MATCH(F$50,$17:$17, 0))*2)))))","v":0},{"$f":"IF(($A80+INDEX($D80*($24:$24-$35:$35), MATCH(G$50,$17:$17, 0)))>$C$8,1000000000,(IF(OR(INDEX($22:$22-($A80-$D80*$35:$35), MATCH(G$50,$17:$17, 0))>0, INDEX($D80*$35:$35-$C80, MATCH(G$50,$17:$17, 0))>0),1000000000,(p!G80+n!G80+m!G80+INDEX(Vt!F:F, MATCH(($A80+INDEX($D80*($24:$24-$35:$35), MATCH(G$50,$17:$17, 0))),Vt!$A:$A,0)+INDEX($B80+$D80*$24:$24, MATCH(G$50,$17:$17, 0))*2)))))","v":0},{"$f":"IF(($A80+INDEX($D80*($24:$24-$35:$35), MATCH(H$50,$17:$17, 0)))>$C$8,1000000000,(IF(OR(INDEX($22:$22-($A80-$D80*$35:$35), MATCH(H$50,$17:$17, 0))>0, INDEX($D80*$35:$35-$C80, MATCH(H$50,$17:$17, 0))>0),1000000000,(p!H80+n!H80+m!H80+INDEX(Vt!G:G, MATCH(($A80+INDEX($D80*($24:$24-$35:$35), MATCH(H$50,$17:$17, 0))),Vt!$A:$A,0)+INDEX($B80+$D80*$24:$24, MATCH(H$50,$17:$17, 0))*2)))))","v":0},{"$f":"IF(($A80+INDEX($D80*($24:$24-$35:$35), MATCH(I$50,$17:$17, 0)))>$C$8,1000000000,(IF(OR(INDEX($22:$22-($A80-$D80*$35:$35), MATCH(I$50,$17:$17, 0))>0, INDEX($D80*$35:$35-$C80, MATCH(I$50,$17:$17, 0))>0),1000000000,(p!I80+n!I80+m!I80+INDEX(Vt!H:H, MATCH(($A80+INDEX($D80*($24:$24-$35:$35), MATCH(I$50,$17:$17, 0))),Vt!$A:$A,0)+INDEX($B80+$D80*$24:$24, MATCH(I$50,$17:$17, 0))*2)))))","v":0},{"$f":"IF(($A80+INDEX($D80*($24:$24-$35:$35), MATCH(J$50,$17:$17, 0)))>$C$8,1000000000,(IF(OR(INDEX($22:$22-($A80-$D80*$35:$35), MATCH(J$50,$17:$17, 0))>0, INDEX($D80*$35:$35-$C80, MATCH(J$50,$17:$17, 0))>0),1000000000,(p!J80+n!J80+m!J80+INDEX(Vt!I:I, MATCH(($A80+INDEX($D80*($24:$24-$35:$35), MATCH(J$50,$17:$17, 0))),Vt!$A:$A,0)+INDEX($B80+$D80*$24:$24, MATCH(J$50,$17:$17, 0))*2)))))","v":0},{"$f":"IF(($A80+INDEX($D80*($24:$24-$35:$35), MATCH(K$50,$17:$17, 0)))>$C$8,1000000000,(IF(OR(INDEX($22:$22-($A80-$D80*$35:$35), MATCH(K$50,$17:$17, 0))>0, INDEX($D80*$35:$35-$C80, MATCH(K$50,$17:$17, 0))>0),1000000000,(p!K80+n!K80+m!K80+INDEX(Vt!J:J, MATCH(($A80+INDEX($D80*($24:$24-$35:$35), MATCH(K$50,$17:$17, 0))),Vt!$A:$A,0)+INDEX($B80+$D80*$24:$24, MATCH(K$50,$17:$17, 0))*2)))))","v":0},{"$f":"IF(($A80+INDEX($D80*($24:$24-$35:$35), MATCH(L$50,$17:$17, 0)))>$C$8,1000000000,(IF(OR(INDEX($22:$22-($A80-$D80*$35:$35), MATCH(L$50,$17:$17, 0))>0, INDEX($D80*$35:$35-$C80, MATCH(L$50,$17:$17, 0))>0),1000000000,(p!L80+n!L80+m!L80+INDEX(Vt!K:K, MATCH(($A80+INDEX($D80*($24:$24-$35:$35), MATCH(L$50,$17:$17, 0))),Vt!$A:$A,0)+INDEX($B80+$D80*$24:$24, MATCH(L$50,$17:$17, 0))*2)))))","v":0},{"$f":"IF(($A80+INDEX($D80*($24:$24-$35:$35), MATCH(M$50,$17:$17, 0)))>$C$8,1000000000,(IF(OR(INDEX($22:$22-($A80-$D80*$35:$35), MATCH(M$50,$17:$17, 0))>0, INDEX($D80*$35:$35-$C80, MATCH(M$50,$17:$17, 0))>0),1000000000,(p!M80+n!M80+m!M80+INDEX(Vt!L:L, MATCH(($A80+INDEX($D80*($24:$24-$35:$35), MATCH(M$50,$17:$17, 0))),Vt!$A:$A,0)+INDEX($B80+$D80*$24:$24, MATCH(M$50,$17:$17, 0))*2)))))","v":0},{"$f":"IF(($A80+INDEX($D80*($24:$24-$35:$35), MATCH(N$50,$17:$17, 0)))>$C$8,1000000000,(IF(OR(INDEX($22:$22-($A80-$D80*$35:$35), MATCH(N$50,$17:$17, 0))>0, INDEX($D80*$35:$35-$C80, MATCH(N$50,$17:$17, 0))>0),1000000000,(p!N80+n!N80+m!N80+INDEX(Vt!M:M, MATCH(($A80+INDEX($D80*($24:$24-$35:$35), MATCH(N$50,$17:$17, 0))),Vt!$A:$A,0)+INDEX($B80+$D80*$24:$24, MATCH(N$50,$17:$17, 0))*2)))))","v":0},{"$f":"IF(($A80+INDEX($D80*($24:$24-$35:$35), MATCH(O$50,$17:$17, 0)))>$C$8,1000000000,(IF(OR(INDEX($22:$22-($A80-$D80*$35:$35), MATCH(O$50,$17:$17, 0))>0, INDEX($D80*$35:$35-$C80, MATCH(O$50,$17:$17, 0))>0),1000000000,(p!O80+n!O80+m!O80+INDEX(Vt!N:N, MATCH(($A80+INDEX($D80*($24:$24-$35:$35), MATCH(O$50,$17:$17, 0))),Vt!$A:$A,0)+INDEX($B80+$D80*$24:$24, MATCH(O$50,$17:$17, 0))*2)))))","v":0}]
[5,0,5,0,0,{"$f":"IF(($A81+INDEX($D81*($24:$24-$35:$35), MATCH(F$50,$17:$17, 0)))>$C$8,1000000000,(IF(OR(INDEX($22:$22-($A81-$D81*$35:$35), MATCH(F$50,$17:$17, 0))>0, INDEX($D81*$35:$35-$C81, MATCH(F$50,$17:$17, 0))>0),1000000000,(p!F81+n!F81+m!F81+INDEX(Vt!E:E, MATCH(($A81+INDEX($D81*($24:$24-$35:$35), MATCH(F$50,$17:$17, 0))),Vt!$A:$A,0)+INDEX($B81+$D81*$24:$24, MATCH(F$50,$17:$17, 0))*2)))))","v":0},{"$f":"IF(($A81+INDEX($D81*($24:$24-$35:$35), MATCH(G$50,$17:$17, 0)))>$C$8,1000000000,(IF(OR(INDEX($22:$22-($A81-$D81*$35:$35), MATCH(G$50,$17:$17, 0))>0, INDEX($D81*$35:$35-$C81, MATCH(G$50,$17:$17, 0))>0),1000000000,(p!G81+n!G81+m!G81+INDEX(Vt!F:F, MATCH(($A81+INDEX($D81*($24:$24-$35:$35), MATCH(G$50,$17:$17, 0))),Vt!$A:$A,0)+INDEX($B81+$D81*$24:$24, MATCH(G$50,$17:$17, 0))*2)))))","v":0},{"$f":"IF(($A81+INDEX($D81*($24:$24-$35:$35), MATCH(H$50,$17:$17, 0)))>$C$8,1000000000,(IF(OR(INDEX($22:$22-($A81-$D81*$35:$35), MATCH(H$50,$17:$17, 0))>0, INDEX($D81*$35:$35-$C81, MATCH(H$50,$17:$17, 0))>0),1000000000,(p!H81+n!H81+m!H81+INDEX(Vt!G:G, MATCH(($A81+INDEX($D81*($24:$24-$35:$35), MATCH(H$50,$17:$17, 0))),Vt!$A:$A,0)+INDEX($B81+$D81*$24:$24, MATCH(H$50,$17:$17, 0))*2)))))","v":0},{"$f":"IF(($A81+INDEX($D81*($24:$24-$35:$35), MATCH(I$50,$17:$17, 0)))>$C$8,1000000000,(IF(OR(INDEX($22:$22-($A81-$D81*$35:$35), MATCH(I$50,$17:$17, 0))>0, INDEX($D81*$35:$35-$C81, MATCH(I$50,$17:$17, 0))>0),1000000000,(p!I81+n!I81+m!I81+INDEX(Vt!H:H, MATCH(($A81+INDEX($D81*($24:$24-$35:$35), MATCH(I$50,$17:$17, 0))),Vt!$A:$A,0)+INDEX($B81+$D81*$24:$24, MATCH(I$50,$17:$17, 0))*2)))))","v":0},{"$f":"IF(($A81+INDEX($D81*($24:$24-$35:$35), MATCH(J$50,$17:$17, 0)))>$C$8,1000000000,(IF(OR(INDEX($22:$22-($A81-$D81*$35:$35), MATCH(J$50,$17:$17, 0))>0, INDEX($D81*$35:$35-$C81, MATCH(J$50,$17:$17, 0))>0),1000000000,(p!J81+n!J81+m!J81+INDEX(Vt!I:I, MATCH(($A81+INDEX($D81*($24:$24-$35:$35), MATCH(J$50,$17:$17, 0))),Vt!$A:$A,0)+INDEX($B81+$D81*$24:$24, MATCH(J$50,$17:$17, 0))*2)))))","v":0},{"$f":"IF(($A81+INDEX($D81*($24:$24-$35:$35), MATCH(K$50,$17:$17, 0)))>$C$8,1000000000,(IF(OR(INDEX($22:$22-($A81-$D81*$35:$35), MATCH(K$50,$17:$17, 0))>0, INDEX($D81*$35:$35-$C81, MATCH(K$50,$17:$17, 0))>0),1000000000,(p!K81+n!K81+m!K81+INDEX(Vt!J:J, MATCH(($A81+INDEX($D81*($24:$24-$35:$35), MATCH(K$50,$17:$17, 0))),Vt!$A:$A,0)+INDEX($B81+$D81*$24:$24, MATCH(K$50,$17:$17, 0))*2)))))","v":0},{"$f":"IF(($A81+INDEX($D81*($24:$24-$35:$35), MATCH(L$50,$17:$17, 0)))>$C$8,1000000000,(IF(OR(INDEX($22:$22-($A81-$D81*$35:$35), MATCH(L$50,$17:$17, 0))>0, INDEX($D81*$35:$35-$C81, MATCH(L$50,$17:$17, 0))>0),1000000000,(p!L81+n!L81+m!L81+INDEX(Vt!K:K, MATCH(($A81+INDEX($D81*($24:$24-$35:$35), MATCH(L$50,$17:$17, 0))),Vt!$A:$A,0)+INDEX($B81+$D81*$24:$24, MATCH(L$50,$17:$17, 0))*2)))))","v":0},{"$f":"IF(($A81+INDEX($D81*($24:$24-$35:$35), MATCH(M$50,$17:$17, 0)))>$C$8,1000000000,(IF(OR(INDEX($22:$22-($A81-$D81*$35:$35), MATCH(M$50,$17:$17, 0))>0, INDEX($D81*$35:$35-$C81, MATCH(M$50,$17:$17, 0))>0),1000000000,(p!M81+n!M81+m!M81+INDEX(Vt!L:L, MATCH(($A81+INDEX($D81*($24:$24-$35:$35), MATCH(M$50,$17:$17, 0))),Vt!$A:$A,0)+INDEX($B81+$D81*$24:$24, MATCH(M$50,$17:$17, 0))*2)))))","v":0},{"$f":"IF(($A81+INDEX($D81*($24:$24-$35:$35), MATCH(N$50,$17:$17, 0)))>$C$8,1000000000,(IF(OR(INDEX($22:$22-($A81-$D81*$35:$35), MATCH(N$50,$17:$17, 0))>0, INDEX($D81*$35:$35-$C81, MATCH(N$50,$17:$17, 0))>0),1000000000,(p!N81+n!N81+m!N81+INDEX(Vt!M:M, MATCH(($A81+INDEX($D81*($24:$24-$35:$35), MATCH(N$50,$17:$17, 0))),Vt!$A:$A,0)+INDEX($B81+$D81*$24:$24, MATCH(N$50,$17:$17, 0))*2)))))","v":0},{"$f":"IF(($A81+INDEX($D81*($24:$24-$35:$35), MATCH(O$50,$17:$17, 0)))>$C$8,1000000000,(IF(OR(INDEX($22:$22-($A81-$D81*$35:$35), MATCH(O$50,$17:$17, 0))>0, INDEX($D81*$35:$35-$C81, MATCH(O$50,$17:$17, 0))>0),1000000000,(p!O81+n!O81+m!O81+INDEX(Vt!N:N, MATCH(($A81+INDEX($D81*($24:$24-$35:$35), MATCH(O$50,$17:$17, 0))),Vt!$A:$A,0)+INDEX($B81+$D81*$24:$24, MATCH(O$50,$17:$17, 0))*2)))))","v":0}]
[5,0,5,1,0,{"$f":"IF(($A82+INDEX($D82*($24:$24-$35:$35), MATCH(F$50,$17:$17, 0)))>$C$8,1000000000,(IF(OR(INDEX($22:$22-($A82-$D82*$35:$35), MATCH(F$50,$17:$17, 0))>0, INDEX($D82*$35:$35-$C82, MATCH(F$50,$17:$17, 0))>0),1000000000,(p!F82+n!F82+m!F82+INDEX(Vt!E:E, MATCH(($A82+INDEX($D82*($24:$24-$35:$35), MATCH(F$50,$17:$17, 0))),Vt!$A:$A,0)+INDEX($B82+$D82*$24:$24, MATCH(F$50,$17:$17, 0))*2)))))","v":0},{"$f":"IF(($A82+INDEX($D82*($24:$24-$35:$35), MATCH(G$50,$17:$17, 0)))>$C$8,1000000000,(IF(OR(INDEX($22:$22-($A82-$D82*$35:$35), MATCH(G$50,$17:$17, 0))>0, INDEX($D82*$35:$35-$C82, MATCH(G$50,$17:$17, 0))>0),1000000000,(p!G82+n!G82+m!G82+INDEX(Vt!F:F, MATCH(($A82+INDEX($D82*($24:$24-$35:$35), MATCH(G$50,$17:$17, 0))),Vt!$A:$A,0)+INDEX($B82+$D82*$24:$24, MATCH(G$50,$17:$17, 0))*2)))))","v":0},{"$f":"IF(($A82+INDEX($D82*($24:$24-$35:$35), MATCH(H$50,$17:$17, 0)))>$C$8,1000000000,(IF(OR(INDEX($22:$22-($A82-$D82*$35:$35), MATCH(H$50,$17:$17, 0))>0, INDEX($D82*$35:$35-$C82, MATCH(H$50,$17:$17, 0))>0),1000000000,(p!H82+n!H82+m!H82+INDEX(Vt!G:G, MATCH(($A82+INDEX($D82*($24:$24-$35:$35), MATCH(H$50,$17:$17, 0))),Vt!$A:$A,0)+INDEX($B82+$D82*$24:$24, MATCH(H$50,$17:$17, 0))*2)))))","v":0},{"$f":"IF(($A82+INDEX($D82*($24:$24-$35:$35), MATCH(I$50,$17:$17, 0)))>$C$8,1000000000,(IF(OR(INDEX($22:$22-($A82-$D82*$35:$35), MATCH(I$50,$17:$17, 0))>0, INDEX($D82*$35:$35-$C82, MATCH(I$50,$17:$17, 0))>0),1000000000,(p!I82+n!I82+m!I82+INDEX(Vt!H:H, MATCH(($A82+INDEX($D82*($24:$24-$35:$35), MATCH(I$50,$17:$17, 0))),Vt!$A:$A,0)+INDEX($B82+$D82*$24:$24, MATCH(I$50,$17:$17, 0))*2)))))","v":0},{"$f":"IF(($A82+INDEX($D82*($24:$24-$35:$35), MATCH(J$50,$17:$17, 0)))>$C$8,1000000000,(IF(OR(INDEX($22:$22-($A82-$D82*$35:$35), MATCH(J$50,$17:$17, 0))>0, INDEX($D82*$35:$35-$C82, MATCH(J$50,$17:$17, 0))>0),1000000000,(p!J82+n!J82+m!J82+INDEX(Vt!I:I, MATCH(($A82+INDEX($D82*($24:$24-$35:$35), MATCH(J$50,$17:$17, 0))),Vt!$A:$A,0)+INDEX($B82+$D82*$24:$24, MATCH(J$50,$17:$17, 0))*2)))))","v":0},{"$f":"IF(($A82+INDEX($D82*($24:$24-$35:$35), MATCH(K$50,$17:$17, 0)))>$C$8,1000000000,(IF(OR(INDEX($22:$22-($A82-$D82*$35:$35), MATCH(K$50,$17:$17, 0))>0, INDEX($D82*$35:$35-$C82, MATCH(K$50,$17:$17, 0))>0),1000000000,(p!K82+n!K82+m!K82+INDEX(Vt!J:J, MATCH(($A82+INDEX($D82*($24:$24-$35:$35), MATCH(K$50,$17:$17, 0))),Vt!$A:$A,0)+INDEX($B82+$D82*$24:$24, MATCH(K$50,$17:$17, 0))*2)))))","v":0},{"$f":"IF(($A82+INDEX($D82*($24:$24-$35:$35), MATCH(L$50,$17:$17, 0)))>$C$8,1000000000,(IF(OR(INDEX($22:$22-($A82-$D82*$35:$35), MATCH(L$50,$17:$17, 0))>0, INDEX($D82*$35:$35-$C82, MATCH(L$50,$17:$17, 0))>0),1000000000,(p!L82+n!L82+m!L82+INDEX(Vt!K:K, MATCH(($A82+INDEX($D82*($24:$24-$35:$35), MATCH(L$50,$17:$17, 0))),Vt!$A:$A,0)+INDEX($B82+$D82*$24:$24, MATCH(L$50,$17:$17, 0))*2)))))","v":0},{"$f":"IF(($A82+INDEX($D82*($24:$24-$35:$35), MATCH(M$50,$17:$17, 0)))>$C$8,1000000000,(IF(OR(INDEX($22:$22-($A82-$D82*$35:$35), MATCH(M$50,$17:$17, 0))>0, INDEX($D82*$35:$35-$C82, MATCH(M$50,$17:$17, 0))>0),1000000000,(p!M82+n!M82+m!M82+INDEX(Vt!L:L, MATCH(($A82+INDEX($D82*($24:$24-$35:$35), MATCH(M$50,$17:$17, 0))),Vt!$A:$A,0)+INDEX($B82+$D82*$24:$24, MATCH(M$50,$17:$17, 0))*2)))))","v":0},{"$f":"IF(($A82+INDEX($D82*($24:$24-$35:$35), MATCH(N$50,$17:$17, 0)))>$C$8,1000000000,(IF(OR(INDEX($22:$22-($A82-$D82*$35:$35), MATCH(N$50,$17:$17, 0))>0, INDEX($D82*$35:$35-$C82, MATCH(N$50,$17:$17, 0))>0),1000000000,(p!N82+n!N82+m!N82+INDEX(Vt!M:M, MATCH(($A82+INDEX($D82*($24:$24-$35:$35), MATCH(N$50,$17:$17, 0))),Vt!$A:$A,0)+INDEX($B82+$D82*$24:$24, MATCH(N$50,$17:$17, 0))*2)))))","v":0},{"$f":"IF(($A82+INDEX($D82*($24:$24-$35:$35), MATCH(O$50,$17:$17, 0)))>$C$8,1000000000,(IF(OR(INDEX($22:$22-($A82-$D82*$35:$35), MATCH(O$50,$17:$17, 0))>0, INDEX($D82*$35:$35-$C82, MATCH(O$50,$17:$17, 0))>0),1000000000,(p!O82+n!O82+m!O82+INDEX(Vt!N:N, MATCH(($A82+INDEX($D82*($24:$24-$35:$35), MATCH(O$50,$17:$17, 0))),Vt!$A:$A,0)+INDEX($B82+$D82*$24:$24, MATCH(O$50,$17:$17, 0))*2)))))","v":0}]
[5,1,4,0,0,{"$f":"IF(($A83+INDEX($D83*($24:$24-$35:$35), MATCH(F$50,$17:$17, 0)))>$C$8,1000000000,(IF(OR(INDEX($22:$22-($A83-$D83*$35:$35), MATCH(F$50,$17:$17, 0))>0, INDEX($D83*$35:$35-$C83, MATCH(F$50,$17:$17, 0))>0),1000000000,(p!F83+n!F83+m!F83+INDEX(Vt!E:E, MATCH(($A83+INDEX($D83*($24:$24-$35:$35), MATCH(F$50,$17:$17, 0))),Vt!$A:$A,0)+INDEX($B83+$D83*$24:$24, MATCH(F$50,$17:$17, 0))*2)))))","v":0},{"$f":"IF(($A83+INDEX($D83*($24:$24-$35:$35), MATCH(G$50,$17:$17, 0)))>$C$8,1000000000,(IF(OR(INDEX($22:$22-($A83-$D83*$35:$35), MATCH(G$50,$17:$17, 0))>0, INDEX($D83*$35:$35-$C83, MATCH(G$50,$17:$17, 0))>0),1000000000,(p!G83+n!G83+m!G83+INDEX(Vt!F:F, MATCH(($A83+INDEX($D83*($24:$24-$35:$35), MATCH(G$50,$17:$17, 0))),Vt!$A:$A,0)+INDEX($B83+$D83*$24:$24, MATCH(G$50,$17:$17, 0))*2)))))","v":0},{"$f":"IF(($A83+INDEX($D83*($24:$24-$35:$35), MATCH(H$50,$17:$17, 0)))>$C$8,1000000000,(IF(OR(INDEX($22:$22-($A83-$D83*$35:$35), MATCH(H$50,$17:$17, 0))>0, INDEX($D83*$35:$35-$C83, MATCH(H$50,$17:$17, 0))>0),1000000000,(p!H83+n!H83+m!H83+INDEX(Vt!G:G, MATCH(($A83+INDEX($D83*($24:$24-$35:$35), MATCH(H$50,$17:$17, 0))),Vt!$A:$A,0)+INDEX($B83+$D83*$24:$24, MATCH(H$50,$17:$17, 0))*2)))))","v":0},{"$f":"IF(($A83+INDEX($D83*($24:$24-$35:$35), MATCH(I$50,$17:$17, 0)))>$C$8,1000000000,(IF(OR(INDEX($22:$22-($A83-$D83*$35:$35), MATCH(I$50,$17:$17, 0))>0, INDEX($D83*$35:$35-$C83, MATCH(I$50,$17:$17, 0))>0),1000000000,(p!I83+n!I83+m!I83+INDEX(Vt!H:H, MATCH(($A83+INDEX($D83*($24:$24-$35:$35), MATCH(I$50,$17:$17, 0))),Vt!$A:$A,0)+INDEX($B83+$D83*$24:$24, MATCH(I$50,$17:$17, 0))*2)))))","v":0},{"$f":"IF(($A83+INDEX($D83*($24:$24-$35:$35), MATCH(J$50,$17:$17, 0)))>$C$8,1000000000,(IF(OR(INDEX($22:$22-($A83-$D83*$35:$35), MATCH(J$50,$17:$17, 0))>0, INDEX($D83*$35:$35-$C83, MATCH(J$50,$17:$17, 0))>0),1000000000,(p!J83+n!J83+m!J83+INDEX(Vt!I:I, MATCH(($A83+INDEX($D83*($24:$24-$35:$35), MATCH(J$50,$17:$17, 0))),Vt!$A:$A,0)+INDEX($B83+$D83*$24:$24, MATCH(J$50,$17:$17, 0))*2)))))","v":0},{"$f":"IF(($A83+INDEX($D83*($24:$24-$35:$35), MATCH(K$50,$17:$17, 0)))>$C$8,1000000000,(IF(OR(INDEX($22:$22-($A83-$D83*$35:$35), MATCH(K$50,$17:$17, 0))>0, INDEX($D83*$35:$35-$C83, MATCH(K$50,$17:$17, 0))>0),1000000000,(p!K83+n!K83+m!K83+INDEX(Vt!J:J, MATCH(($A83+INDEX($D83*($24:$24-$35:$35), MATCH(K$50,$17:$17, 0))),Vt!$A:$A,0)+INDEX($B83+$D83*$24:$24, MATCH(K$50,$17:$17, 0))*2)))))","v":0},{"$f":"IF(($A83+INDEX($D83*($24:$24-$35:$35), MATCH(L$50,$17:$17, 0)))>$C$8,1000000000,(IF(OR(INDEX($22:$22-($A83-$D83*$35:$35), MATCH(L$50,$17:$17, 0))>0, INDEX($D83*$35:$35-$C83, MATCH(L$50,$17:$17, 0))>0),1000000000,(p!L83+n!L83+m!L83+INDEX(Vt!K:K, MATCH(($A83+INDEX($D83*($24:$24-$35:$35), MATCH(L$50,$17:$17, 0))),Vt!$A:$A,0)+INDEX($B83+$D83*$24:$24, MATCH(L$50,$17:$17, 0))*2)))))","v":0},{"$f":"IF(($A83+INDEX($D83*($24:$24-$35:$35), MATCH(M$50,$17:$17, 0)))>$C$8,1000000000,(IF(OR(INDEX($22:$22-($A83-$D83*$35:$35), MATCH(M$50,$17:$17, 0))>0, INDEX($D83*$35:$35-$C83, MATCH(M$50,$17:$17, 0))>0),1000000000,(p!M83+n!M83+m!M83+INDEX(Vt!L:L, MATCH(($A83+INDEX($D83*($24:$24-$35:$35), MATCH(M$50,$17:$17, 0))),Vt!$A:$A,0)+INDEX($B83+$D83*$24:$24, MATCH(M$50,$17:$17, 0))*2)))))","v":0},{"$f":"IF(($A83+INDEX($D83*($24:$24-$35:$35), MATCH(N$50,$17:$17, 0)))>$C$8,1000000000,(IF(OR(INDEX($22:$22-($A83-$D83*$35:$35), MATCH(N$50,$17:$17, 0))>0, INDEX($D83*$35:$35-$C83, MATCH(N$50,$17:$17, 0))>0),1000000000,(p!N83+n!N83+m!N83+INDEX(Vt!M:M, MATCH(($A83+INDEX($D83*($24:$24-$35:$35), MATCH(N$50,$17:$17, 0))),Vt!$A:$A,0)+INDEX($B83+$D83*$24:$24, MATCH(N$50,$17:$17, 0))*2)))))","v":0},{"$f":"IF(($A83+INDEX($D83*($24:$24-$35:$35), MATCH(O$50,$17:$17, 0)))>$C$8,1000000000,(IF(OR(INDEX($22:$22-($A83-$D83*$35:$35), MATCH(O$50,$17:$17, 0))>0, INDEX($D83*$35:$35-$C83, MATCH(O$50,$17:$17, 0))>0),1000000000,(p!O83+n!O83+m!O83+INDEX(Vt!N:N, MATCH(($A83+INDEX($D83*($24:$24-$35:$35), MATCH(O$50,$17:$17, 0))),Vt!$A:$A,0)+INDEX($B83+$D83*$24:$24, MATCH(O$50,$17:$17, 0))*2)))))","v":0}]
[5,1,4,1,0,{"$f":"IF(($A84+INDEX($D84*($24:$24-$35:$35), MATCH(F$50,$17:$17, 0)))>$C$8,1000000000,(IF(OR(INDEX($22:$22-($A84-$D84*$35:$35), MATCH(F$50,$17:$17, 0))>0, INDEX($D84*$35:$35-$C84, MATCH(F$50,$17:$17, 0))>0),1000000000,(p!F84+n!F84+m!F84+INDEX(Vt!E:E, MATCH(($A84+INDEX($D84*($24:$24-$35:$35), MATCH(F$50,$17:$17, 0))),Vt!$A:$A,0)+INDEX($B84+$D84*$24:$24, MATCH(F$50,$17:$17, 0))*2)))))","v":0},{"$f":"IF(($A84+INDEX($D84*($24:$24-$35:$35), MATCH(G$50,$17:$17, 0)))>$C$8,1000000000,(IF(OR(INDEX($22:$22-($A84-$D84*$35:$35), MATCH(G$50,$17:$17, 0))>0, INDEX($D84*$35:$35-$C84, MATCH(G$50,$17:$17, 0))>0),1000000000,(p!G84+n!G84+m!G84+INDEX(Vt!F:F, MATCH(($A84+INDEX($D84*($24:$24-$35:$35), MATCH(G$50,$17:$17, 0))),Vt!$A:$A,0)+INDEX($B84+$D84*$24:$24, MATCH(G$50,$17:$17, 0))*2)))))","v":0},{"$f":"IF(($A84+INDEX($D84*($24:$24-$35:$35), MATCH(H$50,$17:$17, 0)))>$C$8,1000000000,(IF(OR(INDEX($22:$22-($A84-$D84*$35:$35), MATCH(H$50,$17:$17, 0))>0, INDEX($D84*$35:$35-$C84, MATCH(H$50,$17:$17, 0))>0),1000000000,(p!H84+n!H84+m!H84+INDEX(Vt!G:G, MATCH(($A84+INDEX($D84*($24:$24-$35:$35), MATCH(H$50,$17:$17, 0))),Vt!$A:$A,0)+INDEX($B84+$D84*$24:$24, MATCH(H$50,$17:$17, 0))*2)))))","v":0},{"$f":"IF(($A84+INDEX($D84*($24:$24-$35:$35), MATCH(I$50,$17:$17, 0)))>$C$8,1000000000,(IF(OR(INDEX($22:$22-($A84-$D84*$35:$35), MATCH(I$50,$17:$17, 0))>0, INDEX($D84*$35:$35-$C84, MATCH(I$50,$17:$17, 0))>0),1000000000,(p!I84+n!I84+m!I84+INDEX(Vt!H:H, MATCH(($A84+INDEX($D84*($24:$24-$35:$35), MATCH(I$50,$17:$17, 0))),Vt!$A:$A,0)+INDEX($B84+$D84*$24:$24, MATCH(I$50,$17:$17, 0))*2)))))","v":0},{"$f":"IF(($A84+INDEX($D84*($24:$24-$35:$35), MATCH(J$50,$17:$17, 0)))>$C$8,1000000000,(IF(OR(INDEX($22:$22-($A84-$D84*$35:$35), MATCH(J$50,$17:$17, 0))>0, INDEX($D84*$35:$35-$C84, MATCH(J$50,$17:$17, 0))>0),1000000000,(p!J84+n!J84+m!J84+INDEX(Vt!I:I, MATCH(($A84+INDEX($D84*($24:$24-$35:$35), MATCH(J$50,$17:$17, 0))),Vt!$A:$A,0)+INDEX($B84+$D84*$24:$24, MATCH(J$50,$17:$17, 0))*2)))))","v":0},{"$f":"IF(($A84+INDEX($D84*($24:$24-$35:$35), MATCH(K$50,$17:$17, 0)))>$C$8,1000000000,(IF(OR(INDEX($22:$22-($A84-$D84*$35:$35), MATCH(K$50,$17:$17, 0))>0, INDEX($D84*$35:$35-$C84, MATCH(K$50,$17:$17, 0))>0),1000000000,(p!K84+n!K84+m!K84+INDEX(Vt!J:J, MATCH(($A84+INDEX($D84*($24:$24-$35:$35), MATCH(K$50,$17:$17, 0))),Vt!$A:$A,0)+INDEX($B84+$D84*$24:$24, MATCH(K$50,$17:$17, 0))*2)))))","v":0},{"$f":"IF(($A84+INDEX($D84*($24:$24-$35:$35), MATCH(L$50,$17:$17, 0)))>$C$8,1000000000,(IF(OR(INDEX($22:$22-($A84-$D84*$35:$35), MATCH(L$50,$17:$17, 0))>0, INDEX($D84*$35:$35-$C84, MATCH(L$50,$17:$17, 0))>0),1000000000,(p!L84+n!L84+m!L84+INDEX(Vt!K:K, MATCH(($A84+INDEX($D84*($24:$24-$35:$35), MATCH(L$50,$17:$17, 0))),Vt!$A:$A,0)+INDEX($B84+$D84*$24:$24, MATCH(L$50,$17:$17, 0))*2)))))","v":0},{"$f":"IF(($A84+INDEX($D84*($24:$24-$35:$35), MATCH(M$50,$17:$17, 0)))>$C$8,1000000000,(IF(OR(INDEX($22:$22-($A84-$D84*$35:$35), MATCH(M$50,$17:$17, 0))>0, INDEX($D84*$35:$35-$C84, MATCH(M$50,$17:$17, 0))>0),1000000000,(p!M84+n!M84+m!M84+INDEX(Vt!L:L, MATCH(($A84+INDEX($D84*($24:$24-$35:$35), MATCH(M$50,$17:$17, 0))),Vt!$A:$A,0)+INDEX($B84+$D84*$24:$24, MATCH(M$50,$17:$17, 0))*2)))))","v":0},{"$f":"IF(($A84+INDEX($D84*($24:$24-$35:$35), MATCH(N$50,$17:$17, 0)))>$C$8,1000000000,(IF(OR(INDEX($22:$22-($A84-$D84*$35:$35), MATCH(N$50,$17:$17, 0))>0, INDEX($D84*$35:$35-$C84, MATCH(N$50,$17:$17, 0))>0),1000000000,(p!N84+n!N84+m!N84+INDEX(Vt!M:M, MATCH(($A84+INDEX($D84*($24:$24-$35:$35), MATCH(N$50,$17:$17, 0))),Vt!$A:$A,0)+INDEX($B84+$D84*$24:$24, MATCH(N$50,$17:$17, 0))*2)))))","v":0},{"$f":"IF(($A84+INDEX($D84*($24:$24-$35:$35), MATCH(O$50,$17:$17, 0)))>$C$8,1000000000,(IF(OR(INDEX($22:$22-($A84-$D84*$35:$35), MATCH(O$50,$17:$17, 0))>0, INDEX($D84*$35:$35-$C84, MATCH(O$50,$17:$17, 0))>0),1000000000,(p!O84+n!O84+m!O84+INDEX(Vt!N:N, MATCH(($A84+INDEX($D84*($24:$24-$35:$35), MATCH(O$50,$17:$17, 0))),Vt!$A:$A,0)+INDEX($B84+$D84*$24:$24, MATCH(O$50,$17:$17, 0))*2)))))","v":0}]
[5,2,3,0,0,{"$f":"IF(($A85+INDEX($D85*($24:$24-$35:$35), MATCH(F$50,$17:$17, 0)))>$C$8,1000000000,(IF(OR(INDEX($22:$22-($A85-$D85*$35:$35), MATCH(F$50,$17:$17, 0))>0, INDEX($D85*$35:$35-$C85, MATCH(F$50,$17:$17, 0))>0),1000000000,(p!F85+n!F85+m!F85+INDEX(Vt!E:E, MATCH(($A85+INDEX($D85*($24:$24-$35:$35), MATCH(F$50,$17:$17, 0))),Vt!$A:$A,0)+INDEX($B85+$D85*$24:$24, MATCH(F$50,$17:$17, 0))*2)))))","v":0},{"$f":"IF(($A85+INDEX($D85*($24:$24-$35:$35), MATCH(G$50,$17:$17, 0)))>$C$8,1000000000,(IF(OR(INDEX($22:$22-($A85-$D85*$35:$35), MATCH(G$50,$17:$17, 0))>0, INDEX($D85*$35:$35-$C85, MATCH(G$50,$17:$17, 0))>0),1000000000,(p!G85+n!G85+m!G85+INDEX(Vt!F:F, MATCH(($A85+INDEX($D85*($24:$24-$35:$35), MATCH(G$50,$17:$17, 0))),Vt!$A:$A,0)+INDEX($B85+$D85*$24:$24, MATCH(G$50,$17:$17, 0))*2)))))","v":0},{"$f":"IF(($A85+INDEX($D85*($24:$24-$35:$35), MATCH(H$50,$17:$17, 0)))>$C$8,1000000000,(IF(OR(INDEX($22:$22-($A85-$D85*$35:$35), MATCH(H$50,$17:$17, 0))>0, INDEX($D85*$35:$35-$C85, MATCH(H$50,$17:$17, 0))>0),1000000000,(p!H85+n!H85+m!H85+INDEX(Vt!G:G, MATCH(($A85+INDEX($D85*($24:$24-$35:$35), MATCH(H$50,$17:$17, 0))),Vt!$A:$A,0)+INDEX($B85+$D85*$24:$24, MATCH(H$50,$17:$17, 0))*2)))))","v":0},{"$f":"IF(($A85+INDEX($D85*($24:$24-$35:$35), MATCH(I$50,$17:$17, 0)))>$C$8,1000000000,(IF(OR(INDEX($22:$22-($A85-$D85*$35:$35), MATCH(I$50,$17:$17, 0))>0, INDEX($D85*$35:$35-$C85, MATCH(I$50,$17:$17, 0))>0),1000000000,(p!I85+n!I85+m!I85+INDEX(Vt!H:H, MATCH(($A85+INDEX($D85*($24:$24-$35:$35), MATCH(I$50,$17:$17, 0))),Vt!$A:$A,0)+INDEX($B85+$D85*$24:$24, MATCH(I$50,$17:$17, 0))*2)))))","v":0},{"$f":"IF(($A85+INDEX($D85*($24:$24-$35:$35), MATCH(J$50,$17:$17, 0)))>$C$8,1000000000,(IF(OR(INDEX($22:$22-($A85-$D85*$35:$35), MATCH(J$50,$17:$17, 0))>0, INDEX($D85*$35:$35-$C85, MATCH(J$50,$17:$17, 0))>0),1000000000,(p!J85+n!J85+m!J85+INDEX(Vt!I:I, MATCH(($A85+INDEX($D85*($24:$24-$35:$35), MATCH(J$50,$17:$17, 0))),Vt!$A:$A,0)+INDEX($B85+$D85*$24:$24, MATCH(J$50,$17:$17, 0))*2)))))","v":0},{"$f":"IF(($A85+INDEX($D85*($24:$24-$35:$35), MATCH(K$50,$17:$17, 0)))>$C$8,1000000000,(IF(OR(INDEX($22:$22-($A85-$D85*$35:$35), MATCH(K$50,$17:$17, 0))>0, INDEX($D85*$35:$35-$C85, MATCH(K$50,$17:$17, 0))>0),1000000000,(p!K85+n!K85+m!K85+INDEX(Vt!J:J, MATCH(($A85+INDEX($D85*($24:$24-$35:$35), MATCH(K$50,$17:$17, 0))),Vt!$A:$A,0)+INDEX($B85+$D85*$24:$24, MATCH(K$50,$17:$17, 0))*2)))))","v":0},{"$f":"IF(($A85+INDEX($D85*($24:$24-$35:$35), MATCH(L$50,$17:$17, 0)))>$C$8,1000000000,(IF(OR(INDEX($22:$22-($A85-$D85*$35:$35), MATCH(L$50,$17:$17, 0))>0, INDEX($D85*$35:$35-$C85, MATCH(L$50,$17:$17, 0))>0),1000000000,(p!L85+n!L85+m!L85+INDEX(Vt!K:K, MATCH(($A85+INDEX($D85*($24:$24-$35:$35), MATCH(L$50,$17:$17, 0))),Vt!$A:$A,0)+INDEX($B85+$D85*$24:$24, MATCH(L$50,$17:$17, 0))*2)))))","v":0},{"$f":"IF(($A85+INDEX($D85*($24:$24-$35:$35), MATCH(M$50,$17:$17, 0)))>$C$8,1000000000,(IF(OR(INDEX($22:$22-($A85-$D85*$35:$35), MATCH(M$50,$17:$17, 0))>0, INDEX($D85*$35:$35-$C85, MATCH(M$50,$17:$17, 0))>0),1000000000,(p!M85+n!M85+m!M85+INDEX(Vt!L:L, MATCH(($A85+INDEX($D85*($24:$24-$35:$35), MATCH(M$50,$17:$17, 0))),Vt!$A:$A,0)+INDEX($B85+$D85*$24:$24, MATCH(M$50,$17:$17, 0))*2)))))","v":0},{"$f":"IF(($A85+INDEX($D85*($24:$24-$35:$35), MATCH(N$50,$17:$17, 0)))>$C$8,1000000000,(IF(OR(INDEX($22:$22-($A85-$D85*$35:$35), MATCH(N$50,$17:$17, 0))>0, INDEX($D85*$35:$35-$C85, MATCH(N$50,$17:$17, 0))>0),1000000000,(p!N85+n!N85+m!N85+INDEX(Vt!M:M, MATCH(($A85+INDEX($D85*($24:$24-$35:$35), MATCH(N$50,$17:$17, 0))),Vt!$A:$A,0)+INDEX($B85+$D85*$24:$24, MATCH(N$50,$17:$17, 0))*2)))))","v":0},{"$f":"IF(($A85+INDEX($D85*($24:$24-$35:$35), MATCH(O$50,$17:$17, 0)))>$C$8,1000000000,(IF(OR(INDEX($22:$22-($A85-$D85*$35:$35), MATCH(O$50,$17:$17, 0))>0, INDEX($D85*$35:$35-$C85, MATCH(O$50,$17:$17, 0))>0),1000000000,(p!O85+n!O85+m!O85+INDEX(Vt!N:N, MATCH(($A85+INDEX($D85*($24:$24-$35:$35), MATCH(O$50,$17:$17, 0))),Vt!$A:$A,0)+INDEX($B85+$D85*$24:$24, MATCH(O$50,$17:$17, 0))*2)))))","v":0}]
[5,2,3,1,0,{"$f":"IF(($A86+INDEX($D86*($24:$24-$35:$35), MATCH(F$50,$17:$17, 0)))>$C$8,1000000000,(IF(OR(INDEX($22:$22-($A86-$D86*$35:$35), MATCH(F$50,$17:$17, 0))>0, INDEX($D86*$35:$35-$C86, MATCH(F$50,$17:$17, 0))>0),1000000000,(p!F86+n!F86+m!F86+INDEX(Vt!E:E, MATCH(($A86+INDEX($D86*($24:$24-$35:$35), MATCH(F$50,$17:$17, 0))),Vt!$A:$A,0)+INDEX($B86+$D86*$24:$24, MATCH(F$50,$17:$17, 0))*2)))))","v":0},{"$f":"IF(($A86+INDEX($D86*($24:$24-$35:$35), MATCH(G$50,$17:$17, 0)))>$C$8,1000000000,(IF(OR(INDEX($22:$22-($A86-$D86*$35:$35), MATCH(G$50,$17:$17, 0))>0, INDEX($D86*$35:$35-$C86, MATCH(G$50,$17:$17, 0))>0),1000000000,(p!G86+n!G86+m!G86+INDEX(Vt!F:F, MATCH(($A86+INDEX($D86*($24:$24-$35:$35), MATCH(G$50,$17:$17, 0))),Vt!$A:$A,0)+INDEX($B86+$D86*$24:$24, MATCH(G$50,$17:$17, 0))*2)))))","v":0},{"$f":"IF(($A86+INDEX($D86*($24:$24-$35:$35), MATCH(H$50,$17:$17, 0)))>$C$8,1000000000,(IF(OR(INDEX($22:$22-($A86-$D86*$35:$35), MATCH(H$50,$17:$17, 0))>0, INDEX($D86*$35:$35-$C86, MATCH(H$50,$17:$17, 0))>0),1000000000,(p!H86+n!H86+m!H86+INDEX(Vt!G:G, MATCH(($A86+INDEX($D86*($24:$24-$35:$35), MATCH(H$50,$17:$17, 0))),Vt!$A:$A,0)+INDEX($B86+$D86*$24:$24, MATCH(H$50,$17:$17, 0))*2)))))","v":0},{"$f":"IF(($A86+INDEX($D86*($24:$24-$35:$35), MATCH(I$50,$17:$17, 0)))>$C$8,1000000000,(IF(OR(INDEX($22:$22-($A86-$D86*$35:$35), MATCH(I$50,$17:$17, 0))>0, INDEX($D86*$35:$35-$C86, MATCH(I$50,$17:$17, 0))>0),1000000000,(p!I86+n!I86+m!I86+INDEX(Vt!H:H, MATCH(($A86+INDEX($D86*($24:$24-$35:$35), MATCH(I$50,$17:$17, 0))),Vt!$A:$A,0)+INDEX($B86+$D86*$24:$24, MATCH(I$50,$17:$17, 0))*2)))))","v":0},{"$f":"IF(($A86+INDEX($D86*($24:$24-$35:$35), MATCH(J$50,$17:$17, 0)))>$C$8,1000000000,(IF(OR(INDEX($22:$22-($A86-$D86*$35:$35), MATCH(J$50,$17:$17, 0))>0, INDEX($D86*$35:$35-$C86, MATCH(J$50,$17:$17, 0))>0),1000000000,(p!J86+n!J86+m!J86+INDEX(Vt!I:I, MATCH(($A86+INDEX($D86*($24:$24-$35:$35), MATCH(J$50,$17:$17, 0))),Vt!$A:$A,0)+INDEX($B86+$D86*$24:$24, MATCH(J$50,$17:$17, 0))*2)))))","v":0},{"$f":"IF(($A86+INDEX($D86*($24:$24-$35:$35), MATCH(K$50,$17:$17, 0)))>$C$8,1000000000,(IF(OR(INDEX($22:$22-($A86-$D86*$35:$35), MATCH(K$50,$17:$17, 0))>0, INDEX($D86*$35:$35-$C86, MATCH(K$50,$17:$17, 0))>0),1000000000,(p!K86+n!K86+m!K86+INDEX(Vt!J:J, MATCH(($A86+INDEX($D86*($24:$24-$35:$35), MATCH(K$50,$17:$17, 0))),Vt!$A:$A,0)+INDEX($B86+$D86*$24:$24, MATCH(K$50,$17:$17, 0))*2)))))","v":0},{"$f":"IF(($A86+INDEX($D86*($24:$24-$35:$35), MATCH(L$50,$17:$17, 0)))>$C$8,1000000000,(IF(OR(INDEX($22:$22-($A86-$D86*$35:$35), MATCH(L$50,$17:$17, 0))>0, INDEX($D86*$35:$35-$C86, MATCH(L$50,$17:$17, 0))>0),1000000000,(p!L86+n!L86+m!L86+INDEX(Vt!K:K, MATCH(($A86+INDEX($D86*($24:$24-$35:$35), MATCH(L$50,$17:$17, 0))),Vt!$A:$A,0)+INDEX($B86+$D86*$24:$24, MATCH(L$50,$17:$17, 0))*2)))))","v":0},{"$f":"IF(($A86+INDEX($D86*($24:$24-$35:$35), MATCH(M$50,$17:$17, 0)))>$C$8,1000000000,(IF(OR(INDEX($22:$22-($A86-$D86*$35:$35), MATCH(M$50,$17:$17, 0))>0, INDEX($D86*$35:$35-$C86, MATCH(M$50,$17:$17, 0))>0),1000000000,(p!M86+n!M86+m!M86+INDEX(Vt!L:L, MATCH(($A86+INDEX($D86*($24:$24-$35:$35), MATCH(M$50,$17:$17, 0))),Vt!$A:$A,0)+INDEX($B86+$D86*$24:$24, MATCH(M$50,$17:$17, 0))*2)))))","v":0},{"$f":"IF(($A86+INDEX($D86*($24:$24-$35:$35), MATCH(N$50,$17:$17, 0)))>$C$8,1000000000,(IF(OR(INDEX($22:$22-($A86-$D86*$35:$35), MATCH(N$50,$17:$17, 0))>0, INDEX($D86*$35:$35-$C86, MATCH(N$50,$17:$17, 0))>0),1000000000,(p!N86+n!N86+m!N86+INDEX(Vt!M:M, MATCH(($A86+INDEX($D86*($24:$24-$35:$35), MATCH(N$50,$17:$17, 0))),Vt!$A:$A,0)+INDEX($B86+$D86*$24:$24, MATCH(N$50,$17:$17, 0))*2)))))","v":0},{"$f":"IF(($A86+INDEX($D86*($24:$24-$35:$35), MATCH(O$50,$17:$17, 0)))>$C$8,1000000000,(IF(OR(INDEX($22:$22-($A86-$D86*$35:$35), MATCH(O$50,$17:$17, 0))>0, INDEX($D86*$35:$35-$C86, MATCH(O$50,$17:$17, 0))>0),1000000000,(p!O86+n!O86+m!O86+INDEX(Vt!N:N, MATCH(($A86+INDEX($D86*($24:$24-$35:$35), MATCH(O$50,$17:$17, 0))),Vt!$A:$A,0)+INDEX($B86+$D86*$24:$24, MATCH(O$50,$17:$17, 0))*2)))))","v":0}]
[5,3,2,0,0,{"$f":"IF(($A87+INDEX($D87*($24:$24-$35:$35), MATCH(F$50,$17:$17, 0)))>$C$8,1000000000,(IF(OR(INDEX($22:$22-($A87-$D87*$35:$35), MATCH(F$50,$17:$17, 0))>0, INDEX($D87*$35:$35-$C87, MATCH(F$50,$17:$17, 0))>0),1000000000,(p!F87+n!F87+m!F87+INDEX(Vt!E:E, MATCH(($A87+INDEX($D87*($24:$24-$35:$35), MATCH(F$50,$17:$17, 0))),Vt!$A:$A,0)+INDEX($B87+$D87*$24:$24, MATCH(F$50,$17:$17, 0))*2)))))","v":0},{"$f":"IF(($A87+INDEX($D87*($24:$24-$35:$35), MATCH(G$50,$17:$17, 0)))>$C$8,1000000000,(IF(OR(INDEX($22:$22-($A87-$D87*$35:$35), MATCH(G$50,$17:$17, 0))>0, INDEX($D87*$35:$35-$C87, MATCH(G$50,$17:$17, 0))>0),1000000000,(p!G87+n!G87+m!G87+INDEX(Vt!F:F, MATCH(($A87+INDEX($D87*($24:$24-$35:$35), MATCH(G$50,$17:$17, 0))),Vt!$A:$A,0)+INDEX($B87+$D87*$24:$24, MATCH(G$50,$17:$17, 0))*2)))))","v":0},{"$f":"IF(($A87+INDEX($D87*($24:$24-$35:$35), MATCH(H$50,$17:$17, 0)))>$C$8,1000000000,(IF(OR(INDEX($22:$22-($A87-$D87*$35:$35), MATCH(H$50,$17:$17, 0))>0, INDEX($D87*$35:$35-$C87, MATCH(H$50,$17:$17, 0))>0),1000000000,(p!H87+n!H87+m!H87+INDEX(Vt!G:G, MATCH(($A87+INDEX($D87*($24:$24-$35:$35), MATCH(H$50,$17:$17, 0))),Vt!$A:$A,0)+INDEX($B87+$D87*$24:$24, MATCH(H$50,$17:$17, 0))*2)))))","v":0},{"$f":"IF(($A87+INDEX($D87*($24:$24-$35:$35), MATCH(I$50,$17:$17, 0)))>$C$8,1000000000,(IF(OR(INDEX($22:$22-($A87-$D87*$35:$35), MATCH(I$50,$17:$17, 0))>0, INDEX($D87*$35:$35-$C87, MATCH(I$50,$17:$17, 0))>0),1000000000,(p!I87+n!I87+m!I87+INDEX(Vt!H:H, MATCH(($A87+INDEX($D87*($24:$24-$35:$35), MATCH(I$50,$17:$17, 0))),Vt!$A:$A,0)+INDEX($B87+$D87*$24:$24, MATCH(I$50,$17:$17, 0))*2)))))","v":0},{"$f":"IF(($A87+INDEX($D87*($24:$24-$35:$35), MATCH(J$50,$17:$17, 0)))>$C$8,1000000000,(IF(OR(INDEX($22:$22-($A87-$D87*$35:$35), MATCH(J$50,$17:$17, 0))>0, INDEX($D87*$35:$35-$C87, MATCH(J$50,$17:$17, 0))>0),1000000000,(p!J87+n!J87+m!J87+INDEX(Vt!I:I, MATCH(($A87+INDEX($D87*($24:$24-$35:$35), MATCH(J$50,$17:$17, 0))),Vt!$A:$A,0)+INDEX($B87+$D87*$24:$24, MATCH(J$50,$17:$17, 0))*2)))))","v":0},{"$f":"IF(($A87+INDEX($D87*($24:$24-$35:$35), MATCH(K$50,$17:$17, 0)))>$C$8,1000000000,(IF(OR(INDEX($22:$22-($A87-$D87*$35:$35), MATCH(K$50,$17:$17, 0))>0, INDEX($D87*$35:$35-$C87, MATCH(K$50,$17:$17, 0))>0),1000000000,(p!K87+n!K87+m!K87+INDEX(Vt!J:J, MATCH(($A87+INDEX($D87*($24:$24-$35:$35), MATCH(K$50,$17:$17, 0))),Vt!$A:$A,0)+INDEX($B87+$D87*$24:$24, MATCH(K$50,$17:$17, 0))*2)))))","v":0},{"$f":"IF(($A87+INDEX($D87*($24:$24-$35:$35), MATCH(L$50,$17:$17, 0)))>$C$8,1000000000,(IF(OR(INDEX($22:$22-($A87-$D87*$35:$35), MATCH(L$50,$17:$17, 0))>0, INDEX($D87*$35:$35-$C87, MATCH(L$50,$17:$17, 0))>0),1000000000,(p!L87+n!L87+m!L87+INDEX(Vt!K:K, MATCH(($A87+INDEX($D87*($24:$24-$35:$35), MATCH(L$50,$17:$17, 0))),Vt!$A:$A,0)+INDEX($B87+$D87*$24:$24, MATCH(L$50,$17:$17, 0))*2)))))","v":0},{"$f":"IF(($A87+INDEX($D87*($24:$24-$35:$35), MATCH(M$50,$17:$17, 0)))>$C$8,1000000000,(IF(OR(INDEX($22:$22-($A87-$D87*$35:$35), MATCH(M$50,$17:$17, 0))>0, INDEX($D87*$35:$35-$C87, MATCH(M$50,$17:$17, 0))>0),1000000000,(p!M87+n!M87+m!M87+INDEX(Vt!L:L, MATCH(($A87+INDEX($D87*($24:$24-$35:$35), MATCH(M$50,$17:$17, 0))),Vt!$A:$A,0)+INDEX($B87+$D87*$24:$24, MATCH(M$50,$17:$17, 0))*2)))))","v":0},{"$f":"IF(($A87+INDEX($D87*($24:$24-$35:$35), MATCH(N$50,$17:$17, 0)))>$C$8,1000000000,(IF(OR(INDEX($22:$22-($A87-$D87*$35:$35), MATCH(N$50,$17:$17, 0))>0, INDEX($D87*$35:$35-$C87, MATCH(N$50,$17:$17, 0))>0),1000000000,(p!N87+n!N87+m!N87+INDEX(Vt!M:M, MATCH(($A87+INDEX($D87*($24:$24-$35:$35), MATCH(N$50,$17:$17, 0))),Vt!$A:$A,0)+INDEX($B87+$D87*$24:$24, MATCH(N$50,$17:$17, 0))*2)))))","v":0},{"$f":"IF(($A87+INDEX($D87*($24:$24-$35:$35), MATCH(O$50,$17:$17, 0)))>$C$8,1000000000,(IF(OR(INDEX($22:$22-($A87-$D87*$35:$35), MATCH(O$50,$17:$17, 0))>0, INDEX($D87*$35:$35-$C87, MATCH(O$50,$17:$17, 0))>0),1000000000,(p!O87+n!O87+m!O87+INDEX(Vt!N:N, MATCH(($A87+INDEX($D87*($24:$24-$35:$35), MATCH(O$50,$17:$17, 0))),Vt!$A:$A,0)+INDEX($B87+$D87*$24:$24, MATCH(O$50,$17:$17, 0))*2)))))","v":0}]
[5,3,2,1,0,{"$f":"IF(($A88+INDEX($D88*($24:$24-$35:$35), MATCH(F$50,$17:$17, 0)))>$C$8,1000000000,(IF(OR(INDEX($22:$22-($A88-$D88*$35:$35), MATCH(F$50,$17:$17, 0))>0, INDEX($D88*$35:$35-$C88, MATCH(F$50,$17:$17, 0))>0),1000000000,(p!F88+n!F88+m!F88+INDEX(Vt!E:E, MATCH(($A88+INDEX($D88*($24:$24-$35:$35), MATCH(F$50,$17:$17, 0))),Vt!$A:$A,0)+INDEX($B88+$D88*$24:$24, MATCH(F$50,$17:$17, 0))*2)))))","v":0},{"$f":"IF(($A88+INDEX($D88*($24:$24-$35:$35), MATCH(G$50,$17:$17, 0)))>$C$8,1000000000,(IF(OR(INDEX($22:$22-($A88-$D88*$35:$35), MATCH(G$50,$17:$17, 0))>0, INDEX($D88*$35:$35-$C88, MATCH(G$50,$17:$17, 0))>0),1000000000,(p!G88+n!G88+m!G88+INDEX(Vt!F:F, MATCH(($A88+INDEX($D88*($24:$24-$35:$35), MATCH(G$50,$17:$17, 0))),Vt!$A:$A,0)+INDEX($B88+$D88*$24:$24, MATCH(G$50,$17:$17, 0))*2)))))","v":0},{"$f":"IF(($A88+INDEX($D88*($24:$24-$35:$35), MATCH(H$50,$17:$17, 0)))>$C$8,1000000000,(IF(OR(INDEX($22:$22-($A88-$D88*$35:$35), MATCH(H$50,$17:$17, 0))>0, INDEX($D88*$35:$35-$C88, MATCH(H$50,$17:$17, 0))>0),1000000000,(p!H88+n!H88+m!H88+INDEX(Vt!G:G, MATCH(($A88+INDEX($D88*($24:$24-$35:$35), MATCH(H$50,$17:$17, 0))),Vt!$A:$A,0)+INDEX($B88+$D88*$24:$24, MATCH(H$50,$17:$17, 0))*2)))))","v":0},{"$f":"IF(($A88+INDEX($D88*($24:$24-$35:$35), MATCH(I$50,$17:$17, 0)))>$C$8,1000000000,(IF(OR(INDEX($22:$22-($A88-$D88*$35:$35), MATCH(I$50,$17:$17, 0))>0, INDEX($D88*$35:$35-$C88, MATCH(I$50,$17:$17, 0))>0),1000000000,(p!I88+n!I88+m!I88+INDEX(Vt!H:H, MATCH(($A88+INDEX($D88*($24:$24-$35:$35), MATCH(I$50,$17:$17, 0))),Vt!$A:$A,0)+INDEX($B88+$D88*$24:$24, MATCH(I$50,$17:$17, 0))*2)))))","v":0},{"$f":"IF(($A88+INDEX($D88*($24:$24-$35:$35), MATCH(J$50,$17:$17, 0)))>$C$8,1000000000,(IF(OR(INDEX($22:$22-($A88-$D88*$35:$35), MATCH(J$50,$17:$17, 0))>0, INDEX($D88*$35:$35-$C88, MATCH(J$50,$17:$17, 0))>0),1000000000,(p!J88+n!J88+m!J88+INDEX(Vt!I:I, MATCH(($A88+INDEX($D88*($24:$24-$35:$35), MATCH(J$50,$17:$17, 0))),Vt!$A:$A,0)+INDEX($B88+$D88*$24:$24, MATCH(J$50,$17:$17, 0))*2)))))","v":0},{"$f":"IF(($A88+INDEX($D88*($24:$24-$35:$35), MATCH(K$50,$17:$17, 0)))>$C$8,1000000000,(IF(OR(INDEX($22:$22-($A88-$D88*$35:$35), MATCH(K$50,$17:$17, 0))>0, INDEX($D88*$35:$35-$C88, MATCH(K$50,$17:$17, 0))>0),1000000000,(p!K88+n!K88+m!K88+INDEX(Vt!J:J, MATCH(($A88+INDEX($D88*($24:$24-$35:$35), MATCH(K$50,$17:$17, 0))),Vt!$A:$A,0)+INDEX($B88+$D88*$24:$24, MATCH(K$50,$17:$17, 0))*2)))))","v":0},{"$f":"IF(($A88+INDEX($D88*($24:$24-$35:$35), MATCH(L$50,$17:$17, 0)))>$C$8,1000000000,(IF(OR(INDEX($22:$22-($A88-$D88*$35:$35), MATCH(L$50,$17:$17, 0))>0, INDEX($D88*$35:$35-$C88, MATCH(L$50,$17:$17, 0))>0),1000000000,(p!L88+n!L88+m!L88+INDEX(Vt!K:K, MATCH(($A88+INDEX($D88*($24:$24-$35:$35), MATCH(L$50,$17:$17, 0))),Vt!$A:$A,0)+INDEX($B88+$D88*$24:$24, MATCH(L$50,$17:$17, 0))*2)))))","v":0},{"$f":"IF(($A88+INDEX($D88*($24:$24-$35:$35), MATCH(M$50,$17:$17, 0)))>$C$8,1000000000,(IF(OR(INDEX($22:$22-($A88-$D88*$35:$35), MATCH(M$50,$17:$17, 0))>0, INDEX($D88*$35:$35-$C88, MATCH(M$50,$17:$17, 0))>0),1000000000,(p!M88+n!M88+m!M88+INDEX(Vt!L:L, MATCH(($A88+INDEX($D88*($24:$24-$35:$35), MATCH(M$50,$17:$17, 0))),Vt!$A:$A,0)+INDEX($B88+$D88*$24:$24, MATCH(M$50,$17:$17, 0))*2)))))","v":0},{"$f":"IF(($A88+INDEX($D88*($24:$24-$35:$35), MATCH(N$50,$17:$17, 0)))>$C$8,1000000000,(IF(OR(INDEX($22:$22-($A88-$D88*$35:$35), MATCH(N$50,$17:$17, 0))>0, INDEX($D88*$35:$35-$C88, MATCH(N$50,$17:$17, 0))>0),1000000000,(p!N88+n!N88+m!N88+INDEX(Vt!M:M, MATCH(($A88+INDEX($D88*($24:$24-$35:$35), MATCH(N$50,$17:$17, 0))),Vt!$A:$A,0)+INDEX($B88+$D88*$24:$24, MATCH(N$50,$17:$17, 0))*2)))))","v":0},{"$f":"IF(($A88+INDEX($D88*($24:$24-$35:$35), MATCH(O$50,$17:$17, 0)))>$C$8,1000000000,(IF(OR(INDEX($22:$22-($A88-$D88*$35:$35), MATCH(O$50,$17:$17, 0))>0, INDEX($D88*$35:$35-$C88, MATCH(O$50,$17:$17, 0))>0),1000000000,(p!O88+n!O88+m!O88+INDEX(Vt!N:N, MATCH(($A88+INDEX($D88*($24:$24-$35:$35), MATCH(O$50,$17:$17, 0))),Vt!$A:$A,0)+INDEX($B88+$D88*$24:$24, MATCH(O$50,$17:$17, 0))*2)))))","v":0}]
[5,4,1,0,0,{"$f":"IF(($A89+INDEX($D89*($24:$24-$35:$35), MATCH(F$50,$17:$17, 0)))>$C$8,1000000000,(IF(OR(INDEX($22:$22-($A89-$D89*$35:$35), MATCH(F$50,$17:$17, 0))>0, INDEX($D89*$35:$35-$C89, MATCH(F$50,$17:$17, 0))>0),1000000000,(p!F89+n!F89+m!F89+INDEX(Vt!E:E, MATCH(($A89+INDEX($D89*($24:$24-$35:$35), MATCH(F$50,$17:$17, 0))),Vt!$A:$A,0)+INDEX($B89+$D89*$24:$24, MATCH(F$50,$17:$17, 0))*2)))))","v":0},{"$f":"IF(($A89+INDEX($D89*($24:$24-$35:$35), MATCH(G$50,$17:$17, 0)))>$C$8,1000000000,(IF(OR(INDEX($22:$22-($A89-$D89*$35:$35), MATCH(G$50,$17:$17, 0))>0, INDEX($D89*$35:$35-$C89, MATCH(G$50,$17:$17, 0))>0),1000000000,(p!G89+n!G89+m!G89+INDEX(Vt!F:F, MATCH(($A89+INDEX($D89*($24:$24-$35:$35), MATCH(G$50,$17:$17, 0))),Vt!$A:$A,0)+INDEX($B89+$D89*$24:$24, MATCH(G$50,$17:$17, 0))*2)))))","v":0},{"$f":"IF(($A89+INDEX($D89*($24:$24-$35:$35), MATCH(H$50,$17:$17, 0)))>$C$8,1000000000,(IF(OR(INDEX($22:$22-($A89-$D89*$35:$35), MATCH(H$50,$17:$17, 0))>0, INDEX($D89*$35:$35-$C89, MATCH(H$50,$17:$17, 0))>0),1000000000,(p!H89+n!H89+m!H89+INDEX(Vt!G:G, MATCH(($A89+INDEX($D89*($24:$24-$35:$35), MATCH(H$50,$17:$17, 0))),Vt!$A:$A,0)+INDEX($B89+$D89*$24:$24, MATCH(H$50,$17:$17, 0))*2)))))","v":0},{"$f":"IF(($A89+INDEX($D89*($24:$24-$35:$35), MATCH(I$50,$17:$17, 0)))>$C$8,1000000000,(IF(OR(INDEX($22:$22-($A89-$D89*$35:$35), MATCH(I$50,$17:$17, 0))>0, INDEX($D89*$35:$35-$C89, MATCH(I$50,$17:$17, 0))>0),1000000000,(p!I89+n!I89+m!I89+INDEX(Vt!H:H, MATCH(($A89+INDEX($D89*($24:$24-$35:$35), MATCH(I$50,$17:$17, 0))),Vt!$A:$A,0)+INDEX($B89+$D89*$24:$24, MATCH(I$50,$17:$17, 0))*2)))))","v":0},{"$f":"IF(($A89+INDEX($D89*($24:$24-$35:$35), MATCH(J$50,$17:$17, 0)))>$C$8,1000000000,(IF(OR(INDEX($22:$22-($A89-$D89*$35:$35), MATCH(J$50,$17:$17, 0))>0, INDEX($D89*$35:$35-$C89, MATCH(J$50,$17:$17, 0))>0),1000000000,(p!J89+n!J89+m!J89+INDEX(Vt!I:I, MATCH(($A89+INDEX($D89*($24:$24-$35:$35), MATCH(J$50,$17:$17, 0))),Vt!$A:$A,0)+INDEX($B89+$D89*$24:$24, MATCH(J$50,$17:$17, 0))*2)))))","v":0},{"$f":"IF(($A89+INDEX($D89*($24:$24-$35:$35), MATCH(K$50,$17:$17, 0)))>$C$8,1000000000,(IF(OR(INDEX($22:$22-($A89-$D89*$35:$35), MATCH(K$50,$17:$17, 0))>0, INDEX($D89*$35:$35-$C89, MATCH(K$50,$17:$17, 0))>0),1000000000,(p!K89+n!K89+m!K89+INDEX(Vt!J:J, MATCH(($A89+INDEX($D89*($24:$24-$35:$35), MATCH(K$50,$17:$17, 0))),Vt!$A:$A,0)+INDEX($B89+$D89*$24:$24, MATCH(K$50,$17:$17, 0))*2)))))","v":0},{"$f":"IF(($A89+INDEX($D89*($24:$24-$35:$35), MATCH(L$50,$17:$17, 0)))>$C$8,1000000000,(IF(OR(INDEX($22:$22-($A89-$D89*$35:$35), MATCH(L$50,$17:$17, 0))>0, INDEX($D89*$35:$35-$C89, MATCH(L$50,$17:$17, 0))>0),1000000000,(p!L89+n!L89+m!L89+INDEX(Vt!K:K, MATCH(($A89+INDEX($D89*($24:$24-$35:$35), MATCH(L$50,$17:$17, 0))),Vt!$A:$A,0)+INDEX($B89+$D89*$24:$24, MATCH(L$50,$17:$17, 0))*2)))))","v":0},{"$f":"IF(($A89+INDEX($D89*($24:$24-$35:$35), MATCH(M$50,$17:$17, 0)))>$C$8,1000000000,(IF(OR(INDEX($22:$22-($A89-$D89*$35:$35), MATCH(M$50,$17:$17, 0))>0, INDEX($D89*$35:$35-$C89, MATCH(M$50,$17:$17, 0))>0),1000000000,(p!M89+n!M89+m!M89+INDEX(Vt!L:L, MATCH(($A89+INDEX($D89*($24:$24-$35:$35), MATCH(M$50,$17:$17, 0))),Vt!$A:$A,0)+INDEX($B89+$D89*$24:$24, MATCH(M$50,$17:$17, 0))*2)))))","v":0},{"$f":"IF(($A89+INDEX($D89*($24:$24-$35:$35), MATCH(N$50,$17:$17, 0)))>$C$8,1000000000,(IF(OR(INDEX($22:$22-($A89-$D89*$35:$35), MATCH(N$50,$17:$17, 0))>0, INDEX($D89*$35:$35-$C89, MATCH(N$50,$17:$17, 0))>0),1000000000,(p!N89+n!N89+m!N89+INDEX(Vt!M:M, MATCH(($A89+INDEX($D89*($24:$24-$35:$35), MATCH(N$50,$17:$17, 0))),Vt!$A:$A,0)+INDEX($B89+$D89*$24:$24, MATCH(N$50,$17:$17, 0))*2)))))","v":0},{"$f":"IF(($A89+INDEX($D89*($24:$24-$35:$35), MATCH(O$50,$17:$17, 0)))>$C$8,1000000000,(IF(OR(INDEX($22:$22-($A89-$D89*$35:$35), MATCH(O$50,$17:$17, 0))>0, INDEX($D89*$35:$35-$C89, MATCH(O$50,$17:$17, 0))>0),1000000000,(p!O89+n!O89+m!O89+INDEX(Vt!N:N, MATCH(($A89+INDEX($D89*($24:$24-$35:$35), MATCH(O$50,$17:$17, 0))),Vt!$A:$A,0)+INDEX($B89+$D89*$24:$24, MATCH(O$50,$17:$17, 0))*2)))))","v":0}]
[5,4,1,1,0,{"$f":"IF(($A90+INDEX($D90*($24:$24-$35:$35), MATCH(F$50,$17:$17, 0)))>$C$8,1000000000,(IF(OR(INDEX($22:$22-($A90-$D90*$35:$35), MATCH(F$50,$17:$17, 0))>0, INDEX($D90*$35:$35-$C90, MATCH(F$50,$17:$17, 0))>0),1000000000,(p!F90+n!F90+m!F90+INDEX(Vt!E:E, MATCH(($A90+INDEX($D90*($24:$24-$35:$35), MATCH(F$50,$17:$17, 0))),Vt!$A:$A,0)+INDEX($B90+$D90*$24:$24, MATCH(F$50,$17:$17, 0))*2)))))","v":0},{"$f":"IF(($A90+INDEX($D90*($24:$24-$35:$35), MATCH(G$50,$17:$17, 0)))>$C$8,1000000000,(IF(OR(INDEX($22:$22-($A90-$D90*$35:$35), MATCH(G$50,$17:$17, 0))>0, INDEX($D90*$35:$35-$C90, MATCH(G$50,$17:$17, 0))>0),1000000000,(p!G90+n!G90+m!G90+INDEX(Vt!F:F, MATCH(($A90+INDEX($D90*($24:$24-$35:$35), MATCH(G$50,$17:$17, 0))),Vt!$A:$A,0)+INDEX($B90+$D90*$24:$24, MATCH(G$50,$17:$17, 0))*2)))))","v":0},{"$f":"IF(($A90+INDEX($D90*($24:$24-$35:$35), MATCH(H$50,$17:$17, 0)))>$C$8,1000000000,(IF(OR(INDEX($22:$22-($A90-$D90*$35:$35), MATCH(H$50,$17:$17, 0))>0, INDEX($D90*$35:$35-$C90, MATCH(H$50,$17:$17, 0))>0),1000000000,(p!H90+n!H90+m!H90+INDEX(Vt!G:G, MATCH(($A90+INDEX($D90*($24:$24-$35:$35), MATCH(H$50,$17:$17, 0))),Vt!$A:$A,0)+INDEX($B90+$D90*$24:$24, MATCH(H$50,$17:$17, 0))*2)))))","v":0},{"$f":"IF(($A90+INDEX($D90*($24:$24-$35:$35), MATCH(I$50,$17:$17, 0)))>$C$8,1000000000,(IF(OR(INDEX($22:$22-($A90-$D90*$35:$35), MATCH(I$50,$17:$17, 0))>0, INDEX($D90*$35:$35-$C90, MATCH(I$50,$17:$17, 0))>0),1000000000,(p!I90+n!I90+m!I90+INDEX(Vt!H:H, MATCH(($A90+INDEX($D90*($24:$24-$35:$35), MATCH(I$50,$17:$17, 0))),Vt!$A:$A,0)+INDEX($B90+$D90*$24:$24, MATCH(I$50,$17:$17, 0))*2)))))","v":0},{"$f":"IF(($A90+INDEX($D90*($24:$24-$35:$35), MATCH(J$50,$17:$17, 0)))>$C$8,1000000000,(IF(OR(INDEX($22:$22-($A90-$D90*$35:$35), MATCH(J$50,$17:$17, 0))>0, INDEX($D90*$35:$35-$C90, MATCH(J$50,$17:$17, 0))>0),1000000000,(p!J90+n!J90+m!J90+INDEX(Vt!I:I, MATCH(($A90+INDEX($D90*($24:$24-$35:$35), MATCH(J$50,$17:$17, 0))),Vt!$A:$A,0)+INDEX($B90+$D90*$24:$24, MATCH(J$50,$17:$17, 0))*2)))))","v":0},{"$f":"IF(($A90+INDEX($D90*($24:$24-$35:$35), MATCH(K$50,$17:$17, 0)))>$C$8,1000000000,(IF(OR(INDEX($22:$22-($A90-$D90*$35:$35), MATCH(K$50,$17:$17, 0))>0, INDEX($D90*$35:$35-$C90, MATCH(K$50,$17:$17, 0))>0),1000000000,(p!K90+n!K90+m!K90+INDEX(Vt!J:J, MATCH(($A90+INDEX($D90*($24:$24-$35:$35), MATCH(K$50,$17:$17, 0))),Vt!$A:$A,0)+INDEX($B90+$D90*$24:$24, MATCH(K$50,$17:$17, 0))*2)))))","v":0},{"$f":"IF(($A90+INDEX($D90*($24:$24-$35:$35), MATCH(L$50,$17:$17, 0)))>$C$8,1000000000,(IF(OR(INDEX($22:$22-($A90-$D90*$35:$35), MATCH(L$50,$17:$17, 0))>0, INDEX($D90*$35:$35-$C90, MATCH(L$50,$17:$17, 0))>0),1000000000,(p!L90+n!L90+m!L90+INDEX(Vt!K:K, MATCH(($A90+INDEX($D90*($24:$24-$35:$35), MATCH(L$50,$17:$17, 0))),Vt!$A:$A,0)+INDEX($B90+$D90*$24:$24, MATCH(L$50,$17:$17, 0))*2)))))","v":0},{"$f":"IF(($A90+INDEX($D90*($24:$24-$35:$35), MATCH(M$50,$17:$17, 0)))>$C$8,1000000000,(IF(OR(INDEX($22:$22-($A90-$D90*$35:$35), MATCH(M$50,$17:$17, 0))>0, INDEX($D90*$35:$35-$C90, MATCH(M$50,$17:$17, 0))>0),1000000000,(p!M90+n!M90+m!M90+INDEX(Vt!L:L, MATCH(($A90+INDEX($D90*($24:$24-$35:$35), MATCH(M$50,$17:$17, 0))),Vt!$A:$A,0)+INDEX($B90+$D90*$24:$24, MATCH(M$50,$17:$17, 0))*2)))))","v":0},{"$f":"IF(($A90+INDEX($D90*($24:$24-$35:$35), MATCH(N$50,$17:$17, 0)))>$C$8,1000000000,(IF(OR(INDEX($22:$22-($A90-$D90*$35:$35), MATCH(N$50,$17:$17, 0))>0, INDEX($D90*$35:$35-$C90, MATCH(N$50,$17:$17, 0))>0),1000000000,(p!N90+n!N90+m!N90+INDEX(Vt!M:M, MATCH(($A90+INDEX($D90*($24:$24-$35:$35), MATCH(N$50,$17:$17, 0))),Vt!$A:$A,0)+INDEX($B90+$D90*$24:$24, MATCH(N$50,$17:$17, 0))*2)))))","v":0},{"$f":"IF(($A90+INDEX($D90*($24:$24-$35:$35), MATCH(O$50,$17:$17, 0)))>$C$8,1000000000,(IF(OR(INDEX($22:$22-($A90-$D90*$35:$35), MATCH(O$50,$17:$17, 0))>0, INDEX($D90*$35:$35-$C90, MATCH(O$50,$17:$17, 0))>0),1000000000,(p!O90+n!O90+m!O90+INDEX(Vt!N:N, MATCH(($A90+INDEX($D90*($24:$24-$35:$35), MATCH(O$50,$17:$17, 0))),Vt!$A:$A,0)+INDEX($B90+$D90*$24:$24, MATCH(O$50,$17:$17, 0))*2)))))","v":0}]
[5,5,0,0,0,{"$f":"IF(($A91+INDEX($D91*($24:$24-$35:$35), MATCH(F$50,$17:$17, 0)))>$C$8,1000000000,(IF(OR(INDEX($22:$22-($A91-$D91*$35:$35), MATCH(F$50,$17:$17, 0))>0, INDEX($D91*$35:$35-$C91, MATCH(F$50,$17:$17, 0))>0),1000000000,(p!F91+n!F91+m!F91+INDEX(Vt!E:E, MATCH(($A91+INDEX($D91*($24:$24-$35:$35), MATCH(F$50,$17:$17, 0))),Vt!$A:$A,0)+INDEX($B91+$D91*$24:$24, MATCH(F$50,$17:$17, 0))*2)))))","v":0},{"$f":"IF(($A91+INDEX($D91*($24:$24-$35:$35), MATCH(G$50,$17:$17, 0)))>$C$8,1000000000,(IF(OR(INDEX($22:$22-($A91-$D91*$35:$35), MATCH(G$50,$17:$17, 0))>0, INDEX($D91*$35:$35-$C91, MATCH(G$50,$17:$17, 0))>0),1000000000,(p!G91+n!G91+m!G91+INDEX(Vt!F:F, MATCH(($A91+INDEX($D91*($24:$24-$35:$35), MATCH(G$50,$17:$17, 0))),Vt!$A:$A,0)+INDEX($B91+$D91*$24:$24, MATCH(G$50,$17:$17, 0))*2)))))","v":0},{"$f":"IF(($A91+INDEX($D91*($24:$24-$35:$35), MATCH(H$50,$17:$17, 0)))>$C$8,1000000000,(IF(OR(INDEX($22:$22-($A91-$D91*$35:$35), MATCH(H$50,$17:$17, 0))>0, INDEX($D91*$35:$35-$C91, MATCH(H$50,$17:$17, 0))>0),1000000000,(p!H91+n!H91+m!H91+INDEX(Vt!G:G, MATCH(($A91+INDEX($D91*($24:$24-$35:$35), MATCH(H$50,$17:$17, 0))),Vt!$A:$A,0)+INDEX($B91+$D91*$24:$24, MATCH(H$50,$17:$17, 0))*2)))))","v":0},{"$f":"IF(($A91+INDEX($D91*($24:$24-$35:$35), MATCH(I$50,$17:$17, 0)))>$C$8,1000000000,(IF(OR(INDEX($22:$22-($A91-$D91*$35:$35), MATCH(I$50,$17:$17, 0))>0, INDEX($D91*$35:$35-$C91, MATCH(I$50,$17:$17, 0))>0),1000000000,(p!I91+n!I91+m!I91+INDEX(Vt!H:H, MATCH(($A91+INDEX($D91*($24:$24-$35:$35), MATCH(I$50,$17:$17, 0))),Vt!$A:$A,0)+INDEX($B91+$D91*$24:$24, MATCH(I$50,$17:$17, 0))*2)))))","v":0},{"$f":"IF(($A91+INDEX($D91*($24:$24-$35:$35), MATCH(J$50,$17:$17, 0)))>$C$8,1000000000,(IF(OR(INDEX($22:$22-($A91-$D91*$35:$35), MATCH(J$50,$17:$17, 0))>0, INDEX($D91*$35:$35-$C91, MATCH(J$50,$17:$17, 0))>0),1000000000,(p!J91+n!J91+m!J91+INDEX(Vt!I:I, MATCH(($A91+INDEX($D91*($24:$24-$35:$35), MATCH(J$50,$17:$17, 0))),Vt!$A:$A,0)+INDEX($B91+$D91*$24:$24, MATCH(J$50,$17:$17, 0))*2)))))","v":0},{"$f":"IF(($A91+INDEX($D91*($24:$24-$35:$35), MATCH(K$50,$17:$17, 0)))>$C$8,1000000000,(IF(OR(INDEX($22:$22-($A91-$D91*$35:$35), MATCH(K$50,$17:$17, 0))>0, INDEX($D91*$35:$35-$C91, MATCH(K$50,$17:$17, 0))>0),1000000000,(p!K91+n!K91+m!K91+INDEX(Vt!J:J, MATCH(($A91+INDEX($D91*($24:$24-$35:$35), MATCH(K$50,$17:$17, 0))),Vt!$A:$A,0)+INDEX($B91+$D91*$24:$24, MATCH(K$50,$17:$17, 0))*2)))))","v":0},{"$f":"IF(($A91+INDEX($D91*($24:$24-$35:$35), MATCH(L$50,$17:$17, 0)))>$C$8,1000000000,(IF(OR(INDEX($22:$22-($A91-$D91*$35:$35), MATCH(L$50,$17:$17, 0))>0, INDEX($D91*$35:$35-$C91, MATCH(L$50,$17:$17, 0))>0),1000000000,(p!L91+n!L91+m!L91+INDEX(Vt!K:K, MATCH(($A91+INDEX($D91*($24:$24-$35:$35), MATCH(L$50,$17:$17, 0))),Vt!$A:$A,0)+INDEX($B91+$D91*$24:$24, MATCH(L$50,$17:$17, 0))*2)))))","v":0},{"$f":"IF(($A91+INDEX($D91*($24:$24-$35:$35), MATCH(M$50,$17:$17, 0)))>$C$8,1000000000,(IF(OR(INDEX($22:$22-($A91-$D91*$35:$35), MATCH(M$50,$17:$17, 0))>0, INDEX($D91*$35:$35-$C91, MATCH(M$50,$17:$17, 0))>0),1000000000,(p!M91+n!M91+m!M91+INDEX(Vt!L:L, MATCH(($A91+INDEX($D91*($24:$24-$35:$35), MATCH(M$50,$17:$17, 0))),Vt!$A:$A,0)+INDEX($B91+$D91*$24:$24, MATCH(M$50,$17:$17, 0))*2)))))","v":0},{"$f":"IF(($A91+INDEX($D91*($24:$24-$35:$35), MATCH(N$50,$17:$17, 0)))>$C$8,1000000000,(IF(OR(INDEX($22:$22-($A91-$D91*$35:$35), MATCH(N$50,$17:$17, 0))>0, INDEX($D91*$35:$35-$C91, MATCH(N$50,$17:$17, 0))>0),1000000000,(p!N91+n!N91+m!N91+INDEX(Vt!M:M, MATCH(($A91+INDEX($D91*($24:$24-$35:$35), MATCH(N$50,$17:$17, 0))),Vt!$A:$A,0)+INDEX($B91+$D91*$24:$24, MATCH(N$50,$17:$17, 0))*2)))))","v":0},{"$f":"IF(($A91+INDEX($D91*($24:$24-$35:$35), MATCH(O$50,$17:$17, 0)))>$C$8,1000000000,(IF(OR(INDEX($22:$22-($A91-$D91*$35:$35), MATCH(O$50,$17:$17, 0))>0, INDEX($D91*$35:$35-$C91, MATCH(O$50,$17:$17, 0))>0),1000000000,(p!O91+n!O91+m!O91+INDEX(Vt!N:N, MATCH(($A91+INDEX($D91*($24:$24-$35:$35), MATCH(O$50,$17:$17, 0))),Vt!$A:$A,0)+INDEX($B91+$D91*$24:$24, MATCH(O$50,$17:$17, 0))*2)))))","v":0}]
[5,5,0,1,0,{"$f":"IF(($A92+INDEX($D92*($24:$24-$35:$35), MATCH(F$50,$17:$17, 0)))>$C$8,1000000000,(IF(OR(INDEX($22:$22-($A92-$D92*$35:$35), MATCH(F$50,$17:$17, 0))>0, INDEX($D92*$35:$35-$C92, MATCH(F$50,$17:$17, 0))>0),1000000000,(p!F92+n!F92+m!F92+INDEX(Vt!E:E, MATCH(($A92+INDEX($D92*($24:$24-$35:$35), MATCH(F$50,$17:$17, 0))),Vt!$A:$A,0)+INDEX($B92+$D92*$24:$24, MATCH(F$50,$17:$17, 0))*2)))))","v":0},{"$f":"IF(($A92+INDEX($D92*($24:$24-$35:$35), MATCH(G$50,$17:$17, 0)))>$C$8,1000000000,(IF(OR(INDEX($22:$22-($A92-$D92*$35:$35), MATCH(G$50,$17:$17, 0))>0, INDEX($D92*$35:$35-$C92, MATCH(G$50,$17:$17, 0))>0),1000000000,(p!G92+n!G92+m!G92+INDEX(Vt!F:F, MATCH(($A92+INDEX($D92*($24:$24-$35:$35), MATCH(G$50,$17:$17, 0))),Vt!$A:$A,0)+INDEX($B92+$D92*$24:$24, MATCH(G$50,$17:$17, 0))*2)))))","v":0},{"$f":"IF(($A92+INDEX($D92*($24:$24-$35:$35), MATCH(H$50,$17:$17, 0)))>$C$8,1000000000,(IF(OR(INDEX($22:$22-($A92-$D92*$35:$35), MATCH(H$50,$17:$17, 0))>0, INDEX($D92*$35:$35-$C92, MATCH(H$50,$17:$17, 0))>0),1000000000,(p!H92+n!H92+m!H92+INDEX(Vt!G:G, MATCH(($A92+INDEX($D92*($24:$24-$35:$35), MATCH(H$50,$17:$17, 0))),Vt!$A:$A,0)+INDEX($B92+$D92*$24:$24, MATCH(H$50,$17:$17, 0))*2)))))","v":0},{"$f":"IF(($A92+INDEX($D92*($24:$24-$35:$35), MATCH(I$50,$17:$17, 0)))>$C$8,1000000000,(IF(OR(INDEX($22:$22-($A92-$D92*$35:$35), MATCH(I$50,$17:$17, 0))>0, INDEX($D92*$35:$35-$C92, MATCH(I$50,$17:$17, 0))>0),1000000000,(p!I92+n!I92+m!I92+INDEX(Vt!H:H, MATCH(($A92+INDEX($D92*($24:$24-$35:$35), MATCH(I$50,$17:$17, 0))),Vt!$A:$A,0)+INDEX($B92+$D92*$24:$24, MATCH(I$50,$17:$17, 0))*2)))))","v":0},{"$f":"IF(($A92+INDEX($D92*($24:$24-$35:$35), MATCH(J$50,$17:$17, 0)))>$C$8,1000000000,(IF(OR(INDEX($22:$22-($A92-$D92*$35:$35), MATCH(J$50,$17:$17, 0))>0, INDEX($D92*$35:$35-$C92, MATCH(J$50,$17:$17, 0))>0),1000000000,(p!J92+n!J92+m!J92+INDEX(Vt!I:I, MATCH(($A92+INDEX($D92*($24:$24-$35:$35), MATCH(J$50,$17:$17, 0))),Vt!$A:$A,0)+INDEX($B92+$D92*$24:$24, MATCH(J$50,$17:$17, 0))*2)))))","v":0},{"$f":"IF(($A92+INDEX($D92*($24:$24-$35:$35), MATCH(K$50,$17:$17, 0)))>$C$8,1000000000,(IF(OR(INDEX($22:$22-($A92-$D92*$35:$35), MATCH(K$50,$17:$17, 0))>0, INDEX($D92*$35:$35-$C92, MATCH(K$50,$17:$17, 0))>0),1000000000,(p!K92+n!K92+m!K92+INDEX(Vt!J:J, MATCH(($A92+INDEX($D92*($24:$24-$35:$35), MATCH(K$50,$17:$17, 0))),Vt!$A:$A,0)+INDEX($B92+$D92*$24:$24, MATCH(K$50,$17:$17, 0))*2)))))","v":0},{"$f":"IF(($A92+INDEX($D92*($24:$24-$35:$35), MATCH(L$50,$17:$17, 0)))>$C$8,1000000000,(IF(OR(INDEX($22:$22-($A92-$D92*$35:$35), MATCH(L$50,$17:$17, 0))>0, INDEX($D92*$35:$35-$C92, MATCH(L$50,$17:$17, 0))>0),1000000000,(p!L92+n!L92+m!L92+INDEX(Vt!K:K, MATCH(($A92+INDEX($D92*($24:$24-$35:$35), MATCH(L$50,$17:$17, 0))),Vt!$A:$A,0)+INDEX($B92+$D92*$24:$24, MATCH(L$50,$17:$17, 0))*2)))))","v":0},{"$f":"IF(($A92+INDEX($D92*($24:$24-$35:$35), MATCH(M$50,$17:$17, 0)))>$C$8,1000000000,(IF(OR(INDEX($22:$22-($A92-$D92*$35:$35), MATCH(M$50,$17:$17, 0))>0, INDEX($D92*$35:$35-$C92, MATCH(M$50,$17:$17, 0))>0),1000000000,(p!M92+n!M92+m!M92+INDEX(Vt!L:L, MATCH(($A92+INDEX($D92*($24:$24-$35:$35), MATCH(M$50,$17:$17, 0))),Vt!$A:$A,0)+INDEX($B92+$D92*$24:$24, MATCH(M$50,$17:$17, 0))*2)))))","v":0},{"$f":"IF(($A92+INDEX($D92*($24:$24-$35:$35), MATCH(N$50,$17:$17, 0)))>$C$8,1000000000,(IF(OR(INDEX($22:$22-($A92-$D92*$35:$35), MATCH(N$50,$17:$17, 0))>0, INDEX($D92*$35:$35-$C92, MATCH(N$50,$17:$17, 0))>0),1000000000,(p!N92+n!N92+m!N92+INDEX(Vt!M:M, MATCH(($A92+INDEX($D92*($24:$24-$35:$35), MATCH(N$50,$17:$17, 0))),Vt!$A:$A,0)+INDEX($B92+$D92*$24:$24, MATCH(N$50,$17:$17, 0))*2)))))","v":0},{"$f":"IF(($A92+INDEX($D92*($24:$24-$35:$35), MATCH(O$50,$17:$17, 0)))>$C$8,1000000000,(IF(OR(INDEX($22:$22-($A92-$D92*$35:$35), MATCH(O$50,$17:$17, 0))>0, INDEX($D92*$35:$35-$C92, MATCH(O$50,$17:$17, 0))>0),1000000000,(p!O92+n!O92+m!O92+INDEX(Vt!N:N, MATCH(($A92+INDEX($D92*($24:$24-$35:$35), MATCH(O$50,$17:$17, 0))),Vt!$A:$A,0)+INDEX($B92+$D92*$24:$24, MATCH(O$50,$17:$17, 0))*2)))))","v":0}]
[6,0,6,0,0,{"$f":"IF(($A93+INDEX($D93*($24:$24-$35:$35), MATCH(F$50,$17:$17, 0)))>$C$8,1000000000,(IF(OR(INDEX($22:$22-($A93-$D93*$35:$35), MATCH(F$50,$17:$17, 0))>0, INDEX($D93*$35:$35-$C93, MATCH(F$50,$17:$17, 0))>0),1000000000,(p!F93+n!F93+m!F93+INDEX(Vt!E:E, MATCH(($A93+INDEX($D93*($24:$24-$35:$35), MATCH(F$50,$17:$17, 0))),Vt!$A:$A,0)+INDEX($B93+$D93*$24:$24, MATCH(F$50,$17:$17, 0))*2)))))","v":0},{"$f":"IF(($A93+INDEX($D93*($24:$24-$35:$35), MATCH(G$50,$17:$17, 0)))>$C$8,1000000000,(IF(OR(INDEX($22:$22-($A93-$D93*$35:$35), MATCH(G$50,$17:$17, 0))>0, INDEX($D93*$35:$35-$C93, MATCH(G$50,$17:$17, 0))>0),1000000000,(p!G93+n!G93+m!G93+INDEX(Vt!F:F, MATCH(($A93+INDEX($D93*($24:$24-$35:$35), MATCH(G$50,$17:$17, 0))),Vt!$A:$A,0)+INDEX($B93+$D93*$24:$24, MATCH(G$50,$17:$17, 0))*2)))))","v":0},{"$f":"IF(($A93+INDEX($D93*($24:$24-$35:$35), MATCH(H$50,$17:$17, 0)))>$C$8,1000000000,(IF(OR(INDEX($22:$22-($A93-$D93*$35:$35), MATCH(H$50,$17:$17, 0))>0, INDEX($D93*$35:$35-$C93, MATCH(H$50,$17:$17, 0))>0),1000000000,(p!H93+n!H93+m!H93+INDEX(Vt!G:G, MATCH(($A93+INDEX($D93*($24:$24-$35:$35), MATCH(H$50,$17:$17, 0))),Vt!$A:$A,0)+INDEX($B93+$D93*$24:$24, MATCH(H$50,$17:$17, 0))*2)))))","v":0},{"$f":"IF(($A93+INDEX($D93*($24:$24-$35:$35), MATCH(I$50,$17:$17, 0)))>$C$8,1000000000,(IF(OR(INDEX($22:$22-($A93-$D93*$35:$35), MATCH(I$50,$17:$17, 0))>0, INDEX($D93*$35:$35-$C93, MATCH(I$50,$17:$17, 0))>0),1000000000,(p!I93+n!I93+m!I93+INDEX(Vt!H:H, MATCH(($A93+INDEX($D93*($24:$24-$35:$35), MATCH(I$50,$17:$17, 0))),Vt!$A:$A,0)+INDEX($B93+$D93*$24:$24, MATCH(I$50,$17:$17, 0))*2)))))","v":0},{"$f":"IF(($A93+INDEX($D93*($24:$24-$35:$35), MATCH(J$50,$17:$17, 0)))>$C$8,1000000000,(IF(OR(INDEX($22:$22-($A93-$D93*$35:$35), MATCH(J$50,$17:$17, 0))>0, INDEX($D93*$35:$35-$C93, MATCH(J$50,$17:$17, 0))>0),1000000000,(p!J93+n!J93+m!J93+INDEX(Vt!I:I, MATCH(($A93+INDEX($D93*($24:$24-$35:$35), MATCH(J$50,$17:$17, 0))),Vt!$A:$A,0)+INDEX($B93+$D93*$24:$24, MATCH(J$50,$17:$17, 0))*2)))))","v":0},{"$f":"IF(($A93+INDEX($D93*($24:$24-$35:$35), MATCH(K$50,$17:$17, 0)))>$C$8,1000000000,(IF(OR(INDEX($22:$22-($A93-$D93*$35:$35), MATCH(K$50,$17:$17, 0))>0, INDEX($D93*$35:$35-$C93, MATCH(K$50,$17:$17, 0))>0),1000000000,(p!K93+n!K93+m!K93+INDEX(Vt!J:J, MATCH(($A93+INDEX($D93*($24:$24-$35:$35), MATCH(K$50,$17:$17, 0))),Vt!$A:$A,0)+INDEX($B93+$D93*$24:$24, MATCH(K$50,$17:$17, 0))*2)))))","v":0},{"$f":"IF(($A93+INDEX($D93*($24:$24-$35:$35), MATCH(L$50,$17:$17, 0)))>$C$8,1000000000,(IF(OR(INDEX($22:$22-($A93-$D93*$35:$35), MATCH(L$50,$17:$17, 0))>0, INDEX($D93*$35:$35-$C93, MATCH(L$50,$17:$17, 0))>0),1000000000,(p!L93+n!L93+m!L93+INDEX(Vt!K:K, MATCH(($A93+INDEX($D93*($24:$24-$35:$35), MATCH(L$50,$17:$17, 0))),Vt!$A:$A,0)+INDEX($B93+$D93*$24:$24, MATCH(L$50,$17:$17, 0))*2)))))","v":0},{"$f":"IF(($A93+INDEX($D93*($24:$24-$35:$35), MATCH(M$50,$17:$17, 0)))>$C$8,1000000000,(IF(OR(INDEX($22:$22-($A93-$D93*$35:$35), MATCH(M$50,$17:$17, 0))>0, INDEX($D93*$35:$35-$C93, MATCH(M$50,$17:$17, 0))>0),1000000000,(p!M93+n!M93+m!M93+INDEX(Vt!L:L, MATCH(($A93+INDEX($D93*($24:$24-$35:$35), MATCH(M$50,$17:$17, 0))),Vt!$A:$A,0)+INDEX($B93+$D93*$24:$24, MATCH(M$50,$17:$17, 0))*2)))))","v":0},{"$f":"IF(($A93+INDEX($D93*($24:$24-$35:$35), MATCH(N$50,$17:$17, 0)))>$C$8,1000000000,(IF(OR(INDEX($22:$22-($A93-$D93*$35:$35), MATCH(N$50,$17:$17, 0))>0, INDEX($D93*$35:$35-$C93, MATCH(N$50,$17:$17, 0))>0),1000000000,(p!N93+n!N93+m!N93+INDEX(Vt!M:M, MATCH(($A93+INDEX($D93*($24:$24-$35:$35), MATCH(N$50,$17:$17, 0))),Vt!$A:$A,0)+INDEX($B93+$D93*$24:$24, MATCH(N$50,$17:$17, 0))*2)))))","v":0},{"$f":"IF(($A93+INDEX($D93*($24:$24-$35:$35), MATCH(O$50,$17:$17, 0)))>$C$8,1000000000,(IF(OR(INDEX($22:$22-($A93-$D93*$35:$35), MATCH(O$50,$17:$17, 0))>0, INDEX($D93*$35:$35-$C93, MATCH(O$50,$17:$17, 0))>0),1000000000,(p!O93+n!O93+m!O93+INDEX(Vt!N:N, MATCH(($A93+INDEX($D93*($24:$24-$35:$35), MATCH(O$50,$17:$17, 0))),Vt!$A:$A,0)+INDEX($B93+$D93*$24:$24, MATCH(O$50,$17:$17, 0))*2)))))","v":0}]
[6,0,6,1,0,{"$f":"IF(($A94+INDEX($D94*($24:$24-$35:$35), MATCH(F$50,$17:$17, 0)))>$C$8,1000000000,(IF(OR(INDEX($22:$22-($A94-$D94*$35:$35), MATCH(F$50,$17:$17, 0))>0, INDEX($D94*$35:$35-$C94, MATCH(F$50,$17:$17, 0))>0),1000000000,(p!F94+n!F94+m!F94+INDEX(Vt!E:E, MATCH(($A94+INDEX($D94*($24:$24-$35:$35), MATCH(F$50,$17:$17, 0))),Vt!$A:$A,0)+INDEX($B94+$D94*$24:$24, MATCH(F$50,$17:$17, 0))*2)))))","v":0},{"$f":"IF(($A94+INDEX($D94*($24:$24-$35:$35), MATCH(G$50,$17:$17, 0)))>$C$8,1000000000,(IF(OR(INDEX($22:$22-($A94-$D94*$35:$35), MATCH(G$50,$17:$17, 0))>0, INDEX($D94*$35:$35-$C94, MATCH(G$50,$17:$17, 0))>0),1000000000,(p!G94+n!G94+m!G94+INDEX(Vt!F:F, MATCH(($A94+INDEX($D94*($24:$24-$35:$35), MATCH(G$50,$17:$17, 0))),Vt!$A:$A,0)+INDEX($B94+$D94*$24:$24, MATCH(G$50,$17:$17, 0))*2)))))","v":0},{"$f":"IF(($A94+INDEX($D94*($24:$24-$35:$35), MATCH(H$50,$17:$17, 0)))>$C$8,1000000000,(IF(OR(INDEX($22:$22-($A94-$D94*$35:$35), MATCH(H$50,$17:$17, 0))>0, INDEX($D94*$35:$35-$C94, MATCH(H$50,$17:$17, 0))>0),1000000000,(p!H94+n!H94+m!H94+INDEX(Vt!G:G, MATCH(($A94+INDEX($D94*($24:$24-$35:$35), MATCH(H$50,$17:$17, 0))),Vt!$A:$A,0)+INDEX($B94+$D94*$24:$24, MATCH(H$50,$17:$17, 0))*2)))))","v":0},{"$f":"IF(($A94+INDEX($D94*($24:$24-$35:$35), MATCH(I$50,$17:$17, 0)))>$C$8,1000000000,(IF(OR(INDEX($22:$22-($A94-$D94*$35:$35), MATCH(I$50,$17:$17, 0))>0, INDEX($D94*$35:$35-$C94, MATCH(I$50,$17:$17, 0))>0),1000000000,(p!I94+n!I94+m!I94+INDEX(Vt!H:H, MATCH(($A94+INDEX($D94*($24:$24-$35:$35), MATCH(I$50,$17:$17, 0))),Vt!$A:$A,0)+INDEX($B94+$D94*$24:$24, MATCH(I$50,$17:$17, 0))*2)))))","v":0},{"$f":"IF(($A94+INDEX($D94*($24:$24-$35:$35), MATCH(J$50,$17:$17, 0)))>$C$8,1000000000,(IF(OR(INDEX($22:$22-($A94-$D94*$35:$35), MATCH(J$50,$17:$17, 0))>0, INDEX($D94*$35:$35-$C94, MATCH(J$50,$17:$17, 0))>0),1000000000,(p!J94+n!J94+m!J94+INDEX(Vt!I:I, MATCH(($A94+INDEX($D94*($24:$24-$35:$35), MATCH(J$50,$17:$17, 0))),Vt!$A:$A,0)+INDEX($B94+$D94*$24:$24, MATCH(J$50,$17:$17, 0))*2)))))","v":0},{"$f":"IF(($A94+INDEX($D94*($24:$24-$35:$35), MATCH(K$50,$17:$17, 0)))>$C$8,1000000000,(IF(OR(INDEX($22:$22-($A94-$D94*$35:$35), MATCH(K$50,$17:$17, 0))>0, INDEX($D94*$35:$35-$C94, MATCH(K$50,$17:$17, 0))>0),1000000000,(p!K94+n!K94+m!K94+INDEX(Vt!J:J, MATCH(($A94+INDEX($D94*($24:$24-$35:$35), MATCH(K$50,$17:$17, 0))),Vt!$A:$A,0)+INDEX($B94+$D94*$24:$24, MATCH(K$50,$17:$17, 0))*2)))))","v":0},{"$f":"IF(($A94+INDEX($D94*($24:$24-$35:$35), MATCH(L$50,$17:$17, 0)))>$C$8,1000000000,(IF(OR(INDEX($22:$22-($A94-$D94*$35:$35), MATCH(L$50,$17:$17, 0))>0, INDEX($D94*$35:$35-$C94, MATCH(L$50,$17:$17, 0))>0),1000000000,(p!L94+n!L94+m!L94+INDEX(Vt!K:K, MATCH(($A94+INDEX($D94*($24:$24-$35:$35), MATCH(L$50,$17:$17, 0))),Vt!$A:$A,0)+INDEX($B94+$D94*$24:$24, MATCH(L$50,$17:$17, 0))*2)))))","v":0},{"$f":"IF(($A94+INDEX($D94*($24:$24-$35:$35), MATCH(M$50,$17:$17, 0)))>$C$8,1000000000,(IF(OR(INDEX($22:$22-($A94-$D94*$35:$35), MATCH(M$50,$17:$17, 0))>0, INDEX($D94*$35:$35-$C94, MATCH(M$50,$17:$17, 0))>0),1000000000,(p!M94+n!M94+m!M94+INDEX(Vt!L:L, MATCH(($A94+INDEX($D94*($24:$24-$35:$35), MATCH(M$50,$17:$17, 0))),Vt!$A:$A,0)+INDEX($B94+$D94*$24:$24, MATCH(M$50,$17:$17, 0))*2)))))","v":0},{"$f":"IF(($A94+INDEX($D94*($24:$24-$35:$35), MATCH(N$50,$17:$17, 0)))>$C$8,1000000000,(IF(OR(INDEX($22:$22-($A94-$D94*$35:$35), MATCH(N$50,$17:$17, 0))>0, INDEX($D94*$35:$35-$C94, MATCH(N$50,$17:$17, 0))>0),1000000000,(p!N94+n!N94+m!N94+INDEX(Vt!M:M, MATCH(($A94+INDEX($D94*($24:$24-$35:$35), MATCH(N$50,$17:$17, 0))),Vt!$A:$A,0)+INDEX($B94+$D94*$24:$24, MATCH(N$50,$17:$17, 0))*2)))))","v":0},{"$f":"IF(($A94+INDEX($D94*($24:$24-$35:$35), MATCH(O$50,$17:$17, 0)))>$C$8,1000000000,(IF(OR(INDEX($22:$22-($A94-$D94*$35:$35), MATCH(O$50,$17:$17, 0))>0, INDEX($D94*$35:$35-$C94, MATCH(O$50,$17:$17, 0))>0),1000000000,(p!O94+n!O94+m!O94+INDEX(Vt!N:N, MATCH(($A94+INDEX($D94*($24:$24-$35:$35), MATCH(O$50,$17:$17, 0))),Vt!$A:$A,0)+INDEX($B94+$D94*$24:$24, MATCH(O$50,$17:$17, 0))*2)))))","v":0}]
[6,1,5,0,0,{"$f":"IF(($A95+INDEX($D95*($24:$24-$35:$35), MATCH(F$50,$17:$17, 0)))>$C$8,1000000000,(IF(OR(INDEX($22:$22-($A95-$D95*$35:$35), MATCH(F$50,$17:$17, 0))>0, INDEX($D95*$35:$35-$C95, MATCH(F$50,$17:$17, 0))>0),1000000000,(p!F95+n!F95+m!F95+INDEX(Vt!E:E, MATCH(($A95+INDEX($D95*($24:$24-$35:$35), MATCH(F$50,$17:$17, 0))),Vt!$A:$A,0)+INDEX($B95+$D95*$24:$24, MATCH(F$50,$17:$17, 0))*2)))))","v":0},{"$f":"IF(($A95+INDEX($D95*($24:$24-$35:$35), MATCH(G$50,$17:$17, 0)))>$C$8,1000000000,(IF(OR(INDEX($22:$22-($A95-$D95*$35:$35), MATCH(G$50,$17:$17, 0))>0, INDEX($D95*$35:$35-$C95, MATCH(G$50,$17:$17, 0))>0),1000000000,(p!G95+n!G95+m!G95+INDEX(Vt!F:F, MATCH(($A95+INDEX($D95*($24:$24-$35:$35), MATCH(G$50,$17:$17, 0))),Vt!$A:$A,0)+INDEX($B95+$D95*$24:$24, MATCH(G$50,$17:$17, 0))*2)))))","v":0},{"$f":"IF(($A95+INDEX($D95*($24:$24-$35:$35), MATCH(H$50,$17:$17, 0)))>$C$8,1000000000,(IF(OR(INDEX($22:$22-($A95-$D95*$35:$35), MATCH(H$50,$17:$17, 0))>0, INDEX($D95*$35:$35-$C95, MATCH(H$50,$17:$17, 0))>0),1000000000,(p!H95+n!H95+m!H95+INDEX(Vt!G:G, MATCH(($A95+INDEX($D95*($24:$24-$35:$35), MATCH(H$50,$17:$17, 0))),Vt!$A:$A,0)+INDEX($B95+$D95*$24:$24, MATCH(H$50,$17:$17, 0))*2)))))","v":0},{"$f":"IF(($A95+INDEX($D95*($24:$24-$35:$35), MATCH(I$50,$17:$17, 0)))>$C$8,1000000000,(IF(OR(INDEX($22:$22-($A95-$D95*$35:$35), MATCH(I$50,$17:$17, 0))>0, INDEX($D95*$35:$35-$C95, MATCH(I$50,$17:$17, 0))>0),1000000000,(p!I95+n!I95+m!I95+INDEX(Vt!H:H, MATCH(($A95+INDEX($D95*($24:$24-$35:$35), MATCH(I$50,$17:$17, 0))),Vt!$A:$A,0)+INDEX($B95+$D95*$24:$24, MATCH(I$50,$17:$17, 0))*2)))))","v":0},{"$f":"IF(($A95+INDEX($D95*($24:$24-$35:$35), MATCH(J$50,$17:$17, 0)))>$C$8,1000000000,(IF(OR(INDEX($22:$22-($A95-$D95*$35:$35), MATCH(J$50,$17:$17, 0))>0, INDEX($D95*$35:$35-$C95, MATCH(J$50,$17:$17, 0))>0),1000000000,(p!J95+n!J95+m!J95+INDEX(Vt!I:I, MATCH(($A95+INDEX($D95*($24:$24-$35:$35), MATCH(J$50,$17:$17, 0))),Vt!$A:$A,0)+INDEX($B95+$D95*$24:$24, MATCH(J$50,$17:$17, 0))*2)))))","v":0},{"$f":"IF(($A95+INDEX($D95*($24:$24-$35:$35), MATCH(K$50,$17:$17, 0)))>$C$8,1000000000,(IF(OR(INDEX($22:$22-($A95-$D95*$35:$35), MATCH(K$50,$17:$17, 0))>0, INDEX($D95*$35:$35-$C95, MATCH(K$50,$17:$17, 0))>0),1000000000,(p!K95+n!K95+m!K95+INDEX(Vt!J:J, MATCH(($A95+INDEX($D95*($24:$24-$35:$35), MATCH(K$50,$17:$17, 0))),Vt!$A:$A,0)+INDEX($B95+$D95*$24:$24, MATCH(K$50,$17:$17, 0))*2)))))","v":0},{"$f":"IF(($A95+INDEX($D95*($24:$24-$35:$35), MATCH(L$50,$17:$17, 0)))>$C$8,1000000000,(IF(OR(INDEX($22:$22-($A95-$D95*$35:$35), MATCH(L$50,$17:$17, 0))>0, INDEX($D95*$35:$35-$C95, MATCH(L$50,$17:$17, 0))>0),1000000000,(p!L95+n!L95+m!L95+INDEX(Vt!K:K, MATCH(($A95+INDEX($D95*($24:$24-$35:$35), MATCH(L$50,$17:$17, 0))),Vt!$A:$A,0)+INDEX($B95+$D95*$24:$24, MATCH(L$50,$17:$17, 0))*2)))))","v":0},{"$f":"IF(($A95+INDEX($D95*($24:$24-$35:$35), MATCH(M$50,$17:$17, 0)))>$C$8,1000000000,(IF(OR(INDEX($22:$22-($A95-$D95*$35:$35), MATCH(M$50,$17:$17, 0))>0, INDEX($D95*$35:$35-$C95, MATCH(M$50,$17:$17, 0))>0),1000000000,(p!M95+n!M95+m!M95+INDEX(Vt!L:L, MATCH(($A95+INDEX($D95*($24:$24-$35:$35), MATCH(M$50,$17:$17, 0))),Vt!$A:$A,0)+INDEX($B95+$D95*$24:$24, MATCH(M$50,$17:$17, 0))*2)))))","v":0},{"$f":"IF(($A95+INDEX($D95*($24:$24-$35:$35), MATCH(N$50,$17:$17, 0)))>$C$8,1000000000,(IF(OR(INDEX($22:$22-($A95-$D95*$35:$35), MATCH(N$50,$17:$17, 0))>0, INDEX($D95*$35:$35-$C95, MATCH(N$50,$17:$17, 0))>0),1000000000,(p!N95+n!N95+m!N95+INDEX(Vt!M:M, MATCH(($A95+INDEX($D95*($24:$24-$35:$35), MATCH(N$50,$17:$17, 0))),Vt!$A:$A,0)+INDEX($B95+$D95*$24:$24, MATCH(N$50,$17:$17, 0))*2)))))","v":0},{"$f":"IF(($A95+INDEX($D95*($24:$24-$35:$35), MATCH(O$50,$17:$17, 0)))>$C$8,1000000000,(IF(OR(INDEX($22:$22-($A95-$D95*$35:$35), MATCH(O$50,$17:$17, 0))>0, INDEX($D95*$35:$35-$C95, MATCH(O$50,$17:$17, 0))>0),1000000000,(p!O95+n!O95+m!O95+INDEX(Vt!N:N, MATCH(($A95+INDEX($D95*($24:$24-$35:$35), MATCH(O$50,$17:$17, 0))),Vt!$A:$A,0)+INDEX($B95+$D95*$24:$24, MATCH(O$50,$17:$17, 0))*2)))))","v":0}]
[6,1,5,1,0,{"$f":"IF(($A96+INDEX($D96*($24:$24-$35:$35), MATCH(F$50,$17:$17, 0)))>$C$8,1000000000,(IF(OR(INDEX($22:$22-($A96-$D96*$35:$35), MATCH(F$50,$17:$17, 0))>0, INDEX($D96*$35:$35-$C96, MATCH(F$50,$17:$17, 0))>0),1000000000,(p!F96+n!F96+m!F96+INDEX(Vt!E:E, MATCH(($A96+INDEX($D96*($24:$24-$35:$35), MATCH(F$50,$17:$17, 0))),Vt!$A:$A,0)+INDEX($B96+$D96*$24:$24, MATCH(F$50,$17:$17, 0))*2)))))","v":0},{"$f":"IF(($A96+INDEX($D96*($24:$24-$35:$35), MATCH(G$50,$17:$17, 0)))>$C$8,1000000000,(IF(OR(INDEX($22:$22-($A96-$D96*$35:$35), MATCH(G$50,$17:$17, 0))>0, INDEX($D96*$35:$35-$C96, MATCH(G$50,$17:$17, 0))>0),1000000000,(p!G96+n!G96+m!G96+INDEX(Vt!F:F, MATCH(($A96+INDEX($D96*($24:$24-$35:$35), MATCH(G$50,$17:$17, 0))),Vt!$A:$A,0)+INDEX($B96+$D96*$24:$24, MATCH(G$50,$17:$17, 0))*2)))))","v":0},{"$f":"IF(($A96+INDEX($D96*($24:$24-$35:$35), MATCH(H$50,$17:$17, 0)))>$C$8,1000000000,(IF(OR(INDEX($22:$22-($A96-$D96*$35:$35), MATCH(H$50,$17:$17, 0))>0, INDEX($D96*$35:$35-$C96, MATCH(H$50,$17:$17, 0))>0),1000000000,(p!H96+n!H96+m!H96+INDEX(Vt!G:G, MATCH(($A96+INDEX($D96*($24:$24-$35:$35), MATCH(H$50,$17:$17, 0))),Vt!$A:$A,0)+INDEX($B96+$D96*$24:$24, MATCH(H$50,$17:$17, 0))*2)))))","v":0},{"$f":"IF(($A96+INDEX($D96*($24:$24-$35:$35), MATCH(I$50,$17:$17, 0)))>$C$8,1000000000,(IF(OR(INDEX($22:$22-($A96-$D96*$35:$35), MATCH(I$50,$17:$17, 0))>0, INDEX($D96*$35:$35-$C96, MATCH(I$50,$17:$17, 0))>0),1000000000,(p!I96+n!I96+m!I96+INDEX(Vt!H:H, MATCH(($A96+INDEX($D96*($24:$24-$35:$35), MATCH(I$50,$17:$17, 0))),Vt!$A:$A,0)+INDEX($B96+$D96*$24:$24, MATCH(I$50,$17:$17, 0))*2)))))","v":0},{"$f":"IF(($A96+INDEX($D96*($24:$24-$35:$35), MATCH(J$50,$17:$17, 0)))>$C$8,1000000000,(IF(OR(INDEX($22:$22-($A96-$D96*$35:$35), MATCH(J$50,$17:$17, 0))>0, INDEX($D96*$35:$35-$C96, MATCH(J$50,$17:$17, 0))>0),1000000000,(p!J96+n!J96+m!J96+INDEX(Vt!I:I, MATCH(($A96+INDEX($D96*($24:$24-$35:$35), MATCH(J$50,$17:$17, 0))),Vt!$A:$A,0)+INDEX($B96+$D96*$24:$24, MATCH(J$50,$17:$17, 0))*2)))))","v":0},{"$f":"IF(($A96+INDEX($D96*($24:$24-$35:$35), MATCH(K$50,$17:$17, 0)))>$C$8,1000000000,(IF(OR(INDEX($22:$22-($A96-$D96*$35:$35), MATCH(K$50,$17:$17, 0))>0, INDEX($D96*$35:$35-$C96, MATCH(K$50,$17:$17, 0))>0),1000000000,(p!K96+n!K96+m!K96+INDEX(Vt!J:J, MATCH(($A96+INDEX($D96*($24:$24-$35:$35), MATCH(K$50,$17:$17, 0))),Vt!$A:$A,0)+INDEX($B96+$D96*$24:$24, MATCH(K$50,$17:$17, 0))*2)))))","v":0},{"$f":"IF(($A96+INDEX($D96*($24:$24-$35:$35), MATCH(L$50,$17:$17, 0)))>$C$8,1000000000,(IF(OR(INDEX($22:$22-($A96-$D96*$35:$35), MATCH(L$50,$17:$17, 0))>0, INDEX($D96*$35:$35-$C96, MATCH(L$50,$17:$17, 0))>0),1000000000,(p!L96+n!L96+m!L96+INDEX(Vt!K:K, MATCH(($A96+INDEX($D96*($24:$24-$35:$35), MATCH(L$50,$17:$17, 0))),Vt!$A:$A,0)+INDEX($B96+$D96*$24:$24, MATCH(L$50,$17:$17, 0))*2)))))","v":0},{"$f":"IF(($A96+INDEX($D96*($24:$24-$35:$35), MATCH(M$50,$17:$17, 0)))>$C$8,1000000000,(IF(OR(INDEX($22:$22-($A96-$D96*$35:$35), MATCH(M$50,$17:$17, 0))>0, INDEX($D96*$35:$35-$C96, MATCH(M$50,$17:$17, 0))>0),1000000000,(p!M96+n!M96+m!M96+INDEX(Vt!L:L, MATCH(($A96+INDEX($D96*($24:$24-$35:$35), MATCH(M$50,$17:$17, 0))),Vt!$A:$A,0)+INDEX($B96+$D96*$24:$24, MATCH(M$50,$17:$17, 0))*2)))))","v":0},{"$f":"IF(($A96+INDEX($D96*($24:$24-$35:$35), MATCH(N$50,$17:$17, 0)))>$C$8,1000000000,(IF(OR(INDEX($22:$22-($A96-$D96*$35:$35), MATCH(N$50,$17:$17, 0))>0, INDEX($D96*$35:$35-$C96, MATCH(N$50,$17:$17, 0))>0),1000000000,(p!N96+n!N96+m!N96+INDEX(Vt!M:M, MATCH(($A96+INDEX($D96*($24:$24-$35:$35), MATCH(N$50,$17:$17, 0))),Vt!$A:$A,0)+INDEX($B96+$D96*$24:$24, MATCH(N$50,$17:$17, 0))*2)))))","v":0},{"$f":"IF(($A96+INDEX($D96*($24:$24-$35:$35), MATCH(O$50,$17:$17, 0)))>$C$8,1000000000,(IF(OR(INDEX($22:$22-($A96-$D96*$35:$35), MATCH(O$50,$17:$17, 0))>0, INDEX($D96*$35:$35-$C96, MATCH(O$50,$17:$17, 0))>0),1000000000,(p!O96+n!O96+m!O96+INDEX(Vt!N:N, MATCH(($A96+INDEX($D96*($24:$24-$35:$35), MATCH(O$50,$17:$17, 0))),Vt!$A:$A,0)+INDEX($B96+$D96*$24:$24, MATCH(O$50,$17:$17, 0))*2)))))","v":0}]
[6,2,4,0,0,{"$f":"IF(($A97+INDEX($D97*($24:$24-$35:$35), MATCH(F$50,$17:$17, 0)))>$C$8,1000000000,(IF(OR(INDEX($22:$22-($A97-$D97*$35:$35), MATCH(F$50,$17:$17, 0))>0, INDEX($D97*$35:$35-$C97, MATCH(F$50,$17:$17, 0))>0),1000000000,(p!F97+n!F97+m!F97+INDEX(Vt!E:E, MATCH(($A97+INDEX($D97*($24:$24-$35:$35), MATCH(F$50,$17:$17, 0))),Vt!$A:$A,0)+INDEX($B97+$D97*$24:$24, MATCH(F$50,$17:$17, 0))*2)))))","v":0},{"$f":"IF(($A97+INDEX($D97*($24:$24-$35:$35), MATCH(G$50,$17:$17, 0)))>$C$8,1000000000,(IF(OR(INDEX($22:$22-($A97-$D97*$35:$35), MATCH(G$50,$17:$17, 0))>0, INDEX($D97*$35:$35-$C97, MATCH(G$50,$17:$17, 0))>0),1000000000,(p!G97+n!G97+m!G97+INDEX(Vt!F:F, MATCH(($A97+INDEX($D97*($24:$24-$35:$35), MATCH(G$50,$17:$17, 0))),Vt!$A:$A,0)+INDEX($B97+$D97*$24:$24, MATCH(G$50,$17:$17, 0))*2)))))","v":0},{"$f":"IF(($A97+INDEX($D97*($24:$24-$35:$35), MATCH(H$50,$17:$17, 0)))>$C$8,1000000000,(IF(OR(INDEX($22:$22-($A97-$D97*$35:$35), MATCH(H$50,$17:$17, 0))>0, INDEX($D97*$35:$35-$C97, MATCH(H$50,$17:$17, 0))>0),1000000000,(p!H97+n!H97+m!H97+INDEX(Vt!G:G, MATCH(($A97+INDEX($D97*($24:$24-$35:$35), MATCH(H$50,$17:$17, 0))),Vt!$A:$A,0)+INDEX($B97+$D97*$24:$24, MATCH(H$50,$17:$17, 0))*2)))))","v":0},{"$f":"IF(($A97+INDEX($D97*($24:$24-$35:$35), MATCH(I$50,$17:$17, 0)))>$C$8,1000000000,(IF(OR(INDEX($22:$22-($A97-$D97*$35:$35), MATCH(I$50,$17:$17, 0))>0, INDEX($D97*$35:$35-$C97, MATCH(I$50,$17:$17, 0))>0),1000000000,(p!I97+n!I97+m!I97+INDEX(Vt!H:H, MATCH(($A97+INDEX($D97*($24:$24-$35:$35), MATCH(I$50,$17:$17, 0))),Vt!$A:$A,0)+INDEX($B97+$D97*$24:$24, MATCH(I$50,$17:$17, 0))*2)))))","v":0},{"$f":"IF(($A97+INDEX($D97*($24:$24-$35:$35), MATCH(J$50,$17:$17, 0)))>$C$8,1000000000,(IF(OR(INDEX($22:$22-($A97-$D97*$35:$35), MATCH(J$50,$17:$17, 0))>0, INDEX($D97*$35:$35-$C97, MATCH(J$50,$17:$17, 0))>0),1000000000,(p!J97+n!J97+m!J97+INDEX(Vt!I:I, MATCH(($A97+INDEX($D97*($24:$24-$35:$35), MATCH(J$50,$17:$17, 0))),Vt!$A:$A,0)+INDEX($B97+$D97*$24:$24, MATCH(J$50,$17:$17, 0))*2)))))","v":0},{"$f":"IF(($A97+INDEX($D97*($24:$24-$35:$35), MATCH(K$50,$17:$17, 0)))>$C$8,1000000000,(IF(OR(INDEX($22:$22-($A97-$D97*$35:$35), MATCH(K$50,$17:$17, 0))>0, INDEX($D97*$35:$35-$C97, MATCH(K$50,$17:$17, 0))>0),1000000000,(p!K97+n!K97+m!K97+INDEX(Vt!J:J, MATCH(($A97+INDEX($D97*($24:$24-$35:$35), MATCH(K$50,$17:$17, 0))),Vt!$A:$A,0)+INDEX($B97+$D97*$24:$24, MATCH(K$50,$17:$17, 0))*2)))))","v":0},{"$f":"IF(($A97+INDEX($D97*($24:$24-$35:$35), MATCH(L$50,$17:$17, 0)))>$C$8,1000000000,(IF(OR(INDEX($22:$22-($A97-$D97*$35:$35), MATCH(L$50,$17:$17, 0))>0, INDEX($D97*$35:$35-$C97, MATCH(L$50,$17:$17, 0))>0),1000000000,(p!L97+n!L97+m!L97+INDEX(Vt!K:K, MATCH(($A97+INDEX($D97*($24:$24-$35:$35), MATCH(L$50,$17:$17, 0))),Vt!$A:$A,0)+INDEX($B97+$D97*$24:$24, MATCH(L$50,$17:$17, 0))*2)))))","v":0},{"$f":"IF(($A97+INDEX($D97*($24:$24-$35:$35), MATCH(M$50,$17:$17, 0)))>$C$8,1000000000,(IF(OR(INDEX($22:$22-($A97-$D97*$35:$35), MATCH(M$50,$17:$17, 0))>0, INDEX($D97*$35:$35-$C97, MATCH(M$50,$17:$17, 0))>0),1000000000,(p!M97+n!M97+m!M97+INDEX(Vt!L:L, MATCH(($A97+INDEX($D97*($24:$24-$35:$35), MATCH(M$50,$17:$17, 0))),Vt!$A:$A,0)+INDEX($B97+$D97*$24:$24, MATCH(M$50,$17:$17, 0))*2)))))","v":0},{"$f":"IF(($A97+INDEX($D97*($24:$24-$35:$35), MATCH(N$50,$17:$17, 0)))>$C$8,1000000000,(IF(OR(INDEX($22:$22-($A97-$D97*$35:$35), MATCH(N$50,$17:$17, 0))>0, INDEX($D97*$35:$35-$C97, MATCH(N$50,$17:$17, 0))>0),1000000000,(p!N97+n!N97+m!N97+INDEX(Vt!M:M, MATCH(($A97+INDEX($D97*($24:$24-$35:$35), MATCH(N$50,$17:$17, 0))),Vt!$A:$A,0)+INDEX($B97+$D97*$24:$24, MATCH(N$50,$17:$17, 0))*2)))))","v":0},{"$f":"IF(($A97+INDEX($D97*($24:$24-$35:$35), MATCH(O$50,$17:$17, 0)))>$C$8,1000000000,(IF(OR(INDEX($22:$22-($A97-$D97*$35:$35), MATCH(O$50,$17:$17, 0))>0, INDEX($D97*$35:$35-$C97, MATCH(O$50,$17:$17, 0))>0),1000000000,(p!O97+n!O97+m!O97+INDEX(Vt!N:N, MATCH(($A97+INDEX($D97*($24:$24-$35:$35), MATCH(O$50,$17:$17, 0))),Vt!$A:$A,0)+INDEX($B97+$D97*$24:$24, MATCH(O$50,$17:$17, 0))*2)))))","v":0}]
[6,2,4,1,0,{"$f":"IF(($A98+INDEX($D98*($24:$24-$35:$35), MATCH(F$50,$17:$17, 0)))>$C$8,1000000000,(IF(OR(INDEX($22:$22-($A98-$D98*$35:$35), MATCH(F$50,$17:$17, 0))>0, INDEX($D98*$35:$35-$C98, MATCH(F$50,$17:$17, 0))>0),1000000000,(p!F98+n!F98+m!F98+INDEX(Vt!E:E, MATCH(($A98+INDEX($D98*($24:$24-$35:$35), MATCH(F$50,$17:$17, 0))),Vt!$A:$A,0)+INDEX($B98+$D98*$24:$24, MATCH(F$50,$17:$17, 0))*2)))))","v":0},{"$f":"IF(($A98+INDEX($D98*($24:$24-$35:$35), MATCH(G$50,$17:$17, 0)))>$C$8,1000000000,(IF(OR(INDEX($22:$22-($A98-$D98*$35:$35), MATCH(G$50,$17:$17, 0))>0, INDEX($D98*$35:$35-$C98, MATCH(G$50,$17:$17, 0))>0),1000000000,(p!G98+n!G98+m!G98+INDEX(Vt!F:F, MATCH(($A98+INDEX($D98*($24:$24-$35:$35), MATCH(G$50,$17:$17, 0))),Vt!$A:$A,0)+INDEX($B98+$D98*$24:$24, MATCH(G$50,$17:$17, 0))*2)))))","v":0},{"$f":"IF(($A98+INDEX($D98*($24:$24-$35:$35), MATCH(H$50,$17:$17, 0)))>$C$8,1000000000,(IF(OR(INDEX($22:$22-($A98-$D98*$35:$35), MATCH(H$50,$17:$17, 0))>0, INDEX($D98*$35:$35-$C98, MATCH(H$50,$17:$17, 0))>0),1000000000,(p!H98+n!H98+m!H98+INDEX(Vt!G:G, MATCH(($A98+INDEX($D98*($24:$24-$35:$35), MATCH(H$50,$17:$17, 0))),Vt!$A:$A,0)+INDEX($B98+$D98*$24:$24, MATCH(H$50,$17:$17, 0))*2)))))","v":0},{"$f":"IF(($A98+INDEX($D98*($24:$24-$35:$35), MATCH(I$50,$17:$17, 0)))>$C$8,1000000000,(IF(OR(INDEX($22:$22-($A98-$D98*$35:$35), MATCH(I$50,$17:$17, 0))>0, INDEX($D98*$35:$35-$C98, MATCH(I$50,$17:$17, 0))>0),1000000000,(p!I98+n!I98+m!I98+INDEX(Vt!H:H, MATCH(($A98+INDEX($D98*($24:$24-$35:$35), MATCH(I$50,$17:$17, 0))),Vt!$A:$A,0)+INDEX($B98+$D98*$24:$24, MATCH(I$50,$17:$17, 0))*2)))))","v":0},{"$f":"IF(($A98+INDEX($D98*($24:$24-$35:$35), MATCH(J$50,$17:$17, 0)))>$C$8,1000000000,(IF(OR(INDEX($22:$22-($A98-$D98*$35:$35), MATCH(J$50,$17:$17, 0))>0, INDEX($D98*$35:$35-$C98, MATCH(J$50,$17:$17, 0))>0),1000000000,(p!J98+n!J98+m!J98+INDEX(Vt!I:I, MATCH(($A98+INDEX($D98*($24:$24-$35:$35), MATCH(J$50,$17:$17, 0))),Vt!$A:$A,0)+INDEX($B98+$D98*$24:$24, MATCH(J$50,$17:$17, 0))*2)))))","v":0},{"$f":"IF(($A98+INDEX($D98*($24:$24-$35:$35), MATCH(K$50,$17:$17, 0)))>$C$8,1000000000,(IF(OR(INDEX($22:$22-($A98-$D98*$35:$35), MATCH(K$50,$17:$17, 0))>0, INDEX($D98*$35:$35-$C98, MATCH(K$50,$17:$17, 0))>0),1000000000,(p!K98+n!K98+m!K98+INDEX(Vt!J:J, MATCH(($A98+INDEX($D98*($24:$24-$35:$35), MATCH(K$50,$17:$17, 0))),Vt!$A:$A,0)+INDEX($B98+$D98*$24:$24, MATCH(K$50,$17:$17, 0))*2)))))","v":0},{"$f":"IF(($A98+INDEX($D98*($24:$24-$35:$35), MATCH(L$50,$17:$17, 0)))>$C$8,1000000000,(IF(OR(INDEX($22:$22-($A98-$D98*$35:$35), MATCH(L$50,$17:$17, 0))>0, INDEX($D98*$35:$35-$C98, MATCH(L$50,$17:$17, 0))>0),1000000000,(p!L98+n!L98+m!L98+INDEX(Vt!K:K, MATCH(($A98+INDEX($D98*($24:$24-$35:$35), MATCH(L$50,$17:$17, 0))),Vt!$A:$A,0)+INDEX($B98+$D98*$24:$24, MATCH(L$50,$17:$17, 0))*2)))))","v":0},{"$f":"IF(($A98+INDEX($D98*($24:$24-$35:$35), MATCH(M$50,$17:$17, 0)))>$C$8,1000000000,(IF(OR(INDEX($22:$22-($A98-$D98*$35:$35), MATCH(M$50,$17:$17, 0))>0, INDEX($D98*$35:$35-$C98, MATCH(M$50,$17:$17, 0))>0),1000000000,(p!M98+n!M98+m!M98+INDEX(Vt!L:L, MATCH(($A98+INDEX($D98*($24:$24-$35:$35), MATCH(M$50,$17:$17, 0))),Vt!$A:$A,0)+INDEX($B98+$D98*$24:$24, MATCH(M$50,$17:$17, 0))*2)))))","v":0},{"$f":"IF(($A98+INDEX($D98*($24:$24-$35:$35), MATCH(N$50,$17:$17, 0)))>$C$8,1000000000,(IF(OR(INDEX($22:$22-($A98-$D98*$35:$35), MATCH(N$50,$17:$17, 0))>0, INDEX($D98*$35:$35-$C98, MATCH(N$50,$17:$17, 0))>0),1000000000,(p!N98+n!N98+m!N98+INDEX(Vt!M:M, MATCH(($A98+INDEX($D98*($24:$24-$35:$35), MATCH(N$50,$17:$17, 0))),Vt!$A:$A,0)+INDEX($B98+$D98*$24:$24, MATCH(N$50,$17:$17, 0))*2)))))","v":0},{"$f":"IF(($A98+INDEX($D98*($24:$24-$35:$35), MATCH(O$50,$17:$17, 0)))>$C$8,1000000000,(IF(OR(INDEX($22:$22-($A98-$D98*$35:$35), MATCH(O$50,$17:$17, 0))>0, INDEX($D98*$35:$35-$C98, MATCH(O$50,$17:$17, 0))>0),1000000000,(p!O98+n!O98+m!O98+INDEX(Vt!N:N, MATCH(($A98+INDEX($D98*($24:$24-$35:$35), MATCH(O$50,$17:$17, 0))),Vt!$A:$A,0)+INDEX($B98+$D98*$24:$24, MATCH(O$50,$17:$17, 0))*2)))))","v":0}]
[6,3,3,0,0,{"$f":"IF(($A99+INDEX($D99*($24:$24-$35:$35), MATCH(F$50,$17:$17, 0)))>$C$8,1000000000,(IF(OR(INDEX($22:$22-($A99-$D99*$35:$35), MATCH(F$50,$17:$17, 0))>0, INDEX($D99*$35:$35-$C99, MATCH(F$50,$17:$17, 0))>0),1000000000,(p!F99+n!F99+m!F99+INDEX(Vt!E:E, MATCH(($A99+INDEX($D99*($24:$24-$35:$35), MATCH(F$50,$17:$17, 0))),Vt!$A:$A,0)+INDEX($B99+$D99*$24:$24, MATCH(F$50,$17:$17, 0))*2)))))","v":0},{"$f":"IF(($A99+INDEX($D99*($24:$24-$35:$35), MATCH(G$50,$17:$17, 0)))>$C$8,1000000000,(IF(OR(INDEX($22:$22-($A99-$D99*$35:$35), MATCH(G$50,$17:$17, 0))>0, INDEX($D99*$35:$35-$C99, MATCH(G$50,$17:$17, 0))>0),1000000000,(p!G99+n!G99+m!G99+INDEX(Vt!F:F, MATCH(($A99+INDEX($D99*($24:$24-$35:$35), MATCH(G$50,$17:$17, 0))),Vt!$A:$A,0)+INDEX($B99+$D99*$24:$24, MATCH(G$50,$17:$17, 0))*2)))))","v":0},{"$f":"IF(($A99+INDEX($D99*($24:$24-$35:$35), MATCH(H$50,$17:$17, 0)))>$C$8,1000000000,(IF(OR(INDEX($22:$22-($A99-$D99*$35:$35), MATCH(H$50,$17:$17, 0))>0, INDEX($D99*$35:$35-$C99, MATCH(H$50,$17:$17, 0))>0),1000000000,(p!H99+n!H99+m!H99+INDEX(Vt!G:G, MATCH(($A99+INDEX($D99*($24:$24-$35:$35), MATCH(H$50,$17:$17, 0))),Vt!$A:$A,0)+INDEX($B99+$D99*$24:$24, MATCH(H$50,$17:$17, 0))*2)))))","v":0},{"$f":"IF(($A99+INDEX($D99*($24:$24-$35:$35), MATCH(I$50,$17:$17, 0)))>$C$8,1000000000,(IF(OR(INDEX($22:$22-($A99-$D99*$35:$35), MATCH(I$50,$17:$17, 0))>0, INDEX($D99*$35:$35-$C99, MATCH(I$50,$17:$17, 0))>0),1000000000,(p!I99+n!I99+m!I99+INDEX(Vt!H:H, MATCH(($A99+INDEX($D99*($24:$24-$35:$35), MATCH(I$50,$17:$17, 0))),Vt!$A:$A,0)+INDEX($B99+$D99*$24:$24, MATCH(I$50,$17:$17, 0))*2)))))","v":0},{"$f":"IF(($A99+INDEX($D99*($24:$24-$35:$35), MATCH(J$50,$17:$17, 0)))>$C$8,1000000000,(IF(OR(INDEX($22:$22-($A99-$D99*$35:$35), MATCH(J$50,$17:$17, 0))>0, INDEX($D99*$35:$35-$C99, MATCH(J$50,$17:$17, 0))>0),1000000000,(p!J99+n!J99+m!J99+INDEX(Vt!I:I, MATCH(($A99+INDEX($D99*($24:$24-$35:$35), MATCH(J$50,$17:$17, 0))),Vt!$A:$A,0)+INDEX($B99+$D99*$24:$24, MATCH(J$50,$17:$17, 0))*2)))))","v":0},{"$f":"IF(($A99+INDEX($D99*($24:$24-$35:$35), MATCH(K$50,$17:$17, 0)))>$C$8,1000000000,(IF(OR(INDEX($22:$22-($A99-$D99*$35:$35), MATCH(K$50,$17:$17, 0))>0, INDEX($D99*$35:$35-$C99, MATCH(K$50,$17:$17, 0))>0),1000000000,(p!K99+n!K99+m!K99+INDEX(Vt!J:J, MATCH(($A99+INDEX($D99*($24:$24-$35:$35), MATCH(K$50,$17:$17, 0))),Vt!$A:$A,0)+INDEX($B99+$D99*$24:$24, MATCH(K$50,$17:$17, 0))*2)))))","v":0},{"$f":"IF(($A99+INDEX($D99*($24:$24-$35:$35), MATCH(L$50,$17:$17, 0)))>$C$8,1000000000,(IF(OR(INDEX($22:$22-($A99-$D99*$35:$35), MATCH(L$50,$17:$17, 0))>0, INDEX($D99*$35:$35-$C99, MATCH(L$50,$17:$17, 0))>0),1000000000,(p!L99+n!L99+m!L99+INDEX(Vt!K:K, MATCH(($A99+INDEX($D99*($24:$24-$35:$35), MATCH(L$50,$17:$17, 0))),Vt!$A:$A,0)+INDEX($B99+$D99*$24:$24, MATCH(L$50,$17:$17, 0))*2)))))","v":0},{"$f":"IF(($A99+INDEX($D99*($24:$24-$35:$35), MATCH(M$50,$17:$17, 0)))>$C$8,1000000000,(IF(OR(INDEX($22:$22-($A99-$D99*$35:$35), MATCH(M$50,$17:$17, 0))>0, INDEX($D99*$35:$35-$C99, MATCH(M$50,$17:$17, 0))>0),1000000000,(p!M99+n!M99+m!M99+INDEX(Vt!L:L, MATCH(($A99+INDEX($D99*($24:$24-$35:$35), MATCH(M$50,$17:$17, 0))),Vt!$A:$A,0)+INDEX($B99+$D99*$24:$24, MATCH(M$50,$17:$17, 0))*2)))))","v":0},{"$f":"IF(($A99+INDEX($D99*($24:$24-$35:$35), MATCH(N$50,$17:$17, 0)))>$C$8,1000000000,(IF(OR(INDEX($22:$22-($A99-$D99*$35:$35), MATCH(N$50,$17:$17, 0))>0, INDEX($D99*$35:$35-$C99, MATCH(N$50,$17:$17, 0))>0),1000000000,(p!N99+n!N99+m!N99+INDEX(Vt!M:M, MATCH(($A99+INDEX($D99*($24:$24-$35:$35), MATCH(N$50,$17:$17, 0))),Vt!$A:$A,0)+INDEX($B99+$D99*$24:$24, MATCH(N$50,$17:$17, 0))*2)))))","v":0},{"$f":"IF(($A99+INDEX($D99*($24:$24-$35:$35), MATCH(O$50,$17:$17, 0)))>$C$8,1000000000,(IF(OR(INDEX($22:$22-($A99-$D99*$35:$35), MATCH(O$50,$17:$17, 0))>0, INDEX($D99*$35:$35-$C99, MATCH(O$50,$17:$17, 0))>0),1000000000,(p!O99+n!O99+m!O99+INDEX(Vt!N:N, MATCH(($A99+INDEX($D99*($24:$24-$35:$35), MATCH(O$50,$17:$17, 0))),Vt!$A:$A,0)+INDEX($B99+$D99*$24:$24, MATCH(O$50,$17:$17, 0))*2)))))","v":0}]
[6,3,3,1,0,{"$f":"IF(($A100+INDEX($D100*($24:$24-$35:$35), MATCH(F$50,$17:$17, 0)))>$C$8,1000000000,(IF(OR(INDEX($22:$22-($A100-$D100*$35:$35), MATCH(F$50,$17:$17, 0))>0, INDEX($D100*$35:$35-$C100, MATCH(F$50,$17:$17, 0))>0),1000000000,(p!F100+n!F100+m!F100+INDEX(Vt!E:E, MATCH(($A100+INDEX($D100*($24:$24-$35:$35), MATCH(F$50,$17:$17, 0))),Vt!$A:$A,0)+INDEX($B100+$D100*$24:$24, MATCH(F$50,$17:$17, 0))*2)))))","v":0},{"$f":"IF(($A100+INDEX($D100*($24:$24-$35:$35), MATCH(G$50,$17:$17, 0)))>$C$8,1000000000,(IF(OR(INDEX($22:$22-($A100-$D100*$35:$35), MATCH(G$50,$17:$17, 0))>0, INDEX($D100*$35:$35-$C100, MATCH(G$50,$17:$17, 0))>0),1000000000,(p!G100+n!G100+m!G100+INDEX(Vt!F:F, MATCH(($A100+INDEX($D100*($24:$24-$35:$35), MATCH(G$50,$17:$17, 0))),Vt!$A:$A,0)+INDEX($B100+$D100*$24:$24, MATCH(G$50,$17:$17, 0))*2)))))","v":0},{"$f":"IF(($A100+INDEX($D100*($24:$24-$35:$35), MATCH(H$50,$17:$17, 0)))>$C$8,1000000000,(IF(OR(INDEX($22:$22-($A100-$D100*$35:$35), MATCH(H$50,$17:$17, 0))>0, INDEX($D100*$35:$35-$C100, MATCH(H$50,$17:$17, 0))>0),1000000000,(p!H100+n!H100+m!H100+INDEX(Vt!G:G, MATCH(($A100+INDEX($D100*($24:$24-$35:$35), MATCH(H$50,$17:$17, 0))),Vt!$A:$A,0)+INDEX($B100+$D100*$24:$24, MATCH(H$50,$17:$17, 0))*2)))))","v":0},{"$f":"IF(($A100+INDEX($D100*($24:$24-$35:$35), MATCH(I$50,$17:$17, 0)))>$C$8,1000000000,(IF(OR(INDEX($22:$22-($A100-$D100*$35:$35), MATCH(I$50,$17:$17, 0))>0, INDEX($D100*$35:$35-$C100, MATCH(I$50,$17:$17, 0))>0),1000000000,(p!I100+n!I100+m!I100+INDEX(Vt!H:H, MATCH(($A100+INDEX($D100*($24:$24-$35:$35), MATCH(I$50,$17:$17, 0))),Vt!$A:$A,0)+INDEX($B100+$D100*$24:$24, MATCH(I$50,$17:$17, 0))*2)))))","v":0},{"$f":"IF(($A100+INDEX($D100*($24:$24-$35:$35), MATCH(J$50,$17:$17, 0)))>$C$8,1000000000,(IF(OR(INDEX($22:$22-($A100-$D100*$35:$35), MATCH(J$50,$17:$17, 0))>0, INDEX($D100*$35:$35-$C100, MATCH(J$50,$17:$17, 0))>0),1000000000,(p!J100+n!J100+m!J100+INDEX(Vt!I:I, MATCH(($A100+INDEX($D100*($24:$24-$35:$35), MATCH(J$50,$17:$17, 0))),Vt!$A:$A,0)+INDEX($B100+$D100*$24:$24, MATCH(J$50,$17:$17, 0))*2)))))","v":0},{"$f":"IF(($A100+INDEX($D100*($24:$24-$35:$35), MATCH(K$50,$17:$17, 0)))>$C$8,1000000000,(IF(OR(INDEX($22:$22-($A100-$D100*$35:$35), MATCH(K$50,$17:$17, 0))>0, INDEX($D100*$35:$35-$C100, MATCH(K$50,$17:$17, 0))>0),1000000000,(p!K100+n!K100+m!K100+INDEX(Vt!J:J, MATCH(($A100+INDEX($D100*($24:$24-$35:$35), MATCH(K$50,$17:$17, 0))),Vt!$A:$A,0)+INDEX($B100+$D100*$24:$24, MATCH(K$50,$17:$17, 0))*2)))))","v":0},{"$f":"IF(($A100+INDEX($D100*($24:$24-$35:$35), MATCH(L$50,$17:$17, 0)))>$C$8,1000000000,(IF(OR(INDEX($22:$22-($A100-$D100*$35:$35), MATCH(L$50,$17:$17, 0))>0, INDEX($D100*$35:$35-$C100, MATCH(L$50,$17:$17, 0))>0),1000000000,(p!L100+n!L100+m!L100+INDEX(Vt!K:K, MATCH(($A100+INDEX($D100*($24:$24-$35:$35), MATCH(L$50,$17:$17, 0))),Vt!$A:$A,0)+INDEX($B100+$D100*$24:$24, MATCH(L$50,$17:$17, 0))*2)))))","v":0},{"$f":"IF(($A100+INDEX($D100*($24:$24-$35:$35), MATCH(M$50,$17:$17, 0)))>$C$8,1000000000,(IF(OR(INDEX($22:$22-($A100-$D100*$35:$35), MATCH(M$50,$17:$17, 0))>0, INDEX($D100*$35:$35-$C100, MATCH(M$50,$17:$17, 0))>0),1000000000,(p!M100+n!M100+m!M100+INDEX(Vt!L:L, MATCH(($A100+INDEX($D100*($24:$24-$35:$35), MATCH(M$50,$17:$17, 0))),Vt!$A:$A,0)+INDEX($B100+$D100*$24:$24, MATCH(M$50,$17:$17, 0))*2)))))","v":0},{"$f":"IF(($A100+INDEX($D100*($24:$24-$35:$35), MATCH(N$50,$17:$17, 0)))>$C$8,1000000000,(IF(OR(INDEX($22:$22-($A100-$D100*$35:$35), MATCH(N$50,$17:$17, 0))>0, INDEX($D100*$35:$35-$C100, MATCH(N$50,$17:$17, 0))>0),1000000000,(p!N100+n!N100+m!N100+INDEX(Vt!M:M, MATCH(($A100+INDEX($D100*($24:$24-$35:$35), MATCH(N$50,$17:$17, 0))),Vt!$A:$A,0)+INDEX($B100+$D100*$24:$24, MATCH(N$50,$17:$17, 0))*2)))))","v":0},{"$f":"IF(($A100+INDEX($D100*($24:$24-$35:$35), MATCH(O$50,$17:$17, 0)))>$C$8,1000000000,(IF(OR(INDEX($22:$22-($A100-$D100*$35:$35), MATCH(O$50,$17:$17, 0))>0, INDEX($D100*$35:$35-$C100, MATCH(O$50,$17:$17, 0))>0),1000000000,(p!O100+n!O100+m!O100+INDEX(Vt!N:N, MATCH(($A100+INDEX($D100*($24:$24-$35:$35), MATCH(O$50,$17:$17, 0))),Vt!$A:$A,0)+INDEX($B100+$D100*$24:$24, MATCH(O$50,$17:$17, 0))*2)))))","v":0}]
[6,4,2,0,0,{"$f":"IF(($A101+INDEX($D101*($24:$24-$35:$35), MATCH(F$50,$17:$17, 0)))>$C$8,1000000000,(IF(OR(INDEX($22:$22-($A101-$D101*$35:$35), MATCH(F$50,$17:$17, 0))>0, INDEX($D101*$35:$35-$C101, MATCH(F$50,$17:$17, 0))>0),1000000000,(p!F101+n!F101+m!F101+INDEX(Vt!E:E, MATCH(($A101+INDEX($D101*($24:$24-$35:$35), MATCH(F$50,$17:$17, 0))),Vt!$A:$A,0)+INDEX($B101+$D101*$24:$24, MATCH(F$50,$17:$17, 0))*2)))))","v":0},{"$f":"IF(($A101+INDEX($D101*($24:$24-$35:$35), MATCH(G$50,$17:$17, 0)))>$C$8,1000000000,(IF(OR(INDEX($22:$22-($A101-$D101*$35:$35), MATCH(G$50,$17:$17, 0))>0, INDEX($D101*$35:$35-$C101, MATCH(G$50,$17:$17, 0))>0),1000000000,(p!G101+n!G101+m!G101+INDEX(Vt!F:F, MATCH(($A101+INDEX($D101*($24:$24-$35:$35), MATCH(G$50,$17:$17, 0))),Vt!$A:$A,0)+INDEX($B101+$D101*$24:$24, MATCH(G$50,$17:$17, 0))*2)))))","v":0},{"$f":"IF(($A101+INDEX($D101*($24:$24-$35:$35), MATCH(H$50,$17:$17, 0)))>$C$8,1000000000,(IF(OR(INDEX($22:$22-($A101-$D101*$35:$35), MATCH(H$50,$17:$17, 0))>0, INDEX($D101*$35:$35-$C101, MATCH(H$50,$17:$17, 0))>0),1000000000,(p!H101+n!H101+m!H101+INDEX(Vt!G:G, MATCH(($A101+INDEX($D101*($24:$24-$35:$35), MATCH(H$50,$17:$17, 0))),Vt!$A:$A,0)+INDEX($B101+$D101*$24:$24, MATCH(H$50,$17:$17, 0))*2)))))","v":0},{"$f":"IF(($A101+INDEX($D101*($24:$24-$35:$35), MATCH(I$50,$17:$17, 0)))>$C$8,1000000000,(IF(OR(INDEX($22:$22-($A101-$D101*$35:$35), MATCH(I$50,$17:$17, 0))>0, INDEX($D101*$35:$35-$C101, MATCH(I$50,$17:$17, 0))>0),1000000000,(p!I101+n!I101+m!I101+INDEX(Vt!H:H, MATCH(($A101+INDEX($D101*($24:$24-$35:$35), MATCH(I$50,$17:$17, 0))),Vt!$A:$A,0)+INDEX($B101+$D101*$24:$24, MATCH(I$50,$17:$17, 0))*2)))))","v":0},{"$f":"IF(($A101+INDEX($D101*($24:$24-$35:$35), MATCH(J$50,$17:$17, 0)))>$C$8,1000000000,(IF(OR(INDEX($22:$22-($A101-$D101*$35:$35), MATCH(J$50,$17:$17, 0))>0, INDEX($D101*$35:$35-$C101, MATCH(J$50,$17:$17, 0))>0),1000000000,(p!J101+n!J101+m!J101+INDEX(Vt!I:I, MATCH(($A101+INDEX($D101*($24:$24-$35:$35), MATCH(J$50,$17:$17, 0))),Vt!$A:$A,0)+INDEX($B101+$D101*$24:$24, MATCH(J$50,$17:$17, 0))*2)))))","v":0},{"$f":"IF(($A101+INDEX($D101*($24:$24-$35:$35), MATCH(K$50,$17:$17, 0)))>$C$8,1000000000,(IF(OR(INDEX($22:$22-($A101-$D101*$35:$35), MATCH(K$50,$17:$17, 0))>0, INDEX($D101*$35:$35-$C101, MATCH(K$50,$17:$17, 0))>0),1000000000,(p!K101+n!K101+m!K101+INDEX(Vt!J:J, MATCH(($A101+INDEX($D101*($24:$24-$35:$35), MATCH(K$50,$17:$17, 0))),Vt!$A:$A,0)+INDEX($B101+$D101*$24:$24, MATCH(K$50,$17:$17, 0))*2)))))","v":0},{"$f":"IF(($A101+INDEX($D101*($24:$24-$35:$35), MATCH(L$50,$17:$17, 0)))>$C$8,1000000000,(IF(OR(INDEX($22:$22-($A101-$D101*$35:$35), MATCH(L$50,$17:$17, 0))>0, INDEX($D101*$35:$35-$C101, MATCH(L$50,$17:$17, 0))>0),1000000000,(p!L101+n!L101+m!L101+INDEX(Vt!K:K, MATCH(($A101+INDEX($D101*($24:$24-$35:$35), MATCH(L$50,$17:$17, 0))),Vt!$A:$A,0)+INDEX($B101+$D101*$24:$24, MATCH(L$50,$17:$17, 0))*2)))))","v":0},{"$f":"IF(($A101+INDEX($D101*($24:$24-$35:$35), MATCH(M$50,$17:$17, 0)))>$C$8,1000000000,(IF(OR(INDEX($22:$22-($A101-$D101*$35:$35), MATCH(M$50,$17:$17, 0))>0, INDEX($D101*$35:$35-$C101, MATCH(M$50,$17:$17, 0))>0),1000000000,(p!M101+n!M101+m!M101+INDEX(Vt!L:L, MATCH(($A101+INDEX($D101*($24:$24-$35:$35), MATCH(M$50,$17:$17, 0))),Vt!$A:$A,0)+INDEX($B101+$D101*$24:$24, MATCH(M$50,$17:$17, 0))*2)))))","v":0},{"$f":"IF(($A101+INDEX($D101*($24:$24-$35:$35), MATCH(N$50,$17:$17, 0)))>$C$8,1000000000,(IF(OR(INDEX($22:$22-($A101-$D101*$35:$35), MATCH(N$50,$17:$17, 0))>0, INDEX($D101*$35:$35-$C101, MATCH(N$50,$17:$17, 0))>0),1000000000,(p!N101+n!N101+m!N101+INDEX(Vt!M:M, MATCH(($A101+INDEX($D101*($24:$24-$35:$35), MATCH(N$50,$17:$17, 0))),Vt!$A:$A,0)+INDEX($B101+$D101*$24:$24, MATCH(N$50,$17:$17, 0))*2)))))","v":0},{"$f":"IF(($A101+INDEX($D101*($24:$24-$35:$35), MATCH(O$50,$17:$17, 0)))>$C$8,1000000000,(IF(OR(INDEX($22:$22-($A101-$D101*$35:$35), MATCH(O$50,$17:$17, 0))>0, INDEX($D101*$35:$35-$C101, MATCH(O$50,$17:$17, 0))>0),1000000000,(p!O101+n!O101+m!O101+INDEX(Vt!N:N, MATCH(($A101+INDEX($D101*($24:$24-$35:$35), MATCH(O$50,$17:$17, 0))),Vt!$A:$A,0)+INDEX($B101+$D101*$24:$24, MATCH(O$50,$17:$17, 0))*2)))))","v":0}]
[6,4,2,1,0,{"$f":"IF(($A102+INDEX($D102*($24:$24-$35:$35), MATCH(F$50,$17:$17, 0)))>$C$8,1000000000,(IF(OR(INDEX($22:$22-($A102-$D102*$35:$35), MATCH(F$50,$17:$17, 0))>0, INDEX($D102*$35:$35-$C102, MATCH(F$50,$17:$17, 0))>0),1000000000,(p!F102+n!F102+m!F102+INDEX(Vt!E:E, MATCH(($A102+INDEX($D102*($24:$24-$35:$35), MATCH(F$50,$17:$17, 0))),Vt!$A:$A,0)+INDEX($B102+$D102*$24:$24, MATCH(F$50,$17:$17, 0))*2)))))","v":0},{"$f":"IF(($A102+INDEX($D102*($24:$24-$35:$35), MATCH(G$50,$17:$17, 0)))>$C$8,1000000000,(IF(OR(INDEX($22:$22-($A102-$D102*$35:$35), MATCH(G$50,$17:$17, 0))>0, INDEX($D102*$35:$35-$C102, MATCH(G$50,$17:$17, 0))>0),1000000000,(p!G102+n!G102+m!G102+INDEX(Vt!F:F, MATCH(($A102+INDEX($D102*($24:$24-$35:$35), MATCH(G$50,$17:$17, 0))),Vt!$A:$A,0)+INDEX($B102+$D102*$24:$24, MATCH(G$50,$17:$17, 0))*2)))))","v":0},{"$f":"IF(($A102+INDEX($D102*($24:$24-$35:$35), MATCH(H$50,$17:$17, 0)))>$C$8,1000000000,(IF(OR(INDEX($22:$22-($A102-$D102*$35:$35), MATCH(H$50,$17:$17, 0))>0, INDEX($D102*$35:$35-$C102, MATCH(H$50,$17:$17, 0))>0),1000000000,(p!H102+n!H102+m!H102+INDEX(Vt!G:G, MATCH(($A102+INDEX($D102*($24:$24-$35:$35), MATCH(H$50,$17:$17, 0))),Vt!$A:$A,0)+INDEX($B102+$D102*$24:$24, MATCH(H$50,$17:$17, 0))*2)))))","v":0},{"$f":"IF(($A102+INDEX($D102*($24:$24-$35:$35), MATCH(I$50,$17:$17, 0)))>$C$8,1000000000,(IF(OR(INDEX($22:$22-($A102-$D102*$35:$35), MATCH(I$50,$17:$17, 0))>0, INDEX($D102*$35:$35-$C102, MATCH(I$50,$17:$17, 0))>0),1000000000,(p!I102+n!I102+m!I102+INDEX(Vt!H:H, MATCH(($A102+INDEX($D102*($24:$24-$35:$35), MATCH(I$50,$17:$17, 0))),Vt!$A:$A,0)+INDEX($B102+$D102*$24:$24, MATCH(I$50,$17:$17, 0))*2)))))","v":0},{"$f":"IF(($A102+INDEX($D102*($24:$24-$35:$35), MATCH(J$50,$17:$17, 0)))>$C$8,1000000000,(IF(OR(INDEX($22:$22-($A102-$D102*$35:$35), MATCH(J$50,$17:$17, 0))>0, INDEX($D102*$35:$35-$C102, MATCH(J$50,$17:$17, 0))>0),1000000000,(p!J102+n!J102+m!J102+INDEX(Vt!I:I, MATCH(($A102+INDEX($D102*($24:$24-$35:$35), MATCH(J$50,$17:$17, 0))),Vt!$A:$A,0)+INDEX($B102+$D102*$24:$24, MATCH(J$50,$17:$17, 0))*2)))))","v":0},{"$f":"IF(($A102+INDEX($D102*($24:$24-$35:$35), MATCH(K$50,$17:$17, 0)))>$C$8,1000000000,(IF(OR(INDEX($22:$22-($A102-$D102*$35:$35), MATCH(K$50,$17:$17, 0))>0, INDEX($D102*$35:$35-$C102, MATCH(K$50,$17:$17, 0))>0),1000000000,(p!K102+n!K102+m!K102+INDEX(Vt!J:J, MATCH(($A102+INDEX($D102*($24:$24-$35:$35), MATCH(K$50,$17:$17, 0))),Vt!$A:$A,0)+INDEX($B102+$D102*$24:$24, MATCH(K$50,$17:$17, 0))*2)))))","v":0},{"$f":"IF(($A102+INDEX($D102*($24:$24-$35:$35), MATCH(L$50,$17:$17, 0)))>$C$8,1000000000,(IF(OR(INDEX($22:$22-($A102-$D102*$35:$35), MATCH(L$50,$17:$17, 0))>0, INDEX($D102*$35:$35-$C102, MATCH(L$50,$17:$17, 0))>0),1000000000,(p!L102+n!L102+m!L102+INDEX(Vt!K:K, MATCH(($A102+INDEX($D102*($24:$24-$35:$35), MATCH(L$50,$17:$17, 0))),Vt!$A:$A,0)+INDEX($B102+$D102*$24:$24, MATCH(L$50,$17:$17, 0))*2)))))","v":0},{"$f":"IF(($A102+INDEX($D102*($24:$24-$35:$35), MATCH(M$50,$17:$17, 0)))>$C$8,1000000000,(IF(OR(INDEX($22:$22-($A102-$D102*$35:$35), MATCH(M$50,$17:$17, 0))>0, INDEX($D102*$35:$35-$C102, MATCH(M$50,$17:$17, 0))>0),1000000000,(p!M102+n!M102+m!M102+INDEX(Vt!L:L, MATCH(($A102+INDEX($D102*($24:$24-$35:$35), MATCH(M$50,$17:$17, 0))),Vt!$A:$A,0)+INDEX($B102+$D102*$24:$24, MATCH(M$50,$17:$17, 0))*2)))))","v":0},{"$f":"IF(($A102+INDEX($D102*($24:$24-$35:$35), MATCH(N$50,$17:$17, 0)))>$C$8,1000000000,(IF(OR(INDEX($22:$22-($A102-$D102*$35:$35), MATCH(N$50,$17:$17, 0))>0, INDEX($D102*$35:$35-$C102, MATCH(N$50,$17:$17, 0))>0),1000000000,(p!N102+n!N102+m!N102+INDEX(Vt!M:M, MATCH(($A102+INDEX($D102*($24:$24-$35:$35), MATCH(N$50,$17:$17, 0))),Vt!$A:$A,0)+INDEX($B102+$D102*$24:$24, MATCH(N$50,$17:$17, 0))*2)))))","v":0},{"$f":"IF(($A102+INDEX($D102*($24:$24-$35:$35), MATCH(O$50,$17:$17, 0)))>$C$8,1000000000,(IF(OR(INDEX($22:$22-($A102-$D102*$35:$35), MATCH(O$50,$17:$17, 0))>0, INDEX($D102*$35:$35-$C102, MATCH(O$50,$17:$17, 0))>0),1000000000,(p!O102+n!O102+m!O102+INDEX(Vt!N:N, MATCH(($A102+INDEX($D102*($24:$24-$35:$35), MATCH(O$50,$17:$17, 0))),Vt!$A:$A,0)+INDEX($B102+$D102*$24:$24, MATCH(O$50,$17:$17, 0))*2)))))","v":0}]
[6,5,1,0,0,{"$f":"IF(($A103+INDEX($D103*($24:$24-$35:$35), MATCH(F$50,$17:$17, 0)))>$C$8,1000000000,(IF(OR(INDEX($22:$22-($A103-$D103*$35:$35), MATCH(F$50,$17:$17, 0))>0, INDEX($D103*$35:$35-$C103, MATCH(F$50,$17:$17, 0))>0),1000000000,(p!F103+n!F103+m!F103+INDEX(Vt!E:E, MATCH(($A103+INDEX($D103*($24:$24-$35:$35), MATCH(F$50,$17:$17, 0))),Vt!$A:$A,0)+INDEX($B103+$D103*$24:$24, MATCH(F$50,$17:$17, 0))*2)))))","v":0},{"$f":"IF(($A103+INDEX($D103*($24:$24-$35:$35), MATCH(G$50,$17:$17, 0)))>$C$8,1000000000,(IF(OR(INDEX($22:$22-($A103-$D103*$35:$35), MATCH(G$50,$17:$17, 0))>0, INDEX($D103*$35:$35-$C103, MATCH(G$50,$17:$17, 0))>0),1000000000,(p!G103+n!G103+m!G103+INDEX(Vt!F:F, MATCH(($A103+INDEX($D103*($24:$24-$35:$35), MATCH(G$50,$17:$17, 0))),Vt!$A:$A,0)+INDEX($B103+$D103*$24:$24, MATCH(G$50,$17:$17, 0))*2)))))","v":0},{"$f":"IF(($A103+INDEX($D103*($24:$24-$35:$35), MATCH(H$50,$17:$17, 0)))>$C$8,1000000000,(IF(OR(INDEX($22:$22-($A103-$D103*$35:$35), MATCH(H$50,$17:$17, 0))>0, INDEX($D103*$35:$35-$C103, MATCH(H$50,$17:$17, 0))>0),1000000000,(p!H103+n!H103+m!H103+INDEX(Vt!G:G, MATCH(($A103+INDEX($D103*($24:$24-$35:$35), MATCH(H$50,$17:$17, 0))),Vt!$A:$A,0)+INDEX($B103+$D103*$24:$24, MATCH(H$50,$17:$17, 0))*2)))))","v":0},{"$f":"IF(($A103+INDEX($D103*($24:$24-$35:$35), MATCH(I$50,$17:$17, 0)))>$C$8,1000000000,(IF(OR(INDEX($22:$22-($A103-$D103*$35:$35), MATCH(I$50,$17:$17, 0))>0, INDEX($D103*$35:$35-$C103, MATCH(I$50,$17:$17, 0))>0),1000000000,(p!I103+n!I103+m!I103+INDEX(Vt!H:H, MATCH(($A103+INDEX($D103*($24:$24-$35:$35), MATCH(I$50,$17:$17, 0))),Vt!$A:$A,0)+INDEX($B103+$D103*$24:$24, MATCH(I$50,$17:$17, 0))*2)))))","v":0},{"$f":"IF(($A103+INDEX($D103*($24:$24-$35:$35), MATCH(J$50,$17:$17, 0)))>$C$8,1000000000,(IF(OR(INDEX($22:$22-($A103-$D103*$35:$35), MATCH(J$50,$17:$17, 0))>0, INDEX($D103*$35:$35-$C103, MATCH(J$50,$17:$17, 0))>0),1000000000,(p!J103+n!J103+m!J103+INDEX(Vt!I:I, MATCH(($A103+INDEX($D103*($24:$24-$35:$35), MATCH(J$50,$17:$17, 0))),Vt!$A:$A,0)+INDEX($B103+$D103*$24:$24, MATCH(J$50,$17:$17, 0))*2)))))","v":0},{"$f":"IF(($A103+INDEX($D103*($24:$24-$35:$35), MATCH(K$50,$17:$17, 0)))>$C$8,1000000000,(IF(OR(INDEX($22:$22-($A103-$D103*$35:$35), MATCH(K$50,$17:$17, 0))>0, INDEX($D103*$35:$35-$C103, MATCH(K$50,$17:$17, 0))>0),1000000000,(p!K103+n!K103+m!K103+INDEX(Vt!J:J, MATCH(($A103+INDEX($D103*($24:$24-$35:$35), MATCH(K$50,$17:$17, 0))),Vt!$A:$A,0)+INDEX($B103+$D103*$24:$24, MATCH(K$50,$17:$17, 0))*2)))))","v":0},{"$f":"IF(($A103+INDEX($D103*($24:$24-$35:$35), MATCH(L$50,$17:$17, 0)))>$C$8,1000000000,(IF(OR(INDEX($22:$22-($A103-$D103*$35:$35), MATCH(L$50,$17:$17, 0))>0, INDEX($D103*$35:$35-$C103, MATCH(L$50,$17:$17, 0))>0),1000000000,(p!L103+n!L103+m!L103+INDEX(Vt!K:K, MATCH(($A103+INDEX($D103*($24:$24-$35:$35), MATCH(L$50,$17:$17, 0))),Vt!$A:$A,0)+INDEX($B103+$D103*$24:$24, MATCH(L$50,$17:$17, 0))*2)))))","v":0},{"$f":"IF(($A103+INDEX($D103*($24:$24-$35:$35), MATCH(M$50,$17:$17, 0)))>$C$8,1000000000,(IF(OR(INDEX($22:$22-($A103-$D103*$35:$35), MATCH(M$50,$17:$17, 0))>0, INDEX($D103*$35:$35-$C103, MATCH(M$50,$17:$17, 0))>0),1000000000,(p!M103+n!M103+m!M103+INDEX(Vt!L:L, MATCH(($A103+INDEX($D103*($24:$24-$35:$35), MATCH(M$50,$17:$17, 0))),Vt!$A:$A,0)+INDEX($B103+$D103*$24:$24, MATCH(M$50,$17:$17, 0))*2)))))","v":0},{"$f":"IF(($A103+INDEX($D103*($24:$24-$35:$35), MATCH(N$50,$17:$17, 0)))>$C$8,1000000000,(IF(OR(INDEX($22:$22-($A103-$D103*$35:$35), MATCH(N$50,$17:$17, 0))>0, INDEX($D103*$35:$35-$C103, MATCH(N$50,$17:$17, 0))>0),1000000000,(p!N103+n!N103+m!N103+INDEX(Vt!M:M, MATCH(($A103+INDEX($D103*($24:$24-$35:$35), MATCH(N$50,$17:$17, 0))),Vt!$A:$A,0)+INDEX($B103+$D103*$24:$24, MATCH(N$50,$17:$17, 0))*2)))))","v":0},{"$f":"IF(($A103+INDEX($D103*($24:$24-$35:$35), MATCH(O$50,$17:$17, 0)))>$C$8,1000000000,(IF(OR(INDEX($22:$22-($A103-$D103*$35:$35), MATCH(O$50,$17:$17, 0))>0, INDEX($D103*$35:$35-$C103, MATCH(O$50,$17:$17, 0))>0),1000000000,(p!O103+n!O103+m!O103+INDEX(Vt!N:N, MATCH(($A103+INDEX($D103*($24:$24-$35:$35), MATCH(O$50,$17:$17, 0))),Vt!$A:$A,0)+INDEX($B103+$D103*$24:$24, MATCH(O$50,$17:$17, 0))*2)))))","v":0}]
[6,5,1,1,0,{"$f":"IF(($A104+INDEX($D104*($24:$24-$35:$35), MATCH(F$50,$17:$17, 0)))>$C$8,1000000000,(IF(OR(INDEX($22:$22-($A104-$D104*$35:$35), MATCH(F$50,$17:$17, 0))>0, INDEX($D104*$35:$35-$C104, MATCH(F$50,$17:$17, 0))>0),1000000000,(p!F104+n!F104+m!F104+INDEX(Vt!E:E, MATCH(($A104+INDEX($D104*($24:$24-$35:$35), MATCH(F$50,$17:$17, 0))),Vt!$A:$A,0)+INDEX($B104+$D104*$24:$24, MATCH(F$50,$17:$17, 0))*2)))))","v":0},{"$f":"IF(($A104+INDEX($D104*($24:$24-$35:$35), MATCH(G$50,$17:$17, 0)))>$C$8,1000000000,(IF(OR(INDEX($22:$22-($A104-$D104*$35:$35), MATCH(G$50,$17:$17, 0))>0, INDEX($D104*$35:$35-$C104, MATCH(G$50,$17:$17, 0))>0),1000000000,(p!G104+n!G104+m!G104+INDEX(Vt!F:F, MATCH(($A104+INDEX($D104*($24:$24-$35:$35), MATCH(G$50,$17:$17, 0))),Vt!$A:$A,0)+INDEX($B104+$D104*$24:$24, MATCH(G$50,$17:$17, 0))*2)))))","v":0},{"$f":"IF(($A104+INDEX($D104*($24:$24-$35:$35), MATCH(H$50,$17:$17, 0)))>$C$8,1000000000,(IF(OR(INDEX($22:$22-($A104-$D104*$35:$35), MATCH(H$50,$17:$17, 0))>0, INDEX($D104*$35:$35-$C104, MATCH(H$50,$17:$17, 0))>0),1000000000,(p!H104+n!H104+m!H104+INDEX(Vt!G:G, MATCH(($A104+INDEX($D104*($24:$24-$35:$35), MATCH(H$50,$17:$17, 0))),Vt!$A:$A,0)+INDEX($B104+$D104*$24:$24, MATCH(H$50,$17:$17, 0))*2)))))","v":0},{"$f":"IF(($A104+INDEX($D104*($24:$24-$35:$35), MATCH(I$50,$17:$17, 0)))>$C$8,1000000000,(IF(OR(INDEX($22:$22-($A104-$D104*$35:$35), MATCH(I$50,$17:$17, 0))>0, INDEX($D104*$35:$35-$C104, MATCH(I$50,$17:$17, 0))>0),1000000000,(p!I104+n!I104+m!I104+INDEX(Vt!H:H, MATCH(($A104+INDEX($D104*($24:$24-$35:$35), MATCH(I$50,$17:$17, 0))),Vt!$A:$A,0)+INDEX($B104+$D104*$24:$24, MATCH(I$50,$17:$17, 0))*2)))))","v":0},{"$f":"IF(($A104+INDEX($D104*($24:$24-$35:$35), MATCH(J$50,$17:$17, 0)))>$C$8,1000000000,(IF(OR(INDEX($22:$22-($A104-$D104*$35:$35), MATCH(J$50,$17:$17, 0))>0, INDEX($D104*$35:$35-$C104, MATCH(J$50,$17:$17, 0))>0),1000000000,(p!J104+n!J104+m!J104+INDEX(Vt!I:I, MATCH(($A104+INDEX($D104*($24:$24-$35:$35), MATCH(J$50,$17:$17, 0))),Vt!$A:$A,0)+INDEX($B104+$D104*$24:$24, MATCH(J$50,$17:$17, 0))*2)))))","v":0},{"$f":"IF(($A104+INDEX($D104*($24:$24-$35:$35), MATCH(K$50,$17:$17, 0)))>$C$8,1000000000,(IF(OR(INDEX($22:$22-($A104-$D104*$35:$35), MATCH(K$50,$17:$17, 0))>0, INDEX($D104*$35:$35-$C104, MATCH(K$50,$17:$17, 0))>0),1000000000,(p!K104+n!K104+m!K104+INDEX(Vt!J:J, MATCH(($A104+INDEX($D104*($24:$24-$35:$35), MATCH(K$50,$17:$17, 0))),Vt!$A:$A,0)+INDEX($B104+$D104*$24:$24, MATCH(K$50,$17:$17, 0))*2)))))","v":0},{"$f":"IF(($A104+INDEX($D104*($24:$24-$35:$35), MATCH(L$50,$17:$17, 0)))>$C$8,1000000000,(IF(OR(INDEX($22:$22-($A104-$D104*$35:$35), MATCH(L$50,$17:$17, 0))>0, INDEX($D104*$35:$35-$C104, MATCH(L$50,$17:$17, 0))>0),1000000000,(p!L104+n!L104+m!L104+INDEX(Vt!K:K, MATCH(($A104+INDEX($D104*($24:$24-$35:$35), MATCH(L$50,$17:$17, 0))),Vt!$A:$A,0)+INDEX($B104+$D104*$24:$24, MATCH(L$50,$17:$17, 0))*2)))))","v":0},{"$f":"IF(($A104+INDEX($D104*($24:$24-$35:$35), MATCH(M$50,$17:$17, 0)))>$C$8,1000000000,(IF(OR(INDEX($22:$22-($A104-$D104*$35:$35), MATCH(M$50,$17:$17, 0))>0, INDEX($D104*$35:$35-$C104, MATCH(M$50,$17:$17, 0))>0),1000000000,(p!M104+n!M104+m!M104+INDEX(Vt!L:L, MATCH(($A104+INDEX($D104*($24:$24-$35:$35), MATCH(M$50,$17:$17, 0))),Vt!$A:$A,0)+INDEX($B104+$D104*$24:$24, MATCH(M$50,$17:$17, 0))*2)))))","v":0},{"$f":"IF(($A104+INDEX($D104*($24:$24-$35:$35), MATCH(N$50,$17:$17, 0)))>$C$8,1000000000,(IF(OR(INDEX($22:$22-($A104-$D104*$35:$35), MATCH(N$50,$17:$17, 0))>0, INDEX($D104*$35:$35-$C104, MATCH(N$50,$17:$17, 0))>0),1000000000,(p!N104+n!N104+m!N104+INDEX(Vt!M:M, MATCH(($A104+INDEX($D104*($24:$24-$35:$35), MATCH(N$50,$17:$17, 0))),Vt!$A:$A,0)+INDEX($B104+$D104*$24:$24, MATCH(N$50,$17:$17, 0))*2)))))","v":0},{"$f":"IF(($A104+INDEX($D104*($24:$24-$35:$35), MATCH(O$50,$17:$17, 0)))>$C$8,1000000000,(IF(OR(INDEX($22:$22-($A104-$D104*$35:$35), MATCH(O$50,$17:$17, 0))>0, INDEX($D104*$35:$35-$C104, MATCH(O$50,$17:$17, 0))>0),1000000000,(p!O104+n!O104+m!O104+INDEX(Vt!N:N, MATCH(($A104+INDEX($D104*($24:$24-$35:$35), MATCH(O$50,$17:$17, 0))),Vt!$A:$A,0)+INDEX($B104+$D104*$24:$24, MATCH(O$50,$17:$17, 0))*2)))))","v":0}]
[6,6,0,0,0,{"$f":"IF(($A105+INDEX($D105*($24:$24-$35:$35), MATCH(F$50,$17:$17, 0)))>$C$8,1000000000,(IF(OR(INDEX($22:$22-($A105-$D105*$35:$35), MATCH(F$50,$17:$17, 0))>0, INDEX($D105*$35:$35-$C105, MATCH(F$50,$17:$17, 0))>0),1000000000,(p!F105+n!F105+m!F105+INDEX(Vt!E:E, MATCH(($A105+INDEX($D105*($24:$24-$35:$35), MATCH(F$50,$17:$17, 0))),Vt!$A:$A,0)+INDEX($B105+$D105*$24:$24, MATCH(F$50,$17:$17, 0))*2)))))","v":0},{"$f":"IF(($A105+INDEX($D105*($24:$24-$35:$35), MATCH(G$50,$17:$17, 0)))>$C$8,1000000000,(IF(OR(INDEX($22:$22-($A105-$D105*$35:$35), MATCH(G$50,$17:$17, 0))>0, INDEX($D105*$35:$35-$C105, MATCH(G$50,$17:$17, 0))>0),1000000000,(p!G105+n!G105+m!G105+INDEX(Vt!F:F, MATCH(($A105+INDEX($D105*($24:$24-$35:$35), MATCH(G$50,$17:$17, 0))),Vt!$A:$A,0)+INDEX($B105+$D105*$24:$24, MATCH(G$50,$17:$17, 0))*2)))))","v":0},{"$f":"IF(($A105+INDEX($D105*($24:$24-$35:$35), MATCH(H$50,$17:$17, 0)))>$C$8,1000000000,(IF(OR(INDEX($22:$22-($A105-$D105*$35:$35), MATCH(H$50,$17:$17, 0))>0, INDEX($D105*$35:$35-$C105, MATCH(H$50,$17:$17, 0))>0),1000000000,(p!H105+n!H105+m!H105+INDEX(Vt!G:G, MATCH(($A105+INDEX($D105*($24:$24-$35:$35), MATCH(H$50,$17:$17, 0))),Vt!$A:$A,0)+INDEX($B105+$D105*$24:$24, MATCH(H$50,$17:$17, 0))*2)))))","v":0},{"$f":"IF(($A105+INDEX($D105*($24:$24-$35:$35), MATCH(I$50,$17:$17, 0)))>$C$8,1000000000,(IF(OR(INDEX($22:$22-($A105-$D105*$35:$35), MATCH(I$50,$17:$17, 0))>0, INDEX($D105*$35:$35-$C105, MATCH(I$50,$17:$17, 0))>0),1000000000,(p!I105+n!I105+m!I105+INDEX(Vt!H:H, MATCH(($A105+INDEX($D105*($24:$24-$35:$35), MATCH(I$50,$17:$17, 0))),Vt!$A:$A,0)+INDEX($B105+$D105*$24:$24, MATCH(I$50,$17:$17, 0))*2)))))","v":0},{"$f":"IF(($A105+INDEX($D105*($24:$24-$35:$35), MATCH(J$50,$17:$17, 0)))>$C$8,1000000000,(IF(OR(INDEX($22:$22-($A105-$D105*$35:$35), MATCH(J$50,$17:$17, 0))>0, INDEX($D105*$35:$35-$C105, MATCH(J$50,$17:$17, 0))>0),1000000000,(p!J105+n!J105+m!J105+INDEX(Vt!I:I, MATCH(($A105+INDEX($D105*($24:$24-$35:$35), MATCH(J$50,$17:$17, 0))),Vt!$A:$A,0)+INDEX($B105+$D105*$24:$24, MATCH(J$50,$17:$17, 0))*2)))))","v":0},{"$f":"IF(($A105+INDEX($D105*($24:$24-$35:$35), MATCH(K$50,$17:$17, 0)))>$C$8,1000000000,(IF(OR(INDEX($22:$22-($A105-$D105*$35:$35), MATCH(K$50,$17:$17, 0))>0, INDEX($D105*$35:$35-$C105, MATCH(K$50,$17:$17, 0))>0),1000000000,(p!K105+n!K105+m!K105+INDEX(Vt!J:J, MATCH(($A105+INDEX($D105*($24:$24-$35:$35), MATCH(K$50,$17:$17, 0))),Vt!$A:$A,0)+INDEX($B105+$D105*$24:$24, MATCH(K$50,$17:$17, 0))*2)))))","v":0},{"$f":"IF(($A105+INDEX($D105*($24:$24-$35:$35), MATCH(L$50,$17:$17, 0)))>$C$8,1000000000,(IF(OR(INDEX($22:$22-($A105-$D105*$35:$35), MATCH(L$50,$17:$17, 0))>0, INDEX($D105*$35:$35-$C105, MATCH(L$50,$17:$17, 0))>0),1000000000,(p!L105+n!L105+m!L105+INDEX(Vt!K:K, MATCH(($A105+INDEX($D105*($24:$24-$35:$35), MATCH(L$50,$17:$17, 0))),Vt!$A:$A,0)+INDEX($B105+$D105*$24:$24, MATCH(L$50,$17:$17, 0))*2)))))","v":0},{"$f":"IF(($A105+INDEX($D105*($24:$24-$35:$35), MATCH(M$50,$17:$17, 0)))>$C$8,1000000000,(IF(OR(INDEX($22:$22-($A105-$D105*$35:$35), MATCH(M$50,$17:$17, 0))>0, INDEX($D105*$35:$35-$C105, MATCH(M$50,$17:$17, 0))>0),1000000000,(p!M105+n!M105+m!M105+INDEX(Vt!L:L, MATCH(($A105+INDEX($D105*($24:$24-$35:$35), MATCH(M$50,$17:$17, 0))),Vt!$A:$A,0)+INDEX($B105+$D105*$24:$24, MATCH(M$50,$17:$17, 0))*2)))))","v":0},{"$f":"IF(($A105+INDEX($D105*($24:$24-$35:$35), MATCH(N$50,$17:$17, 0)))>$C$8,1000000000,(IF(OR(INDEX($22:$22-($A105-$D105*$35:$35), MATCH(N$50,$17:$17, 0))>0, INDEX($D105*$35:$35-$C105, MATCH(N$50,$17:$17, 0))>0),1000000000,(p!N105+n!N105+m!N105+INDEX(Vt!M:M, MATCH(($A105+INDEX($D105*($24:$24-$35:$35), MATCH(N$50,$17:$17, 0))),Vt!$A:$A,0)+INDEX($B105+$D105*$24:$24, MATCH(N$50,$17:$17, 0))*2)))))","v":0},{"$f":"IF(($A105+INDEX($D105*($24:$24-$35:$35), MATCH(O$50,$17:$17, 0)))>$C$8,1000000000,(IF(OR(INDEX($22:$22-($A105-$D105*$35:$35), MATCH(O$50,$17:$17, 0))>0, INDEX($D105*$35:$35-$C105, MATCH(O$50,$17:$17, 0))>0),1000000000,(p!O105+n!O105+m!O105+INDEX(Vt!N:N, MATCH(($A105+INDEX($D105*($24:$24-$35:$35), MATCH(O$50,$17:$17, 0))),Vt!$A:$A,0)+INDEX($B105+$D105*$24:$24, MATCH(O$50,$17:$17, 0))*2)))))","v":0}]
[6,6,0,1,0,{"$f":"IF(($A106+INDEX($D106*($24:$24-$35:$35), MATCH(F$50,$17:$17, 0)))>$C$8,1000000000,(IF(OR(INDEX($22:$22-($A106-$D106*$35:$35), MATCH(F$50,$17:$17, 0))>0, INDEX($D106*$35:$35-$C106, MATCH(F$50,$17:$17, 0))>0),1000000000,(p!F106+n!F106+m!F106+INDEX(Vt!E:E, MATCH(($A106+INDEX($D106*($24:$24-$35:$35), MATCH(F$50,$17:$17, 0))),Vt!$A:$A,0)+INDEX($B106+$D106*$24:$24, MATCH(F$50,$17:$17, 0))*2)))))","v":0},{"$f":"IF(($A106+INDEX($D106*($24:$24-$35:$35), MATCH(G$50,$17:$17, 0)))>$C$8,1000000000,(IF(OR(INDEX($22:$22-($A106-$D106*$35:$35), MATCH(G$50,$17:$17, 0))>0, INDEX($D106*$35:$35-$C106, MATCH(G$50,$17:$17, 0))>0),1000000000,(p!G106+n!G106+m!G106+INDEX(Vt!F:F, MATCH(($A106+INDEX($D106*($24:$24-$35:$35), MATCH(G$50,$17:$17, 0))),Vt!$A:$A,0)+INDEX($B106+$D106*$24:$24, MATCH(G$50,$17:$17, 0))*2)))))","v":0},{"$f":"IF(($A106+INDEX($D106*($24:$24-$35:$35), MATCH(H$50,$17:$17, 0)))>$C$8,1000000000,(IF(OR(INDEX($22:$22-($A106-$D106*$35:$35), MATCH(H$50,$17:$17, 0))>0, INDEX($D106*$35:$35-$C106, MATCH(H$50,$17:$17, 0))>0),1000000000,(p!H106+n!H106+m!H106+INDEX(Vt!G:G, MATCH(($A106+INDEX($D106*($24:$24-$35:$35), MATCH(H$50,$17:$17, 0))),Vt!$A:$A,0)+INDEX($B106+$D106*$24:$24, MATCH(H$50,$17:$17, 0))*2)))))","v":0},{"$f":"IF(($A106+INDEX($D106*($24:$24-$35:$35), MATCH(I$50,$17:$17, 0)))>$C$8,1000000000,(IF(OR(INDEX($22:$22-($A106-$D106*$35:$35), MATCH(I$50,$17:$17, 0))>0, INDEX($D106*$35:$35-$C106, MATCH(I$50,$17:$17, 0))>0),1000000000,(p!I106+n!I106+m!I106+INDEX(Vt!H:H, MATCH(($A106+INDEX($D106*($24:$24-$35:$35), MATCH(I$50,$17:$17, 0))),Vt!$A:$A,0)+INDEX($B106+$D106*$24:$24, MATCH(I$50,$17:$17, 0))*2)))))","v":0},{"$f":"IF(($A106+INDEX($D106*($24:$24-$35:$35), MATCH(J$50,$17:$17, 0)))>$C$8,1000000000,(IF(OR(INDEX($22:$22-($A106-$D106*$35:$35), MATCH(J$50,$17:$17, 0))>0, INDEX($D106*$35:$35-$C106, MATCH(J$50,$17:$17, 0))>0),1000000000,(p!J106+n!J106+m!J106+INDEX(Vt!I:I, MATCH(($A106+INDEX($D106*($24:$24-$35:$35), MATCH(J$50,$17:$17, 0))),Vt!$A:$A,0)+INDEX($B106+$D106*$24:$24, MATCH(J$50,$17:$17, 0))*2)))))","v":0},{"$f":"IF(($A106+INDEX($D106*($24:$24-$35:$35), MATCH(K$50,$17:$17, 0)))>$C$8,1000000000,(IF(OR(INDEX($22:$22-($A106-$D106*$35:$35), MATCH(K$50,$17:$17, 0))>0, INDEX($D106*$35:$35-$C106, MATCH(K$50,$17:$17, 0))>0),1000000000,(p!K106+n!K106+m!K106+INDEX(Vt!J:J, MATCH(($A106+INDEX($D106*($24:$24-$35:$35), MATCH(K$50,$17:$17, 0))),Vt!$A:$A,0)+INDEX($B106+$D106*$24:$24, MATCH(K$50,$17:$17, 0))*2)))))","v":0},{"$f":"IF(($A106+INDEX($D106*($24:$24-$35:$35), MATCH(L$50,$17:$17, 0)))>$C$8,1000000000,(IF(OR(INDEX($22:$22-($A106-$D106*$35:$35), MATCH(L$50,$17:$17, 0))>0, INDEX($D106*$35:$35-$C106, MATCH(L$50,$17:$17, 0))>0),1000000000,(p!L106+n!L106+m!L106+INDEX(Vt!K:K, MATCH(($A106+INDEX($D106*($24:$24-$35:$35), MATCH(L$50,$17:$17, 0))),Vt!$A:$A,0)+INDEX($B106+$D106*$24:$24, MATCH(L$50,$17:$17, 0))*2)))))","v":0},{"$f":"IF(($A106+INDEX($D106*($24:$24-$35:$35), MATCH(M$50,$17:$17, 0)))>$C$8,1000000000,(IF(OR(INDEX($22:$22-($A106-$D106*$35:$35), MATCH(M$50,$17:$17, 0))>0, INDEX($D106*$35:$35-$C106, MATCH(M$50,$17:$17, 0))>0),1000000000,(p!M106+n!M106+m!M106+INDEX(Vt!L:L, MATCH(($A106+INDEX($D106*($24:$24-$35:$35), MATCH(M$50,$17:$17, 0))),Vt!$A:$A,0)+INDEX($B106+$D106*$24:$24, MATCH(M$50,$17:$17, 0))*2)))))","v":0},{"$f":"IF(($A106+INDEX($D106*($24:$24-$35:$35), MATCH(N$50,$17:$17, 0)))>$C$8,1000000000,(IF(OR(INDEX($22:$22-($A106-$D106*$35:$35), MATCH(N$50,$17:$17, 0))>0, INDEX($D106*$35:$35-$C106, MATCH(N$50,$17:$17, 0))>0),1000000000,(p!N106+n!N106+m!N106+INDEX(Vt!M:M, MATCH(($A106+INDEX($D106*($24:$24-$35:$35), MATCH(N$50,$17:$17, 0))),Vt!$A:$A,0)+INDEX($B106+$D106*$24:$24, MATCH(N$50,$17:$17, 0))*2)))))","v":0},{"$f":"IF(($A106+INDEX($D106*($24:$24-$35:$35), MATCH(O$50,$17:$17, 0)))>$C$8,1000000000,(IF(OR(INDEX($22:$22-($A106-$D106*$35:$35), MATCH(O$50,$17:$17, 0))>0, INDEX($D106*$35:$35-$C106, MATCH(O$50,$17:$17, 0))>0),1000000000,(p!O106+n!O106+m!O106+INDEX(Vt!N:N, MATCH(($A106+INDEX($D106*($24:$24-$35:$35), MATCH(O$50,$17:$17, 0))),Vt!$A:$A,0)+INDEX($B106+$D106*$24:$24, MATCH(O$50,$17:$17, 0))*2)))))","v":0}]
[7,0,7,0,0,{"$f":"IF(($A107+INDEX($D107*($24:$24-$35:$35), MATCH(F$50,$17:$17, 0)))>$C$8,1000000000,(IF(OR(INDEX($22:$22-($A107-$D107*$35:$35), MATCH(F$50,$17:$17, 0))>0, INDEX($D107*$35:$35-$C107, MATCH(F$50,$17:$17, 0))>0),1000000000,(p!F107+n!F107+m!F107+INDEX(Vt!E:E, MATCH(($A107+INDEX($D107*($24:$24-$35:$35), MATCH(F$50,$17:$17, 0))),Vt!$A:$A,0)+INDEX($B107+$D107*$24:$24, MATCH(F$50,$17:$17, 0))*2)))))","v":0},{"$f":"IF(($A107+INDEX($D107*($24:$24-$35:$35), MATCH(G$50,$17:$17, 0)))>$C$8,1000000000,(IF(OR(INDEX($22:$22-($A107-$D107*$35:$35), MATCH(G$50,$17:$17, 0))>0, INDEX($D107*$35:$35-$C107, MATCH(G$50,$17:$17, 0))>0),1000000000,(p!G107+n!G107+m!G107+INDEX(Vt!F:F, MATCH(($A107+INDEX($D107*($24:$24-$35:$35), MATCH(G$50,$17:$17, 0))),Vt!$A:$A,0)+INDEX($B107+$D107*$24:$24, MATCH(G$50,$17:$17, 0))*2)))))","v":0},{"$f":"IF(($A107+INDEX($D107*($24:$24-$35:$35), MATCH(H$50,$17:$17, 0)))>$C$8,1000000000,(IF(OR(INDEX($22:$22-($A107-$D107*$35:$35), MATCH(H$50,$17:$17, 0))>0, INDEX($D107*$35:$35-$C107, MATCH(H$50,$17:$17, 0))>0),1000000000,(p!H107+n!H107+m!H107+INDEX(Vt!G:G, MATCH(($A107+INDEX($D107*($24:$24-$35:$35), MATCH(H$50,$17:$17, 0))),Vt!$A:$A,0)+INDEX($B107+$D107*$24:$24, MATCH(H$50,$17:$17, 0))*2)))))","v":0},{"$f":"IF(($A107+INDEX($D107*($24:$24-$35:$35), MATCH(I$50,$17:$17, 0)))>$C$8,1000000000,(IF(OR(INDEX($22:$22-($A107-$D107*$35:$35), MATCH(I$50,$17:$17, 0))>0, INDEX($D107*$35:$35-$C107, MATCH(I$50,$17:$17, 0))>0),1000000000,(p!I107+n!I107+m!I107+INDEX(Vt!H:H, MATCH(($A107+INDEX($D107*($24:$24-$35:$35), MATCH(I$50,$17:$17, 0))),Vt!$A:$A,0)+INDEX($B107+$D107*$24:$24, MATCH(I$50,$17:$17, 0))*2)))))","v":0},{"$f":"IF(($A107+INDEX($D107*($24:$24-$35:$35), MATCH(J$50,$17:$17, 0)))>$C$8,1000000000,(IF(OR(INDEX($22:$22-($A107-$D107*$35:$35), MATCH(J$50,$17:$17, 0))>0, INDEX($D107*$35:$35-$C107, MATCH(J$50,$17:$17, 0))>0),1000000000,(p!J107+n!J107+m!J107+INDEX(Vt!I:I, MATCH(($A107+INDEX($D107*($24:$24-$35:$35), MATCH(J$50,$17:$17, 0))),Vt!$A:$A,0)+INDEX($B107+$D107*$24:$24, MATCH(J$50,$17:$17, 0))*2)))))","v":0},{"$f":"IF(($A107+INDEX($D107*($24:$24-$35:$35), MATCH(K$50,$17:$17, 0)))>$C$8,1000000000,(IF(OR(INDEX($22:$22-($A107-$D107*$35:$35), MATCH(K$50,$17:$17, 0))>0, INDEX($D107*$35:$35-$C107, MATCH(K$50,$17:$17, 0))>0),1000000000,(p!K107+n!K107+m!K107+INDEX(Vt!J:J, MATCH(($A107+INDEX($D107*($24:$24-$35:$35), MATCH(K$50,$17:$17, 0))),Vt!$A:$A,0)+INDEX($B107+$D107*$24:$24, MATCH(K$50,$17:$17, 0))*2)))))","v":0},{"$f":"IF(($A107+INDEX($D107*($24:$24-$35:$35), MATCH(L$50,$17:$17, 0)))>$C$8,1000000000,(IF(OR(INDEX($22:$22-($A107-$D107*$35:$35), MATCH(L$50,$17:$17, 0))>0, INDEX($D107*$35:$35-$C107, MATCH(L$50,$17:$17, 0))>0),1000000000,(p!L107+n!L107+m!L107+INDEX(Vt!K:K, MATCH(($A107+INDEX($D107*($24:$24-$35:$35), MATCH(L$50,$17:$17, 0))),Vt!$A:$A,0)+INDEX($B107+$D107*$24:$24, MATCH(L$50,$17:$17, 0))*2)))))","v":0},{"$f":"IF(($A107+INDEX($D107*($24:$24-$35:$35), MATCH(M$50,$17:$17, 0)))>$C$8,1000000000,(IF(OR(INDEX($22:$22-($A107-$D107*$35:$35), MATCH(M$50,$17:$17, 0))>0, INDEX($D107*$35:$35-$C107, MATCH(M$50,$17:$17, 0))>0),1000000000,(p!M107+n!M107+m!M107+INDEX(Vt!L:L, MATCH(($A107+INDEX($D107*($24:$24-$35:$35), MATCH(M$50,$17:$17, 0))),Vt!$A:$A,0)+INDEX($B107+$D107*$24:$24, MATCH(M$50,$17:$17, 0))*2)))))","v":0},{"$f":"IF(($A107+INDEX($D107*($24:$24-$35:$35), MATCH(N$50,$17:$17, 0)))>$C$8,1000000000,(IF(OR(INDEX($22:$22-($A107-$D107*$35:$35), MATCH(N$50,$17:$17, 0))>0, INDEX($D107*$35:$35-$C107, MATCH(N$50,$17:$17, 0))>0),1000000000,(p!N107+n!N107+m!N107+INDEX(Vt!M:M, MATCH(($A107+INDEX($D107*($24:$24-$35:$35), MATCH(N$50,$17:$17, 0))),Vt!$A:$A,0)+INDEX($B107+$D107*$24:$24, MATCH(N$50,$17:$17, 0))*2)))))","v":0},{"$f":"IF(($A107+INDEX($D107*($24:$24-$35:$35), MATCH(O$50,$17:$17, 0)))>$C$8,1000000000,(IF(OR(INDEX($22:$22-($A107-$D107*$35:$35), MATCH(O$50,$17:$17, 0))>0, INDEX($D107*$35:$35-$C107, MATCH(O$50,$17:$17, 0))>0),1000000000,(p!O107+n!O107+m!O107+INDEX(Vt!N:N, MATCH(($A107+INDEX($D107*($24:$24-$35:$35), MATCH(O$50,$17:$17, 0))),Vt!$A:$A,0)+INDEX($B107+$D107*$24:$24, MATCH(O$50,$17:$17, 0))*2)))))","v":0}]
[7,0,7,1,0,{"$f":"IF(($A108+INDEX($D108*($24:$24-$35:$35), MATCH(F$50,$17:$17, 0)))>$C$8,1000000000,(IF(OR(INDEX($22:$22-($A108-$D108*$35:$35), MATCH(F$50,$17:$17, 0))>0, INDEX($D108*$35:$35-$C108, MATCH(F$50,$17:$17, 0))>0),1000000000,(p!F108+n!F108+m!F108+INDEX(Vt!E:E, MATCH(($A108+INDEX($D108*($24:$24-$35:$35), MATCH(F$50,$17:$17, 0))),Vt!$A:$A,0)+INDEX($B108+$D108*$24:$24, MATCH(F$50,$17:$17, 0))*2)))))","v":0},{"$f":"IF(($A108+INDEX($D108*($24:$24-$35:$35), MATCH(G$50,$17:$17, 0)))>$C$8,1000000000,(IF(OR(INDEX($22:$22-($A108-$D108*$35:$35), MATCH(G$50,$17:$17, 0))>0, INDEX($D108*$35:$35-$C108, MATCH(G$50,$17:$17, 0))>0),1000000000,(p!G108+n!G108+m!G108+INDEX(Vt!F:F, MATCH(($A108+INDEX($D108*($24:$24-$35:$35), MATCH(G$50,$17:$17, 0))),Vt!$A:$A,0)+INDEX($B108+$D108*$24:$24, MATCH(G$50,$17:$17, 0))*2)))))","v":0},{"$f":"IF(($A108+INDEX($D108*($24:$24-$35:$35), MATCH(H$50,$17:$17, 0)))>$C$8,1000000000,(IF(OR(INDEX($22:$22-($A108-$D108*$35:$35), MATCH(H$50,$17:$17, 0))>0, INDEX($D108*$35:$35-$C108, MATCH(H$50,$17:$17, 0))>0),1000000000,(p!H108+n!H108+m!H108+INDEX(Vt!G:G, MATCH(($A108+INDEX($D108*($24:$24-$35:$35), MATCH(H$50,$17:$17, 0))),Vt!$A:$A,0)+INDEX($B108+$D108*$24:$24, MATCH(H$50,$17:$17, 0))*2)))))","v":0},{"$f":"IF(($A108+INDEX($D108*($24:$24-$35:$35), MATCH(I$50,$17:$17, 0)))>$C$8,1000000000,(IF(OR(INDEX($22:$22-($A108-$D108*$35:$35), MATCH(I$50,$17:$17, 0))>0, INDEX($D108*$35:$35-$C108, MATCH(I$50,$17:$17, 0))>0),1000000000,(p!I108+n!I108+m!I108+INDEX(Vt!H:H, MATCH(($A108+INDEX($D108*($24:$24-$35:$35), MATCH(I$50,$17:$17, 0))),Vt!$A:$A,0)+INDEX($B108+$D108*$24:$24, MATCH(I$50,$17:$17, 0))*2)))))","v":0},{"$f":"IF(($A108+INDEX($D108*($24:$24-$35:$35), MATCH(J$50,$17:$17, 0)))>$C$8,1000000000,(IF(OR(INDEX($22:$22-($A108-$D108*$35:$35), MATCH(J$50,$17:$17, 0))>0, INDEX($D108*$35:$35-$C108, MATCH(J$50,$17:$17, 0))>0),1000000000,(p!J108+n!J108+m!J108+INDEX(Vt!I:I, MATCH(($A108+INDEX($D108*($24:$24-$35:$35), MATCH(J$50,$17:$17, 0))),Vt!$A:$A,0)+INDEX($B108+$D108*$24:$24, MATCH(J$50,$17:$17, 0))*2)))))","v":0},{"$f":"IF(($A108+INDEX($D108*($24:$24-$35:$35), MATCH(K$50,$17:$17, 0)))>$C$8,1000000000,(IF(OR(INDEX($22:$22-($A108-$D108*$35:$35), MATCH(K$50,$17:$17, 0))>0, INDEX($D108*$35:$35-$C108, MATCH(K$50,$17:$17, 0))>0),1000000000,(p!K108+n!K108+m!K108+INDEX(Vt!J:J, MATCH(($A108+INDEX($D108*($24:$24-$35:$35), MATCH(K$50,$17:$17, 0))),Vt!$A:$A,0)+INDEX($B108+$D108*$24:$24, MATCH(K$50,$17:$17, 0))*2)))))","v":0},{"$f":"IF(($A108+INDEX($D108*($24:$24-$35:$35), MATCH(L$50,$17:$17, 0)))>$C$8,1000000000,(IF(OR(INDEX($22:$22-($A108-$D108*$35:$35), MATCH(L$50,$17:$17, 0))>0, INDEX($D108*$35:$35-$C108, MATCH(L$50,$17:$17, 0))>0),1000000000,(p!L108+n!L108+m!L108+INDEX(Vt!K:K, MATCH(($A108+INDEX($D108*($24:$24-$35:$35), MATCH(L$50,$17:$17, 0))),Vt!$A:$A,0)+INDEX($B108+$D108*$24:$24, MATCH(L$50,$17:$17, 0))*2)))))","v":0},{"$f":"IF(($A108+INDEX($D108*($24:$24-$35:$35), MATCH(M$50,$17:$17, 0)))>$C$8,1000000000,(IF(OR(INDEX($22:$22-($A108-$D108*$35:$35), MATCH(M$50,$17:$17, 0))>0, INDEX($D108*$35:$35-$C108, MATCH(M$50,$17:$17, 0))>0),1000000000,(p!M108+n!M108+m!M108+INDEX(Vt!L:L, MATCH(($A108+INDEX($D108*($24:$24-$35:$35), MATCH(M$50,$17:$17, 0))),Vt!$A:$A,0)+INDEX($B108+$D108*$24:$24, MATCH(M$50,$17:$17, 0))*2)))))","v":0},{"$f":"IF(($A108+INDEX($D108*($24:$24-$35:$35), MATCH(N$50,$17:$17, 0)))>$C$8,1000000000,(IF(OR(INDEX($22:$22-($A108-$D108*$35:$35), MATCH(N$50,$17:$17, 0))>0, INDEX($D108*$35:$35-$C108, MATCH(N$50,$17:$17, 0))>0),1000000000,(p!N108+n!N108+m!N108+INDEX(Vt!M:M, MATCH(($A108+INDEX($D108*($24:$24-$35:$35), MATCH(N$50,$17:$17, 0))),Vt!$A:$A,0)+INDEX($B108+$D108*$24:$24, MATCH(N$50,$17:$17, 0))*2)))))","v":0},{"$f":"IF(($A108+INDEX($D108*($24:$24-$35:$35), MATCH(O$50,$17:$17, 0)))>$C$8,1000000000,(IF(OR(INDEX($22:$22-($A108-$D108*$35:$35), MATCH(O$50,$17:$17, 0))>0, INDEX($D108*$35:$35-$C108, MATCH(O$50,$17:$17, 0))>0),1000000000,(p!O108+n!O108+m!O108+INDEX(Vt!N:N, MATCH(($A108+INDEX($D108*($24:$24-$35:$35), MATCH(O$50,$17:$17, 0))),Vt!$A:$A,0)+INDEX($B108+$D108*$24:$24, MATCH(O$50,$17:$17, 0))*2)))))","v":0}]
[7,1,6,0,0,{"$f":"IF(($A109+INDEX($D109*($24:$24-$35:$35), MATCH(F$50,$17:$17, 0)))>$C$8,1000000000,(IF(OR(INDEX($22:$22-($A109-$D109*$35:$35), MATCH(F$50,$17:$17, 0))>0, INDEX($D109*$35:$35-$C109, MATCH(F$50,$17:$17, 0))>0),1000000000,(p!F109+n!F109+m!F109+INDEX(Vt!E:E, MATCH(($A109+INDEX($D109*($24:$24-$35:$35), MATCH(F$50,$17:$17, 0))),Vt!$A:$A,0)+INDEX($B109+$D109*$24:$24, MATCH(F$50,$17:$17, 0))*2)))))","v":0},{"$f":"IF(($A109+INDEX($D109*($24:$24-$35:$35), MATCH(G$50,$17:$17, 0)))>$C$8,1000000000,(IF(OR(INDEX($22:$22-($A109-$D109*$35:$35), MATCH(G$50,$17:$17, 0))>0, INDEX($D109*$35:$35-$C109, MATCH(G$50,$17:$17, 0))>0),1000000000,(p!G109+n!G109+m!G109+INDEX(Vt!F:F, MATCH(($A109+INDEX($D109*($24:$24-$35:$35), MATCH(G$50,$17:$17, 0))),Vt!$A:$A,0)+INDEX($B109+$D109*$24:$24, MATCH(G$50,$17:$17, 0))*2)))))","v":0},{"$f":"IF(($A109+INDEX($D109*($24:$24-$35:$35), MATCH(H$50,$17:$17, 0)))>$C$8,1000000000,(IF(OR(INDEX($22:$22-($A109-$D109*$35:$35), MATCH(H$50,$17:$17, 0))>0, INDEX($D109*$35:$35-$C109, MATCH(H$50,$17:$17, 0))>0),1000000000,(p!H109+n!H109+m!H109+INDEX(Vt!G:G, MATCH(($A109+INDEX($D109*($24:$24-$35:$35), MATCH(H$50,$17:$17, 0))),Vt!$A:$A,0)+INDEX($B109+$D109*$24:$24, MATCH(H$50,$17:$17, 0))*2)))))","v":0},{"$f":"IF(($A109+INDEX($D109*($24:$24-$35:$35), MATCH(I$50,$17:$17, 0)))>$C$8,1000000000,(IF(OR(INDEX($22:$22-($A109-$D109*$35:$35), MATCH(I$50,$17:$17, 0))>0, INDEX($D109*$35:$35-$C109, MATCH(I$50,$17:$17, 0))>0),1000000000,(p!I109+n!I109+m!I109+INDEX(Vt!H:H, MATCH(($A109+INDEX($D109*($24:$24-$35:$35), MATCH(I$50,$17:$17, 0))),Vt!$A:$A,0)+INDEX($B109+$D109*$24:$24, MATCH(I$50,$17:$17, 0))*2)))))","v":0},{"$f":"IF(($A109+INDEX($D109*($24:$24-$35:$35), MATCH(J$50,$17:$17, 0)))>$C$8,1000000000,(IF(OR(INDEX($22:$22-($A109-$D109*$35:$35), MATCH(J$50,$17:$17, 0))>0, INDEX($D109*$35:$35-$C109, MATCH(J$50,$17:$17, 0))>0),1000000000,(p!J109+n!J109+m!J109+INDEX(Vt!I:I, MATCH(($A109+INDEX($D109*($24:$24-$35:$35), MATCH(J$50,$17:$17, 0))),Vt!$A:$A,0)+INDEX($B109+$D109*$24:$24, MATCH(J$50,$17:$17, 0))*2)))))","v":0},{"$f":"IF(($A109+INDEX($D109*($24:$24-$35:$35), MATCH(K$50,$17:$17, 0)))>$C$8,1000000000,(IF(OR(INDEX($22:$22-($A109-$D109*$35:$35), MATCH(K$50,$17:$17, 0))>0, INDEX($D109*$35:$35-$C109, MATCH(K$50,$17:$17, 0))>0),1000000000,(p!K109+n!K109+m!K109+INDEX(Vt!J:J, MATCH(($A109+INDEX($D109*($24:$24-$35:$35), MATCH(K$50,$17:$17, 0))),Vt!$A:$A,0)+INDEX($B109+$D109*$24:$24, MATCH(K$50,$17:$17, 0))*2)))))","v":0},{"$f":"IF(($A109+INDEX($D109*($24:$24-$35:$35), MATCH(L$50,$17:$17, 0)))>$C$8,1000000000,(IF(OR(INDEX($22:$22-($A109-$D109*$35:$35), MATCH(L$50,$17:$17, 0))>0, INDEX($D109*$35:$35-$C109, MATCH(L$50,$17:$17, 0))>0),1000000000,(p!L109+n!L109+m!L109+INDEX(Vt!K:K, MATCH(($A109+INDEX($D109*($24:$24-$35:$35), MATCH(L$50,$17:$17, 0))),Vt!$A:$A,0)+INDEX($B109+$D109*$24:$24, MATCH(L$50,$17:$17, 0))*2)))))","v":0},{"$f":"IF(($A109+INDEX($D109*($24:$24-$35:$35), MATCH(M$50,$17:$17, 0)))>$C$8,1000000000,(IF(OR(INDEX($22:$22-($A109-$D109*$35:$35), MATCH(M$50,$17:$17, 0))>0, INDEX($D109*$35:$35-$C109, MATCH(M$50,$17:$17, 0))>0),1000000000,(p!M109+n!M109+m!M109+INDEX(Vt!L:L, MATCH(($A109+INDEX($D109*($24:$24-$35:$35), MATCH(M$50,$17:$17, 0))),Vt!$A:$A,0)+INDEX($B109+$D109*$24:$24, MATCH(M$50,$17:$17, 0))*2)))))","v":0},{"$f":"IF(($A109+INDEX($D109*($24:$24-$35:$35), MATCH(N$50,$17:$17, 0)))>$C$8,1000000000,(IF(OR(INDEX($22:$22-($A109-$D109*$35:$35), MATCH(N$50,$17:$17, 0))>0, INDEX($D109*$35:$35-$C109, MATCH(N$50,$17:$17, 0))>0),1000000000,(p!N109+n!N109+m!N109+INDEX(Vt!M:M, MATCH(($A109+INDEX($D109*($24:$24-$35:$35), MATCH(N$50,$17:$17, 0))),Vt!$A:$A,0)+INDEX($B109+$D109*$24:$24, MATCH(N$50,$17:$17, 0))*2)))))","v":0},{"$f":"IF(($A109+INDEX($D109*($24:$24-$35:$35), MATCH(O$50,$17:$17, 0)))>$C$8,1000000000,(IF(OR(INDEX($22:$22-($A109-$D109*$35:$35), MATCH(O$50,$17:$17, 0))>0, INDEX($D109*$35:$35-$C109, MATCH(O$50,$17:$17, 0))>0),1000000000,(p!O109+n!O109+m!O109+INDEX(Vt!N:N, MATCH(($A109+INDEX($D109*($24:$24-$35:$35), MATCH(O$50,$17:$17, 0))),Vt!$A:$A,0)+INDEX($B109+$D109*$24:$24, MATCH(O$50,$17:$17, 0))*2)))))","v":0}]
[7,1,6,1,0,{"$f":"IF(($A110+INDEX($D110*($24:$24-$35:$35), MATCH(F$50,$17:$17, 0)))>$C$8,1000000000,(IF(OR(INDEX($22:$22-($A110-$D110*$35:$35), MATCH(F$50,$17:$17, 0))>0, INDEX($D110*$35:$35-$C110, MATCH(F$50,$17:$17, 0))>0),1000000000,(p!F110+n!F110+m!F110+INDEX(Vt!E:E, MATCH(($A110+INDEX($D110*($24:$24-$35:$35), MATCH(F$50,$17:$17, 0))),Vt!$A:$A,0)+INDEX($B110+$D110*$24:$24, MATCH(F$50,$17:$17, 0))*2)))))","v":0},{"$f":"IF(($A110+INDEX($D110*($24:$24-$35:$35), MATCH(G$50,$17:$17, 0)))>$C$8,1000000000,(IF(OR(INDEX($22:$22-($A110-$D110*$35:$35), MATCH(G$50,$17:$17, 0))>0, INDEX($D110*$35:$35-$C110, MATCH(G$50,$17:$17, 0))>0),1000000000,(p!G110+n!G110+m!G110+INDEX(Vt!F:F, MATCH(($A110+INDEX($D110*($24:$24-$35:$35), MATCH(G$50,$17:$17, 0))),Vt!$A:$A,0)+INDEX($B110+$D110*$24:$24, MATCH(G$50,$17:$17, 0))*2)))))","v":0},{"$f":"IF(($A110+INDEX($D110*($24:$24-$35:$35), MATCH(H$50,$17:$17, 0)))>$C$8,1000000000,(IF(OR(INDEX($22:$22-($A110-$D110*$35:$35), MATCH(H$50,$17:$17, 0))>0, INDEX($D110*$35:$35-$C110, MATCH(H$50,$17:$17, 0))>0),1000000000,(p!H110+n!H110+m!H110+INDEX(Vt!G:G, MATCH(($A110+INDEX($D110*($24:$24-$35:$35), MATCH(H$50,$17:$17, 0))),Vt!$A:$A,0)+INDEX($B110+$D110*$24:$24, MATCH(H$50,$17:$17, 0))*2)))))","v":0},{"$f":"IF(($A110+INDEX($D110*($24:$24-$35:$35), MATCH(I$50,$17:$17, 0)))>$C$8,1000000000,(IF(OR(INDEX($22:$22-($A110-$D110*$35:$35), MATCH(I$50,$17:$17, 0))>0, INDEX($D110*$35:$35-$C110, MATCH(I$50,$17:$17, 0))>0),1000000000,(p!I110+n!I110+m!I110+INDEX(Vt!H:H, MATCH(($A110+INDEX($D110*($24:$24-$35:$35), MATCH(I$50,$17:$17, 0))),Vt!$A:$A,0)+INDEX($B110+$D110*$24:$24, MATCH(I$50,$17:$17, 0))*2)))))","v":0},{"$f":"IF(($A110+INDEX($D110*($24:$24-$35:$35), MATCH(J$50,$17:$17, 0)))>$C$8,1000000000,(IF(OR(INDEX($22:$22-($A110-$D110*$35:$35), MATCH(J$50,$17:$17, 0))>0, INDEX($D110*$35:$35-$C110, MATCH(J$50,$17:$17, 0))>0),1000000000,(p!J110+n!J110+m!J110+INDEX(Vt!I:I, MATCH(($A110+INDEX($D110*($24:$24-$35:$35), MATCH(J$50,$17:$17, 0))),Vt!$A:$A,0)+INDEX($B110+$D110*$24:$24, MATCH(J$50,$17:$17, 0))*2)))))","v":0},{"$f":"IF(($A110+INDEX($D110*($24:$24-$35:$35), MATCH(K$50,$17:$17, 0)))>$C$8,1000000000,(IF(OR(INDEX($22:$22-($A110-$D110*$35:$35), MATCH(K$50,$17:$17, 0))>0, INDEX($D110*$35:$35-$C110, MATCH(K$50,$17:$17, 0))>0),1000000000,(p!K110+n!K110+m!K110+INDEX(Vt!J:J, MATCH(($A110+INDEX($D110*($24:$24-$35:$35), MATCH(K$50,$17:$17, 0))),Vt!$A:$A,0)+INDEX($B110+$D110*$24:$24, MATCH(K$50,$17:$17, 0))*2)))))","v":0},{"$f":"IF(($A110+INDEX($D110*($24:$24-$35:$35), MATCH(L$50,$17:$17, 0)))>$C$8,1000000000,(IF(OR(INDEX($22:$22-($A110-$D110*$35:$35), MATCH(L$50,$17:$17, 0))>0, INDEX($D110*$35:$35-$C110, MATCH(L$50,$17:$17, 0))>0),1000000000,(p!L110+n!L110+m!L110+INDEX(Vt!K:K, MATCH(($A110+INDEX($D110*($24:$24-$35:$35), MATCH(L$50,$17:$17, 0))),Vt!$A:$A,0)+INDEX($B110+$D110*$24:$24, MATCH(L$50,$17:$17, 0))*2)))))","v":0},{"$f":"IF(($A110+INDEX($D110*($24:$24-$35:$35), MATCH(M$50,$17:$17, 0)))>$C$8,1000000000,(IF(OR(INDEX($22:$22-($A110-$D110*$35:$35), MATCH(M$50,$17:$17, 0))>0, INDEX($D110*$35:$35-$C110, MATCH(M$50,$17:$17, 0))>0),1000000000,(p!M110+n!M110+m!M110+INDEX(Vt!L:L, MATCH(($A110+INDEX($D110*($24:$24-$35:$35), MATCH(M$50,$17:$17, 0))),Vt!$A:$A,0)+INDEX($B110+$D110*$24:$24, MATCH(M$50,$17:$17, 0))*2)))))","v":0},{"$f":"IF(($A110+INDEX($D110*($24:$24-$35:$35), MATCH(N$50,$17:$17, 0)))>$C$8,1000000000,(IF(OR(INDEX($22:$22-($A110-$D110*$35:$35), MATCH(N$50,$17:$17, 0))>0, INDEX($D110*$35:$35-$C110, MATCH(N$50,$17:$17, 0))>0),1000000000,(p!N110+n!N110+m!N110+INDEX(Vt!M:M, MATCH(($A110+INDEX($D110*($24:$24-$35:$35), MATCH(N$50,$17:$17, 0))),Vt!$A:$A,0)+INDEX($B110+$D110*$24:$24, MATCH(N$50,$17:$17, 0))*2)))))","v":0},{"$f":"IF(($A110+INDEX($D110*($24:$24-$35:$35), MATCH(O$50,$17:$17, 0)))>$C$8,1000000000,(IF(OR(INDEX($22:$22-($A110-$D110*$35:$35), MATCH(O$50,$17:$17, 0))>0, INDEX($D110*$35:$35-$C110, MATCH(O$50,$17:$17, 0))>0),1000000000,(p!O110+n!O110+m!O110+INDEX(Vt!N:N, MATCH(($A110+INDEX($D110*($24:$24-$35:$35), MATCH(O$50,$17:$17, 0))),Vt!$A:$A,0)+INDEX($B110+$D110*$24:$24, MATCH(O$50,$17:$17, 0))*2)))))","v":0}]
[7,2,5,0,0,{"$f":"IF(($A111+INDEX($D111*($24:$24-$35:$35), MATCH(F$50,$17:$17, 0)))>$C$8,1000000000,(IF(OR(INDEX($22:$22-($A111-$D111*$35:$35), MATCH(F$50,$17:$17, 0))>0, INDEX($D111*$35:$35-$C111, MATCH(F$50,$17:$17, 0))>0),1000000000,(p!F111+n!F111+m!F111+INDEX(Vt!E:E, MATCH(($A111+INDEX($D111*($24:$24-$35:$35), MATCH(F$50,$17:$17, 0))),Vt!$A:$A,0)+INDEX($B111+$D111*$24:$24, MATCH(F$50,$17:$17, 0))*2)))))","v":0},{"$f":"IF(($A111+INDEX($D111*($24:$24-$35:$35), MATCH(G$50,$17:$17, 0)))>$C$8,1000000000,(IF(OR(INDEX($22:$22-($A111-$D111*$35:$35), MATCH(G$50,$17:$17, 0))>0, INDEX($D111*$35:$35-$C111, MATCH(G$50,$17:$17, 0))>0),1000000000,(p!G111+n!G111+m!G111+INDEX(Vt!F:F, MATCH(($A111+INDEX($D111*($24:$24-$35:$35), MATCH(G$50,$17:$17, 0))),Vt!$A:$A,0)+INDEX($B111+$D111*$24:$24, MATCH(G$50,$17:$17, 0))*2)))))","v":0},{"$f":"IF(($A111+INDEX($D111*($24:$24-$35:$35), MATCH(H$50,$17:$17, 0)))>$C$8,1000000000,(IF(OR(INDEX($22:$22-($A111-$D111*$35:$35), MATCH(H$50,$17:$17, 0))>0, INDEX($D111*$35:$35-$C111, MATCH(H$50,$17:$17, 0))>0),1000000000,(p!H111+n!H111+m!H111+INDEX(Vt!G:G, MATCH(($A111+INDEX($D111*($24:$24-$35:$35), MATCH(H$50,$17:$17, 0))),Vt!$A:$A,0)+INDEX($B111+$D111*$24:$24, MATCH(H$50,$17:$17, 0))*2)))))","v":0},{"$f":"IF(($A111+INDEX($D111*($24:$24-$35:$35), MATCH(I$50,$17:$17, 0)))>$C$8,1000000000,(IF(OR(INDEX($22:$22-($A111-$D111*$35:$35), MATCH(I$50,$17:$17, 0))>0, INDEX($D111*$35:$35-$C111, MATCH(I$50,$17:$17, 0))>0),1000000000,(p!I111+n!I111+m!I111+INDEX(Vt!H:H, MATCH(($A111+INDEX($D111*($24:$24-$35:$35), MATCH(I$50,$17:$17, 0))),Vt!$A:$A,0)+INDEX($B111+$D111*$24:$24, MATCH(I$50,$17:$17, 0))*2)))))","v":0},{"$f":"IF(($A111+INDEX($D111*($24:$24-$35:$35), MATCH(J$50,$17:$17, 0)))>$C$8,1000000000,(IF(OR(INDEX($22:$22-($A111-$D111*$35:$35), MATCH(J$50,$17:$17, 0))>0, INDEX($D111*$35:$35-$C111, MATCH(J$50,$17:$17, 0))>0),1000000000,(p!J111+n!J111+m!J111+INDEX(Vt!I:I, MATCH(($A111+INDEX($D111*($24:$24-$35:$35), MATCH(J$50,$17:$17, 0))),Vt!$A:$A,0)+INDEX($B111+$D111*$24:$24, MATCH(J$50,$17:$17, 0))*2)))))","v":0},{"$f":"IF(($A111+INDEX($D111*($24:$24-$35:$35), MATCH(K$50,$17:$17, 0)))>$C$8,1000000000,(IF(OR(INDEX($22:$22-($A111-$D111*$35:$35), MATCH(K$50,$17:$17, 0))>0, INDEX($D111*$35:$35-$C111, MATCH(K$50,$17:$17, 0))>0),1000000000,(p!K111+n!K111+m!K111+INDEX(Vt!J:J, MATCH(($A111+INDEX($D111*($24:$24-$35:$35), MATCH(K$50,$17:$17, 0))),Vt!$A:$A,0)+INDEX($B111+$D111*$24:$24, MATCH(K$50,$17:$17, 0))*2)))))","v":0},{"$f":"IF(($A111+INDEX($D111*($24:$24-$35:$35), MATCH(L$50,$17:$17, 0)))>$C$8,1000000000,(IF(OR(INDEX($22:$22-($A111-$D111*$35:$35), MATCH(L$50,$17:$17, 0))>0, INDEX($D111*$35:$35-$C111, MATCH(L$50,$17:$17, 0))>0),1000000000,(p!L111+n!L111+m!L111+INDEX(Vt!K:K, MATCH(($A111+INDEX($D111*($24:$24-$35:$35), MATCH(L$50,$17:$17, 0))),Vt!$A:$A,0)+INDEX($B111+$D111*$24:$24, MATCH(L$50,$17:$17, 0))*2)))))","v":0},{"$f":"IF(($A111+INDEX($D111*($24:$24-$35:$35), MATCH(M$50,$17:$17, 0)))>$C$8,1000000000,(IF(OR(INDEX($22:$22-($A111-$D111*$35:$35), MATCH(M$50,$17:$17, 0))>0, INDEX($D111*$35:$35-$C111, MATCH(M$50,$17:$17, 0))>0),1000000000,(p!M111+n!M111+m!M111+INDEX(Vt!L:L, MATCH(($A111+INDEX($D111*($24:$24-$35:$35), MATCH(M$50,$17:$17, 0))),Vt!$A:$A,0)+INDEX($B111+$D111*$24:$24, MATCH(M$50,$17:$17, 0))*2)))))","v":0},{"$f":"IF(($A111+INDEX($D111*($24:$24-$35:$35), MATCH(N$50,$17:$17, 0)))>$C$8,1000000000,(IF(OR(INDEX($22:$22-($A111-$D111*$35:$35), MATCH(N$50,$17:$17, 0))>0, INDEX($D111*$35:$35-$C111, MATCH(N$50,$17:$17, 0))>0),1000000000,(p!N111+n!N111+m!N111+INDEX(Vt!M:M, MATCH(($A111+INDEX($D111*($24:$24-$35:$35), MATCH(N$50,$17:$17, 0))),Vt!$A:$A,0)+INDEX($B111+$D111*$24:$24, MATCH(N$50,$17:$17, 0))*2)))))","v":0},{"$f":"IF(($A111+INDEX($D111*($24:$24-$35:$35), MATCH(O$50,$17:$17, 0)))>$C$8,1000000000,(IF(OR(INDEX($22:$22-($A111-$D111*$35:$35), MATCH(O$50,$17:$17, 0))>0, INDEX($D111*$35:$35-$C111, MATCH(O$50,$17:$17, 0))>0),1000000000,(p!O111+n!O111+m!O111+INDEX(Vt!N:N, MATCH(($A111+INDEX($D111*($24:$24-$35:$35), MATCH(O$50,$17:$17, 0))),Vt!$A:$A,0)+INDEX($B111+$D111*$24:$24, MATCH(O$50,$17:$17, 0))*2)))))","v":0}]
[7,2,5,1,0,{"$f":"IF(($A112+INDEX($D112*($24:$24-$35:$35), MATCH(F$50,$17:$17, 0)))>$C$8,1000000000,(IF(OR(INDEX($22:$22-($A112-$D112*$35:$35), MATCH(F$50,$17:$17, 0))>0, INDEX($D112*$35:$35-$C112, MATCH(F$50,$17:$17, 0))>0),1000000000,(p!F112+n!F112+m!F112+INDEX(Vt!E:E, MATCH(($A112+INDEX($D112*($24:$24-$35:$35), MATCH(F$50,$17:$17, 0))),Vt!$A:$A,0)+INDEX($B112+$D112*$24:$24, MATCH(F$50,$17:$17, 0))*2)))))","v":0},{"$f":"IF(($A112+INDEX($D112*($24:$24-$35:$35), MATCH(G$50,$17:$17, 0)))>$C$8,1000000000,(IF(OR(INDEX($22:$22-($A112-$D112*$35:$35), MATCH(G$50,$17:$17, 0))>0, INDEX($D112*$35:$35-$C112, MATCH(G$50,$17:$17, 0))>0),1000000000,(p!G112+n!G112+m!G112+INDEX(Vt!F:F, MATCH(($A112+INDEX($D112*($24:$24-$35:$35), MATCH(G$50,$17:$17, 0))),Vt!$A:$A,0)+INDEX($B112+$D112*$24:$24, MATCH(G$50,$17:$17, 0))*2)))))","v":0},{"$f":"IF(($A112+INDEX($D112*($24:$24-$35:$35), MATCH(H$50,$17:$17, 0)))>$C$8,1000000000,(IF(OR(INDEX($22:$22-($A112-$D112*$35:$35), MATCH(H$50,$17:$17, 0))>0, INDEX($D112*$35:$35-$C112, MATCH(H$50,$17:$17, 0))>0),1000000000,(p!H112+n!H112+m!H112+INDEX(Vt!G:G, MATCH(($A112+INDEX($D112*($24:$24-$35:$35), MATCH(H$50,$17:$17, 0))),Vt!$A:$A,0)+INDEX($B112+$D112*$24:$24, MATCH(H$50,$17:$17, 0))*2)))))","v":0},{"$f":"IF(($A112+INDEX($D112*($24:$24-$35:$35), MATCH(I$50,$17:$17, 0)))>$C$8,1000000000,(IF(OR(INDEX($22:$22-($A112-$D112*$35:$35), MATCH(I$50,$17:$17, 0))>0, INDEX($D112*$35:$35-$C112, MATCH(I$50,$17:$17, 0))>0),1000000000,(p!I112+n!I112+m!I112+INDEX(Vt!H:H, MATCH(($A112+INDEX($D112*($24:$24-$35:$35), MATCH(I$50,$17:$17, 0))),Vt!$A:$A,0)+INDEX($B112+$D112*$24:$24, MATCH(I$50,$17:$17, 0))*2)))))","v":0},{"$f":"IF(($A112+INDEX($D112*($24:$24-$35:$35), MATCH(J$50,$17:$17, 0)))>$C$8,1000000000,(IF(OR(INDEX($22:$22-($A112-$D112*$35:$35), MATCH(J$50,$17:$17, 0))>0, INDEX($D112*$35:$35-$C112, MATCH(J$50,$17:$17, 0))>0),1000000000,(p!J112+n!J112+m!J112+INDEX(Vt!I:I, MATCH(($A112+INDEX($D112*($24:$24-$35:$35), MATCH(J$50,$17:$17, 0))),Vt!$A:$A,0)+INDEX($B112+$D112*$24:$24, MATCH(J$50,$17:$17, 0))*2)))))","v":0},{"$f":"IF(($A112+INDEX($D112*($24:$24-$35:$35), MATCH(K$50,$17:$17, 0)))>$C$8,1000000000,(IF(OR(INDEX($22:$22-($A112-$D112*$35:$35), MATCH(K$50,$17:$17, 0))>0, INDEX($D112*$35:$35-$C112, MATCH(K$50,$17:$17, 0))>0),1000000000,(p!K112+n!K112+m!K112+INDEX(Vt!J:J, MATCH(($A112+INDEX($D112*($24:$24-$35:$35), MATCH(K$50,$17:$17, 0))),Vt!$A:$A,0)+INDEX($B112+$D112*$24:$24, MATCH(K$50,$17:$17, 0))*2)))))","v":0},{"$f":"IF(($A112+INDEX($D112*($24:$24-$35:$35), MATCH(L$50,$17:$17, 0)))>$C$8,1000000000,(IF(OR(INDEX($22:$22-($A112-$D112*$35:$35), MATCH(L$50,$17:$17, 0))>0, INDEX($D112*$35:$35-$C112, MATCH(L$50,$17:$17, 0))>0),1000000000,(p!L112+n!L112+m!L112+INDEX(Vt!K:K, MATCH(($A112+INDEX($D112*($24:$24-$35:$35), MATCH(L$50,$17:$17, 0))),Vt!$A:$A,0)+INDEX($B112+$D112*$24:$24, MATCH(L$50,$17:$17, 0))*2)))))","v":0},{"$f":"IF(($A112+INDEX($D112*($24:$24-$35:$35), MATCH(M$50,$17:$17, 0)))>$C$8,1000000000,(IF(OR(INDEX($22:$22-($A112-$D112*$35:$35), MATCH(M$50,$17:$17, 0))>0, INDEX($D112*$35:$35-$C112, MATCH(M$50,$17:$17, 0))>0),1000000000,(p!M112+n!M112+m!M112+INDEX(Vt!L:L, MATCH(($A112+INDEX($D112*($24:$24-$35:$35), MATCH(M$50,$17:$17, 0))),Vt!$A:$A,0)+INDEX($B112+$D112*$24:$24, MATCH(M$50,$17:$17, 0))*2)))))","v":0},{"$f":"IF(($A112+INDEX($D112*($24:$24-$35:$35), MATCH(N$50,$17:$17, 0)))>$C$8,1000000000,(IF(OR(INDEX($22:$22-($A112-$D112*$35:$35), MATCH(N$50,$17:$17, 0))>0, INDEX($D112*$35:$35-$C112, MATCH(N$50,$17:$17, 0))>0),1000000000,(p!N112+n!N112+m!N112+INDEX(Vt!M:M, MATCH(($A112+INDEX($D112*($24:$24-$35:$35), MATCH(N$50,$17:$17, 0))),Vt!$A:$A,0)+INDEX($B112+$D112*$24:$24, MATCH(N$50,$17:$17, 0))*2)))))","v":0},{"$f":"IF(($A112+INDEX($D112*($24:$24-$35:$35), MATCH(O$50,$17:$17, 0)))>$C$8,1000000000,(IF(OR(INDEX($22:$22-($A112-$D112*$35:$35), MATCH(O$50,$17:$17, 0))>0, INDEX($D112*$35:$35-$C112, MATCH(O$50,$17:$17, 0))>0),1000000000,(p!O112+n!O112+m!O112+INDEX(Vt!N:N, MATCH(($A112+INDEX($D112*($24:$24-$35:$35), MATCH(O$50,$17:$17, 0))),Vt!$A:$A,0)+INDEX($B112+$D112*$24:$24, MATCH(O$50,$17:$17, 0))*2)))))","v":0}]
[7,3,4,0,0,{"$f":"IF(($A113+INDEX($D113*($24:$24-$35:$35), MATCH(F$50,$17:$17, 0)))>$C$8,1000000000,(IF(OR(INDEX($22:$22-($A113-$D113*$35:$35), MATCH(F$50,$17:$17, 0))>0, INDEX($D113*$35:$35-$C113, MATCH(F$50,$17:$17, 0))>0),1000000000,(p!F113+n!F113+m!F113+INDEX(Vt!E:E, MATCH(($A113+INDEX($D113*($24:$24-$35:$35), MATCH(F$50,$17:$17, 0))),Vt!$A:$A,0)+INDEX($B113+$D113*$24:$24, MATCH(F$50,$17:$17, 0))*2)))))","v":0},{"$f":"IF(($A113+INDEX($D113*($24:$24-$35:$35), MATCH(G$50,$17:$17, 0)))>$C$8,1000000000,(IF(OR(INDEX($22:$22-($A113-$D113*$35:$35), MATCH(G$50,$17:$17, 0))>0, INDEX($D113*$35:$35-$C113, MATCH(G$50,$17:$17, 0))>0),1000000000,(p!G113+n!G113+m!G113+INDEX(Vt!F:F, MATCH(($A113+INDEX($D113*($24:$24-$35:$35), MATCH(G$50,$17:$17, 0))),Vt!$A:$A,0)+INDEX($B113+$D113*$24:$24, MATCH(G$50,$17:$17, 0))*2)))))","v":0},{"$f":"IF(($A113+INDEX($D113*($24:$24-$35:$35), MATCH(H$50,$17:$17, 0)))>$C$8,1000000000,(IF(OR(INDEX($22:$22-($A113-$D113*$35:$35), MATCH(H$50,$17:$17, 0))>0, INDEX($D113*$35:$35-$C113, MATCH(H$50,$17:$17, 0))>0),1000000000,(p!H113+n!H113+m!H113+INDEX(Vt!G:G, MATCH(($A113+INDEX($D113*($24:$24-$35:$35), MATCH(H$50,$17:$17, 0))),Vt!$A:$A,0)+INDEX($B113+$D113*$24:$24, MATCH(H$50,$17:$17, 0))*2)))))","v":0},{"$f":"IF(($A113+INDEX($D113*($24:$24-$35:$35), MATCH(I$50,$17:$17, 0)))>$C$8,1000000000,(IF(OR(INDEX($22:$22-($A113-$D113*$35:$35), MATCH(I$50,$17:$17, 0))>0, INDEX($D113*$35:$35-$C113, MATCH(I$50,$17:$17, 0))>0),1000000000,(p!I113+n!I113+m!I113+INDEX(Vt!H:H, MATCH(($A113+INDEX($D113*($24:$24-$35:$35), MATCH(I$50,$17:$17, 0))),Vt!$A:$A,0)+INDEX($B113+$D113*$24:$24, MATCH(I$50,$17:$17, 0))*2)))))","v":0},{"$f":"IF(($A113+INDEX($D113*($24:$24-$35:$35), MATCH(J$50,$17:$17, 0)))>$C$8,1000000000,(IF(OR(INDEX($22:$22-($A113-$D113*$35:$35), MATCH(J$50,$17:$17, 0))>0, INDEX($D113*$35:$35-$C113, MATCH(J$50,$17:$17, 0))>0),1000000000,(p!J113+n!J113+m!J113+INDEX(Vt!I:I, MATCH(($A113+INDEX($D113*($24:$24-$35:$35), MATCH(J$50,$17:$17, 0))),Vt!$A:$A,0)+INDEX($B113+$D113*$24:$24, MATCH(J$50,$17:$17, 0))*2)))))","v":0},{"$f":"IF(($A113+INDEX($D113*($24:$24-$35:$35), MATCH(K$50,$17:$17, 0)))>$C$8,1000000000,(IF(OR(INDEX($22:$22-($A113-$D113*$35:$35), MATCH(K$50,$17:$17, 0))>0, INDEX($D113*$35:$35-$C113, MATCH(K$50,$17:$17, 0))>0),1000000000,(p!K113+n!K113+m!K113+INDEX(Vt!J:J, MATCH(($A113+INDEX($D113*($24:$24-$35:$35), MATCH(K$50,$17:$17, 0))),Vt!$A:$A,0)+INDEX($B113+$D113*$24:$24, MATCH(K$50,$17:$17, 0))*2)))))","v":0},{"$f":"IF(($A113+INDEX($D113*($24:$24-$35:$35), MATCH(L$50,$17:$17, 0)))>$C$8,1000000000,(IF(OR(INDEX($22:$22-($A113-$D113*$35:$35), MATCH(L$50,$17:$17, 0))>0, INDEX($D113*$35:$35-$C113, MATCH(L$50,$17:$17, 0))>0),1000000000,(p!L113+n!L113+m!L113+INDEX(Vt!K:K, MATCH(($A113+INDEX($D113*($24:$24-$35:$35), MATCH(L$50,$17:$17, 0))),Vt!$A:$A,0)+INDEX($B113+$D113*$24:$24, MATCH(L$50,$17:$17, 0))*2)))))","v":0},{"$f":"IF(($A113+INDEX($D113*($24:$24-$35:$35), MATCH(M$50,$17:$17, 0)))>$C$8,1000000000,(IF(OR(INDEX($22:$22-($A113-$D113*$35:$35), MATCH(M$50,$17:$17, 0))>0, INDEX($D113*$35:$35-$C113, MATCH(M$50,$17:$17, 0))>0),1000000000,(p!M113+n!M113+m!M113+INDEX(Vt!L:L, MATCH(($A113+INDEX($D113*($24:$24-$35:$35), MATCH(M$50,$17:$17, 0))),Vt!$A:$A,0)+INDEX($B113+$D113*$24:$24, MATCH(M$50,$17:$17, 0))*2)))))","v":0},{"$f":"IF(($A113+INDEX($D113*($24:$24-$35:$35), MATCH(N$50,$17:$17, 0)))>$C$8,1000000000,(IF(OR(INDEX($22:$22-($A113-$D113*$35:$35), MATCH(N$50,$17:$17, 0))>0, INDEX($D113*$35:$35-$C113, MATCH(N$50,$17:$17, 0))>0),1000000000,(p!N113+n!N113+m!N113+INDEX(Vt!M:M, MATCH(($A113+INDEX($D113*($24:$24-$35:$35), MATCH(N$50,$17:$17, 0))),Vt!$A:$A,0)+INDEX($B113+$D113*$24:$24, MATCH(N$50,$17:$17, 0))*2)))))","v":0},{"$f":"IF(($A113+INDEX($D113*($24:$24-$35:$35), MATCH(O$50,$17:$17, 0)))>$C$8,1000000000,(IF(OR(INDEX($22:$22-($A113-$D113*$35:$35), MATCH(O$50,$17:$17, 0))>0, INDEX($D113*$35:$35-$C113, MATCH(O$50,$17:$17, 0))>0),1000000000,(p!O113+n!O113+m!O113+INDEX(Vt!N:N, MATCH(($A113+INDEX($D113*($24:$24-$35:$35), MATCH(O$50,$17:$17, 0))),Vt!$A:$A,0)+INDEX($B113+$D113*$24:$24, MATCH(O$50,$17:$17, 0))*2)))))","v":0}]
[7,3,4,1,0,{"$f":"IF(($A114+INDEX($D114*($24:$24-$35:$35), MATCH(F$50,$17:$17, 0)))>$C$8,1000000000,(IF(OR(INDEX($22:$22-($A114-$D114*$35:$35), MATCH(F$50,$17:$17, 0))>0, INDEX($D114*$35:$35-$C114, MATCH(F$50,$17:$17, 0))>0),1000000000,(p!F114+n!F114+m!F114+INDEX(Vt!E:E, MATCH(($A114+INDEX($D114*($24:$24-$35:$35), MATCH(F$50,$17:$17, 0))),Vt!$A:$A,0)+INDEX($B114+$D114*$24:$24, MATCH(F$50,$17:$17, 0))*2)))))","v":0},{"$f":"IF(($A114+INDEX($D114*($24:$24-$35:$35), MATCH(G$50,$17:$17, 0)))>$C$8,1000000000,(IF(OR(INDEX($22:$22-($A114-$D114*$35:$35), MATCH(G$50,$17:$17, 0))>0, INDEX($D114*$35:$35-$C114, MATCH(G$50,$17:$17, 0))>0),1000000000,(p!G114+n!G114+m!G114+INDEX(Vt!F:F, MATCH(($A114+INDEX($D114*($24:$24-$35:$35), MATCH(G$50,$17:$17, 0))),Vt!$A:$A,0)+INDEX($B114+$D114*$24:$24, MATCH(G$50,$17:$17, 0))*2)))))","v":0},{"$f":"IF(($A114+INDEX($D114*($24:$24-$35:$35), MATCH(H$50,$17:$17, 0)))>$C$8,1000000000,(IF(OR(INDEX($22:$22-($A114-$D114*$35:$35), MATCH(H$50,$17:$17, 0))>0, INDEX($D114*$35:$35-$C114, MATCH(H$50,$17:$17, 0))>0),1000000000,(p!H114+n!H114+m!H114+INDEX(Vt!G:G, MATCH(($A114+INDEX($D114*($24:$24-$35:$35), MATCH(H$50,$17:$17, 0))),Vt!$A:$A,0)+INDEX($B114+$D114*$24:$24, MATCH(H$50,$17:$17, 0))*2)))))","v":0},{"$f":"IF(($A114+INDEX($D114*($24:$24-$35:$35), MATCH(I$50,$17:$17, 0)))>$C$8,1000000000,(IF(OR(INDEX($22:$22-($A114-$D114*$35:$35), MATCH(I$50,$17:$17, 0))>0, INDEX($D114*$35:$35-$C114, MATCH(I$50,$17:$17, 0))>0),1000000000,(p!I114+n!I114+m!I114+INDEX(Vt!H:H, MATCH(($A114+INDEX($D114*($24:$24-$35:$35), MATCH(I$50,$17:$17, 0))),Vt!$A:$A,0)+INDEX($B114+$D114*$24:$24, MATCH(I$50,$17:$17, 0))*2)))))","v":0},{"$f":"IF(($A114+INDEX($D114*($24:$24-$35:$35), MATCH(J$50,$17:$17, 0)))>$C$8,1000000000,(IF(OR(INDEX($22:$22-($A114-$D114*$35:$35), MATCH(J$50,$17:$17, 0))>0, INDEX($D114*$35:$35-$C114, MATCH(J$50,$17:$17, 0))>0),1000000000,(p!J114+n!J114+m!J114+INDEX(Vt!I:I, MATCH(($A114+INDEX($D114*($24:$24-$35:$35), MATCH(J$50,$17:$17, 0))),Vt!$A:$A,0)+INDEX($B114+$D114*$24:$24, MATCH(J$50,$17:$17, 0))*2)))))","v":0},{"$f":"IF(($A114+INDEX($D114*($24:$24-$35:$35), MATCH(K$50,$17:$17, 0)))>$C$8,1000000000,(IF(OR(INDEX($22:$22-($A114-$D114*$35:$35), MATCH(K$50,$17:$17, 0))>0, INDEX($D114*$35:$35-$C114, MATCH(K$50,$17:$17, 0))>0),1000000000,(p!K114+n!K114+m!K114+INDEX(Vt!J:J, MATCH(($A114+INDEX($D114*($24:$24-$35:$35), MATCH(K$50,$17:$17, 0))),Vt!$A:$A,0)+INDEX($B114+$D114*$24:$24, MATCH(K$50,$17:$17, 0))*2)))))","v":0},{"$f":"IF(($A114+INDEX($D114*($24:$24-$35:$35), MATCH(L$50,$17:$17, 0)))>$C$8,1000000000,(IF(OR(INDEX($22:$22-($A114-$D114*$35:$35), MATCH(L$50,$17:$17, 0))>0, INDEX($D114*$35:$35-$C114, MATCH(L$50,$17:$17, 0))>0),1000000000,(p!L114+n!L114+m!L114+INDEX(Vt!K:K, MATCH(($A114+INDEX($D114*($24:$24-$35:$35), MATCH(L$50,$17:$17, 0))),Vt!$A:$A,0)+INDEX($B114+$D114*$24:$24, MATCH(L$50,$17:$17, 0))*2)))))","v":0},{"$f":"IF(($A114+INDEX($D114*($24:$24-$35:$35), MATCH(M$50,$17:$17, 0)))>$C$8,1000000000,(IF(OR(INDEX($22:$22-($A114-$D114*$35:$35), MATCH(M$50,$17:$17, 0))>0, INDEX($D114*$35:$35-$C114, MATCH(M$50,$17:$17, 0))>0),1000000000,(p!M114+n!M114+m!M114+INDEX(Vt!L:L, MATCH(($A114+INDEX($D114*($24:$24-$35:$35), MATCH(M$50,$17:$17, 0))),Vt!$A:$A,0)+INDEX($B114+$D114*$24:$24, MATCH(M$50,$17:$17, 0))*2)))))","v":0},{"$f":"IF(($A114+INDEX($D114*($24:$24-$35:$35), MATCH(N$50,$17:$17, 0)))>$C$8,1000000000,(IF(OR(INDEX($22:$22-($A114-$D114*$35:$35), MATCH(N$50,$17:$17, 0))>0, INDEX($D114*$35:$35-$C114, MATCH(N$50,$17:$17, 0))>0),1000000000,(p!N114+n!N114+m!N114+INDEX(Vt!M:M, MATCH(($A114+INDEX($D114*($24:$24-$35:$35), MATCH(N$50,$17:$17, 0))),Vt!$A:$A,0)+INDEX($B114+$D114*$24:$24, MATCH(N$50,$17:$17, 0))*2)))))","v":0},{"$f":"IF(($A114+INDEX($D114*($24:$24-$35:$35), MATCH(O$50,$17:$17, 0)))>$C$8,1000000000,(IF(OR(INDEX($22:$22-($A114-$D114*$35:$35), MATCH(O$50,$17:$17, 0))>0, INDEX($D114*$35:$35-$C114, MATCH(O$50,$17:$17, 0))>0),1000000000,(p!O114+n!O114+m!O114+INDEX(Vt!N:N, MATCH(($A114+INDEX($D114*($24:$24-$35:$35), MATCH(O$50,$17:$17, 0))),Vt!$A:$A,0)+INDEX($B114+$D114*$24:$24, MATCH(O$50,$17:$17, 0))*2)))))","v":0}]
[7,4,3,0,0,{"$f":"IF(($A115+INDEX($D115*($24:$24-$35:$35), MATCH(F$50,$17:$17, 0)))>$C$8,1000000000,(IF(OR(INDEX($22:$22-($A115-$D115*$35:$35), MATCH(F$50,$17:$17, 0))>0, INDEX($D115*$35:$35-$C115, MATCH(F$50,$17:$17, 0))>0),1000000000,(p!F115+n!F115+m!F115+INDEX(Vt!E:E, MATCH(($A115+INDEX($D115*($24:$24-$35:$35), MATCH(F$50,$17:$17, 0))),Vt!$A:$A,0)+INDEX($B115+$D115*$24:$24, MATCH(F$50,$17:$17, 0))*2)))))","v":0},{"$f":"IF(($A115+INDEX($D115*($24:$24-$35:$35), MATCH(G$50,$17:$17, 0)))>$C$8,1000000000,(IF(OR(INDEX($22:$22-($A115-$D115*$35:$35), MATCH(G$50,$17:$17, 0))>0, INDEX($D115*$35:$35-$C115, MATCH(G$50,$17:$17, 0))>0),1000000000,(p!G115+n!G115+m!G115+INDEX(Vt!F:F, MATCH(($A115+INDEX($D115*($24:$24-$35:$35), MATCH(G$50,$17:$17, 0))),Vt!$A:$A,0)+INDEX($B115+$D115*$24:$24, MATCH(G$50,$17:$17, 0))*2)))))","v":0},{"$f":"IF(($A115+INDEX($D115*($24:$24-$35:$35), MATCH(H$50,$17:$17, 0)))>$C$8,1000000000,(IF(OR(INDEX($22:$22-($A115-$D115*$35:$35), MATCH(H$50,$17:$17, 0))>0, INDEX($D115*$35:$35-$C115, MATCH(H$50,$17:$17, 0))>0),1000000000,(p!H115+n!H115+m!H115+INDEX(Vt!G:G, MATCH(($A115+INDEX($D115*($24:$24-$35:$35), MATCH(H$50,$17:$17, 0))),Vt!$A:$A,0)+INDEX($B115+$D115*$24:$24, MATCH(H$50,$17:$17, 0))*2)))))","v":0},{"$f":"IF(($A115+INDEX($D115*($24:$24-$35:$35), MATCH(I$50,$17:$17, 0)))>$C$8,1000000000,(IF(OR(INDEX($22:$22-($A115-$D115*$35:$35), MATCH(I$50,$17:$17, 0))>0, INDEX($D115*$35:$35-$C115, MATCH(I$50,$17:$17, 0))>0),1000000000,(p!I115+n!I115+m!I115+INDEX(Vt!H:H, MATCH(($A115+INDEX($D115*($24:$24-$35:$35), MATCH(I$50,$17:$17, 0))),Vt!$A:$A,0)+INDEX($B115+$D115*$24:$24, MATCH(I$50,$17:$17, 0))*2)))))","v":0},{"$f":"IF(($A115+INDEX($D115*($24:$24-$35:$35), MATCH(J$50,$17:$17, 0)))>$C$8,1000000000,(IF(OR(INDEX($22:$22-($A115-$D115*$35:$35), MATCH(J$50,$17:$17, 0))>0, INDEX($D115*$35:$35-$C115, MATCH(J$50,$17:$17, 0))>0),1000000000,(p!J115+n!J115+m!J115+INDEX(Vt!I:I, MATCH(($A115+INDEX($D115*($24:$24-$35:$35), MATCH(J$50,$17:$17, 0))),Vt!$A:$A,0)+INDEX($B115+$D115*$24:$24, MATCH(J$50,$17:$17, 0))*2)))))","v":0},{"$f":"IF(($A115+INDEX($D115*($24:$24-$35:$35), MATCH(K$50,$17:$17, 0)))>$C$8,1000000000,(IF(OR(INDEX($22:$22-($A115-$D115*$35:$35), MATCH(K$50,$17:$17, 0))>0, INDEX($D115*$35:$35-$C115, MATCH(K$50,$17:$17, 0))>0),1000000000,(p!K115+n!K115+m!K115+INDEX(Vt!J:J, MATCH(($A115+INDEX($D115*($24:$24-$35:$35), MATCH(K$50,$17:$17, 0))),Vt!$A:$A,0)+INDEX($B115+$D115*$24:$24, MATCH(K$50,$17:$17, 0))*2)))))","v":0},{"$f":"IF(($A115+INDEX($D115*($24:$24-$35:$35), MATCH(L$50,$17:$17, 0)))>$C$8,1000000000,(IF(OR(INDEX($22:$22-($A115-$D115*$35:$35), MATCH(L$50,$17:$17, 0))>0, INDEX($D115*$35:$35-$C115, MATCH(L$50,$17:$17, 0))>0),1000000000,(p!L115+n!L115+m!L115+INDEX(Vt!K:K, MATCH(($A115+INDEX($D115*($24:$24-$35:$35), MATCH(L$50,$17:$17, 0))),Vt!$A:$A,0)+INDEX($B115+$D115*$24:$24, MATCH(L$50,$17:$17, 0))*2)))))","v":0},{"$f":"IF(($A115+INDEX($D115*($24:$24-$35:$35), MATCH(M$50,$17:$17, 0)))>$C$8,1000000000,(IF(OR(INDEX($22:$22-($A115-$D115*$35:$35), MATCH(M$50,$17:$17, 0))>0, INDEX($D115*$35:$35-$C115, MATCH(M$50,$17:$17, 0))>0),1000000000,(p!M115+n!M115+m!M115+INDEX(Vt!L:L, MATCH(($A115+INDEX($D115*($24:$24-$35:$35), MATCH(M$50,$17:$17, 0))),Vt!$A:$A,0)+INDEX($B115+$D115*$24:$24, MATCH(M$50,$17:$17, 0))*2)))))","v":0},{"$f":"IF(($A115+INDEX($D115*($24:$24-$35:$35), MATCH(N$50,$17:$17, 0)))>$C$8,1000000000,(IF(OR(INDEX($22:$22-($A115-$D115*$35:$35), MATCH(N$50,$17:$17, 0))>0, INDEX($D115*$35:$35-$C115, MATCH(N$50,$17:$17, 0))>0),1000000000,(p!N115+n!N115+m!N115+INDEX(Vt!M:M, MATCH(($A115+INDEX($D115*($24:$24-$35:$35), MATCH(N$50,$17:$17, 0))),Vt!$A:$A,0)+INDEX($B115+$D115*$24:$24, MATCH(N$50,$17:$17, 0))*2)))))","v":0},{"$f":"IF(($A115+INDEX($D115*($24:$24-$35:$35), MATCH(O$50,$17:$17, 0)))>$C$8,1000000000,(IF(OR(INDEX($22:$22-($A115-$D115*$35:$35), MATCH(O$50,$17:$17, 0))>0, INDEX($D115*$35:$35-$C115, MATCH(O$50,$17:$17, 0))>0),1000000000,(p!O115+n!O115+m!O115+INDEX(Vt!N:N, MATCH(($A115+INDEX($D115*($24:$24-$35:$35), MATCH(O$50,$17:$17, 0))),Vt!$A:$A,0)+INDEX($B115+$D115*$24:$24, MATCH(O$50,$17:$17, 0))*2)))))","v":0}]
[7,4,3,1,0,{"$f":"IF(($A116+INDEX($D116*($24:$24-$35:$35), MATCH(F$50,$17:$17, 0)))>$C$8,1000000000,(IF(OR(INDEX($22:$22-($A116-$D116*$35:$35), MATCH(F$50,$17:$17, 0))>0, INDEX($D116*$35:$35-$C116, MATCH(F$50,$17:$17, 0))>0),1000000000,(p!F116+n!F116+m!F116+INDEX(Vt!E:E, MATCH(($A116+INDEX($D116*($24:$24-$35:$35), MATCH(F$50,$17:$17, 0))),Vt!$A:$A,0)+INDEX($B116+$D116*$24:$24, MATCH(F$50,$17:$17, 0))*2)))))","v":0},{"$f":"IF(($A116+INDEX($D116*($24:$24-$35:$35), MATCH(G$50,$17:$17, 0)))>$C$8,1000000000,(IF(OR(INDEX($22:$22-($A116-$D116*$35:$35), MATCH(G$50,$17:$17, 0))>0, INDEX($D116*$35:$35-$C116, MATCH(G$50,$17:$17, 0))>0),1000000000,(p!G116+n!G116+m!G116+INDEX(Vt!F:F, MATCH(($A116+INDEX($D116*($24:$24-$35:$35), MATCH(G$50,$17:$17, 0))),Vt!$A:$A,0)+INDEX($B116+$D116*$24:$24, MATCH(G$50,$17:$17, 0))*2)))))","v":0},{"$f":"IF(($A116+INDEX($D116*($24:$24-$35:$35), MATCH(H$50,$17:$17, 0)))>$C$8,1000000000,(IF(OR(INDEX($22:$22-($A116-$D116*$35:$35), MATCH(H$50,$17:$17, 0))>0, INDEX($D116*$35:$35-$C116, MATCH(H$50,$17:$17, 0))>0),1000000000,(p!H116+n!H116+m!H116+INDEX(Vt!G:G, MATCH(($A116+INDEX($D116*($24:$24-$35:$35), MATCH(H$50,$17:$17, 0))),Vt!$A:$A,0)+INDEX($B116+$D116*$24:$24, MATCH(H$50,$17:$17, 0))*2)))))","v":0},{"$f":"IF(($A116+INDEX($D116*($24:$24-$35:$35), MATCH(I$50,$17:$17, 0)))>$C$8,1000000000,(IF(OR(INDEX($22:$22-($A116-$D116*$35:$35), MATCH(I$50,$17:$17, 0))>0, INDEX($D116*$35:$35-$C116, MATCH(I$50,$17:$17, 0))>0),1000000000,(p!I116+n!I116+m!I116+INDEX(Vt!H:H, MATCH(($A116+INDEX($D116*($24:$24-$35:$35), MATCH(I$50,$17:$17, 0))),Vt!$A:$A,0)+INDEX($B116+$D116*$24:$24, MATCH(I$50,$17:$17, 0))*2)))))","v":0},{"$f":"IF(($A116+INDEX($D116*($24:$24-$35:$35), MATCH(J$50,$17:$17, 0)))>$C$8,1000000000,(IF(OR(INDEX($22:$22-($A116-$D116*$35:$35), MATCH(J$50,$17:$17, 0))>0, INDEX($D116*$35:$35-$C116, MATCH(J$50,$17:$17, 0))>0),1000000000,(p!J116+n!J116+m!J116+INDEX(Vt!I:I, MATCH(($A116+INDEX($D116*($24:$24-$35:$35), MATCH(J$50,$17:$17, 0))),Vt!$A:$A,0)+INDEX($B116+$D116*$24:$24, MATCH(J$50,$17:$17, 0))*2)))))","v":0},{"$f":"IF(($A116+INDEX($D116*($24:$24-$35:$35), MATCH(K$50,$17:$17, 0)))>$C$8,1000000000,(IF(OR(INDEX($22:$22-($A116-$D116*$35:$35), MATCH(K$50,$17:$17, 0))>0, INDEX($D116*$35:$35-$C116, MATCH(K$50,$17:$17, 0))>0),1000000000,(p!K116+n!K116+m!K116+INDEX(Vt!J:J, MATCH(($A116+INDEX($D116*($24:$24-$35:$35), MATCH(K$50,$17:$17, 0))),Vt!$A:$A,0)+INDEX($B116+$D116*$24:$24, MATCH(K$50,$17:$17, 0))*2)))))","v":0},{"$f":"IF(($A116+INDEX($D116*($24:$24-$35:$35), MATCH(L$50,$17:$17, 0)))>$C$8,1000000000,(IF(OR(INDEX($22:$22-($A116-$D116*$35:$35), MATCH(L$50,$17:$17, 0))>0, INDEX($D116*$35:$35-$C116, MATCH(L$50,$17:$17, 0))>0),1000000000,(p!L116+n!L116+m!L116+INDEX(Vt!K:K, MATCH(($A116+INDEX($D116*($24:$24-$35:$35), MATCH(L$50,$17:$17, 0))),Vt!$A:$A,0)+INDEX($B116+$D116*$24:$24, MATCH(L$50,$17:$17, 0))*2)))))","v":0},{"$f":"IF(($A116+INDEX($D116*($24:$24-$35:$35), MATCH(M$50,$17:$17, 0)))>$C$8,1000000000,(IF(OR(INDEX($22:$22-($A116-$D116*$35:$35), MATCH(M$50,$17:$17, 0))>0, INDEX($D116*$35:$35-$C116, MATCH(M$50,$17:$17, 0))>0),1000000000,(p!M116+n!M116+m!M116+INDEX(Vt!L:L, MATCH(($A116+INDEX($D116*($24:$24-$35:$35), MATCH(M$50,$17:$17, 0))),Vt!$A:$A,0)+INDEX($B116+$D116*$24:$24, MATCH(M$50,$17:$17, 0))*2)))))","v":0},{"$f":"IF(($A116+INDEX($D116*($24:$24-$35:$35), MATCH(N$50,$17:$17, 0)))>$C$8,1000000000,(IF(OR(INDEX($22:$22-($A116-$D116*$35:$35), MATCH(N$50,$17:$17, 0))>0, INDEX($D116*$35:$35-$C116, MATCH(N$50,$17:$17, 0))>0),1000000000,(p!N116+n!N116+m!N116+INDEX(Vt!M:M, MATCH(($A116+INDEX($D116*($24:$24-$35:$35), MATCH(N$50,$17:$17, 0))),Vt!$A:$A,0)+INDEX($B116+$D116*$24:$24, MATCH(N$50,$17:$17, 0))*2)))))","v":0},{"$f":"IF(($A116+INDEX($D116*($24:$24-$35:$35), MATCH(O$50,$17:$17, 0)))>$C$8,1000000000,(IF(OR(INDEX($22:$22-($A116-$D116*$35:$35), MATCH(O$50,$17:$17, 0))>0, INDEX($D116*$35:$35-$C116, MATCH(O$50,$17:$17, 0))>0),1000000000,(p!O116+n!O116+m!O116+INDEX(Vt!N:N, MATCH(($A116+INDEX($D116*($24:$24-$35:$35), MATCH(O$50,$17:$17, 0))),Vt!$A:$A,0)+INDEX($B116+$D116*$24:$24, MATCH(O$50,$17:$17, 0))*2)))))","v":0}]
[7,5,2,0,0,{"$f":"IF(($A117+INDEX($D117*($24:$24-$35:$35), MATCH(F$50,$17:$17, 0)))>$C$8,1000000000,(IF(OR(INDEX($22:$22-($A117-$D117*$35:$35), MATCH(F$50,$17:$17, 0))>0, INDEX($D117*$35:$35-$C117, MATCH(F$50,$17:$17, 0))>0),1000000000,(p!F117+n!F117+m!F117+INDEX(Vt!E:E, MATCH(($A117+INDEX($D117*($24:$24-$35:$35), MATCH(F$50,$17:$17, 0))),Vt!$A:$A,0)+INDEX($B117+$D117*$24:$24, MATCH(F$50,$17:$17, 0))*2)))))","v":0},{"$f":"IF(($A117+INDEX($D117*($24:$24-$35:$35), MATCH(G$50,$17:$17, 0)))>$C$8,1000000000,(IF(OR(INDEX($22:$22-($A117-$D117*$35:$35), MATCH(G$50,$17:$17, 0))>0, INDEX($D117*$35:$35-$C117, MATCH(G$50,$17:$17, 0))>0),1000000000,(p!G117+n!G117+m!G117+INDEX(Vt!F:F, MATCH(($A117+INDEX($D117*($24:$24-$35:$35), MATCH(G$50,$17:$17, 0))),Vt!$A:$A,0)+INDEX($B117+$D117*$24:$24, MATCH(G$50,$17:$17, 0))*2)))))","v":0},{"$f":"IF(($A117+INDEX($D117*($24:$24-$35:$35), MATCH(H$50,$17:$17, 0)))>$C$8,1000000000,(IF(OR(INDEX($22:$22-($A117-$D117*$35:$35), MATCH(H$50,$17:$17, 0))>0, INDEX($D117*$35:$35-$C117, MATCH(H$50,$17:$17, 0))>0),1000000000,(p!H117+n!H117+m!H117+INDEX(Vt!G:G, MATCH(($A117+INDEX($D117*($24:$24-$35:$35), MATCH(H$50,$17:$17, 0))),Vt!$A:$A,0)+INDEX($B117+$D117*$24:$24, MATCH(H$50,$17:$17, 0))*2)))))","v":0},{"$f":"IF(($A117+INDEX($D117*($24:$24-$35:$35), MATCH(I$50,$17:$17, 0)))>$C$8,1000000000,(IF(OR(INDEX($22:$22-($A117-$D117*$35:$35), MATCH(I$50,$17:$17, 0))>0, INDEX($D117*$35:$35-$C117, MATCH(I$50,$17:$17, 0))>0),1000000000,(p!I117+n!I117+m!I117+INDEX(Vt!H:H, MATCH(($A117+INDEX($D117*($24:$24-$35:$35), MATCH(I$50,$17:$17, 0))),Vt!$A:$A,0)+INDEX($B117+$D117*$24:$24, MATCH(I$50,$17:$17, 0))*2)))))","v":0},{"$f":"IF(($A117+INDEX($D117*($24:$24-$35:$35), MATCH(J$50,$17:$17, 0)))>$C$8,1000000000,(IF(OR(INDEX($22:$22-($A117-$D117*$35:$35), MATCH(J$50,$17:$17, 0))>0, INDEX($D117*$35:$35-$C117, MATCH(J$50,$17:$17, 0))>0),1000000000,(p!J117+n!J117+m!J117+INDEX(Vt!I:I, MATCH(($A117+INDEX($D117*($24:$24-$35:$35), MATCH(J$50,$17:$17, 0))),Vt!$A:$A,0)+INDEX($B117+$D117*$24:$24, MATCH(J$50,$17:$17, 0))*2)))))","v":0},{"$f":"IF(($A117+INDEX($D117*($24:$24-$35:$35), MATCH(K$50,$17:$17, 0)))>$C$8,1000000000,(IF(OR(INDEX($22:$22-($A117-$D117*$35:$35), MATCH(K$50,$17:$17, 0))>0, INDEX($D117*$35:$35-$C117, MATCH(K$50,$17:$17, 0))>0),1000000000,(p!K117+n!K117+m!K117+INDEX(Vt!J:J, MATCH(($A117+INDEX($D117*($24:$24-$35:$35), MATCH(K$50,$17:$17, 0))),Vt!$A:$A,0)+INDEX($B117+$D117*$24:$24, MATCH(K$50,$17:$17, 0))*2)))))","v":0},{"$f":"IF(($A117+INDEX($D117*($24:$24-$35:$35), MATCH(L$50,$17:$17, 0)))>$C$8,1000000000,(IF(OR(INDEX($22:$22-($A117-$D117*$35:$35), MATCH(L$50,$17:$17, 0))>0, INDEX($D117*$35:$35-$C117, MATCH(L$50,$17:$17, 0))>0),1000000000,(p!L117+n!L117+m!L117+INDEX(Vt!K:K, MATCH(($A117+INDEX($D117*($24:$24-$35:$35), MATCH(L$50,$17:$17, 0))),Vt!$A:$A,0)+INDEX($B117+$D117*$24:$24, MATCH(L$50,$17:$17, 0))*2)))))","v":0},{"$f":"IF(($A117+INDEX($D117*($24:$24-$35:$35), MATCH(M$50,$17:$17, 0)))>$C$8,1000000000,(IF(OR(INDEX($22:$22-($A117-$D117*$35:$35), MATCH(M$50,$17:$17, 0))>0, INDEX($D117*$35:$35-$C117, MATCH(M$50,$17:$17, 0))>0),1000000000,(p!M117+n!M117+m!M117+INDEX(Vt!L:L, MATCH(($A117+INDEX($D117*($24:$24-$35:$35), MATCH(M$50,$17:$17, 0))),Vt!$A:$A,0)+INDEX($B117+$D117*$24:$24, MATCH(M$50,$17:$17, 0))*2)))))","v":0},{"$f":"IF(($A117+INDEX($D117*($24:$24-$35:$35), MATCH(N$50,$17:$17, 0)))>$C$8,1000000000,(IF(OR(INDEX($22:$22-($A117-$D117*$35:$35), MATCH(N$50,$17:$17, 0))>0, INDEX($D117*$35:$35-$C117, MATCH(N$50,$17:$17, 0))>0),1000000000,(p!N117+n!N117+m!N117+INDEX(Vt!M:M, MATCH(($A117+INDEX($D117*($24:$24-$35:$35), MATCH(N$50,$17:$17, 0))),Vt!$A:$A,0)+INDEX($B117+$D117*$24:$24, MATCH(N$50,$17:$17, 0))*2)))))","v":0},{"$f":"IF(($A117+INDEX($D117*($24:$24-$35:$35), MATCH(O$50,$17:$17, 0)))>$C$8,1000000000,(IF(OR(INDEX($22:$22-($A117-$D117*$35:$35), MATCH(O$50,$17:$17, 0))>0, INDEX($D117*$35:$35-$C117, MATCH(O$50,$17:$17, 0))>0),1000000000,(p!O117+n!O117+m!O117+INDEX(Vt!N:N, MATCH(($A117+INDEX($D117*($24:$24-$35:$35), MATCH(O$50,$17:$17, 0))),Vt!$A:$A,0)+INDEX($B117+$D117*$24:$24, MATCH(O$50,$17:$17, 0))*2)))))","v":0}]
[7,5,2,1,0,{"$f":"IF(($A118+INDEX($D118*($24:$24-$35:$35), MATCH(F$50,$17:$17, 0)))>$C$8,1000000000,(IF(OR(INDEX($22:$22-($A118-$D118*$35:$35), MATCH(F$50,$17:$17, 0))>0, INDEX($D118*$35:$35-$C118, MATCH(F$50,$17:$17, 0))>0),1000000000,(p!F118+n!F118+m!F118+INDEX(Vt!E:E, MATCH(($A118+INDEX($D118*($24:$24-$35:$35), MATCH(F$50,$17:$17, 0))),Vt!$A:$A,0)+INDEX($B118+$D118*$24:$24, MATCH(F$50,$17:$17, 0))*2)))))","v":0},{"$f":"IF(($A118+INDEX($D118*($24:$24-$35:$35), MATCH(G$50,$17:$17, 0)))>$C$8,1000000000,(IF(OR(INDEX($22:$22-($A118-$D118*$35:$35), MATCH(G$50,$17:$17, 0))>0, INDEX($D118*$35:$35-$C118, MATCH(G$50,$17:$17, 0))>0),1000000000,(p!G118+n!G118+m!G118+INDEX(Vt!F:F, MATCH(($A118+INDEX($D118*($24:$24-$35:$35), MATCH(G$50,$17:$17, 0))),Vt!$A:$A,0)+INDEX($B118+$D118*$24:$24, MATCH(G$50,$17:$17, 0))*2)))))","v":0},{"$f":"IF(($A118+INDEX($D118*($24:$24-$35:$35), MATCH(H$50,$17:$17, 0)))>$C$8,1000000000,(IF(OR(INDEX($22:$22-($A118-$D118*$35:$35), MATCH(H$50,$17:$17, 0))>0, INDEX($D118*$35:$35-$C118, MATCH(H$50,$17:$17, 0))>0),1000000000,(p!H118+n!H118+m!H118+INDEX(Vt!G:G, MATCH(($A118+INDEX($D118*($24:$24-$35:$35), MATCH(H$50,$17:$17, 0))),Vt!$A:$A,0)+INDEX($B118+$D118*$24:$24, MATCH(H$50,$17:$17, 0))*2)))))","v":0},{"$f":"IF(($A118+INDEX($D118*($24:$24-$35:$35), MATCH(I$50,$17:$17, 0)))>$C$8,1000000000,(IF(OR(INDEX($22:$22-($A118-$D118*$35:$35), MATCH(I$50,$17:$17, 0))>0, INDEX($D118*$35:$35-$C118, MATCH(I$50,$17:$17, 0))>0),1000000000,(p!I118+n!I118+m!I118+INDEX(Vt!H:H, MATCH(($A118+INDEX($D118*($24:$24-$35:$35), MATCH(I$50,$17:$17, 0))),Vt!$A:$A,0)+INDEX($B118+$D118*$24:$24, MATCH(I$50,$17:$17, 0))*2)))))","v":0},{"$f":"IF(($A118+INDEX($D118*($24:$24-$35:$35), MATCH(J$50,$17:$17, 0)))>$C$8,1000000000,(IF(OR(INDEX($22:$22-($A118-$D118*$35:$35), MATCH(J$50,$17:$17, 0))>0, INDEX($D118*$35:$35-$C118, MATCH(J$50,$17:$17, 0))>0),1000000000,(p!J118+n!J118+m!J118+INDEX(Vt!I:I, MATCH(($A118+INDEX($D118*($24:$24-$35:$35), MATCH(J$50,$17:$17, 0))),Vt!$A:$A,0)+INDEX($B118+$D118*$24:$24, MATCH(J$50,$17:$17, 0))*2)))))","v":0},{"$f":"IF(($A118+INDEX($D118*($24:$24-$35:$35), MATCH(K$50,$17:$17, 0)))>$C$8,1000000000,(IF(OR(INDEX($22:$22-($A118-$D118*$35:$35), MATCH(K$50,$17:$17, 0))>0, INDEX($D118*$35:$35-$C118, MATCH(K$50,$17:$17, 0))>0),1000000000,(p!K118+n!K118+m!K118+INDEX(Vt!J:J, MATCH(($A118+INDEX($D118*($24:$24-$35:$35), MATCH(K$50,$17:$17, 0))),Vt!$A:$A,0)+INDEX($B118+$D118*$24:$24, MATCH(K$50,$17:$17, 0))*2)))))","v":0},{"$f":"IF(($A118+INDEX($D118*($24:$24-$35:$35), MATCH(L$50,$17:$17, 0)))>$C$8,1000000000,(IF(OR(INDEX($22:$22-($A118-$D118*$35:$35), MATCH(L$50,$17:$17, 0))>0, INDEX($D118*$35:$35-$C118, MATCH(L$50,$17:$17, 0))>0),1000000000,(p!L118+n!L118+m!L118+INDEX(Vt!K:K, MATCH(($A118+INDEX($D118*($24:$24-$35:$35), MATCH(L$50,$17:$17, 0))),Vt!$A:$A,0)+INDEX($B118+$D118*$24:$24, MATCH(L$50,$17:$17, 0))*2)))))","v":0},{"$f":"IF(($A118+INDEX($D118*($24:$24-$35:$35), MATCH(M$50,$17:$17, 0)))>$C$8,1000000000,(IF(OR(INDEX($22:$22-($A118-$D118*$35:$35), MATCH(M$50,$17:$17, 0))>0, INDEX($D118*$35:$35-$C118, MATCH(M$50,$17:$17, 0))>0),1000000000,(p!M118+n!M118+m!M118+INDEX(Vt!L:L, MATCH(($A118+INDEX($D118*($24:$24-$35:$35), MATCH(M$50,$17:$17, 0))),Vt!$A:$A,0)+INDEX($B118+$D118*$24:$24, MATCH(M$50,$17:$17, 0))*2)))))","v":0},{"$f":"IF(($A118+INDEX($D118*($24:$24-$35:$35), MATCH(N$50,$17:$17, 0)))>$C$8,1000000000,(IF(OR(INDEX($22:$22-($A118-$D118*$35:$35), MATCH(N$50,$17:$17, 0))>0, INDEX($D118*$35:$35-$C118, MATCH(N$50,$17:$17, 0))>0),1000000000,(p!N118+n!N118+m!N118+INDEX(Vt!M:M, MATCH(($A118+INDEX($D118*($24:$24-$35:$35), MATCH(N$50,$17:$17, 0))),Vt!$A:$A,0)+INDEX($B118+$D118*$24:$24, MATCH(N$50,$17:$17, 0))*2)))))","v":0},{"$f":"IF(($A118+INDEX($D118*($24:$24-$35:$35), MATCH(O$50,$17:$17, 0)))>$C$8,1000000000,(IF(OR(INDEX($22:$22-($A118-$D118*$35:$35), MATCH(O$50,$17:$17, 0))>0, INDEX($D118*$35:$35-$C118, MATCH(O$50,$17:$17, 0))>0),1000000000,(p!O118+n!O118+m!O118+INDEX(Vt!N:N, MATCH(($A118+INDEX($D118*($24:$24-$35:$35), MATCH(O$50,$17:$17, 0))),Vt!$A:$A,0)+INDEX($B118+$D118*$24:$24, MATCH(O$50,$17:$17, 0))*2)))))","v":0}]
[7,6,1,0,0,{"$f":"IF(($A119+INDEX($D119*($24:$24-$35:$35), MATCH(F$50,$17:$17, 0)))>$C$8,1000000000,(IF(OR(INDEX($22:$22-($A119-$D119*$35:$35), MATCH(F$50,$17:$17, 0))>0, INDEX($D119*$35:$35-$C119, MATCH(F$50,$17:$17, 0))>0),1000000000,(p!F119+n!F119+m!F119+INDEX(Vt!E:E, MATCH(($A119+INDEX($D119*($24:$24-$35:$35), MATCH(F$50,$17:$17, 0))),Vt!$A:$A,0)+INDEX($B119+$D119*$24:$24, MATCH(F$50,$17:$17, 0))*2)))))","v":0},{"$f":"IF(($A119+INDEX($D119*($24:$24-$35:$35), MATCH(G$50,$17:$17, 0)))>$C$8,1000000000,(IF(OR(INDEX($22:$22-($A119-$D119*$35:$35), MATCH(G$50,$17:$17, 0))>0, INDEX($D119*$35:$35-$C119, MATCH(G$50,$17:$17, 0))>0),1000000000,(p!G119+n!G119+m!G119+INDEX(Vt!F:F, MATCH(($A119+INDEX($D119*($24:$24-$35:$35), MATCH(G$50,$17:$17, 0))),Vt!$A:$A,0)+INDEX($B119+$D119*$24:$24, MATCH(G$50,$17:$17, 0))*2)))))","v":0},{"$f":"IF(($A119+INDEX($D119*($24:$24-$35:$35), MATCH(H$50,$17:$17, 0)))>$C$8,1000000000,(IF(OR(INDEX($22:$22-($A119-$D119*$35:$35), MATCH(H$50,$17:$17, 0))>0, INDEX($D119*$35:$35-$C119, MATCH(H$50,$17:$17, 0))>0),1000000000,(p!H119+n!H119+m!H119+INDEX(Vt!G:G, MATCH(($A119+INDEX($D119*($24:$24-$35:$35), MATCH(H$50,$17:$17, 0))),Vt!$A:$A,0)+INDEX($B119+$D119*$24:$24, MATCH(H$50,$17:$17, 0))*2)))))","v":0},{"$f":"IF(($A119+INDEX($D119*($24:$24-$35:$35), MATCH(I$50,$17:$17, 0)))>$C$8,1000000000,(IF(OR(INDEX($22:$22-($A119-$D119*$35:$35), MATCH(I$50,$17:$17, 0))>0, INDEX($D119*$35:$35-$C119, MATCH(I$50,$17:$17, 0))>0),1000000000,(p!I119+n!I119+m!I119+INDEX(Vt!H:H, MATCH(($A119+INDEX($D119*($24:$24-$35:$35), MATCH(I$50,$17:$17, 0))),Vt!$A:$A,0)+INDEX($B119+$D119*$24:$24, MATCH(I$50,$17:$17, 0))*2)))))","v":0},{"$f":"IF(($A119+INDEX($D119*($24:$24-$35:$35), MATCH(J$50,$17:$17, 0)))>$C$8,1000000000,(IF(OR(INDEX($22:$22-($A119-$D119*$35:$35), MATCH(J$50,$17:$17, 0))>0, INDEX($D119*$35:$35-$C119, MATCH(J$50,$17:$17, 0))>0),1000000000,(p!J119+n!J119+m!J119+INDEX(Vt!I:I, MATCH(($A119+INDEX($D119*($24:$24-$35:$35), MATCH(J$50,$17:$17, 0))),Vt!$A:$A,0)+INDEX($B119+$D119*$24:$24, MATCH(J$50,$17:$17, 0))*2)))))","v":0},{"$f":"IF(($A119+INDEX($D119*($24:$24-$35:$35), MATCH(K$50,$17:$17, 0)))>$C$8,1000000000,(IF(OR(INDEX($22:$22-($A119-$D119*$35:$35), MATCH(K$50,$17:$17, 0))>0, INDEX($D119*$35:$35-$C119, MATCH(K$50,$17:$17, 0))>0),1000000000,(p!K119+n!K119+m!K119+INDEX(Vt!J:J, MATCH(($A119+INDEX($D119*($24:$24-$35:$35), MATCH(K$50,$17:$17, 0))),Vt!$A:$A,0)+INDEX($B119+$D119*$24:$24, MATCH(K$50,$17:$17, 0))*2)))))","v":0},{"$f":"IF(($A119+INDEX($D119*($24:$24-$35:$35), MATCH(L$50,$17:$17, 0)))>$C$8,1000000000,(IF(OR(INDEX($22:$22-($A119-$D119*$35:$35), MATCH(L$50,$17:$17, 0))>0, INDEX($D119*$35:$35-$C119, MATCH(L$50,$17:$17, 0))>0),1000000000,(p!L119+n!L119+m!L119+INDEX(Vt!K:K, MATCH(($A119+INDEX($D119*($24:$24-$35:$35), MATCH(L$50,$17:$17, 0))),Vt!$A:$A,0)+INDEX($B119+$D119*$24:$24, MATCH(L$50,$17:$17, 0))*2)))))","v":0},{"$f":"IF(($A119+INDEX($D119*($24:$24-$35:$35), MATCH(M$50,$17:$17, 0)))>$C$8,1000000000,(IF(OR(INDEX($22:$22-($A119-$D119*$35:$35), MATCH(M$50,$17:$17, 0))>0, INDEX($D119*$35:$35-$C119, MATCH(M$50,$17:$17, 0))>0),1000000000,(p!M119+n!M119+m!M119+INDEX(Vt!L:L, MATCH(($A119+INDEX($D119*($24:$24-$35:$35), MATCH(M$50,$17:$17, 0))),Vt!$A:$A,0)+INDEX($B119+$D119*$24:$24, MATCH(M$50,$17:$17, 0))*2)))))","v":0},{"$f":"IF(($A119+INDEX($D119*($24:$24-$35:$35), MATCH(N$50,$17:$17, 0)))>$C$8,1000000000,(IF(OR(INDEX($22:$22-($A119-$D119*$35:$35), MATCH(N$50,$17:$17, 0))>0, INDEX($D119*$35:$35-$C119, MATCH(N$50,$17:$17, 0))>0),1000000000,(p!N119+n!N119+m!N119+INDEX(Vt!M:M, MATCH(($A119+INDEX($D119*($24:$24-$35:$35), MATCH(N$50,$17:$17, 0))),Vt!$A:$A,0)+INDEX($B119+$D119*$24:$24, MATCH(N$50,$17:$17, 0))*2)))))","v":0},{"$f":"IF(($A119+INDEX($D119*($24:$24-$35:$35), MATCH(O$50,$17:$17, 0)))>$C$8,1000000000,(IF(OR(INDEX($22:$22-($A119-$D119*$35:$35), MATCH(O$50,$17:$17, 0))>0, INDEX($D119*$35:$35-$C119, MATCH(O$50,$17:$17, 0))>0),1000000000,(p!O119+n!O119+m!O119+INDEX(Vt!N:N, MATCH(($A119+INDEX($D119*($24:$24-$35:$35), MATCH(O$50,$17:$17, 0))),Vt!$A:$A,0)+INDEX($B119+$D119*$24:$24, MATCH(O$50,$17:$17, 0))*2)))))","v":0}]
[7,6,1,1,0,{"$f":"IF(($A120+INDEX($D120*($24:$24-$35:$35), MATCH(F$50,$17:$17, 0)))>$C$8,1000000000,(IF(OR(INDEX($22:$22-($A120-$D120*$35:$35), MATCH(F$50,$17:$17, 0))>0, INDEX($D120*$35:$35-$C120, MATCH(F$50,$17:$17, 0))>0),1000000000,(p!F120+n!F120+m!F120+INDEX(Vt!E:E, MATCH(($A120+INDEX($D120*($24:$24-$35:$35), MATCH(F$50,$17:$17, 0))),Vt!$A:$A,0)+INDEX($B120+$D120*$24:$24, MATCH(F$50,$17:$17, 0))*2)))))","v":0},{"$f":"IF(($A120+INDEX($D120*($24:$24-$35:$35), MATCH(G$50,$17:$17, 0)))>$C$8,1000000000,(IF(OR(INDEX($22:$22-($A120-$D120*$35:$35), MATCH(G$50,$17:$17, 0))>0, INDEX($D120*$35:$35-$C120, MATCH(G$50,$17:$17, 0))>0),1000000000,(p!G120+n!G120+m!G120+INDEX(Vt!F:F, MATCH(($A120+INDEX($D120*($24:$24-$35:$35), MATCH(G$50,$17:$17, 0))),Vt!$A:$A,0)+INDEX($B120+$D120*$24:$24, MATCH(G$50,$17:$17, 0))*2)))))","v":0},{"$f":"IF(($A120+INDEX($D120*($24:$24-$35:$35), MATCH(H$50,$17:$17, 0)))>$C$8,1000000000,(IF(OR(INDEX($22:$22-($A120-$D120*$35:$35), MATCH(H$50,$17:$17, 0))>0, INDEX($D120*$35:$35-$C120, MATCH(H$50,$17:$17, 0))>0),1000000000,(p!H120+n!H120+m!H120+INDEX(Vt!G:G, MATCH(($A120+INDEX($D120*($24:$24-$35:$35), MATCH(H$50,$17:$17, 0))),Vt!$A:$A,0)+INDEX($B120+$D120*$24:$24, MATCH(H$50,$17:$17, 0))*2)))))","v":0},{"$f":"IF(($A120+INDEX($D120*($24:$24-$35:$35), MATCH(I$50,$17:$17, 0)))>$C$8,1000000000,(IF(OR(INDEX($22:$22-($A120-$D120*$35:$35), MATCH(I$50,$17:$17, 0))>0, INDEX($D120*$35:$35-$C120, MATCH(I$50,$17:$17, 0))>0),1000000000,(p!I120+n!I120+m!I120+INDEX(Vt!H:H, MATCH(($A120+INDEX($D120*($24:$24-$35:$35), MATCH(I$50,$17:$17, 0))),Vt!$A:$A,0)+INDEX($B120+$D120*$24:$24, MATCH(I$50,$17:$17, 0))*2)))))","v":0},{"$f":"IF(($A120+INDEX($D120*($24:$24-$35:$35), MATCH(J$50,$17:$17, 0)))>$C$8,1000000000,(IF(OR(INDEX($22:$22-($A120-$D120*$35:$35), MATCH(J$50,$17:$17, 0))>0, INDEX($D120*$35:$35-$C120, MATCH(J$50,$17:$17, 0))>0),1000000000,(p!J120+n!J120+m!J120+INDEX(Vt!I:I, MATCH(($A120+INDEX($D120*($24:$24-$35:$35), MATCH(J$50,$17:$17, 0))),Vt!$A:$A,0)+INDEX($B120+$D120*$24:$24, MATCH(J$50,$17:$17, 0))*2)))))","v":0},{"$f":"IF(($A120+INDEX($D120*($24:$24-$35:$35), MATCH(K$50,$17:$17, 0)))>$C$8,1000000000,(IF(OR(INDEX($22:$22-($A120-$D120*$35:$35), MATCH(K$50,$17:$17, 0))>0, INDEX($D120*$35:$35-$C120, MATCH(K$50,$17:$17, 0))>0),1000000000,(p!K120+n!K120+m!K120+INDEX(Vt!J:J, MATCH(($A120+INDEX($D120*($24:$24-$35:$35), MATCH(K$50,$17:$17, 0))),Vt!$A:$A,0)+INDEX($B120+$D120*$24:$24, MATCH(K$50,$17:$17, 0))*2)))))","v":0},{"$f":"IF(($A120+INDEX($D120*($24:$24-$35:$35), MATCH(L$50,$17:$17, 0)))>$C$8,1000000000,(IF(OR(INDEX($22:$22-($A120-$D120*$35:$35), MATCH(L$50,$17:$17, 0))>0, INDEX($D120*$35:$35-$C120, MATCH(L$50,$17:$17, 0))>0),1000000000,(p!L120+n!L120+m!L120+INDEX(Vt!K:K, MATCH(($A120+INDEX($D120*($24:$24-$35:$35), MATCH(L$50,$17:$17, 0))),Vt!$A:$A,0)+INDEX($B120+$D120*$24:$24, MATCH(L$50,$17:$17, 0))*2)))))","v":0},{"$f":"IF(($A120+INDEX($D120*($24:$24-$35:$35), MATCH(M$50,$17:$17, 0)))>$C$8,1000000000,(IF(OR(INDEX($22:$22-($A120-$D120*$35:$35), MATCH(M$50,$17:$17, 0))>0, INDEX($D120*$35:$35-$C120, MATCH(M$50,$17:$17, 0))>0),1000000000,(p!M120+n!M120+m!M120+INDEX(Vt!L:L, MATCH(($A120+INDEX($D120*($24:$24-$35:$35), MATCH(M$50,$17:$17, 0))),Vt!$A:$A,0)+INDEX($B120+$D120*$24:$24, MATCH(M$50,$17:$17, 0))*2)))))","v":0},{"$f":"IF(($A120+INDEX($D120*($24:$24-$35:$35), MATCH(N$50,$17:$17, 0)))>$C$8,1000000000,(IF(OR(INDEX($22:$22-($A120-$D120*$35:$35), MATCH(N$50,$17:$17, 0))>0, INDEX($D120*$35:$35-$C120, MATCH(N$50,$17:$17, 0))>0),1000000000,(p!N120+n!N120+m!N120+INDEX(Vt!M:M, MATCH(($A120+INDEX($D120*($24:$24-$35:$35), MATCH(N$50,$17:$17, 0))),Vt!$A:$A,0)+INDEX($B120+$D120*$24:$24, MATCH(N$50,$17:$17, 0))*2)))))","v":0},{"$f":"IF(($A120+INDEX($D120*($24:$24-$35:$35), MATCH(O$50,$17:$17, 0)))>$C$8,1000000000,(IF(OR(INDEX($22:$22-($A120-$D120*$35:$35), MATCH(O$50,$17:$17, 0))>0, INDEX($D120*$35:$35-$C120, MATCH(O$50,$17:$17, 0))>0),1000000000,(p!O120+n!O120+m!O120+INDEX(Vt!N:N, MATCH(($A120+INDEX($D120*($24:$24-$35:$35), MATCH(O$50,$17:$17, 0))),Vt!$A:$A,0)+INDEX($B120+$D120*$24:$24, MATCH(O$50,$17:$17, 0))*2)))))","v":0}]
[7,7,0,0,0,{"$f":"IF(($A121+INDEX($D121*($24:$24-$35:$35), MATCH(F$50,$17:$17, 0)))>$C$8,1000000000,(IF(OR(INDEX($22:$22-($A121-$D121*$35:$35), MATCH(F$50,$17:$17, 0))>0, INDEX($D121*$35:$35-$C121, MATCH(F$50,$17:$17, 0))>0),1000000000,(p!F121+n!F121+m!F121+INDEX(Vt!E:E, MATCH(($A121+INDEX($D121*($24:$24-$35:$35), MATCH(F$50,$17:$17, 0))),Vt!$A:$A,0)+INDEX($B121+$D121*$24:$24, MATCH(F$50,$17:$17, 0))*2)))))","v":0},{"$f":"IF(($A121+INDEX($D121*($24:$24-$35:$35), MATCH(G$50,$17:$17, 0)))>$C$8,1000000000,(IF(OR(INDEX($22:$22-($A121-$D121*$35:$35), MATCH(G$50,$17:$17, 0))>0, INDEX($D121*$35:$35-$C121, MATCH(G$50,$17:$17, 0))>0),1000000000,(p!G121+n!G121+m!G121+INDEX(Vt!F:F, MATCH(($A121+INDEX($D121*($24:$24-$35:$35), MATCH(G$50,$17:$17, 0))),Vt!$A:$A,0)+INDEX($B121+$D121*$24:$24, MATCH(G$50,$17:$17, 0))*2)))))","v":0},{"$f":"IF(($A121+INDEX($D121*($24:$24-$35:$35), MATCH(H$50,$17:$17, 0)))>$C$8,1000000000,(IF(OR(INDEX($22:$22-($A121-$D121*$35:$35), MATCH(H$50,$17:$17, 0))>0, INDEX($D121*$35:$35-$C121, MATCH(H$50,$17:$17, 0))>0),1000000000,(p!H121+n!H121+m!H121+INDEX(Vt!G:G, MATCH(($A121+INDEX($D121*($24:$24-$35:$35), MATCH(H$50,$17:$17, 0))),Vt!$A:$A,0)+INDEX($B121+$D121*$24:$24, MATCH(H$50,$17:$17, 0))*2)))))","v":0},{"$f":"IF(($A121+INDEX($D121*($24:$24-$35:$35), MATCH(I$50,$17:$17, 0)))>$C$8,1000000000,(IF(OR(INDEX($22:$22-($A121-$D121*$35:$35), MATCH(I$50,$17:$17, 0))>0, INDEX($D121*$35:$35-$C121, MATCH(I$50,$17:$17, 0))>0),1000000000,(p!I121+n!I121+m!I121+INDEX(Vt!H:H, MATCH(($A121+INDEX($D121*($24:$24-$35:$35), MATCH(I$50,$17:$17, 0))),Vt!$A:$A,0)+INDEX($B121+$D121*$24:$24, MATCH(I$50,$17:$17, 0))*2)))))","v":0},{"$f":"IF(($A121+INDEX($D121*($24:$24-$35:$35), MATCH(J$50,$17:$17, 0)))>$C$8,1000000000,(IF(OR(INDEX($22:$22-($A121-$D121*$35:$35), MATCH(J$50,$17:$17, 0))>0, INDEX($D121*$35:$35-$C121, MATCH(J$50,$17:$17, 0))>0),1000000000,(p!J121+n!J121+m!J121+INDEX(Vt!I:I, MATCH(($A121+INDEX($D121*($24:$24-$35:$35), MATCH(J$50,$17:$17, 0))),Vt!$A:$A,0)+INDEX($B121+$D121*$24:$24, MATCH(J$50,$17:$17, 0))*2)))))","v":0},{"$f":"IF(($A121+INDEX($D121*($24:$24-$35:$35), MATCH(K$50,$17:$17, 0)))>$C$8,1000000000,(IF(OR(INDEX($22:$22-($A121-$D121*$35:$35), MATCH(K$50,$17:$17, 0))>0, INDEX($D121*$35:$35-$C121, MATCH(K$50,$17:$17, 0))>0),1000000000,(p!K121+n!K121+m!K121+INDEX(Vt!J:J, MATCH(($A121+INDEX($D121*($24:$24-$35:$35), MATCH(K$50,$17:$17, 0))),Vt!$A:$A,0)+INDEX($B121+$D121*$24:$24, MATCH(K$50,$17:$17, 0))*2)))))","v":0},{"$f":"IF(($A121+INDEX($D121*($24:$24-$35:$35), MATCH(L$50,$17:$17, 0)))>$C$8,1000000000,(IF(OR(INDEX($22:$22-($A121-$D121*$35:$35), MATCH(L$50,$17:$17, 0))>0, INDEX($D121*$35:$35-$C121, MATCH(L$50,$17:$17, 0))>0),1000000000,(p!L121+n!L121+m!L121+INDEX(Vt!K:K, MATCH(($A121+INDEX($D121*($24:$24-$35:$35), MATCH(L$50,$17:$17, 0))),Vt!$A:$A,0)+INDEX($B121+$D121*$24:$24, MATCH(L$50,$17:$17, 0))*2)))))","v":0},{"$f":"IF(($A121+INDEX($D121*($24:$24-$35:$35), MATCH(M$50,$17:$17, 0)))>$C$8,1000000000,(IF(OR(INDEX($22:$22-($A121-$D121*$35:$35), MATCH(M$50,$17:$17, 0))>0, INDEX($D121*$35:$35-$C121, MATCH(M$50,$17:$17, 0))>0),1000000000,(p!M121+n!M121+m!M121+INDEX(Vt!L:L, MATCH(($A121+INDEX($D121*($24:$24-$35:$35), MATCH(M$50,$17:$17, 0))),Vt!$A:$A,0)+INDEX($B121+$D121*$24:$24, MATCH(M$50,$17:$17, 0))*2)))))","v":0},{"$f":"IF(($A121+INDEX($D121*($24:$24-$35:$35), MATCH(N$50,$17:$17, 0)))>$C$8,1000000000,(IF(OR(INDEX($22:$22-($A121-$D121*$35:$35), MATCH(N$50,$17:$17, 0))>0, INDEX($D121*$35:$35-$C121, MATCH(N$50,$17:$17, 0))>0),1000000000,(p!N121+n!N121+m!N121+INDEX(Vt!M:M, MATCH(($A121+INDEX($D121*($24:$24-$35:$35), MATCH(N$50,$17:$17, 0))),Vt!$A:$A,0)+INDEX($B121+$D121*$24:$24, MATCH(N$50,$17:$17, 0))*2)))))","v":0},{"$f":"IF(($A121+INDEX($D121*($24:$24-$35:$35), MATCH(O$50,$17:$17, 0)))>$C$8,1000000000,(IF(OR(INDEX($22:$22-($A121-$D121*$35:$35), MATCH(O$50,$17:$17, 0))>0, INDEX($D121*$35:$35-$C121, MATCH(O$50,$17:$17, 0))>0),1000000000,(p!O121+n!O121+m!O121+INDEX(Vt!N:N, MATCH(($A121+INDEX($D121*($24:$24-$35:$35), MATCH(O$50,$17:$17, 0))),Vt!$A:$A,0)+INDEX($B121+$D121*$24:$24, MATCH(O$50,$17:$17, 0))*2)))))","v":0}]
[7,7,0,1,0,{"$f":"IF(($A122+INDEX($D122*($24:$24-$35:$35), MATCH(F$50,$17:$17, 0)))>$C$8,1000000000,(IF(OR(INDEX($22:$22-($A122-$D122*$35:$35), MATCH(F$50,$17:$17, 0))>0, INDEX($D122*$35:$35-$C122, MATCH(F$50,$17:$17, 0))>0),1000000000,(p!F122+n!F122+m!F122+INDEX(Vt!E:E, MATCH(($A122+INDEX($D122*($24:$24-$35:$35), MATCH(F$50,$17:$17, 0))),Vt!$A:$A,0)+INDEX($B122+$D122*$24:$24, MATCH(F$50,$17:$17, 0))*2)))))","v":0},{"$f":"IF(($A122+INDEX($D122*($24:$24-$35:$35), MATCH(G$50,$17:$17, 0)))>$C$8,1000000000,(IF(OR(INDEX($22:$22-($A122-$D122*$35:$35), MATCH(G$50,$17:$17, 0))>0, INDEX($D122*$35:$35-$C122, MATCH(G$50,$17:$17, 0))>0),1000000000,(p!G122+n!G122+m!G122+INDEX(Vt!F:F, MATCH(($A122+INDEX($D122*($24:$24-$35:$35), MATCH(G$50,$17:$17, 0))),Vt!$A:$A,0)+INDEX($B122+$D122*$24:$24, MATCH(G$50,$17:$17, 0))*2)))))","v":0},{"$f":"IF(($A122+INDEX($D122*($24:$24-$35:$35), MATCH(H$50,$17:$17, 0)))>$C$8,1000000000,(IF(OR(INDEX($22:$22-($A122-$D122*$35:$35), MATCH(H$50,$17:$17, 0))>0, INDEX($D122*$35:$35-$C122, MATCH(H$50,$17:$17, 0))>0),1000000000,(p!H122+n!H122+m!H122+INDEX(Vt!G:G, MATCH(($A122+INDEX($D122*($24:$24-$35:$35), MATCH(H$50,$17:$17, 0))),Vt!$A:$A,0)+INDEX($B122+$D122*$24:$24, MATCH(H$50,$17:$17, 0))*2)))))","v":0},{"$f":"IF(($A122+INDEX($D122*($24:$24-$35:$35), MATCH(I$50,$17:$17, 0)))>$C$8,1000000000,(IF(OR(INDEX($22:$22-($A122-$D122*$35:$35), MATCH(I$50,$17:$17, 0))>0, INDEX($D122*$35:$35-$C122, MATCH(I$50,$17:$17, 0))>0),1000000000,(p!I122+n!I122+m!I122+INDEX(Vt!H:H, MATCH(($A122+INDEX($D122*($24:$24-$35:$35), MATCH(I$50,$17:$17, 0))),Vt!$A:$A,0)+INDEX($B122+$D122*$24:$24, MATCH(I$50,$17:$17, 0))*2)))))","v":0},{"$f":"IF(($A122+INDEX($D122*($24:$24-$35:$35), MATCH(J$50,$17:$17, 0)))>$C$8,1000000000,(IF(OR(INDEX($22:$22-($A122-$D122*$35:$35), MATCH(J$50,$17:$17, 0))>0, INDEX($D122*$35:$35-$C122, MATCH(J$50,$17:$17, 0))>0),1000000000,(p!J122+n!J122+m!J122+INDEX(Vt!I:I, MATCH(($A122+INDEX($D122*($24:$24-$35:$35), MATCH(J$50,$17:$17, 0))),Vt!$A:$A,0)+INDEX($B122+$D122*$24:$24, MATCH(J$50,$17:$17, 0))*2)))))","v":0},{"$f":"IF(($A122+INDEX($D122*($24:$24-$35:$35), MATCH(K$50,$17:$17, 0)))>$C$8,1000000000,(IF(OR(INDEX($22:$22-($A122-$D122*$35:$35), MATCH(K$50,$17:$17, 0))>0, INDEX($D122*$35:$35-$C122, MATCH(K$50,$17:$17, 0))>0),1000000000,(p!K122+n!K122+m!K122+INDEX(Vt!J:J, MATCH(($A122+INDEX($D122*($24:$24-$35:$35), MATCH(K$50,$17:$17, 0))),Vt!$A:$A,0)+INDEX($B122+$D122*$24:$24, MATCH(K$50,$17:$17, 0))*2)))))","v":0},{"$f":"IF(($A122+INDEX($D122*($24:$24-$35:$35), MATCH(L$50,$17:$17, 0)))>$C$8,1000000000,(IF(OR(INDEX($22:$22-($A122-$D122*$35:$35), MATCH(L$50,$17:$17, 0))>0, INDEX($D122*$35:$35-$C122, MATCH(L$50,$17:$17, 0))>0),1000000000,(p!L122+n!L122+m!L122+INDEX(Vt!K:K, MATCH(($A122+INDEX($D122*($24:$24-$35:$35), MATCH(L$50,$17:$17, 0))),Vt!$A:$A,0)+INDEX($B122+$D122*$24:$24, MATCH(L$50,$17:$17, 0))*2)))))","v":0},{"$f":"IF(($A122+INDEX($D122*($24:$24-$35:$35), MATCH(M$50,$17:$17, 0)))>$C$8,1000000000,(IF(OR(INDEX($22:$22-($A122-$D122*$35:$35), MATCH(M$50,$17:$17, 0))>0, INDEX($D122*$35:$35-$C122, MATCH(M$50,$17:$17, 0))>0),1000000000,(p!M122+n!M122+m!M122+INDEX(Vt!L:L, MATCH(($A122+INDEX($D122*($24:$24-$35:$35), MATCH(M$50,$17:$17, 0))),Vt!$A:$A,0)+INDEX($B122+$D122*$24:$24, MATCH(M$50,$17:$17, 0))*2)))))","v":0},{"$f":"IF(($A122+INDEX($D122*($24:$24-$35:$35), MATCH(N$50,$17:$17, 0)))>$C$8,1000000000,(IF(OR(INDEX($22:$22-($A122-$D122*$35:$35), MATCH(N$50,$17:$17, 0))>0, INDEX($D122*$35:$35-$C122, MATCH(N$50,$17:$17, 0))>0),1000000000,(p!N122+n!N122+m!N122+INDEX(Vt!M:M, MATCH(($A122+INDEX($D122*($24:$24-$35:$35), MATCH(N$50,$17:$17, 0))),Vt!$A:$A,0)+INDEX($B122+$D122*$24:$24, MATCH(N$50,$17:$17, 0))*2)))))","v":0},{"$f":"IF(($A122+INDEX($D122*($24:$24-$35:$35), MATCH(O$50,$17:$17, 0)))>$C$8,1000000000,(IF(OR(INDEX($22:$22-($A122-$D122*$35:$35), MATCH(O$50,$17:$17, 0))>0, INDEX($D122*$35:$35-$C122, MATCH(O$50,$17:$17, 0))>0),1000000000,(p!O122+n!O122+m!O122+INDEX(Vt!N:N, MATCH(($A122+INDEX($D122*($24:$24-$35:$35), MATCH(O$50,$17:$17, 0))),Vt!$A:$A,0)+INDEX($B122+$D122*$24:$24, MATCH(O$50,$17:$17, 0))*2)))))","v":0}]
[8,0,8,0,0,{"$f":"IF(($A123+INDEX($D123*($24:$24-$35:$35), MATCH(F$50,$17:$17, 0)))>$C$8,1000000000,(IF(OR(INDEX($22:$22-($A123-$D123*$35:$35), MATCH(F$50,$17:$17, 0))>0, INDEX($D123*$35:$35-$C123, MATCH(F$50,$17:$17, 0))>0),1000000000,(p!F123+n!F123+m!F123+INDEX(Vt!E:E, MATCH(($A123+INDEX($D123*($24:$24-$35:$35), MATCH(F$50,$17:$17, 0))),Vt!$A:$A,0)+INDEX($B123+$D123*$24:$24, MATCH(F$50,$17:$17, 0))*2)))))","v":0},{"$f":"IF(($A123+INDEX($D123*($24:$24-$35:$35), MATCH(G$50,$17:$17, 0)))>$C$8,1000000000,(IF(OR(INDEX($22:$22-($A123-$D123*$35:$35), MATCH(G$50,$17:$17, 0))>0, INDEX($D123*$35:$35-$C123, MATCH(G$50,$17:$17, 0))>0),1000000000,(p!G123+n!G123+m!G123+INDEX(Vt!F:F, MATCH(($A123+INDEX($D123*($24:$24-$35:$35), MATCH(G$50,$17:$17, 0))),Vt!$A:$A,0)+INDEX($B123+$D123*$24:$24, MATCH(G$50,$17:$17, 0))*2)))))","v":0},{"$f":"IF(($A123+INDEX($D123*($24:$24-$35:$35), MATCH(H$50,$17:$17, 0)))>$C$8,1000000000,(IF(OR(INDEX($22:$22-($A123-$D123*$35:$35), MATCH(H$50,$17:$17, 0))>0, INDEX($D123*$35:$35-$C123, MATCH(H$50,$17:$17, 0))>0),1000000000,(p!H123+n!H123+m!H123+INDEX(Vt!G:G, MATCH(($A123+INDEX($D123*($24:$24-$35:$35), MATCH(H$50,$17:$17, 0))),Vt!$A:$A,0)+INDEX($B123+$D123*$24:$24, MATCH(H$50,$17:$17, 0))*2)))))","v":0},{"$f":"IF(($A123+INDEX($D123*($24:$24-$35:$35), MATCH(I$50,$17:$17, 0)))>$C$8,1000000000,(IF(OR(INDEX($22:$22-($A123-$D123*$35:$35), MATCH(I$50,$17:$17, 0))>0, INDEX($D123*$35:$35-$C123, MATCH(I$50,$17:$17, 0))>0),1000000000,(p!I123+n!I123+m!I123+INDEX(Vt!H:H, MATCH(($A123+INDEX($D123*($24:$24-$35:$35), MATCH(I$50,$17:$17, 0))),Vt!$A:$A,0)+INDEX($B123+$D123*$24:$24, MATCH(I$50,$17:$17, 0))*2)))))","v":0},{"$f":"IF(($A123+INDEX($D123*($24:$24-$35:$35), MATCH(J$50,$17:$17, 0)))>$C$8,1000000000,(IF(OR(INDEX($22:$22-($A123-$D123*$35:$35), MATCH(J$50,$17:$17, 0))>0, INDEX($D123*$35:$35-$C123, MATCH(J$50,$17:$17, 0))>0),1000000000,(p!J123+n!J123+m!J123+INDEX(Vt!I:I, MATCH(($A123+INDEX($D123*($24:$24-$35:$35), MATCH(J$50,$17:$17, 0))),Vt!$A:$A,0)+INDEX($B123+$D123*$24:$24, MATCH(J$50,$17:$17, 0))*2)))))","v":0},{"$f":"IF(($A123+INDEX($D123*($24:$24-$35:$35), MATCH(K$50,$17:$17, 0)))>$C$8,1000000000,(IF(OR(INDEX($22:$22-($A123-$D123*$35:$35), MATCH(K$50,$17:$17, 0))>0, INDEX($D123*$35:$35-$C123, MATCH(K$50,$17:$17, 0))>0),1000000000,(p!K123+n!K123+m!K123+INDEX(Vt!J:J, MATCH(($A123+INDEX($D123*($24:$24-$35:$35), MATCH(K$50,$17:$17, 0))),Vt!$A:$A,0)+INDEX($B123+$D123*$24:$24, MATCH(K$50,$17:$17, 0))*2)))))","v":0},{"$f":"IF(($A123+INDEX($D123*($24:$24-$35:$35), MATCH(L$50,$17:$17, 0)))>$C$8,1000000000,(IF(OR(INDEX($22:$22-($A123-$D123*$35:$35), MATCH(L$50,$17:$17, 0))>0, INDEX($D123*$35:$35-$C123, MATCH(L$50,$17:$17, 0))>0),1000000000,(p!L123+n!L123+m!L123+INDEX(Vt!K:K, MATCH(($A123+INDEX($D123*($24:$24-$35:$35), MATCH(L$50,$17:$17, 0))),Vt!$A:$A,0)+INDEX($B123+$D123*$24:$24, MATCH(L$50,$17:$17, 0))*2)))))","v":0},{"$f":"IF(($A123+INDEX($D123*($24:$24-$35:$35), MATCH(M$50,$17:$17, 0)))>$C$8,1000000000,(IF(OR(INDEX($22:$22-($A123-$D123*$35:$35), MATCH(M$50,$17:$17, 0))>0, INDEX($D123*$35:$35-$C123, MATCH(M$50,$17:$17, 0))>0),1000000000,(p!M123+n!M123+m!M123+INDEX(Vt!L:L, MATCH(($A123+INDEX($D123*($24:$24-$35:$35), MATCH(M$50,$17:$17, 0))),Vt!$A:$A,0)+INDEX($B123+$D123*$24:$24, MATCH(M$50,$17:$17, 0))*2)))))","v":0},{"$f":"IF(($A123+INDEX($D123*($24:$24-$35:$35), MATCH(N$50,$17:$17, 0)))>$C$8,1000000000,(IF(OR(INDEX($22:$22-($A123-$D123*$35:$35), MATCH(N$50,$17:$17, 0))>0, INDEX($D123*$35:$35-$C123, MATCH(N$50,$17:$17, 0))>0),1000000000,(p!N123+n!N123+m!N123+INDEX(Vt!M:M, MATCH(($A123+INDEX($D123*($24:$24-$35:$35), MATCH(N$50,$17:$17, 0))),Vt!$A:$A,0)+INDEX($B123+$D123*$24:$24, MATCH(N$50,$17:$17, 0))*2)))))","v":0},{"$f":"IF(($A123+INDEX($D123*($24:$24-$35:$35), MATCH(O$50,$17:$17, 0)))>$C$8,1000000000,(IF(OR(INDEX($22:$22-($A123-$D123*$35:$35), MATCH(O$50,$17:$17, 0))>0, INDEX($D123*$35:$35-$C123, MATCH(O$50,$17:$17, 0))>0),1000000000,(p!O123+n!O123+m!O123+INDEX(Vt!N:N, MATCH(($A123+INDEX($D123*($24:$24-$35:$35), MATCH(O$50,$17:$17, 0))),Vt!$A:$A,0)+INDEX($B123+$D123*$24:$24, MATCH(O$50,$17:$17, 0))*2)))))","v":0}]
[8,0,8,1,0,{"$f":"IF(($A124+INDEX($D124*($24:$24-$35:$35), MATCH(F$50,$17:$17, 0)))>$C$8,1000000000,(IF(OR(INDEX($22:$22-($A124-$D124*$35:$35), MATCH(F$50,$17:$17, 0))>0, INDEX($D124*$35:$35-$C124, MATCH(F$50,$17:$17, 0))>0),1000000000,(p!F124+n!F124+m!F124+INDEX(Vt!E:E, MATCH(($A124+INDEX($D124*($24:$24-$35:$35), MATCH(F$50,$17:$17, 0))),Vt!$A:$A,0)+INDEX($B124+$D124*$24:$24, MATCH(F$50,$17:$17, 0))*2)))))","v":0},{"$f":"IF(($A124+INDEX($D124*($24:$24-$35:$35), MATCH(G$50,$17:$17, 0)))>$C$8,1000000000,(IF(OR(INDEX($22:$22-($A124-$D124*$35:$35), MATCH(G$50,$17:$17, 0))>0, INDEX($D124*$35:$35-$C124, MATCH(G$50,$17:$17, 0))>0),1000000000,(p!G124+n!G124+m!G124+INDEX(Vt!F:F, MATCH(($A124+INDEX($D124*($24:$24-$35:$35), MATCH(G$50,$17:$17, 0))),Vt!$A:$A,0)+INDEX($B124+$D124*$24:$24, MATCH(G$50,$17:$17, 0))*2)))))","v":0},{"$f":"IF(($A124+INDEX($D124*($24:$24-$35:$35), MATCH(H$50,$17:$17, 0)))>$C$8,1000000000,(IF(OR(INDEX($22:$22-($A124-$D124*$35:$35), MATCH(H$50,$17:$17, 0))>0, INDEX($D124*$35:$35-$C124, MATCH(H$50,$17:$17, 0))>0),1000000000,(p!H124+n!H124+m!H124+INDEX(Vt!G:G, MATCH(($A124+INDEX($D124*($24:$24-$35:$35), MATCH(H$50,$17:$17, 0))),Vt!$A:$A,0)+INDEX($B124+$D124*$24:$24, MATCH(H$50,$17:$17, 0))*2)))))","v":0},{"$f":"IF(($A124+INDEX($D124*($24:$24-$35:$35), MATCH(I$50,$17:$17, 0)))>$C$8,1000000000,(IF(OR(INDEX($22:$22-($A124-$D124*$35:$35), MATCH(I$50,$17:$17, 0))>0, INDEX($D124*$35:$35-$C124, MATCH(I$50,$17:$17, 0))>0),1000000000,(p!I124+n!I124+m!I124+INDEX(Vt!H:H, MATCH(($A124+INDEX($D124*($24:$24-$35:$35), MATCH(I$50,$17:$17, 0))),Vt!$A:$A,0)+INDEX($B124+$D124*$24:$24, MATCH(I$50,$17:$17, 0))*2)))))","v":0},{"$f":"IF(($A124+INDEX($D124*($24:$24-$35:$35), MATCH(J$50,$17:$17, 0)))>$C$8,1000000000,(IF(OR(INDEX($22:$22-($A124-$D124*$35:$35), MATCH(J$50,$17:$17, 0))>0, INDEX($D124*$35:$35-$C124, MATCH(J$50,$17:$17, 0))>0),1000000000,(p!J124+n!J124+m!J124+INDEX(Vt!I:I, MATCH(($A124+INDEX($D124*($24:$24-$35:$35), MATCH(J$50,$17:$17, 0))),Vt!$A:$A,0)+INDEX($B124+$D124*$24:$24, MATCH(J$50,$17:$17, 0))*2)))))","v":0},{"$f":"IF(($A124+INDEX($D124*($24:$24-$35:$35), MATCH(K$50,$17:$17, 0)))>$C$8,1000000000,(IF(OR(INDEX($22:$22-($A124-$D124*$35:$35), MATCH(K$50,$17:$17, 0))>0, INDEX($D124*$35:$35-$C124, MATCH(K$50,$17:$17, 0))>0),1000000000,(p!K124+n!K124+m!K124+INDEX(Vt!J:J, MATCH(($A124+INDEX($D124*($24:$24-$35:$35), MATCH(K$50,$17:$17, 0))),Vt!$A:$A,0)+INDEX($B124+$D124*$24:$24, MATCH(K$50,$17:$17, 0))*2)))))","v":0},{"$f":"IF(($A124+INDEX($D124*($24:$24-$35:$35), MATCH(L$50,$17:$17, 0)))>$C$8,1000000000,(IF(OR(INDEX($22:$22-($A124-$D124*$35:$35), MATCH(L$50,$17:$17, 0))>0, INDEX($D124*$35:$35-$C124, MATCH(L$50,$17:$17, 0))>0),1000000000,(p!L124+n!L124+m!L124+INDEX(Vt!K:K, MATCH(($A124+INDEX($D124*($24:$24-$35:$35), MATCH(L$50,$17:$17, 0))),Vt!$A:$A,0)+INDEX($B124+$D124*$24:$24, MATCH(L$50,$17:$17, 0))*2)))))","v":0},{"$f":"IF(($A124+INDEX($D124*($24:$24-$35:$35), MATCH(M$50,$17:$17, 0)))>$C$8,1000000000,(IF(OR(INDEX($22:$22-($A124-$D124*$35:$35), MATCH(M$50,$17:$17, 0))>0, INDEX($D124*$35:$35-$C124, MATCH(M$50,$17:$17, 0))>0),1000000000,(p!M124+n!M124+m!M124+INDEX(Vt!L:L, MATCH(($A124+INDEX($D124*($24:$24-$35:$35), MATCH(M$50,$17:$17, 0))),Vt!$A:$A,0)+INDEX($B124+$D124*$24:$24, MATCH(M$50,$17:$17, 0))*2)))))","v":0},{"$f":"IF(($A124+INDEX($D124*($24:$24-$35:$35), MATCH(N$50,$17:$17, 0)))>$C$8,1000000000,(IF(OR(INDEX($22:$22-($A124-$D124*$35:$35), MATCH(N$50,$17:$17, 0))>0, INDEX($D124*$35:$35-$C124, MATCH(N$50,$17:$17, 0))>0),1000000000,(p!N124+n!N124+m!N124+INDEX(Vt!M:M, MATCH(($A124+INDEX($D124*($24:$24-$35:$35), MATCH(N$50,$17:$17, 0))),Vt!$A:$A,0)+INDEX($B124+$D124*$24:$24, MATCH(N$50,$17:$17, 0))*2)))))","v":0},{"$f":"IF(($A124+INDEX($D124*($24:$24-$35:$35), MATCH(O$50,$17:$17, 0)))>$C$8,1000000000,(IF(OR(INDEX($22:$22-($A124-$D124*$35:$35), MATCH(O$50,$17:$17, 0))>0, INDEX($D124*$35:$35-$C124, MATCH(O$50,$17:$17, 0))>0),1000000000,(p!O124+n!O124+m!O124+INDEX(Vt!N:N, MATCH(($A124+INDEX($D124*($24:$24-$35:$35), MATCH(O$50,$17:$17, 0))),Vt!$A:$A,0)+INDEX($B124+$D124*$24:$24, MATCH(O$50,$17:$17, 0))*2)))))","v":0}]
[8,1,7,0,0,{"$f":"IF(($A125+INDEX($D125*($24:$24-$35:$35), MATCH(F$50,$17:$17, 0)))>$C$8,1000000000,(IF(OR(INDEX($22:$22-($A125-$D125*$35:$35), MATCH(F$50,$17:$17, 0))>0, INDEX($D125*$35:$35-$C125, MATCH(F$50,$17:$17, 0))>0),1000000000,(p!F125+n!F125+m!F125+INDEX(Vt!E:E, MATCH(($A125+INDEX($D125*($24:$24-$35:$35), MATCH(F$50,$17:$17, 0))),Vt!$A:$A,0)+INDEX($B125+$D125*$24:$24, MATCH(F$50,$17:$17, 0))*2)))))","v":0},{"$f":"IF(($A125+INDEX($D125*($24:$24-$35:$35), MATCH(G$50,$17:$17, 0)))>$C$8,1000000000,(IF(OR(INDEX($22:$22-($A125-$D125*$35:$35), MATCH(G$50,$17:$17, 0))>0, INDEX($D125*$35:$35-$C125, MATCH(G$50,$17:$17, 0))>0),1000000000,(p!G125+n!G125+m!G125+INDEX(Vt!F:F, MATCH(($A125+INDEX($D125*($24:$24-$35:$35), MATCH(G$50,$17:$17, 0))),Vt!$A:$A,0)+INDEX($B125+$D125*$24:$24, MATCH(G$50,$17:$17, 0))*2)))))","v":0},{"$f":"IF(($A125+INDEX($D125*($24:$24-$35:$35), MATCH(H$50,$17:$17, 0)))>$C$8,1000000000,(IF(OR(INDEX($22:$22-($A125-$D125*$35:$35), MATCH(H$50,$17:$17, 0))>0, INDEX($D125*$35:$35-$C125, MATCH(H$50,$17:$17, 0))>0),1000000000,(p!H125+n!H125+m!H125+INDEX(Vt!G:G, MATCH(($A125+INDEX($D125*($24:$24-$35:$35), MATCH(H$50,$17:$17, 0))),Vt!$A:$A,0)+INDEX($B125+$D125*$24:$24, MATCH(H$50,$17:$17, 0))*2)))))","v":0},{"$f":"IF(($A125+INDEX($D125*($24:$24-$35:$35), MATCH(I$50,$17:$17, 0)))>$C$8,1000000000,(IF(OR(INDEX($22:$22-($A125-$D125*$35:$35), MATCH(I$50,$17:$17, 0))>0, INDEX($D125*$35:$35-$C125, MATCH(I$50,$17:$17, 0))>0),1000000000,(p!I125+n!I125+m!I125+INDEX(Vt!H:H, MATCH(($A125+INDEX($D125*($24:$24-$35:$35), MATCH(I$50,$17:$17, 0))),Vt!$A:$A,0)+INDEX($B125+$D125*$24:$24, MATCH(I$50,$17:$17, 0))*2)))))","v":0},{"$f":"IF(($A125+INDEX($D125*($24:$24-$35:$35), MATCH(J$50,$17:$17, 0)))>$C$8,1000000000,(IF(OR(INDEX($22:$22-($A125-$D125*$35:$35), MATCH(J$50,$17:$17, 0))>0, INDEX($D125*$35:$35-$C125, MATCH(J$50,$17:$17, 0))>0),1000000000,(p!J125+n!J125+m!J125+INDEX(Vt!I:I, MATCH(($A125+INDEX($D125*($24:$24-$35:$35), MATCH(J$50,$17:$17, 0))),Vt!$A:$A,0)+INDEX($B125+$D125*$24:$24, MATCH(J$50,$17:$17, 0))*2)))))","v":0},{"$f":"IF(($A125+INDEX($D125*($24:$24-$35:$35), MATCH(K$50,$17:$17, 0)))>$C$8,1000000000,(IF(OR(INDEX($22:$22-($A125-$D125*$35:$35), MATCH(K$50,$17:$17, 0))>0, INDEX($D125*$35:$35-$C125, MATCH(K$50,$17:$17, 0))>0),1000000000,(p!K125+n!K125+m!K125+INDEX(Vt!J:J, MATCH(($A125+INDEX($D125*($24:$24-$35:$35), MATCH(K$50,$17:$17, 0))),Vt!$A:$A,0)+INDEX($B125+$D125*$24:$24, MATCH(K$50,$17:$17, 0))*2)))))","v":0},{"$f":"IF(($A125+INDEX($D125*($24:$24-$35:$35), MATCH(L$50,$17:$17, 0)))>$C$8,1000000000,(IF(OR(INDEX($22:$22-($A125-$D125*$35:$35), MATCH(L$50,$17:$17, 0))>0, INDEX($D125*$35:$35-$C125, MATCH(L$50,$17:$17, 0))>0),1000000000,(p!L125+n!L125+m!L125+INDEX(Vt!K:K, MATCH(($A125+INDEX($D125*($24:$24-$35:$35), MATCH(L$50,$17:$17, 0))),Vt!$A:$A,0)+INDEX($B125+$D125*$24:$24, MATCH(L$50,$17:$17, 0))*2)))))","v":0},{"$f":"IF(($A125+INDEX($D125*($24:$24-$35:$35), MATCH(M$50,$17:$17, 0)))>$C$8,1000000000,(IF(OR(INDEX($22:$22-($A125-$D125*$35:$35), MATCH(M$50,$17:$17, 0))>0, INDEX($D125*$35:$35-$C125, MATCH(M$50,$17:$17, 0))>0),1000000000,(p!M125+n!M125+m!M125+INDEX(Vt!L:L, MATCH(($A125+INDEX($D125*($24:$24-$35:$35), MATCH(M$50,$17:$17, 0))),Vt!$A:$A,0)+INDEX($B125+$D125*$24:$24, MATCH(M$50,$17:$17, 0))*2)))))","v":0},{"$f":"IF(($A125+INDEX($D125*($24:$24-$35:$35), MATCH(N$50,$17:$17, 0)))>$C$8,1000000000,(IF(OR(INDEX($22:$22-($A125-$D125*$35:$35), MATCH(N$50,$17:$17, 0))>0, INDEX($D125*$35:$35-$C125, MATCH(N$50,$17:$17, 0))>0),1000000000,(p!N125+n!N125+m!N125+INDEX(Vt!M:M, MATCH(($A125+INDEX($D125*($24:$24-$35:$35), MATCH(N$50,$17:$17, 0))),Vt!$A:$A,0)+INDEX($B125+$D125*$24:$24, MATCH(N$50,$17:$17, 0))*2)))))","v":0},{"$f":"IF(($A125+INDEX($D125*($24:$24-$35:$35), MATCH(O$50,$17:$17, 0)))>$C$8,1000000000,(IF(OR(INDEX($22:$22-($A125-$D125*$35:$35), MATCH(O$50,$17:$17, 0))>0, INDEX($D125*$35:$35-$C125, MATCH(O$50,$17:$17, 0))>0),1000000000,(p!O125+n!O125+m!O125+INDEX(Vt!N:N, MATCH(($A125+INDEX($D125*($24:$24-$35:$35), MATCH(O$50,$17:$17, 0))),Vt!$A:$A,0)+INDEX($B125+$D125*$24:$24, MATCH(O$50,$17:$17, 0))*2)))))","v":0}]
[8,1,7,1,0,{"$f":"IF(($A126+INDEX($D126*($24:$24-$35:$35), MATCH(F$50,$17:$17, 0)))>$C$8,1000000000,(IF(OR(INDEX($22:$22-($A126-$D126*$35:$35), MATCH(F$50,$17:$17, 0))>0, INDEX($D126*$35:$35-$C126, MATCH(F$50,$17:$17, 0))>0),1000000000,(p!F126+n!F126+m!F126+INDEX(Vt!E:E, MATCH(($A126+INDEX($D126*($24:$24-$35:$35), MATCH(F$50,$17:$17, 0))),Vt!$A:$A,0)+INDEX($B126+$D126*$24:$24, MATCH(F$50,$17:$17, 0))*2)))))","v":0},{"$f":"IF(($A126+INDEX($D126*($24:$24-$35:$35), MATCH(G$50,$17:$17, 0)))>$C$8,1000000000,(IF(OR(INDEX($22:$22-($A126-$D126*$35:$35), MATCH(G$50,$17:$17, 0))>0, INDEX($D126*$35:$35-$C126, MATCH(G$50,$17:$17, 0))>0),1000000000,(p!G126+n!G126+m!G126+INDEX(Vt!F:F, MATCH(($A126+INDEX($D126*($24:$24-$35:$35), MATCH(G$50,$17:$17, 0))),Vt!$A:$A,0)+INDEX($B126+$D126*$24:$24, MATCH(G$50,$17:$17, 0))*2)))))","v":0},{"$f":"IF(($A126+INDEX($D126*($24:$24-$35:$35), MATCH(H$50,$17:$17, 0)))>$C$8,1000000000,(IF(OR(INDEX($22:$22-($A126-$D126*$35:$35), MATCH(H$50,$17:$17, 0))>0, INDEX($D126*$35:$35-$C126, MATCH(H$50,$17:$17, 0))>0),1000000000,(p!H126+n!H126+m!H126+INDEX(Vt!G:G, MATCH(($A126+INDEX($D126*($24:$24-$35:$35), MATCH(H$50,$17:$17, 0))),Vt!$A:$A,0)+INDEX($B126+$D126*$24:$24, MATCH(H$50,$17:$17, 0))*2)))))","v":0},{"$f":"IF(($A126+INDEX($D126*($24:$24-$35:$35), MATCH(I$50,$17:$17, 0)))>$C$8,1000000000,(IF(OR(INDEX($22:$22-($A126-$D126*$35:$35), MATCH(I$50,$17:$17, 0))>0, INDEX($D126*$35:$35-$C126, MATCH(I$50,$17:$17, 0))>0),1000000000,(p!I126+n!I126+m!I126+INDEX(Vt!H:H, MATCH(($A126+INDEX($D126*($24:$24-$35:$35), MATCH(I$50,$17:$17, 0))),Vt!$A:$A,0)+INDEX($B126+$D126*$24:$24, MATCH(I$50,$17:$17, 0))*2)))))","v":0},{"$f":"IF(($A126+INDEX($D126*($24:$24-$35:$35), MATCH(J$50,$17:$17, 0)))>$C$8,1000000000,(IF(OR(INDEX($22:$22-($A126-$D126*$35:$35), MATCH(J$50,$17:$17, 0))>0, INDEX($D126*$35:$35-$C126, MATCH(J$50,$17:$17, 0))>0),1000000000,(p!J126+n!J126+m!J126+INDEX(Vt!I:I, MATCH(($A126+INDEX($D126*($24:$24-$35:$35), MATCH(J$50,$17:$17, 0))),Vt!$A:$A,0)+INDEX($B126+$D126*$24:$24, MATCH(J$50,$17:$17, 0))*2)))))","v":0},{"$f":"IF(($A126+INDEX($D126*($24:$24-$35:$35), MATCH(K$50,$17:$17, 0)))>$C$8,1000000000,(IF(OR(INDEX($22:$22-($A126-$D126*$35:$35), MATCH(K$50,$17:$17, 0))>0, INDEX($D126*$35:$35-$C126, MATCH(K$50,$17:$17, 0))>0),1000000000,(p!K126+n!K126+m!K126+INDEX(Vt!J:J, MATCH(($A126+INDEX($D126*($24:$24-$35:$35), MATCH(K$50,$17:$17, 0))),Vt!$A:$A,0)+INDEX($B126+$D126*$24:$24, MATCH(K$50,$17:$17, 0))*2)))))","v":0},{"$f":"IF(($A126+INDEX($D126*($24:$24-$35:$35), MATCH(L$50,$17:$17, 0)))>$C$8,1000000000,(IF(OR(INDEX($22:$22-($A126-$D126*$35:$35), MATCH(L$50,$17:$17, 0))>0, INDEX($D126*$35:$35-$C126, MATCH(L$50,$17:$17, 0))>0),1000000000,(p!L126+n!L126+m!L126+INDEX(Vt!K:K, MATCH(($A126+INDEX($D126*($24:$24-$35:$35), MATCH(L$50,$17:$17, 0))),Vt!$A:$A,0)+INDEX($B126+$D126*$24:$24, MATCH(L$50,$17:$17, 0))*2)))))","v":0},{"$f":"IF(($A126+INDEX($D126*($24:$24-$35:$35), MATCH(M$50,$17:$17, 0)))>$C$8,1000000000,(IF(OR(INDEX($22:$22-($A126-$D126*$35:$35), MATCH(M$50,$17:$17, 0))>0, INDEX($D126*$35:$35-$C126, MATCH(M$50,$17:$17, 0))>0),1000000000,(p!M126+n!M126+m!M126+INDEX(Vt!L:L, MATCH(($A126+INDEX($D126*($24:$24-$35:$35), MATCH(M$50,$17:$17, 0))),Vt!$A:$A,0)+INDEX($B126+$D126*$24:$24, MATCH(M$50,$17:$17, 0))*2)))))","v":0},{"$f":"IF(($A126+INDEX($D126*($24:$24-$35:$35), MATCH(N$50,$17:$17, 0)))>$C$8,1000000000,(IF(OR(INDEX($22:$22-($A126-$D126*$35:$35), MATCH(N$50,$17:$17, 0))>0, INDEX($D126*$35:$35-$C126, MATCH(N$50,$17:$17, 0))>0),1000000000,(p!N126+n!N126+m!N126+INDEX(Vt!M:M, MATCH(($A126+INDEX($D126*($24:$24-$35:$35), MATCH(N$50,$17:$17, 0))),Vt!$A:$A,0)+INDEX($B126+$D126*$24:$24, MATCH(N$50,$17:$17, 0))*2)))))","v":0},{"$f":"IF(($A126+INDEX($D126*($24:$24-$35:$35), MATCH(O$50,$17:$17, 0)))>$C$8,1000000000,(IF(OR(INDEX($22:$22-($A126-$D126*$35:$35), MATCH(O$50,$17:$17, 0))>0, INDEX($D126*$35:$35-$C126, MATCH(O$50,$17:$17, 0))>0),1000000000,(p!O126+n!O126+m!O126+INDEX(Vt!N:N, MATCH(($A126+INDEX($D126*($24:$24-$35:$35), MATCH(O$50,$17:$17, 0))),Vt!$A:$A,0)+INDEX($B126+$D126*$24:$24, MATCH(O$50,$17:$17, 0))*2)))))","v":0}]
[8,2,6,0,0,{"$f":"IF(($A127+INDEX($D127*($24:$24-$35:$35), MATCH(F$50,$17:$17, 0)))>$C$8,1000000000,(IF(OR(INDEX($22:$22-($A127-$D127*$35:$35), MATCH(F$50,$17:$17, 0))>0, INDEX($D127*$35:$35-$C127, MATCH(F$50,$17:$17, 0))>0),1000000000,(p!F127+n!F127+m!F127+INDEX(Vt!E:E, MATCH(($A127+INDEX($D127*($24:$24-$35:$35), MATCH(F$50,$17:$17, 0))),Vt!$A:$A,0)+INDEX($B127+$D127*$24:$24, MATCH(F$50,$17:$17, 0))*2)))))","v":0},{"$f":"IF(($A127+INDEX($D127*($24:$24-$35:$35), MATCH(G$50,$17:$17, 0)))>$C$8,1000000000,(IF(OR(INDEX($22:$22-($A127-$D127*$35:$35), MATCH(G$50,$17:$17, 0))>0, INDEX($D127*$35:$35-$C127, MATCH(G$50,$17:$17, 0))>0),1000000000,(p!G127+n!G127+m!G127+INDEX(Vt!F:F, MATCH(($A127+INDEX($D127*($24:$24-$35:$35), MATCH(G$50,$17:$17, 0))),Vt!$A:$A,0)+INDEX($B127+$D127*$24:$24, MATCH(G$50,$17:$17, 0))*2)))))","v":0},{"$f":"IF(($A127+INDEX($D127*($24:$24-$35:$35), MATCH(H$50,$17:$17, 0)))>$C$8,1000000000,(IF(OR(INDEX($22:$22-($A127-$D127*$35:$35), MATCH(H$50,$17:$17, 0))>0, INDEX($D127*$35:$35-$C127, MATCH(H$50,$17:$17, 0))>0),1000000000,(p!H127+n!H127+m!H127+INDEX(Vt!G:G, MATCH(($A127+INDEX($D127*($24:$24-$35:$35), MATCH(H$50,$17:$17, 0))),Vt!$A:$A,0)+INDEX($B127+$D127*$24:$24, MATCH(H$50,$17:$17, 0))*2)))))","v":0},{"$f":"IF(($A127+INDEX($D127*($24:$24-$35:$35), MATCH(I$50,$17:$17, 0)))>$C$8,1000000000,(IF(OR(INDEX($22:$22-($A127-$D127*$35:$35), MATCH(I$50,$17:$17, 0))>0, INDEX($D127*$35:$35-$C127, MATCH(I$50,$17:$17, 0))>0),1000000000,(p!I127+n!I127+m!I127+INDEX(Vt!H:H, MATCH(($A127+INDEX($D127*($24:$24-$35:$35), MATCH(I$50,$17:$17, 0))),Vt!$A:$A,0)+INDEX($B127+$D127*$24:$24, MATCH(I$50,$17:$17, 0))*2)))))","v":0},{"$f":"IF(($A127+INDEX($D127*($24:$24-$35:$35), MATCH(J$50,$17:$17, 0)))>$C$8,1000000000,(IF(OR(INDEX($22:$22-($A127-$D127*$35:$35), MATCH(J$50,$17:$17, 0))>0, INDEX($D127*$35:$35-$C127, MATCH(J$50,$17:$17, 0))>0),1000000000,(p!J127+n!J127+m!J127+INDEX(Vt!I:I, MATCH(($A127+INDEX($D127*($24:$24-$35:$35), MATCH(J$50,$17:$17, 0))),Vt!$A:$A,0)+INDEX($B127+$D127*$24:$24, MATCH(J$50,$17:$17, 0))*2)))))","v":0},{"$f":"IF(($A127+INDEX($D127*($24:$24-$35:$35), MATCH(K$50,$17:$17, 0)))>$C$8,1000000000,(IF(OR(INDEX($22:$22-($A127-$D127*$35:$35), MATCH(K$50,$17:$17, 0))>0, INDEX($D127*$35:$35-$C127, MATCH(K$50,$17:$17, 0))>0),1000000000,(p!K127+n!K127+m!K127+INDEX(Vt!J:J, MATCH(($A127+INDEX($D127*($24:$24-$35:$35), MATCH(K$50,$17:$17, 0))),Vt!$A:$A,0)+INDEX($B127+$D127*$24:$24, MATCH(K$50,$17:$17, 0))*2)))))","v":0},{"$f":"IF(($A127+INDEX($D127*($24:$24-$35:$35), MATCH(L$50,$17:$17, 0)))>$C$8,1000000000,(IF(OR(INDEX($22:$22-($A127-$D127*$35:$35), MATCH(L$50,$17:$17, 0))>0, INDEX($D127*$35:$35-$C127, MATCH(L$50,$17:$17, 0))>0),1000000000,(p!L127+n!L127+m!L127+INDEX(Vt!K:K, MATCH(($A127+INDEX($D127*($24:$24-$35:$35), MATCH(L$50,$17:$17, 0))),Vt!$A:$A,0)+INDEX($B127+$D127*$24:$24, MATCH(L$50,$17:$17, 0))*2)))))","v":0},{"$f":"IF(($A127+INDEX($D127*($24:$24-$35:$35), MATCH(M$50,$17:$17, 0)))>$C$8,1000000000,(IF(OR(INDEX($22:$22-($A127-$D127*$35:$35), MATCH(M$50,$17:$17, 0))>0, INDEX($D127*$35:$35-$C127, MATCH(M$50,$17:$17, 0))>0),1000000000,(p!M127+n!M127+m!M127+INDEX(Vt!L:L, MATCH(($A127+INDEX($D127*($24:$24-$35:$35), MATCH(M$50,$17:$17, 0))),Vt!$A:$A,0)+INDEX($B127+$D127*$24:$24, MATCH(M$50,$17:$17, 0))*2)))))","v":0},{"$f":"IF(($A127+INDEX($D127*($24:$24-$35:$35), MATCH(N$50,$17:$17, 0)))>$C$8,1000000000,(IF(OR(INDEX($22:$22-($A127-$D127*$35:$35), MATCH(N$50,$17:$17, 0))>0, INDEX($D127*$35:$35-$C127, MATCH(N$50,$17:$17, 0))>0),1000000000,(p!N127+n!N127+m!N127+INDEX(Vt!M:M, MATCH(($A127+INDEX($D127*($24:$24-$35:$35), MATCH(N$50,$17:$17, 0))),Vt!$A:$A,0)+INDEX($B127+$D127*$24:$24, MATCH(N$50,$17:$17, 0))*2)))))","v":0},{"$f":"IF(($A127+INDEX($D127*($24:$24-$35:$35), MATCH(O$50,$17:$17, 0)))>$C$8,1000000000,(IF(OR(INDEX($22:$22-($A127-$D127*$35:$35), MATCH(O$50,$17:$17, 0))>0, INDEX($D127*$35:$35-$C127, MATCH(O$50,$17:$17, 0))>0),1000000000,(p!O127+n!O127+m!O127+INDEX(Vt!N:N, MATCH(($A127+INDEX($D127*($24:$24-$35:$35), MATCH(O$50,$17:$17, 0))),Vt!$A:$A,0)+INDEX($B127+$D127*$24:$24, MATCH(O$50,$17:$17, 0))*2)))))","v":0}]
[8,2,6,1,0,{"$f":"IF(($A128+INDEX($D128*($24:$24-$35:$35), MATCH(F$50,$17:$17, 0)))>$C$8,1000000000,(IF(OR(INDEX($22:$22-($A128-$D128*$35:$35), MATCH(F$50,$17:$17, 0))>0, INDEX($D128*$35:$35-$C128, MATCH(F$50,$17:$17, 0))>0),1000000000,(p!F128+n!F128+m!F128+INDEX(Vt!E:E, MATCH(($A128+INDEX($D128*($24:$24-$35:$35), MATCH(F$50,$17:$17, 0))),Vt!$A:$A,0)+INDEX($B128+$D128*$24:$24, MATCH(F$50,$17:$17, 0))*2)))))","v":0},{"$f":"IF(($A128+INDEX($D128*($24:$24-$35:$35), MATCH(G$50,$17:$17, 0)))>$C$8,1000000000,(IF(OR(INDEX($22:$22-($A128-$D128*$35:$35), MATCH(G$50,$17:$17, 0))>0, INDEX($D128*$35:$35-$C128, MATCH(G$50,$17:$17, 0))>0),1000000000,(p!G128+n!G128+m!G128+INDEX(Vt!F:F, MATCH(($A128+INDEX($D128*($24:$24-$35:$35), MATCH(G$50,$17:$17, 0))),Vt!$A:$A,0)+INDEX($B128+$D128*$24:$24, MATCH(G$50,$17:$17, 0))*2)))))","v":0},{"$f":"IF(($A128+INDEX($D128*($24:$24-$35:$35), MATCH(H$50,$17:$17, 0)))>$C$8,1000000000,(IF(OR(INDEX($22:$22-($A128-$D128*$35:$35), MATCH(H$50,$17:$17, 0))>0, INDEX($D128*$35:$35-$C128, MATCH(H$50,$17:$17, 0))>0),1000000000,(p!H128+n!H128+m!H128+INDEX(Vt!G:G, MATCH(($A128+INDEX($D128*($24:$24-$35:$35), MATCH(H$50,$17:$17, 0))),Vt!$A:$A,0)+INDEX($B128+$D128*$24:$24, MATCH(H$50,$17:$17, 0))*2)))))","v":0},{"$f":"IF(($A128+INDEX($D128*($24:$24-$35:$35), MATCH(I$50,$17:$17, 0)))>$C$8,1000000000,(IF(OR(INDEX($22:$22-($A128-$D128*$35:$35), MATCH(I$50,$17:$17, 0))>0, INDEX($D128*$35:$35-$C128, MATCH(I$50,$17:$17, 0))>0),1000000000,(p!I128+n!I128+m!I128+INDEX(Vt!H:H, MATCH(($A128+INDEX($D128*($24:$24-$35:$35), MATCH(I$50,$17:$17, 0))),Vt!$A:$A,0)+INDEX($B128+$D128*$24:$24, MATCH(I$50,$17:$17, 0))*2)))))","v":0},{"$f":"IF(($A128+INDEX($D128*($24:$24-$35:$35), MATCH(J$50,$17:$17, 0)))>$C$8,1000000000,(IF(OR(INDEX($22:$22-($A128-$D128*$35:$35), MATCH(J$50,$17:$17, 0))>0, INDEX($D128*$35:$35-$C128, MATCH(J$50,$17:$17, 0))>0),1000000000,(p!J128+n!J128+m!J128+INDEX(Vt!I:I, MATCH(($A128+INDEX($D128*($24:$24-$35:$35), MATCH(J$50,$17:$17, 0))),Vt!$A:$A,0)+INDEX($B128+$D128*$24:$24, MATCH(J$50,$17:$17, 0))*2)))))","v":0},{"$f":"IF(($A128+INDEX($D128*($24:$24-$35:$35), MATCH(K$50,$17:$17, 0)))>$C$8,1000000000,(IF(OR(INDEX($22:$22-($A128-$D128*$35:$35), MATCH(K$50,$17:$17, 0))>0, INDEX($D128*$35:$35-$C128, MATCH(K$50,$17:$17, 0))>0),1000000000,(p!K128+n!K128+m!K128+INDEX(Vt!J:J, MATCH(($A128+INDEX($D128*($24:$24-$35:$35), MATCH(K$50,$17:$17, 0))),Vt!$A:$A,0)+INDEX($B128+$D128*$24:$24, MATCH(K$50,$17:$17, 0))*2)))))","v":0},{"$f":"IF(($A128+INDEX($D128*($24:$24-$35:$35), MATCH(L$50,$17:$17, 0)))>$C$8,1000000000,(IF(OR(INDEX($22:$22-($A128-$D128*$35:$35), MATCH(L$50,$17:$17, 0))>0, INDEX($D128*$35:$35-$C128, MATCH(L$50,$17:$17, 0))>0),1000000000,(p!L128+n!L128+m!L128+INDEX(Vt!K:K, MATCH(($A128+INDEX($D128*($24:$24-$35:$35), MATCH(L$50,$17:$17, 0))),Vt!$A:$A,0)+INDEX($B128+$D128*$24:$24, MATCH(L$50,$17:$17, 0))*2)))))","v":0},{"$f":"IF(($A128+INDEX($D128*($24:$24-$35:$35), MATCH(M$50,$17:$17, 0)))>$C$8,1000000000,(IF(OR(INDEX($22:$22-($A128-$D128*$35:$35), MATCH(M$50,$17:$17, 0))>0, INDEX($D128*$35:$35-$C128, MATCH(M$50,$17:$17, 0))>0),1000000000,(p!M128+n!M128+m!M128+INDEX(Vt!L:L, MATCH(($A128+INDEX($D128*($24:$24-$35:$35), MATCH(M$50,$17:$17, 0))),Vt!$A:$A,0)+INDEX($B128+$D128*$24:$24, MATCH(M$50,$17:$17, 0))*2)))))","v":0},{"$f":"IF(($A128+INDEX($D128*($24:$24-$35:$35), MATCH(N$50,$17:$17, 0)))>$C$8,1000000000,(IF(OR(INDEX($22:$22-($A128-$D128*$35:$35), MATCH(N$50,$17:$17, 0))>0, INDEX($D128*$35:$35-$C128, MATCH(N$50,$17:$17, 0))>0),1000000000,(p!N128+n!N128+m!N128+INDEX(Vt!M:M, MATCH(($A128+INDEX($D128*($24:$24-$35:$35), MATCH(N$50,$17:$17, 0))),Vt!$A:$A,0)+INDEX($B128+$D128*$24:$24, MATCH(N$50,$17:$17, 0))*2)))))","v":0},{"$f":"IF(($A128+INDEX($D128*($24:$24-$35:$35), MATCH(O$50,$17:$17, 0)))>$C$8,1000000000,(IF(OR(INDEX($22:$22-($A128-$D128*$35:$35), MATCH(O$50,$17:$17, 0))>0, INDEX($D128*$35:$35-$C128, MATCH(O$50,$17:$17, 0))>0),1000000000,(p!O128+n!O128+m!O128+INDEX(Vt!N:N, MATCH(($A128+INDEX($D128*($24:$24-$35:$35), MATCH(O$50,$17:$17, 0))),Vt!$A:$A,0)+INDEX($B128+$D128*$24:$24, MATCH(O$50,$17:$17, 0))*2)))))","v":0}]
[8,3,5,0,0,{"$f":"IF(($A129+INDEX($D129*($24:$24-$35:$35), MATCH(F$50,$17:$17, 0)))>$C$8,1000000000,(IF(OR(INDEX($22:$22-($A129-$D129*$35:$35), MATCH(F$50,$17:$17, 0))>0, INDEX($D129*$35:$35-$C129, MATCH(F$50,$17:$17, 0))>0),1000000000,(p!F129+n!F129+m!F129+INDEX(Vt!E:E, MATCH(($A129+INDEX($D129*($24:$24-$35:$35), MATCH(F$50,$17:$17, 0))),Vt!$A:$A,0)+INDEX($B129+$D129*$24:$24, MATCH(F$50,$17:$17, 0))*2)))))","v":0},{"$f":"IF(($A129+INDEX($D129*($24:$24-$35:$35), MATCH(G$50,$17:$17, 0)))>$C$8,1000000000,(IF(OR(INDEX($22:$22-($A129-$D129*$35:$35), MATCH(G$50,$17:$17, 0))>0, INDEX($D129*$35:$35-$C129, MATCH(G$50,$17:$17, 0))>0),1000000000,(p!G129+n!G129+m!G129+INDEX(Vt!F:F, MATCH(($A129+INDEX($D129*($24:$24-$35:$35), MATCH(G$50,$17:$17, 0))),Vt!$A:$A,0)+INDEX($B129+$D129*$24:$24, MATCH(G$50,$17:$17, 0))*2)))))","v":0},{"$f":"IF(($A129+INDEX($D129*($24:$24-$35:$35), MATCH(H$50,$17:$17, 0)))>$C$8,1000000000,(IF(OR(INDEX($22:$22-($A129-$D129*$35:$35), MATCH(H$50,$17:$17, 0))>0, INDEX($D129*$35:$35-$C129, MATCH(H$50,$17:$17, 0))>0),1000000000,(p!H129+n!H129+m!H129+INDEX(Vt!G:G, MATCH(($A129+INDEX($D129*($24:$24-$35:$35), MATCH(H$50,$17:$17, 0))),Vt!$A:$A,0)+INDEX($B129+$D129*$24:$24, MATCH(H$50,$17:$17, 0))*2)))))","v":0},{"$f":"IF(($A129+INDEX($D129*($24:$24-$35:$35), MATCH(I$50,$17:$17, 0)))>$C$8,1000000000,(IF(OR(INDEX($22:$22-($A129-$D129*$35:$35), MATCH(I$50,$17:$17, 0))>0, INDEX($D129*$35:$35-$C129, MATCH(I$50,$17:$17, 0))>0),1000000000,(p!I129+n!I129+m!I129+INDEX(Vt!H:H, MATCH(($A129+INDEX($D129*($24:$24-$35:$35), MATCH(I$50,$17:$17, 0))),Vt!$A:$A,0)+INDEX($B129+$D129*$24:$24, MATCH(I$50,$17:$17, 0))*2)))))","v":0},{"$f":"IF(($A129+INDEX($D129*($24:$24-$35:$35), MATCH(J$50,$17:$17, 0)))>$C$8,1000000000,(IF(OR(INDEX($22:$22-($A129-$D129*$35:$35), MATCH(J$50,$17:$17, 0))>0, INDEX($D129*$35:$35-$C129, MATCH(J$50,$17:$17, 0))>0),1000000000,(p!J129+n!J129+m!J129+INDEX(Vt!I:I, MATCH(($A129+INDEX($D129*($24:$24-$35:$35), MATCH(J$50,$17:$17, 0))),Vt!$A:$A,0)+INDEX($B129+$D129*$24:$24, MATCH(J$50,$17:$17, 0))*2)))))","v":0},{"$f":"IF(($A129+INDEX($D129*($24:$24-$35:$35), MATCH(K$50,$17:$17, 0)))>$C$8,1000000000,(IF(OR(INDEX($22:$22-($A129-$D129*$35:$35), MATCH(K$50,$17:$17, 0))>0, INDEX($D129*$35:$35-$C129, MATCH(K$50,$17:$17, 0))>0),1000000000,(p!K129+n!K129+m!K129+INDEX(Vt!J:J, MATCH(($A129+INDEX($D129*($24:$24-$35:$35), MATCH(K$50,$17:$17, 0))),Vt!$A:$A,0)+INDEX($B129+$D129*$24:$24, MATCH(K$50,$17:$17, 0))*2)))))","v":0},{"$f":"IF(($A129+INDEX($D129*($24:$24-$35:$35), MATCH(L$50,$17:$17, 0)))>$C$8,1000000000,(IF(OR(INDEX($22:$22-($A129-$D129*$35:$35), MATCH(L$50,$17:$17, 0))>0, INDEX($D129*$35:$35-$C129, MATCH(L$50,$17:$17, 0))>0),1000000000,(p!L129+n!L129+m!L129+INDEX(Vt!K:K, MATCH(($A129+INDEX($D129*($24:$24-$35:$35), MATCH(L$50,$17:$17, 0))),Vt!$A:$A,0)+INDEX($B129+$D129*$24:$24, MATCH(L$50,$17:$17, 0))*2)))))","v":0},{"$f":"IF(($A129+INDEX($D129*($24:$24-$35:$35), MATCH(M$50,$17:$17, 0)))>$C$8,1000000000,(IF(OR(INDEX($22:$22-($A129-$D129*$35:$35), MATCH(M$50,$17:$17, 0))>0, INDEX($D129*$35:$35-$C129, MATCH(M$50,$17:$17, 0))>0),1000000000,(p!M129+n!M129+m!M129+INDEX(Vt!L:L, MATCH(($A129+INDEX($D129*($24:$24-$35:$35), MATCH(M$50,$17:$17, 0))),Vt!$A:$A,0)+INDEX($B129+$D129*$24:$24, MATCH(M$50,$17:$17, 0))*2)))))","v":0},{"$f":"IF(($A129+INDEX($D129*($24:$24-$35:$35), MATCH(N$50,$17:$17, 0)))>$C$8,1000000000,(IF(OR(INDEX($22:$22-($A129-$D129*$35:$35), MATCH(N$50,$17:$17, 0))>0, INDEX($D129*$35:$35-$C129, MATCH(N$50,$17:$17, 0))>0),1000000000,(p!N129+n!N129+m!N129+INDEX(Vt!M:M, MATCH(($A129+INDEX($D129*($24:$24-$35:$35), MATCH(N$50,$17:$17, 0))),Vt!$A:$A,0)+INDEX($B129+$D129*$24:$24, MATCH(N$50,$17:$17, 0))*2)))))","v":0},{"$f":"IF(($A129+INDEX($D129*($24:$24-$35:$35), MATCH(O$50,$17:$17, 0)))>$C$8,1000000000,(IF(OR(INDEX($22:$22-($A129-$D129*$35:$35), MATCH(O$50,$17:$17, 0))>0, INDEX($D129*$35:$35-$C129, MATCH(O$50,$17:$17, 0))>0),1000000000,(p!O129+n!O129+m!O129+INDEX(Vt!N:N, MATCH(($A129+INDEX($D129*($24:$24-$35:$35), MATCH(O$50,$17:$17, 0))),Vt!$A:$A,0)+INDEX($B129+$D129*$24:$24, MATCH(O$50,$17:$17, 0))*2)))))","v":0}]
[8,3,5,1,0,{"$f":"IF(($A130+INDEX($D130*($24:$24-$35:$35), MATCH(F$50,$17:$17, 0)))>$C$8,1000000000,(IF(OR(INDEX($22:$22-($A130-$D130*$35:$35), MATCH(F$50,$17:$17, 0))>0, INDEX($D130*$35:$35-$C130, MATCH(F$50,$17:$17, 0))>0),1000000000,(p!F130+n!F130+m!F130+INDEX(Vt!E:E, MATCH(($A130+INDEX($D130*($24:$24-$35:$35), MATCH(F$50,$17:$17, 0))),Vt!$A:$A,0)+INDEX($B130+$D130*$24:$24, MATCH(F$50,$17:$17, 0))*2)))))","v":0},{"$f":"IF(($A130+INDEX($D130*($24:$24-$35:$35), MATCH(G$50,$17:$17, 0)))>$C$8,1000000000,(IF(OR(INDEX($22:$22-($A130-$D130*$35:$35), MATCH(G$50,$17:$17, 0))>0, INDEX($D130*$35:$35-$C130, MATCH(G$50,$17:$17, 0))>0),1000000000,(p!G130+n!G130+m!G130+INDEX(Vt!F:F, MATCH(($A130+INDEX($D130*($24:$24-$35:$35), MATCH(G$50,$17:$17, 0))),Vt!$A:$A,0)+INDEX($B130+$D130*$24:$24, MATCH(G$50,$17:$17, 0))*2)))))","v":0},{"$f":"IF(($A130+INDEX($D130*($24:$24-$35:$35), MATCH(H$50,$17:$17, 0)))>$C$8,1000000000,(IF(OR(INDEX($22:$22-($A130-$D130*$35:$35), MATCH(H$50,$17:$17, 0))>0, INDEX($D130*$35:$35-$C130, MATCH(H$50,$17:$17, 0))>0),1000000000,(p!H130+n!H130+m!H130+INDEX(Vt!G:G, MATCH(($A130+INDEX($D130*($24:$24-$35:$35), MATCH(H$50,$17:$17, 0))),Vt!$A:$A,0)+INDEX($B130+$D130*$24:$24, MATCH(H$50,$17:$17, 0))*2)))))","v":0},{"$f":"IF(($A130+INDEX($D130*($24:$24-$35:$35), MATCH(I$50,$17:$17, 0)))>$C$8,1000000000,(IF(OR(INDEX($22:$22-($A130-$D130*$35:$35), MATCH(I$50,$17:$17, 0))>0, INDEX($D130*$35:$35-$C130, MATCH(I$50,$17:$17, 0))>0),1000000000,(p!I130+n!I130+m!I130+INDEX(Vt!H:H, MATCH(($A130+INDEX($D130*($24:$24-$35:$35), MATCH(I$50,$17:$17, 0))),Vt!$A:$A,0)+INDEX($B130+$D130*$24:$24, MATCH(I$50,$17:$17, 0))*2)))))","v":0},{"$f":"IF(($A130+INDEX($D130*($24:$24-$35:$35), MATCH(J$50,$17:$17, 0)))>$C$8,1000000000,(IF(OR(INDEX($22:$22-($A130-$D130*$35:$35), MATCH(J$50,$17:$17, 0))>0, INDEX($D130*$35:$35-$C130, MATCH(J$50,$17:$17, 0))>0),1000000000,(p!J130+n!J130+m!J130+INDEX(Vt!I:I, MATCH(($A130+INDEX($D130*($24:$24-$35:$35), MATCH(J$50,$17:$17, 0))),Vt!$A:$A,0)+INDEX($B130+$D130*$24:$24, MATCH(J$50,$17:$17, 0))*2)))))","v":0},{"$f":"IF(($A130+INDEX($D130*($24:$24-$35:$35), MATCH(K$50,$17:$17, 0)))>$C$8,1000000000,(IF(OR(INDEX($22:$22-($A130-$D130*$35:$35), MATCH(K$50,$17:$17, 0))>0, INDEX($D130*$35:$35-$C130, MATCH(K$50,$17:$17, 0))>0),1000000000,(p!K130+n!K130+m!K130+INDEX(Vt!J:J, MATCH(($A130+INDEX($D130*($24:$24-$35:$35), MATCH(K$50,$17:$17, 0))),Vt!$A:$A,0)+INDEX($B130+$D130*$24:$24, MATCH(K$50,$17:$17, 0))*2)))))","v":0},{"$f":"IF(($A130+INDEX($D130*($24:$24-$35:$35), MATCH(L$50,$17:$17, 0)))>$C$8,1000000000,(IF(OR(INDEX($22:$22-($A130-$D130*$35:$35), MATCH(L$50,$17:$17, 0))>0, INDEX($D130*$35:$35-$C130, MATCH(L$50,$17:$17, 0))>0),1000000000,(p!L130+n!L130+m!L130+INDEX(Vt!K:K, MATCH(($A130+INDEX($D130*($24:$24-$35:$35), MATCH(L$50,$17:$17, 0))),Vt!$A:$A,0)+INDEX($B130+$D130*$24:$24, MATCH(L$50,$17:$17, 0))*2)))))","v":0},{"$f":"IF(($A130+INDEX($D130*($24:$24-$35:$35), MATCH(M$50,$17:$17, 0)))>$C$8,1000000000,(IF(OR(INDEX($22:$22-($A130-$D130*$35:$35), MATCH(M$50,$17:$17, 0))>0, INDEX($D130*$35:$35-$C130, MATCH(M$50,$17:$17, 0))>0),1000000000,(p!M130+n!M130+m!M130+INDEX(Vt!L:L, MATCH(($A130+INDEX($D130*($24:$24-$35:$35), MATCH(M$50,$17:$17, 0))),Vt!$A:$A,0)+INDEX($B130+$D130*$24:$24, MATCH(M$50,$17:$17, 0))*2)))))","v":0},{"$f":"IF(($A130+INDEX($D130*($24:$24-$35:$35), MATCH(N$50,$17:$17, 0)))>$C$8,1000000000,(IF(OR(INDEX($22:$22-($A130-$D130*$35:$35), MATCH(N$50,$17:$17, 0))>0, INDEX($D130*$35:$35-$C130, MATCH(N$50,$17:$17, 0))>0),1000000000,(p!N130+n!N130+m!N130+INDEX(Vt!M:M, MATCH(($A130+INDEX($D130*($24:$24-$35:$35), MATCH(N$50,$17:$17, 0))),Vt!$A:$A,0)+INDEX($B130+$D130*$24:$24, MATCH(N$50,$17:$17, 0))*2)))))","v":0},{"$f":"IF(($A130+INDEX($D130*($24:$24-$35:$35), MATCH(O$50,$17:$17, 0)))>$C$8,1000000000,(IF(OR(INDEX($22:$22-($A130-$D130*$35:$35), MATCH(O$50,$17:$17, 0))>0, INDEX($D130*$35:$35-$C130, MATCH(O$50,$17:$17, 0))>0),1000000000,(p!O130+n!O130+m!O130+INDEX(Vt!N:N, MATCH(($A130+INDEX($D130*($24:$24-$35:$35), MATCH(O$50,$17:$17, 0))),Vt!$A:$A,0)+INDEX($B130+$D130*$24:$24, MATCH(O$50,$17:$17, 0))*2)))))","v":0}]
[8,4,4,0,0,{"$f":"IF(($A131+INDEX($D131*($24:$24-$35:$35), MATCH(F$50,$17:$17, 0)))>$C$8,1000000000,(IF(OR(INDEX($22:$22-($A131-$D131*$35:$35), MATCH(F$50,$17:$17, 0))>0, INDEX($D131*$35:$35-$C131, MATCH(F$50,$17:$17, 0))>0),1000000000,(p!F131+n!F131+m!F131+INDEX(Vt!E:E, MATCH(($A131+INDEX($D131*($24:$24-$35:$35), MATCH(F$50,$17:$17, 0))),Vt!$A:$A,0)+INDEX($B131+$D131*$24:$24, MATCH(F$50,$17:$17, 0))*2)))))","v":0},{"$f":"IF(($A131+INDEX($D131*($24:$24-$35:$35), MATCH(G$50,$17:$17, 0)))>$C$8,1000000000,(IF(OR(INDEX($22:$22-($A131-$D131*$35:$35), MATCH(G$50,$17:$17, 0))>0, INDEX($D131*$35:$35-$C131, MATCH(G$50,$17:$17, 0))>0),1000000000,(p!G131+n!G131+m!G131+INDEX(Vt!F:F, MATCH(($A131+INDEX($D131*($24:$24-$35:$35), MATCH(G$50,$17:$17, 0))),Vt!$A:$A,0)+INDEX($B131+$D131*$24:$24, MATCH(G$50,$17:$17, 0))*2)))))","v":0},{"$f":"IF(($A131+INDEX($D131*($24:$24-$35:$35), MATCH(H$50,$17:$17, 0)))>$C$8,1000000000,(IF(OR(INDEX($22:$22-($A131-$D131*$35:$35), MATCH(H$50,$17:$17, 0))>0, INDEX($D131*$35:$35-$C131, MATCH(H$50,$17:$17, 0))>0),1000000000,(p!H131+n!H131+m!H131+INDEX(Vt!G:G, MATCH(($A131+INDEX($D131*($24:$24-$35:$35), MATCH(H$50,$17:$17, 0))),Vt!$A:$A,0)+INDEX($B131+$D131*$24:$24, MATCH(H$50,$17:$17, 0))*2)))))","v":0},{"$f":"IF(($A131+INDEX($D131*($24:$24-$35:$35), MATCH(I$50,$17:$17, 0)))>$C$8,1000000000,(IF(OR(INDEX($22:$22-($A131-$D131*$35:$35), MATCH(I$50,$17:$17, 0))>0, INDEX($D131*$35:$35-$C131, MATCH(I$50,$17:$17, 0))>0),1000000000,(p!I131+n!I131+m!I131+INDEX(Vt!H:H, MATCH(($A131+INDEX($D131*($24:$24-$35:$35), MATCH(I$50,$17:$17, 0))),Vt!$A:$A,0)+INDEX($B131+$D131*$24:$24, MATCH(I$50,$17:$17, 0))*2)))))","v":0},{"$f":"IF(($A131+INDEX($D131*($24:$24-$35:$35), MATCH(J$50,$17:$17, 0)))>$C$8,1000000000,(IF(OR(INDEX($22:$22-($A131-$D131*$35:$35), MATCH(J$50,$17:$17, 0))>0, INDEX($D131*$35:$35-$C131, MATCH(J$50,$17:$17, 0))>0),1000000000,(p!J131+n!J131+m!J131+INDEX(Vt!I:I, MATCH(($A131+INDEX($D131*($24:$24-$35:$35), MATCH(J$50,$17:$17, 0))),Vt!$A:$A,0)+INDEX($B131+$D131*$24:$24, MATCH(J$50,$17:$17, 0))*2)))))","v":0},{"$f":"IF(($A131+INDEX($D131*($24:$24-$35:$35), MATCH(K$50,$17:$17, 0)))>$C$8,1000000000,(IF(OR(INDEX($22:$22-($A131-$D131*$35:$35), MATCH(K$50,$17:$17, 0))>0, INDEX($D131*$35:$35-$C131, MATCH(K$50,$17:$17, 0))>0),1000000000,(p!K131+n!K131+m!K131+INDEX(Vt!J:J, MATCH(($A131+INDEX($D131*($24:$24-$35:$35), MATCH(K$50,$17:$17, 0))),Vt!$A:$A,0)+INDEX($B131+$D131*$24:$24, MATCH(K$50,$17:$17, 0))*2)))))","v":0},{"$f":"IF(($A131+INDEX($D131*($24:$24-$35:$35), MATCH(L$50,$17:$17, 0)))>$C$8,1000000000,(IF(OR(INDEX($22:$22-($A131-$D131*$35:$35), MATCH(L$50,$17:$17, 0))>0, INDEX($D131*$35:$35-$C131, MATCH(L$50,$17:$17, 0))>0),1000000000,(p!L131+n!L131+m!L131+INDEX(Vt!K:K, MATCH(($A131+INDEX($D131*($24:$24-$35:$35), MATCH(L$50,$17:$17, 0))),Vt!$A:$A,0)+INDEX($B131+$D131*$24:$24, MATCH(L$50,$17:$17, 0))*2)))))","v":0},{"$f":"IF(($A131+INDEX($D131*($24:$24-$35:$35), MATCH(M$50,$17:$17, 0)))>$C$8,1000000000,(IF(OR(INDEX($22:$22-($A131-$D131*$35:$35), MATCH(M$50,$17:$17, 0))>0, INDEX($D131*$35:$35-$C131, MATCH(M$50,$17:$17, 0))>0),1000000000,(p!M131+n!M131+m!M131+INDEX(Vt!L:L, MATCH(($A131+INDEX($D131*($24:$24-$35:$35), MATCH(M$50,$17:$17, 0))),Vt!$A:$A,0)+INDEX($B131+$D131*$24:$24, MATCH(M$50,$17:$17, 0))*2)))))","v":0},{"$f":"IF(($A131+INDEX($D131*($24:$24-$35:$35), MATCH(N$50,$17:$17, 0)))>$C$8,1000000000,(IF(OR(INDEX($22:$22-($A131-$D131*$35:$35), MATCH(N$50,$17:$17, 0))>0, INDEX($D131*$35:$35-$C131, MATCH(N$50,$17:$17, 0))>0),1000000000,(p!N131+n!N131+m!N131+INDEX(Vt!M:M, MATCH(($A131+INDEX($D131*($24:$24-$35:$35), MATCH(N$50,$17:$17, 0))),Vt!$A:$A,0)+INDEX($B131+$D131*$24:$24, MATCH(N$50,$17:$17, 0))*2)))))","v":0},{"$f":"IF(($A131+INDEX($D131*($24:$24-$35:$35), MATCH(O$50,$17:$17, 0)))>$C$8,1000000000,(IF(OR(INDEX($22:$22-($A131-$D131*$35:$35), MATCH(O$50,$17:$17, 0))>0, INDEX($D131*$35:$35-$C131, MATCH(O$50,$17:$17, 0))>0),1000000000,(p!O131+n!O131+m!O131+INDEX(Vt!N:N, MATCH(($A131+INDEX($D131*($24:$24-$35:$35), MATCH(O$50,$17:$17, 0))),Vt!$A:$A,0)+INDEX($B131+$D131*$24:$24, MATCH(O$50,$17:$17, 0))*2)))))","v":0}]
[8,4,4,1,0,{"$f":"IF(($A132+INDEX($D132*($24:$24-$35:$35), MATCH(F$50,$17:$17, 0)))>$C$8,1000000000,(IF(OR(INDEX($22:$22-($A132-$D132*$35:$35), MATCH(F$50,$17:$17, 0))>0, INDEX($D132*$35:$35-$C132, MATCH(F$50,$17:$17, 0))>0),1000000000,(p!F132+n!F132+m!F132+INDEX(Vt!E:E, MATCH(($A132+INDEX($D132*($24:$24-$35:$35), MATCH(F$50,$17:$17, 0))),Vt!$A:$A,0)+INDEX($B132+$D132*$24:$24, MATCH(F$50,$17:$17, 0))*2)))))","v":0},{"$f":"IF(($A132+INDEX($D132*($24:$24-$35:$35), MATCH(G$50,$17:$17, 0)))>$C$8,1000000000,(IF(OR(INDEX($22:$22-($A132-$D132*$35:$35), MATCH(G$50,$17:$17, 0))>0, INDEX($D132*$35:$35-$C132, MATCH(G$50,$17:$17, 0))>0),1000000000,(p!G132+n!G132+m!G132+INDEX(Vt!F:F, MATCH(($A132+INDEX($D132*($24:$24-$35:$35), MATCH(G$50,$17:$17, 0))),Vt!$A:$A,0)+INDEX($B132+$D132*$24:$24, MATCH(G$50,$17:$17, 0))*2)))))","v":0},{"$f":"IF(($A132+INDEX($D132*($24:$24-$35:$35), MATCH(H$50,$17:$17, 0)))>$C$8,1000000000,(IF(OR(INDEX($22:$22-($A132-$D132*$35:$35), MATCH(H$50,$17:$17, 0))>0, INDEX($D132*$35:$35-$C132, MATCH(H$50,$17:$17, 0))>0),1000000000,(p!H132+n!H132+m!H132+INDEX(Vt!G:G, MATCH(($A132+INDEX($D132*($24:$24-$35:$35), MATCH(H$50,$17:$17, 0))),Vt!$A:$A,0)+INDEX($B132+$D132*$24:$24, MATCH(H$50,$17:$17, 0))*2)))))","v":0},{"$f":"IF(($A132+INDEX($D132*($24:$24-$35:$35), MATCH(I$50,$17:$17, 0)))>$C$8,1000000000,(IF(OR(INDEX($22:$22-($A132-$D132*$35:$35), MATCH(I$50,$17:$17, 0))>0, INDEX($D132*$35:$35-$C132, MATCH(I$50,$17:$17, 0))>0),1000000000,(p!I132+n!I132+m!I132+INDEX(Vt!H:H, MATCH(($A132+INDEX($D132*($24:$24-$35:$35), MATCH(I$50,$17:$17, 0))),Vt!$A:$A,0)+INDEX($B132+$D132*$24:$24, MATCH(I$50,$17:$17, 0))*2)))))","v":0},{"$f":"IF(($A132+INDEX($D132*($24:$24-$35:$35), MATCH(J$50,$17:$17, 0)))>$C$8,1000000000,(IF(OR(INDEX($22:$22-($A132-$D132*$35:$35), MATCH(J$50,$17:$17, 0))>0, INDEX($D132*$35:$35-$C132, MATCH(J$50,$17:$17, 0))>0),1000000000,(p!J132+n!J132+m!J132+INDEX(Vt!I:I, MATCH(($A132+INDEX($D132*($24:$24-$35:$35), MATCH(J$50,$17:$17, 0))),Vt!$A:$A,0)+INDEX($B132+$D132*$24:$24, MATCH(J$50,$17:$17, 0))*2)))))","v":0},{"$f":"IF(($A132+INDEX($D132*($24:$24-$35:$35), MATCH(K$50,$17:$17, 0)))>$C$8,1000000000,(IF(OR(INDEX($22:$22-($A132-$D132*$35:$35), MATCH(K$50,$17:$17, 0))>0, INDEX($D132*$35:$35-$C132, MATCH(K$50,$17:$17, 0))>0),1000000000,(p!K132+n!K132+m!K132+INDEX(Vt!J:J, MATCH(($A132+INDEX($D132*($24:$24-$35:$35), MATCH(K$50,$17:$17, 0))),Vt!$A:$A,0)+INDEX($B132+$D132*$24:$24, MATCH(K$50,$17:$17, 0))*2)))))","v":0},{"$f":"IF(($A132+INDEX($D132*($24:$24-$35:$35), MATCH(L$50,$17:$17, 0)))>$C$8,1000000000,(IF(OR(INDEX($22:$22-($A132-$D132*$35:$35), MATCH(L$50,$17:$17, 0))>0, INDEX($D132*$35:$35-$C132, MATCH(L$50,$17:$17, 0))>0),1000000000,(p!L132+n!L132+m!L132+INDEX(Vt!K:K, MATCH(($A132+INDEX($D132*($24:$24-$35:$35), MATCH(L$50,$17:$17, 0))),Vt!$A:$A,0)+INDEX($B132+$D132*$24:$24, MATCH(L$50,$17:$17, 0))*2)))))","v":0},{"$f":"IF(($A132+INDEX($D132*($24:$24-$35:$35), MATCH(M$50,$17:$17, 0)))>$C$8,1000000000,(IF(OR(INDEX($22:$22-($A132-$D132*$35:$35), MATCH(M$50,$17:$17, 0))>0, INDEX($D132*$35:$35-$C132, MATCH(M$50,$17:$17, 0))>0),1000000000,(p!M132+n!M132+m!M132+INDEX(Vt!L:L, MATCH(($A132+INDEX($D132*($24:$24-$35:$35), MATCH(M$50,$17:$17, 0))),Vt!$A:$A,0)+INDEX($B132+$D132*$24:$24, MATCH(M$50,$17:$17, 0))*2)))))","v":0},{"$f":"IF(($A132+INDEX($D132*($24:$24-$35:$35), MATCH(N$50,$17:$17, 0)))>$C$8,1000000000,(IF(OR(INDEX($22:$22-($A132-$D132*$35:$35), MATCH(N$50,$17:$17, 0))>0, INDEX($D132*$35:$35-$C132, MATCH(N$50,$17:$17, 0))>0),1000000000,(p!N132+n!N132+m!N132+INDEX(Vt!M:M, MATCH(($A132+INDEX($D132*($24:$24-$35:$35), MATCH(N$50,$17:$17, 0))),Vt!$A:$A,0)+INDEX($B132+$D132*$24:$24, MATCH(N$50,$17:$17, 0))*2)))))","v":0},{"$f":"IF(($A132+INDEX($D132*($24:$24-$35:$35), MATCH(O$50,$17:$17, 0)))>$C$8,1000000000,(IF(OR(INDEX($22:$22-($A132-$D132*$35:$35), MATCH(O$50,$17:$17, 0))>0, INDEX($D132*$35:$35-$C132, MATCH(O$50,$17:$17, 0))>0),1000000000,(p!O132+n!O132+m!O132+INDEX(Vt!N:N, MATCH(($A132+INDEX($D132*($24:$24-$35:$35), MATCH(O$50,$17:$17, 0))),Vt!$A:$A,0)+INDEX($B132+$D132*$24:$24, MATCH(O$50,$17:$17, 0))*2)))))","v":0}]
[8,5,3,0,0,{"$f":"IF(($A133+INDEX($D133*($24:$24-$35:$35), MATCH(F$50,$17:$17, 0)))>$C$8,1000000000,(IF(OR(INDEX($22:$22-($A133-$D133*$35:$35), MATCH(F$50,$17:$17, 0))>0, INDEX($D133*$35:$35-$C133, MATCH(F$50,$17:$17, 0))>0),1000000000,(p!F133+n!F133+m!F133+INDEX(Vt!E:E, MATCH(($A133+INDEX($D133*($24:$24-$35:$35), MATCH(F$50,$17:$17, 0))),Vt!$A:$A,0)+INDEX($B133+$D133*$24:$24, MATCH(F$50,$17:$17, 0))*2)))))","v":0},{"$f":"IF(($A133+INDEX($D133*($24:$24-$35:$35), MATCH(G$50,$17:$17, 0)))>$C$8,1000000000,(IF(OR(INDEX($22:$22-($A133-$D133*$35:$35), MATCH(G$50,$17:$17, 0))>0, INDEX($D133*$35:$35-$C133, MATCH(G$50,$17:$17, 0))>0),1000000000,(p!G133+n!G133+m!G133+INDEX(Vt!F:F, MATCH(($A133+INDEX($D133*($24:$24-$35:$35), MATCH(G$50,$17:$17, 0))),Vt!$A:$A,0)+INDEX($B133+$D133*$24:$24, MATCH(G$50,$17:$17, 0))*2)))))","v":0},{"$f":"IF(($A133+INDEX($D133*($24:$24-$35:$35), MATCH(H$50,$17:$17, 0)))>$C$8,1000000000,(IF(OR(INDEX($22:$22-($A133-$D133*$35:$35), MATCH(H$50,$17:$17, 0))>0, INDEX($D133*$35:$35-$C133, MATCH(H$50,$17:$17, 0))>0),1000000000,(p!H133+n!H133+m!H133+INDEX(Vt!G:G, MATCH(($A133+INDEX($D133*($24:$24-$35:$35), MATCH(H$50,$17:$17, 0))),Vt!$A:$A,0)+INDEX($B133+$D133*$24:$24, MATCH(H$50,$17:$17, 0))*2)))))","v":0},{"$f":"IF(($A133+INDEX($D133*($24:$24-$35:$35), MATCH(I$50,$17:$17, 0)))>$C$8,1000000000,(IF(OR(INDEX($22:$22-($A133-$D133*$35:$35), MATCH(I$50,$17:$17, 0))>0, INDEX($D133*$35:$35-$C133, MATCH(I$50,$17:$17, 0))>0),1000000000,(p!I133+n!I133+m!I133+INDEX(Vt!H:H, MATCH(($A133+INDEX($D133*($24:$24-$35:$35), MATCH(I$50,$17:$17, 0))),Vt!$A:$A,0)+INDEX($B133+$D133*$24:$24, MATCH(I$50,$17:$17, 0))*2)))))","v":0},{"$f":"IF(($A133+INDEX($D133*($24:$24-$35:$35), MATCH(J$50,$17:$17, 0)))>$C$8,1000000000,(IF(OR(INDEX($22:$22-($A133-$D133*$35:$35), MATCH(J$50,$17:$17, 0))>0, INDEX($D133*$35:$35-$C133, MATCH(J$50,$17:$17, 0))>0),1000000000,(p!J133+n!J133+m!J133+INDEX(Vt!I:I, MATCH(($A133+INDEX($D133*($24:$24-$35:$35), MATCH(J$50,$17:$17, 0))),Vt!$A:$A,0)+INDEX($B133+$D133*$24:$24, MATCH(J$50,$17:$17, 0))*2)))))","v":0},{"$f":"IF(($A133+INDEX($D133*($24:$24-$35:$35), MATCH(K$50,$17:$17, 0)))>$C$8,1000000000,(IF(OR(INDEX($22:$22-($A133-$D133*$35:$35), MATCH(K$50,$17:$17, 0))>0, INDEX($D133*$35:$35-$C133, MATCH(K$50,$17:$17, 0))>0),1000000000,(p!K133+n!K133+m!K133+INDEX(Vt!J:J, MATCH(($A133+INDEX($D133*($24:$24-$35:$35), MATCH(K$50,$17:$17, 0))),Vt!$A:$A,0)+INDEX($B133+$D133*$24:$24, MATCH(K$50,$17:$17, 0))*2)))))","v":0},{"$f":"IF(($A133+INDEX($D133*($24:$24-$35:$35), MATCH(L$50,$17:$17, 0)))>$C$8,1000000000,(IF(OR(INDEX($22:$22-($A133-$D133*$35:$35), MATCH(L$50,$17:$17, 0))>0, INDEX($D133*$35:$35-$C133, MATCH(L$50,$17:$17, 0))>0),1000000000,(p!L133+n!L133+m!L133+INDEX(Vt!K:K, MATCH(($A133+INDEX($D133*($24:$24-$35:$35), MATCH(L$50,$17:$17, 0))),Vt!$A:$A,0)+INDEX($B133+$D133*$24:$24, MATCH(L$50,$17:$17, 0))*2)))))","v":0},{"$f":"IF(($A133+INDEX($D133*($24:$24-$35:$35), MATCH(M$50,$17:$17, 0)))>$C$8,1000000000,(IF(OR(INDEX($22:$22-($A133-$D133*$35:$35), MATCH(M$50,$17:$17, 0))>0, INDEX($D133*$35:$35-$C133, MATCH(M$50,$17:$17, 0))>0),1000000000,(p!M133+n!M133+m!M133+INDEX(Vt!L:L, MATCH(($A133+INDEX($D133*($24:$24-$35:$35), MATCH(M$50,$17:$17, 0))),Vt!$A:$A,0)+INDEX($B133+$D133*$24:$24, MATCH(M$50,$17:$17, 0))*2)))))","v":0},{"$f":"IF(($A133+INDEX($D133*($24:$24-$35:$35), MATCH(N$50,$17:$17, 0)))>$C$8,1000000000,(IF(OR(INDEX($22:$22-($A133-$D133*$35:$35), MATCH(N$50,$17:$17, 0))>0, INDEX($D133*$35:$35-$C133, MATCH(N$50,$17:$17, 0))>0),1000000000,(p!N133+n!N133+m!N133+INDEX(Vt!M:M, MATCH(($A133+INDEX($D133*($24:$24-$35:$35), MATCH(N$50,$17:$17, 0))),Vt!$A:$A,0)+INDEX($B133+$D133*$24:$24, MATCH(N$50,$17:$17, 0))*2)))))","v":0},{"$f":"IF(($A133+INDEX($D133*($24:$24-$35:$35), MATCH(O$50,$17:$17, 0)))>$C$8,1000000000,(IF(OR(INDEX($22:$22-($A133-$D133*$35:$35), MATCH(O$50,$17:$17, 0))>0, INDEX($D133*$35:$35-$C133, MATCH(O$50,$17:$17, 0))>0),1000000000,(p!O133+n!O133+m!O133+INDEX(Vt!N:N, MATCH(($A133+INDEX($D133*($24:$24-$35:$35), MATCH(O$50,$17:$17, 0))),Vt!$A:$A,0)+INDEX($B133+$D133*$24:$24, MATCH(O$50,$17:$17, 0))*2)))))","v":0}]
[8,5,3,1,0,{"$f":"IF(($A134+INDEX($D134*($24:$24-$35:$35), MATCH(F$50,$17:$17, 0)))>$C$8,1000000000,(IF(OR(INDEX($22:$22-($A134-$D134*$35:$35), MATCH(F$50,$17:$17, 0))>0, INDEX($D134*$35:$35-$C134, MATCH(F$50,$17:$17, 0))>0),1000000000,(p!F134+n!F134+m!F134+INDEX(Vt!E:E, MATCH(($A134+INDEX($D134*($24:$24-$35:$35), MATCH(F$50,$17:$17, 0))),Vt!$A:$A,0)+INDEX($B134+$D134*$24:$24, MATCH(F$50,$17:$17, 0))*2)))))","v":0},{"$f":"IF(($A134+INDEX($D134*($24:$24-$35:$35), MATCH(G$50,$17:$17, 0)))>$C$8,1000000000,(IF(OR(INDEX($22:$22-($A134-$D134*$35:$35), MATCH(G$50,$17:$17, 0))>0, INDEX($D134*$35:$35-$C134, MATCH(G$50,$17:$17, 0))>0),1000000000,(p!G134+n!G134+m!G134+INDEX(Vt!F:F, MATCH(($A134+INDEX($D134*($24:$24-$35:$35), MATCH(G$50,$17:$17, 0))),Vt!$A:$A,0)+INDEX($B134+$D134*$24:$24, MATCH(G$50,$17:$17, 0))*2)))))","v":0},{"$f":"IF(($A134+INDEX($D134*($24:$24-$35:$35), MATCH(H$50,$17:$17, 0)))>$C$8,1000000000,(IF(OR(INDEX($22:$22-($A134-$D134*$35:$35), MATCH(H$50,$17:$17, 0))>0, INDEX($D134*$35:$35-$C134, MATCH(H$50,$17:$17, 0))>0),1000000000,(p!H134+n!H134+m!H134+INDEX(Vt!G:G, MATCH(($A134+INDEX($D134*($24:$24-$35:$35), MATCH(H$50,$17:$17, 0))),Vt!$A:$A,0)+INDEX($B134+$D134*$24:$24, MATCH(H$50,$17:$17, 0))*2)))))","v":0},{"$f":"IF(($A134+INDEX($D134*($24:$24-$35:$35), MATCH(I$50,$17:$17, 0)))>$C$8,1000000000,(IF(OR(INDEX($22:$22-($A134-$D134*$35:$35), MATCH(I$50,$17:$17, 0))>0, INDEX($D134*$35:$35-$C134, MATCH(I$50,$17:$17, 0))>0),1000000000,(p!I134+n!I134+m!I134+INDEX(Vt!H:H, MATCH(($A134+INDEX($D134*($24:$24-$35:$35), MATCH(I$50,$17:$17, 0))),Vt!$A:$A,0)+INDEX($B134+$D134*$24:$24, MATCH(I$50,$17:$17, 0))*2)))))","v":0},{"$f":"IF(($A134+INDEX($D134*($24:$24-$35:$35), MATCH(J$50,$17:$17, 0)))>$C$8,1000000000,(IF(OR(INDEX($22:$22-($A134-$D134*$35:$35), MATCH(J$50,$17:$17, 0))>0, INDEX($D134*$35:$35-$C134, MATCH(J$50,$17:$17, 0))>0),1000000000,(p!J134+n!J134+m!J134+INDEX(Vt!I:I, MATCH(($A134+INDEX($D134*($24:$24-$35:$35), MATCH(J$50,$17:$17, 0))),Vt!$A:$A,0)+INDEX($B134+$D134*$24:$24, MATCH(J$50,$17:$17, 0))*2)))))","v":0},{"$f":"IF(($A134+INDEX($D134*($24:$24-$35:$35), MATCH(K$50,$17:$17, 0)))>$C$8,1000000000,(IF(OR(INDEX($22:$22-($A134-$D134*$35:$35), MATCH(K$50,$17:$17, 0))>0, INDEX($D134*$35:$35-$C134, MATCH(K$50,$17:$17, 0))>0),1000000000,(p!K134+n!K134+m!K134+INDEX(Vt!J:J, MATCH(($A134+INDEX($D134*($24:$24-$35:$35), MATCH(K$50,$17:$17, 0))),Vt!$A:$A,0)+INDEX($B134+$D134*$24:$24, MATCH(K$50,$17:$17, 0))*2)))))","v":0},{"$f":"IF(($A134+INDEX($D134*($24:$24-$35:$35), MATCH(L$50,$17:$17, 0)))>$C$8,1000000000,(IF(OR(INDEX($22:$22-($A134-$D134*$35:$35), MATCH(L$50,$17:$17, 0))>0, INDEX($D134*$35:$35-$C134, MATCH(L$50,$17:$17, 0))>0),1000000000,(p!L134+n!L134+m!L134+INDEX(Vt!K:K, MATCH(($A134+INDEX($D134*($24:$24-$35:$35), MATCH(L$50,$17:$17, 0))),Vt!$A:$A,0)+INDEX($B134+$D134*$24:$24, MATCH(L$50,$17:$17, 0))*2)))))","v":0},{"$f":"IF(($A134+INDEX($D134*($24:$24-$35:$35), MATCH(M$50,$17:$17, 0)))>$C$8,1000000000,(IF(OR(INDEX($22:$22-($A134-$D134*$35:$35), MATCH(M$50,$17:$17, 0))>0, INDEX($D134*$35:$35-$C134, MATCH(M$50,$17:$17, 0))>0),1000000000,(p!M134+n!M134+m!M134+INDEX(Vt!L:L, MATCH(($A134+INDEX($D134*($24:$24-$35:$35), MATCH(M$50,$17:$17, 0))),Vt!$A:$A,0)+INDEX($B134+$D134*$24:$24, MATCH(M$50,$17:$17, 0))*2)))))","v":0},{"$f":"IF(($A134+INDEX($D134*($24:$24-$35:$35), MATCH(N$50,$17:$17, 0)))>$C$8,1000000000,(IF(OR(INDEX($22:$22-($A134-$D134*$35:$35), MATCH(N$50,$17:$17, 0))>0, INDEX($D134*$35:$35-$C134, MATCH(N$50,$17:$17, 0))>0),1000000000,(p!N134+n!N134+m!N134+INDEX(Vt!M:M, MATCH(($A134+INDEX($D134*($24:$24-$35:$35), MATCH(N$50,$17:$17, 0))),Vt!$A:$A,0)+INDEX($B134+$D134*$24:$24, MATCH(N$50,$17:$17, 0))*2)))))","v":0},{"$f":"IF(($A134+INDEX($D134*($24:$24-$35:$35), MATCH(O$50,$17:$17, 0)))>$C$8,1000000000,(IF(OR(INDEX($22:$22-($A134-$D134*$35:$35), MATCH(O$50,$17:$17, 0))>0, INDEX($D134*$35:$35-$C134, MATCH(O$50,$17:$17, 0))>0),1000000000,(p!O134+n!O134+m!O134+INDEX(Vt!N:N, MATCH(($A134+INDEX($D134*($24:$24-$35:$35), MATCH(O$50,$17:$17, 0))),Vt!$A:$A,0)+INDEX($B134+$D134*$24:$24, MATCH(O$50,$17:$17, 0))*2)))))","v":0}]
[8,6,2,0,0,{"$f":"IF(($A135+INDEX($D135*($24:$24-$35:$35), MATCH(F$50,$17:$17, 0)))>$C$8,1000000000,(IF(OR(INDEX($22:$22-($A135-$D135*$35:$35), MATCH(F$50,$17:$17, 0))>0, INDEX($D135*$35:$35-$C135, MATCH(F$50,$17:$17, 0))>0),1000000000,(p!F135+n!F135+m!F135+INDEX(Vt!E:E, MATCH(($A135+INDEX($D135*($24:$24-$35:$35), MATCH(F$50,$17:$17, 0))),Vt!$A:$A,0)+INDEX($B135+$D135*$24:$24, MATCH(F$50,$17:$17, 0))*2)))))","v":0},{"$f":"IF(($A135+INDEX($D135*($24:$24-$35:$35), MATCH(G$50,$17:$17, 0)))>$C$8,1000000000,(IF(OR(INDEX($22:$22-($A135-$D135*$35:$35), MATCH(G$50,$17:$17, 0))>0, INDEX($D135*$35:$35-$C135, MATCH(G$50,$17:$17, 0))>0),1000000000,(p!G135+n!G135+m!G135+INDEX(Vt!F:F, MATCH(($A135+INDEX($D135*($24:$24-$35:$35), MATCH(G$50,$17:$17, 0))),Vt!$A:$A,0)+INDEX($B135+$D135*$24:$24, MATCH(G$50,$17:$17, 0))*2)))))","v":0},{"$f":"IF(($A135+INDEX($D135*($24:$24-$35:$35), MATCH(H$50,$17:$17, 0)))>$C$8,1000000000,(IF(OR(INDEX($22:$22-($A135-$D135*$35:$35), MATCH(H$50,$17:$17, 0))>0, INDEX($D135*$35:$35-$C135, MATCH(H$50,$17:$17, 0))>0),1000000000,(p!H135+n!H135+m!H135+INDEX(Vt!G:G, MATCH(($A135+INDEX($D135*($24:$24-$35:$35), MATCH(H$50,$17:$17, 0))),Vt!$A:$A,0)+INDEX($B135+$D135*$24:$24, MATCH(H$50,$17:$17, 0))*2)))))","v":0},{"$f":"IF(($A135+INDEX($D135*($24:$24-$35:$35), MATCH(I$50,$17:$17, 0)))>$C$8,1000000000,(IF(OR(INDEX($22:$22-($A135-$D135*$35:$35), MATCH(I$50,$17:$17, 0))>0, INDEX($D135*$35:$35-$C135, MATCH(I$50,$17:$17, 0))>0),1000000000,(p!I135+n!I135+m!I135+INDEX(Vt!H:H, MATCH(($A135+INDEX($D135*($24:$24-$35:$35), MATCH(I$50,$17:$17, 0))),Vt!$A:$A,0)+INDEX($B135+$D135*$24:$24, MATCH(I$50,$17:$17, 0))*2)))))","v":0},{"$f":"IF(($A135+INDEX($D135*($24:$24-$35:$35), MATCH(J$50,$17:$17, 0)))>$C$8,1000000000,(IF(OR(INDEX($22:$22-($A135-$D135*$35:$35), MATCH(J$50,$17:$17, 0))>0, INDEX($D135*$35:$35-$C135, MATCH(J$50,$17:$17, 0))>0),1000000000,(p!J135+n!J135+m!J135+INDEX(Vt!I:I, MATCH(($A135+INDEX($D135*($24:$24-$35:$35), MATCH(J$50,$17:$17, 0))),Vt!$A:$A,0)+INDEX($B135+$D135*$24:$24, MATCH(J$50,$17:$17, 0))*2)))))","v":0},{"$f":"IF(($A135+INDEX($D135*($24:$24-$35:$35), MATCH(K$50,$17:$17, 0)))>$C$8,1000000000,(IF(OR(INDEX($22:$22-($A135-$D135*$35:$35), MATCH(K$50,$17:$17, 0))>0, INDEX($D135*$35:$35-$C135, MATCH(K$50,$17:$17, 0))>0),1000000000,(p!K135+n!K135+m!K135+INDEX(Vt!J:J, MATCH(($A135+INDEX($D135*($24:$24-$35:$35), MATCH(K$50,$17:$17, 0))),Vt!$A:$A,0)+INDEX($B135+$D135*$24:$24, MATCH(K$50,$17:$17, 0))*2)))))","v":0},{"$f":"IF(($A135+INDEX($D135*($24:$24-$35:$35), MATCH(L$50,$17:$17, 0)))>$C$8,1000000000,(IF(OR(INDEX($22:$22-($A135-$D135*$35:$35), MATCH(L$50,$17:$17, 0))>0, INDEX($D135*$35:$35-$C135, MATCH(L$50,$17:$17, 0))>0),1000000000,(p!L135+n!L135+m!L135+INDEX(Vt!K:K, MATCH(($A135+INDEX($D135*($24:$24-$35:$35), MATCH(L$50,$17:$17, 0))),Vt!$A:$A,0)+INDEX($B135+$D135*$24:$24, MATCH(L$50,$17:$17, 0))*2)))))","v":0},{"$f":"IF(($A135+INDEX($D135*($24:$24-$35:$35), MATCH(M$50,$17:$17, 0)))>$C$8,1000000000,(IF(OR(INDEX($22:$22-($A135-$D135*$35:$35), MATCH(M$50,$17:$17, 0))>0, INDEX($D135*$35:$35-$C135, MATCH(M$50,$17:$17, 0))>0),1000000000,(p!M135+n!M135+m!M135+INDEX(Vt!L:L, MATCH(($A135+INDEX($D135*($24:$24-$35:$35), MATCH(M$50,$17:$17, 0))),Vt!$A:$A,0)+INDEX($B135+$D135*$24:$24, MATCH(M$50,$17:$17, 0))*2)))))","v":0},{"$f":"IF(($A135+INDEX($D135*($24:$24-$35:$35), MATCH(N$50,$17:$17, 0)))>$C$8,1000000000,(IF(OR(INDEX($22:$22-($A135-$D135*$35:$35), MATCH(N$50,$17:$17, 0))>0, INDEX($D135*$35:$35-$C135, MATCH(N$50,$17:$17, 0))>0),1000000000,(p!N135+n!N135+m!N135+INDEX(Vt!M:M, MATCH(($A135+INDEX($D135*($24:$24-$35:$35), MATCH(N$50,$17:$17, 0))),Vt!$A:$A,0)+INDEX($B135+$D135*$24:$24, MATCH(N$50,$17:$17, 0))*2)))))","v":0},{"$f":"IF(($A135+INDEX($D135*($24:$24-$35:$35), MATCH(O$50,$17:$17, 0)))>$C$8,1000000000,(IF(OR(INDEX($22:$22-($A135-$D135*$35:$35), MATCH(O$50,$17:$17, 0))>0, INDEX($D135*$35:$35-$C135, MATCH(O$50,$17:$17, 0))>0),1000000000,(p!O135+n!O135+m!O135+INDEX(Vt!N:N, MATCH(($A135+INDEX($D135*($24:$24-$35:$35), MATCH(O$50,$17:$17, 0))),Vt!$A:$A,0)+INDEX($B135+$D135*$24:$24, MATCH(O$50,$17:$17, 0))*2)))))","v":0}]
[8,6,2,1,0,{"$f":"IF(($A136+INDEX($D136*($24:$24-$35:$35), MATCH(F$50,$17:$17, 0)))>$C$8,1000000000,(IF(OR(INDEX($22:$22-($A136-$D136*$35:$35), MATCH(F$50,$17:$17, 0))>0, INDEX($D136*$35:$35-$C136, MATCH(F$50,$17:$17, 0))>0),1000000000,(p!F136+n!F136+m!F136+INDEX(Vt!E:E, MATCH(($A136+INDEX($D136*($24:$24-$35:$35), MATCH(F$50,$17:$17, 0))),Vt!$A:$A,0)+INDEX($B136+$D136*$24:$24, MATCH(F$50,$17:$17, 0))*2)))))","v":0},{"$f":"IF(($A136+INDEX($D136*($24:$24-$35:$35), MATCH(G$50,$17:$17, 0)))>$C$8,1000000000,(IF(OR(INDEX($22:$22-($A136-$D136*$35:$35), MATCH(G$50,$17:$17, 0))>0, INDEX($D136*$35:$35-$C136, MATCH(G$50,$17:$17, 0))>0),1000000000,(p!G136+n!G136+m!G136+INDEX(Vt!F:F, MATCH(($A136+INDEX($D136*($24:$24-$35:$35), MATCH(G$50,$17:$17, 0))),Vt!$A:$A,0)+INDEX($B136+$D136*$24:$24, MATCH(G$50,$17:$17, 0))*2)))))","v":0},{"$f":"IF(($A136+INDEX($D136*($24:$24-$35:$35), MATCH(H$50,$17:$17, 0)))>$C$8,1000000000,(IF(OR(INDEX($22:$22-($A136-$D136*$35:$35), MATCH(H$50,$17:$17, 0))>0, INDEX($D136*$35:$35-$C136, MATCH(H$50,$17:$17, 0))>0),1000000000,(p!H136+n!H136+m!H136+INDEX(Vt!G:G, MATCH(($A136+INDEX($D136*($24:$24-$35:$35), MATCH(H$50,$17:$17, 0))),Vt!$A:$A,0)+INDEX($B136+$D136*$24:$24, MATCH(H$50,$17:$17, 0))*2)))))","v":0},{"$f":"IF(($A136+INDEX($D136*($24:$24-$35:$35), MATCH(I$50,$17:$17, 0)))>$C$8,1000000000,(IF(OR(INDEX($22:$22-($A136-$D136*$35:$35), MATCH(I$50,$17:$17, 0))>0, INDEX($D136*$35:$35-$C136, MATCH(I$50,$17:$17, 0))>0),1000000000,(p!I136+n!I136+m!I136+INDEX(Vt!H:H, MATCH(($A136+INDEX($D136*($24:$24-$35:$35), MATCH(I$50,$17:$17, 0))),Vt!$A:$A,0)+INDEX($B136+$D136*$24:$24, MATCH(I$50,$17:$17, 0))*2)))))","v":0},{"$f":"IF(($A136+INDEX($D136*($24:$24-$35:$35), MATCH(J$50,$17:$17, 0)))>$C$8,1000000000,(IF(OR(INDEX($22:$22-($A136-$D136*$35:$35), MATCH(J$50,$17:$17, 0))>0, INDEX($D136*$35:$35-$C136, MATCH(J$50,$17:$17, 0))>0),1000000000,(p!J136+n!J136+m!J136+INDEX(Vt!I:I, MATCH(($A136+INDEX($D136*($24:$24-$35:$35), MATCH(J$50,$17:$17, 0))),Vt!$A:$A,0)+INDEX($B136+$D136*$24:$24, MATCH(J$50,$17:$17, 0))*2)))))","v":0},{"$f":"IF(($A136+INDEX($D136*($24:$24-$35:$35), MATCH(K$50,$17:$17, 0)))>$C$8,1000000000,(IF(OR(INDEX($22:$22-($A136-$D136*$35:$35), MATCH(K$50,$17:$17, 0))>0, INDEX($D136*$35:$35-$C136, MATCH(K$50,$17:$17, 0))>0),1000000000,(p!K136+n!K136+m!K136+INDEX(Vt!J:J, MATCH(($A136+INDEX($D136*($24:$24-$35:$35), MATCH(K$50,$17:$17, 0))),Vt!$A:$A,0)+INDEX($B136+$D136*$24:$24, MATCH(K$50,$17:$17, 0))*2)))))","v":0},{"$f":"IF(($A136+INDEX($D136*($24:$24-$35:$35), MATCH(L$50,$17:$17, 0)))>$C$8,1000000000,(IF(OR(INDEX($22:$22-($A136-$D136*$35:$35), MATCH(L$50,$17:$17, 0))>0, INDEX($D136*$35:$35-$C136, MATCH(L$50,$17:$17, 0))>0),1000000000,(p!L136+n!L136+m!L136+INDEX(Vt!K:K, MATCH(($A136+INDEX($D136*($24:$24-$35:$35), MATCH(L$50,$17:$17, 0))),Vt!$A:$A,0)+INDEX($B136+$D136*$24:$24, MATCH(L$50,$17:$17, 0))*2)))))","v":0},{"$f":"IF(($A136+INDEX($D136*($24:$24-$35:$35), MATCH(M$50,$17:$17, 0)))>$C$8,1000000000,(IF(OR(INDEX($22:$22-($A136-$D136*$35:$35), MATCH(M$50,$17:$17, 0))>0, INDEX($D136*$35:$35-$C136, MATCH(M$50,$17:$17, 0))>0),1000000000,(p!M136+n!M136+m!M136+INDEX(Vt!L:L, MATCH(($A136+INDEX($D136*($24:$24-$35:$35), MATCH(M$50,$17:$17, 0))),Vt!$A:$A,0)+INDEX($B136+$D136*$24:$24, MATCH(M$50,$17:$17, 0))*2)))))","v":0},{"$f":"IF(($A136+INDEX($D136*($24:$24-$35:$35), MATCH(N$50,$17:$17, 0)))>$C$8,1000000000,(IF(OR(INDEX($22:$22-($A136-$D136*$35:$35), MATCH(N$50,$17:$17, 0))>0, INDEX($D136*$35:$35-$C136, MATCH(N$50,$17:$17, 0))>0),1000000000,(p!N136+n!N136+m!N136+INDEX(Vt!M:M, MATCH(($A136+INDEX($D136*($24:$24-$35:$35), MATCH(N$50,$17:$17, 0))),Vt!$A:$A,0)+INDEX($B136+$D136*$24:$24, MATCH(N$50,$17:$17, 0))*2)))))","v":0},{"$f":"IF(($A136+INDEX($D136*($24:$24-$35:$35), MATCH(O$50,$17:$17, 0)))>$C$8,1000000000,(IF(OR(INDEX($22:$22-($A136-$D136*$35:$35), MATCH(O$50,$17:$17, 0))>0, INDEX($D136*$35:$35-$C136, MATCH(O$50,$17:$17, 0))>0),1000000000,(p!O136+n!O136+m!O136+INDEX(Vt!N:N, MATCH(($A136+INDEX($D136*($24:$24-$35:$35), MATCH(O$50,$17:$17, 0))),Vt!$A:$A,0)+INDEX($B136+$D136*$24:$24, MATCH(O$50,$17:$17, 0))*2)))))","v":0}]
[8,7,1,0,0,{"$f":"IF(($A137+INDEX($D137*($24:$24-$35:$35), MATCH(F$50,$17:$17, 0)))>$C$8,1000000000,(IF(OR(INDEX($22:$22-($A137-$D137*$35:$35), MATCH(F$50,$17:$17, 0))>0, INDEX($D137*$35:$35-$C137, MATCH(F$50,$17:$17, 0))>0),1000000000,(p!F137+n!F137+m!F137+INDEX(Vt!E:E, MATCH(($A137+INDEX($D137*($24:$24-$35:$35), MATCH(F$50,$17:$17, 0))),Vt!$A:$A,0)+INDEX($B137+$D137*$24:$24, MATCH(F$50,$17:$17, 0))*2)))))","v":0},{"$f":"IF(($A137+INDEX($D137*($24:$24-$35:$35), MATCH(G$50,$17:$17, 0)))>$C$8,1000000000,(IF(OR(INDEX($22:$22-($A137-$D137*$35:$35), MATCH(G$50,$17:$17, 0))>0, INDEX($D137*$35:$35-$C137, MATCH(G$50,$17:$17, 0))>0),1000000000,(p!G137+n!G137+m!G137+INDEX(Vt!F:F, MATCH(($A137+INDEX($D137*($24:$24-$35:$35), MATCH(G$50,$17:$17, 0))),Vt!$A:$A,0)+INDEX($B137+$D137*$24:$24, MATCH(G$50,$17:$17, 0))*2)))))","v":0},{"$f":"IF(($A137+INDEX($D137*($24:$24-$35:$35), MATCH(H$50,$17:$17, 0)))>$C$8,1000000000,(IF(OR(INDEX($22:$22-($A137-$D137*$35:$35), MATCH(H$50,$17:$17, 0))>0, INDEX($D137*$35:$35-$C137, MATCH(H$50,$17:$17, 0))>0),1000000000,(p!H137+n!H137+m!H137+INDEX(Vt!G:G, MATCH(($A137+INDEX($D137*($24:$24-$35:$35), MATCH(H$50,$17:$17, 0))),Vt!$A:$A,0)+INDEX($B137+$D137*$24:$24, MATCH(H$50,$17:$17, 0))*2)))))","v":0},{"$f":"IF(($A137+INDEX($D137*($24:$24-$35:$35), MATCH(I$50,$17:$17, 0)))>$C$8,1000000000,(IF(OR(INDEX($22:$22-($A137-$D137*$35:$35), MATCH(I$50,$17:$17, 0))>0, INDEX($D137*$35:$35-$C137, MATCH(I$50,$17:$17, 0))>0),1000000000,(p!I137+n!I137+m!I137+INDEX(Vt!H:H, MATCH(($A137+INDEX($D137*($24:$24-$35:$35), MATCH(I$50,$17:$17, 0))),Vt!$A:$A,0)+INDEX($B137+$D137*$24:$24, MATCH(I$50,$17:$17, 0))*2)))))","v":0},{"$f":"IF(($A137+INDEX($D137*($24:$24-$35:$35), MATCH(J$50,$17:$17, 0)))>$C$8,1000000000,(IF(OR(INDEX($22:$22-($A137-$D137*$35:$35), MATCH(J$50,$17:$17, 0))>0, INDEX($D137*$35:$35-$C137, MATCH(J$50,$17:$17, 0))>0),1000000000,(p!J137+n!J137+m!J137+INDEX(Vt!I:I, MATCH(($A137+INDEX($D137*($24:$24-$35:$35), MATCH(J$50,$17:$17, 0))),Vt!$A:$A,0)+INDEX($B137+$D137*$24:$24, MATCH(J$50,$17:$17, 0))*2)))))","v":0},{"$f":"IF(($A137+INDEX($D137*($24:$24-$35:$35), MATCH(K$50,$17:$17, 0)))>$C$8,1000000000,(IF(OR(INDEX($22:$22-($A137-$D137*$35:$35), MATCH(K$50,$17:$17, 0))>0, INDEX($D137*$35:$35-$C137, MATCH(K$50,$17:$17, 0))>0),1000000000,(p!K137+n!K137+m!K137+INDEX(Vt!J:J, MATCH(($A137+INDEX($D137*($24:$24-$35:$35), MATCH(K$50,$17:$17, 0))),Vt!$A:$A,0)+INDEX($B137+$D137*$24:$24, MATCH(K$50,$17:$17, 0))*2)))))","v":0},{"$f":"IF(($A137+INDEX($D137*($24:$24-$35:$35), MATCH(L$50,$17:$17, 0)))>$C$8,1000000000,(IF(OR(INDEX($22:$22-($A137-$D137*$35:$35), MATCH(L$50,$17:$17, 0))>0, INDEX($D137*$35:$35-$C137, MATCH(L$50,$17:$17, 0))>0),1000000000,(p!L137+n!L137+m!L137+INDEX(Vt!K:K, MATCH(($A137+INDEX($D137*($24:$24-$35:$35), MATCH(L$50,$17:$17, 0))),Vt!$A:$A,0)+INDEX($B137+$D137*$24:$24, MATCH(L$50,$17:$17, 0))*2)))))","v":0},{"$f":"IF(($A137+INDEX($D137*($24:$24-$35:$35), MATCH(M$50,$17:$17, 0)))>$C$8,1000000000,(IF(OR(INDEX($22:$22-($A137-$D137*$35:$35), MATCH(M$50,$17:$17, 0))>0, INDEX($D137*$35:$35-$C137, MATCH(M$50,$17:$17, 0))>0),1000000000,(p!M137+n!M137+m!M137+INDEX(Vt!L:L, MATCH(($A137+INDEX($D137*($24:$24-$35:$35), MATCH(M$50,$17:$17, 0))),Vt!$A:$A,0)+INDEX($B137+$D137*$24:$24, MATCH(M$50,$17:$17, 0))*2)))))","v":0},{"$f":"IF(($A137+INDEX($D137*($24:$24-$35:$35), MATCH(N$50,$17:$17, 0)))>$C$8,1000000000,(IF(OR(INDEX($22:$22-($A137-$D137*$35:$35), MATCH(N$50,$17:$17, 0))>0, INDEX($D137*$35:$35-$C137, MATCH(N$50,$17:$17, 0))>0),1000000000,(p!N137+n!N137+m!N137+INDEX(Vt!M:M, MATCH(($A137+INDEX($D137*($24:$24-$35:$35), MATCH(N$50,$17:$17, 0))),Vt!$A:$A,0)+INDEX($B137+$D137*$24:$24, MATCH(N$50,$17:$17, 0))*2)))))","v":0},{"$f":"IF(($A137+INDEX($D137*($24:$24-$35:$35), MATCH(O$50,$17:$17, 0)))>$C$8,1000000000,(IF(OR(INDEX($22:$22-($A137-$D137*$35:$35), MATCH(O$50,$17:$17, 0))>0, INDEX($D137*$35:$35-$C137, MATCH(O$50,$17:$17, 0))>0),1000000000,(p!O137+n!O137+m!O137+INDEX(Vt!N:N, MATCH(($A137+INDEX($D137*($24:$24-$35:$35), MATCH(O$50,$17:$17, 0))),Vt!$A:$A,0)+INDEX($B137+$D137*$24:$24, MATCH(O$50,$17:$17, 0))*2)))))","v":0}]
[8,7,1,1,0,{"$f":"IF(($A138+INDEX($D138*($24:$24-$35:$35), MATCH(F$50,$17:$17, 0)))>$C$8,1000000000,(IF(OR(INDEX($22:$22-($A138-$D138*$35:$35), MATCH(F$50,$17:$17, 0))>0, INDEX($D138*$35:$35-$C138, MATCH(F$50,$17:$17, 0))>0),1000000000,(p!F138+n!F138+m!F138+INDEX(Vt!E:E, MATCH(($A138+INDEX($D138*($24:$24-$35:$35), MATCH(F$50,$17:$17, 0))),Vt!$A:$A,0)+INDEX($B138+$D138*$24:$24, MATCH(F$50,$17:$17, 0))*2)))))","v":0},{"$f":"IF(($A138+INDEX($D138*($24:$24-$35:$35), MATCH(G$50,$17:$17, 0)))>$C$8,1000000000,(IF(OR(INDEX($22:$22-($A138-$D138*$35:$35), MATCH(G$50,$17:$17, 0))>0, INDEX($D138*$35:$35-$C138, MATCH(G$50,$17:$17, 0))>0),1000000000,(p!G138+n!G138+m!G138+INDEX(Vt!F:F, MATCH(($A138+INDEX($D138*($24:$24-$35:$35), MATCH(G$50,$17:$17, 0))),Vt!$A:$A,0)+INDEX($B138+$D138*$24:$24, MATCH(G$50,$17:$17, 0))*2)))))","v":0},{"$f":"IF(($A138+INDEX($D138*($24:$24-$35:$35), MATCH(H$50,$17:$17, 0)))>$C$8,1000000000,(IF(OR(INDEX($22:$22-($A138-$D138*$35:$35), MATCH(H$50,$17:$17, 0))>0, INDEX($D138*$35:$35-$C138, MATCH(H$50,$17:$17, 0))>0),1000000000,(p!H138+n!H138+m!H138+INDEX(Vt!G:G, MATCH(($A138+INDEX($D138*($24:$24-$35:$35), MATCH(H$50,$17:$17, 0))),Vt!$A:$A,0)+INDEX($B138+$D138*$24:$24, MATCH(H$50,$17:$17, 0))*2)))))","v":0},{"$f":"IF(($A138+INDEX($D138*($24:$24-$35:$35), MATCH(I$50,$17:$17, 0)))>$C$8,1000000000,(IF(OR(INDEX($22:$22-($A138-$D138*$35:$35), MATCH(I$50,$17:$17, 0))>0, INDEX($D138*$35:$35-$C138, MATCH(I$50,$17:$17, 0))>0),1000000000,(p!I138+n!I138+m!I138+INDEX(Vt!H:H, MATCH(($A138+INDEX($D138*($24:$24-$35:$35), MATCH(I$50,$17:$17, 0))),Vt!$A:$A,0)+INDEX($B138+$D138*$24:$24, MATCH(I$50,$17:$17, 0))*2)))))","v":0},{"$f":"IF(($A138+INDEX($D138*($24:$24-$35:$35), MATCH(J$50,$17:$17, 0)))>$C$8,1000000000,(IF(OR(INDEX($22:$22-($A138-$D138*$35:$35), MATCH(J$50,$17:$17, 0))>0, INDEX($D138*$35:$35-$C138, MATCH(J$50,$17:$17, 0))>0),1000000000,(p!J138+n!J138+m!J138+INDEX(Vt!I:I, MATCH(($A138+INDEX($D138*($24:$24-$35:$35), MATCH(J$50,$17:$17, 0))),Vt!$A:$A,0)+INDEX($B138+$D138*$24:$24, MATCH(J$50,$17:$17, 0))*2)))))","v":0},{"$f":"IF(($A138+INDEX($D138*($24:$24-$35:$35), MATCH(K$50,$17:$17, 0)))>$C$8,1000000000,(IF(OR(INDEX($22:$22-($A138-$D138*$35:$35), MATCH(K$50,$17:$17, 0))>0, INDEX($D138*$35:$35-$C138, MATCH(K$50,$17:$17, 0))>0),1000000000,(p!K138+n!K138+m!K138+INDEX(Vt!J:J, MATCH(($A138+INDEX($D138*($24:$24-$35:$35), MATCH(K$50,$17:$17, 0))),Vt!$A:$A,0)+INDEX($B138+$D138*$24:$24, MATCH(K$50,$17:$17, 0))*2)))))","v":0},{"$f":"IF(($A138+INDEX($D138*($24:$24-$35:$35), MATCH(L$50,$17:$17, 0)))>$C$8,1000000000,(IF(OR(INDEX($22:$22-($A138-$D138*$35:$35), MATCH(L$50,$17:$17, 0))>0, INDEX($D138*$35:$35-$C138, MATCH(L$50,$17:$17, 0))>0),1000000000,(p!L138+n!L138+m!L138+INDEX(Vt!K:K, MATCH(($A138+INDEX($D138*($24:$24-$35:$35), MATCH(L$50,$17:$17, 0))),Vt!$A:$A,0)+INDEX($B138+$D138*$24:$24, MATCH(L$50,$17:$17, 0))*2)))))","v":0},{"$f":"IF(($A138+INDEX($D138*($24:$24-$35:$35), MATCH(M$50,$17:$17, 0)))>$C$8,1000000000,(IF(OR(INDEX($22:$22-($A138-$D138*$35:$35), MATCH(M$50,$17:$17, 0))>0, INDEX($D138*$35:$35-$C138, MATCH(M$50,$17:$17, 0))>0),1000000000,(p!M138+n!M138+m!M138+INDEX(Vt!L:L, MATCH(($A138+INDEX($D138*($24:$24-$35:$35), MATCH(M$50,$17:$17, 0))),Vt!$A:$A,0)+INDEX($B138+$D138*$24:$24, MATCH(M$50,$17:$17, 0))*2)))))","v":0},{"$f":"IF(($A138+INDEX($D138*($24:$24-$35:$35), MATCH(N$50,$17:$17, 0)))>$C$8,1000000000,(IF(OR(INDEX($22:$22-($A138-$D138*$35:$35), MATCH(N$50,$17:$17, 0))>0, INDEX($D138*$35:$35-$C138, MATCH(N$50,$17:$17, 0))>0),1000000000,(p!N138+n!N138+m!N138+INDEX(Vt!M:M, MATCH(($A138+INDEX($D138*($24:$24-$35:$35), MATCH(N$50,$17:$17, 0))),Vt!$A:$A,0)+INDEX($B138+$D138*$24:$24, MATCH(N$50,$17:$17, 0))*2)))))","v":0},{"$f":"IF(($A138+INDEX($D138*($24:$24-$35:$35), MATCH(O$50,$17:$17, 0)))>$C$8,1000000000,(IF(OR(INDEX($22:$22-($A138-$D138*$35:$35), MATCH(O$50,$17:$17, 0))>0, INDEX($D138*$35:$35-$C138, MATCH(O$50,$17:$17, 0))>0),1000000000,(p!O138+n!O138+m!O138+INDEX(Vt!N:N, MATCH(($A138+INDEX($D138*($24:$24-$35:$35), MATCH(O$50,$17:$17, 0))),Vt!$A:$A,0)+INDEX($B138+$D138*$24:$24, MATCH(O$50,$17:$17, 0))*2)))))","v":0}]
[8,8,0,0,0,{"$f":"IF(($A139+INDEX($D139*($24:$24-$35:$35), MATCH(F$50,$17:$17, 0)))>$C$8,1000000000,(IF(OR(INDEX($22:$22-($A139-$D139*$35:$35), MATCH(F$50,$17:$17, 0))>0, INDEX($D139*$35:$35-$C139, MATCH(F$50,$17:$17, 0))>0),1000000000,(p!F139+n!F139+m!F139+INDEX(Vt!E:E, MATCH(($A139+INDEX($D139*($24:$24-$35:$35), MATCH(F$50,$17:$17, 0))),Vt!$A:$A,0)+INDEX($B139+$D139*$24:$24, MATCH(F$50,$17:$17, 0))*2)))))","v":0},{"$f":"IF(($A139+INDEX($D139*($24:$24-$35:$35), MATCH(G$50,$17:$17, 0)))>$C$8,1000000000,(IF(OR(INDEX($22:$22-($A139-$D139*$35:$35), MATCH(G$50,$17:$17, 0))>0, INDEX($D139*$35:$35-$C139, MATCH(G$50,$17:$17, 0))>0),1000000000,(p!G139+n!G139+m!G139+INDEX(Vt!F:F, MATCH(($A139+INDEX($D139*($24:$24-$35:$35), MATCH(G$50,$17:$17, 0))),Vt!$A:$A,0)+INDEX($B139+$D139*$24:$24, MATCH(G$50,$17:$17, 0))*2)))))","v":0},{"$f":"IF(($A139+INDEX($D139*($24:$24-$35:$35), MATCH(H$50,$17:$17, 0)))>$C$8,1000000000,(IF(OR(INDEX($22:$22-($A139-$D139*$35:$35), MATCH(H$50,$17:$17, 0))>0, INDEX($D139*$35:$35-$C139, MATCH(H$50,$17:$17, 0))>0),1000000000,(p!H139+n!H139+m!H139+INDEX(Vt!G:G, MATCH(($A139+INDEX($D139*($24:$24-$35:$35), MATCH(H$50,$17:$17, 0))),Vt!$A:$A,0)+INDEX($B139+$D139*$24:$24, MATCH(H$50,$17:$17, 0))*2)))))","v":0},{"$f":"IF(($A139+INDEX($D139*($24:$24-$35:$35), MATCH(I$50,$17:$17, 0)))>$C$8,1000000000,(IF(OR(INDEX($22:$22-($A139-$D139*$35:$35), MATCH(I$50,$17:$17, 0))>0, INDEX($D139*$35:$35-$C139, MATCH(I$50,$17:$17, 0))>0),1000000000,(p!I139+n!I139+m!I139+INDEX(Vt!H:H, MATCH(($A139+INDEX($D139*($24:$24-$35:$35), MATCH(I$50,$17:$17, 0))),Vt!$A:$A,0)+INDEX($B139+$D139*$24:$24, MATCH(I$50,$17:$17, 0))*2)))))","v":0},{"$f":"IF(($A139+INDEX($D139*($24:$24-$35:$35), MATCH(J$50,$17:$17, 0)))>$C$8,1000000000,(IF(OR(INDEX($22:$22-($A139-$D139*$35:$35), MATCH(J$50,$17:$17, 0))>0, INDEX($D139*$35:$35-$C139, MATCH(J$50,$17:$17, 0))>0),1000000000,(p!J139+n!J139+m!J139+INDEX(Vt!I:I, MATCH(($A139+INDEX($D139*($24:$24-$35:$35), MATCH(J$50,$17:$17, 0))),Vt!$A:$A,0)+INDEX($B139+$D139*$24:$24, MATCH(J$50,$17:$17, 0))*2)))))","v":0},{"$f":"IF(($A139+INDEX($D139*($24:$24-$35:$35), MATCH(K$50,$17:$17, 0)))>$C$8,1000000000,(IF(OR(INDEX($22:$22-($A139-$D139*$35:$35), MATCH(K$50,$17:$17, 0))>0, INDEX($D139*$35:$35-$C139, MATCH(K$50,$17:$17, 0))>0),1000000000,(p!K139+n!K139+m!K139+INDEX(Vt!J:J, MATCH(($A139+INDEX($D139*($24:$24-$35:$35), MATCH(K$50,$17:$17, 0))),Vt!$A:$A,0)+INDEX($B139+$D139*$24:$24, MATCH(K$50,$17:$17, 0))*2)))))","v":0},{"$f":"IF(($A139+INDEX($D139*($24:$24-$35:$35), MATCH(L$50,$17:$17, 0)))>$C$8,1000000000,(IF(OR(INDEX($22:$22-($A139-$D139*$35:$35), MATCH(L$50,$17:$17, 0))>0, INDEX($D139*$35:$35-$C139, MATCH(L$50,$17:$17, 0))>0),1000000000,(p!L139+n!L139+m!L139+INDEX(Vt!K:K, MATCH(($A139+INDEX($D139*($24:$24-$35:$35), MATCH(L$50,$17:$17, 0))),Vt!$A:$A,0)+INDEX($B139+$D139*$24:$24, MATCH(L$50,$17:$17, 0))*2)))))","v":0},{"$f":"IF(($A139+INDEX($D139*($24:$24-$35:$35), MATCH(M$50,$17:$17, 0)))>$C$8,1000000000,(IF(OR(INDEX($22:$22-($A139-$D139*$35:$35), MATCH(M$50,$17:$17, 0))>0, INDEX($D139*$35:$35-$C139, MATCH(M$50,$17:$17, 0))>0),1000000000,(p!M139+n!M139+m!M139+INDEX(Vt!L:L, MATCH(($A139+INDEX($D139*($24:$24-$35:$35), MATCH(M$50,$17:$17, 0))),Vt!$A:$A,0)+INDEX($B139+$D139*$24:$24, MATCH(M$50,$17:$17, 0))*2)))))","v":0},{"$f":"IF(($A139+INDEX($D139*($24:$24-$35:$35), MATCH(N$50,$17:$17, 0)))>$C$8,1000000000,(IF(OR(INDEX($22:$22-($A139-$D139*$35:$35), MATCH(N$50,$17:$17, 0))>0, INDEX($D139*$35:$35-$C139, MATCH(N$50,$17:$17, 0))>0),1000000000,(p!N139+n!N139+m!N139+INDEX(Vt!M:M, MATCH(($A139+INDEX($D139*($24:$24-$35:$35), MATCH(N$50,$17:$17, 0))),Vt!$A:$A,0)+INDEX($B139+$D139*$24:$24, MATCH(N$50,$17:$17, 0))*2)))))","v":0},{"$f":"IF(($A139+INDEX($D139*($24:$24-$35:$35), MATCH(O$50,$17:$17, 0)))>$C$8,1000000000,(IF(OR(INDEX($22:$22-($A139-$D139*$35:$35), MATCH(O$50,$17:$17, 0))>0, INDEX($D139*$35:$35-$C139, MATCH(O$50,$17:$17, 0))>0),1000000000,(p!O139+n!O139+m!O139+INDEX(Vt!N:N, MATCH(($A139+INDEX($D139*($24:$24-$35:$35), MATCH(O$50,$17:$17, 0))),Vt!$A:$A,0)+INDEX($B139+$D139*$24:$24, MATCH(O$50,$17:$17, 0))*2)))))","v":0}]
[8,8,0,1,0,{"$f":"IF(($A140+INDEX($D140*($24:$24-$35:$35), MATCH(F$50,$17:$17, 0)))>$C$8,1000000000,(IF(OR(INDEX($22:$22-($A140-$D140*$35:$35), MATCH(F$50,$17:$17, 0))>0, INDEX($D140*$35:$35-$C140, MATCH(F$50,$17:$17, 0))>0),1000000000,(p!F140+n!F140+m!F140+INDEX(Vt!E:E, MATCH(($A140+INDEX($D140*($24:$24-$35:$35), MATCH(F$50,$17:$17, 0))),Vt!$A:$A,0)+INDEX($B140+$D140*$24:$24, MATCH(F$50,$17:$17, 0))*2)))))","v":0},{"$f":"IF(($A140+INDEX($D140*($24:$24-$35:$35), MATCH(G$50,$17:$17, 0)))>$C$8,1000000000,(IF(OR(INDEX($22:$22-($A140-$D140*$35:$35), MATCH(G$50,$17:$17, 0))>0, INDEX($D140*$35:$35-$C140, MATCH(G$50,$17:$17, 0))>0),1000000000,(p!G140+n!G140+m!G140+INDEX(Vt!F:F, MATCH(($A140+INDEX($D140*($24:$24-$35:$35), MATCH(G$50,$17:$17, 0))),Vt!$A:$A,0)+INDEX($B140+$D140*$24:$24, MATCH(G$50,$17:$17, 0))*2)))))","v":0},{"$f":"IF(($A140+INDEX($D140*($24:$24-$35:$35), MATCH(H$50,$17:$17, 0)))>$C$8,1000000000,(IF(OR(INDEX($22:$22-($A140-$D140*$35:$35), MATCH(H$50,$17:$17, 0))>0, INDEX($D140*$35:$35-$C140, MATCH(H$50,$17:$17, 0))>0),1000000000,(p!H140+n!H140+m!H140+INDEX(Vt!G:G, MATCH(($A140+INDEX($D140*($24:$24-$35:$35), MATCH(H$50,$17:$17, 0))),Vt!$A:$A,0)+INDEX($B140+$D140*$24:$24, MATCH(H$50,$17:$17, 0))*2)))))","v":0},{"$f":"IF(($A140+INDEX($D140*($24:$24-$35:$35), MATCH(I$50,$17:$17, 0)))>$C$8,1000000000,(IF(OR(INDEX($22:$22-($A140-$D140*$35:$35), MATCH(I$50,$17:$17, 0))>0, INDEX($D140*$35:$35-$C140, MATCH(I$50,$17:$17, 0))>0),1000000000,(p!I140+n!I140+m!I140+INDEX(Vt!H:H, MATCH(($A140+INDEX($D140*($24:$24-$35:$35), MATCH(I$50,$17:$17, 0))),Vt!$A:$A,0)+INDEX($B140+$D140*$24:$24, MATCH(I$50,$17:$17, 0))*2)))))","v":0},{"$f":"IF(($A140+INDEX($D140*($24:$24-$35:$35), MATCH(J$50,$17:$17, 0)))>$C$8,1000000000,(IF(OR(INDEX($22:$22-($A140-$D140*$35:$35), MATCH(J$50,$17:$17, 0))>0, INDEX($D140*$35:$35-$C140, MATCH(J$50,$17:$17, 0))>0),1000000000,(p!J140+n!J140+m!J140+INDEX(Vt!I:I, MATCH(($A140+INDEX($D140*($24:$24-$35:$35), MATCH(J$50,$17:$17, 0))),Vt!$A:$A,0)+INDEX($B140+$D140*$24:$24, MATCH(J$50,$17:$17, 0))*2)))))","v":0},{"$f":"IF(($A140+INDEX($D140*($24:$24-$35:$35), MATCH(K$50,$17:$17, 0)))>$C$8,1000000000,(IF(OR(INDEX($22:$22-($A140-$D140*$35:$35), MATCH(K$50,$17:$17, 0))>0, INDEX($D140*$35:$35-$C140, MATCH(K$50,$17:$17, 0))>0),1000000000,(p!K140+n!K140+m!K140+INDEX(Vt!J:J, MATCH(($A140+INDEX($D140*($24:$24-$35:$35), MATCH(K$50,$17:$17, 0))),Vt!$A:$A,0)+INDEX($B140+$D140*$24:$24, MATCH(K$50,$17:$17, 0))*2)))))","v":0},{"$f":"IF(($A140+INDEX($D140*($24:$24-$35:$35), MATCH(L$50,$17:$17, 0)))>$C$8,1000000000,(IF(OR(INDEX($22:$22-($A140-$D140*$35:$35), MATCH(L$50,$17:$17, 0))>0, INDEX($D140*$35:$35-$C140, MATCH(L$50,$17:$17, 0))>0),1000000000,(p!L140+n!L140+m!L140+INDEX(Vt!K:K, MATCH(($A140+INDEX($D140*($24:$24-$35:$35), MATCH(L$50,$17:$17, 0))),Vt!$A:$A,0)+INDEX($B140+$D140*$24:$24, MATCH(L$50,$17:$17, 0))*2)))))","v":0},{"$f":"IF(($A140+INDEX($D140*($24:$24-$35:$35), MATCH(M$50,$17:$17, 0)))>$C$8,1000000000,(IF(OR(INDEX($22:$22-($A140-$D140*$35:$35), MATCH(M$50,$17:$17, 0))>0, INDEX($D140*$35:$35-$C140, MATCH(M$50,$17:$17, 0))>0),1000000000,(p!M140+n!M140+m!M140+INDEX(Vt!L:L, MATCH(($A140+INDEX($D140*($24:$24-$35:$35), MATCH(M$50,$17:$17, 0))),Vt!$A:$A,0)+INDEX($B140+$D140*$24:$24, MATCH(M$50,$17:$17, 0))*2)))))","v":0},{"$f":"IF(($A140+INDEX($D140*($24:$24-$35:$35), MATCH(N$50,$17:$17, 0)))>$C$8,1000000000,(IF(OR(INDEX($22:$22-($A140-$D140*$35:$35), MATCH(N$50,$17:$17, 0))>0, INDEX($D140*$35:$35-$C140, MATCH(N$50,$17:$17, 0))>0),1000000000,(p!N140+n!N140+m!N140+INDEX(Vt!M:M, MATCH(($A140+INDEX($D140*($24:$24-$35:$35), MATCH(N$50,$17:$17, 0))),Vt!$A:$A,0)+INDEX($B140+$D140*$24:$24, MATCH(N$50,$17:$17, 0))*2)))))","v":0},{"$f":"IF(($A140+INDEX($D140*($24:$24-$35:$35), MATCH(O$50,$17:$17, 0)))>$C$8,1000000000,(IF(OR(INDEX($22:$22-($A140-$D140*$35:$35), MATCH(O$50,$17:$17, 0))>0, INDEX($D140*$35:$35-$C140, MATCH(O$50,$17:$17, 0))>0),1000000000,(p!O140+n!O140+m!O140+INDEX(Vt!N:N, MATCH(($A140+INDEX($D140*($24:$24-$35:$35), MATCH(O$50,$17:$17, 0))),Vt!$A:$A,0)+INDEX($B140+$D140*$24:$24, MATCH(O$50,$17:$17, 0))*2)))))","v":0}]
[9,0,9,0,0,{"$f":"IF(($A141+INDEX($D141*($24:$24-$35:$35), MATCH(F$50,$17:$17, 0)))>$C$8,1000000000,(IF(OR(INDEX($22:$22-($A141-$D141*$35:$35), MATCH(F$50,$17:$17, 0))>0, INDEX($D141*$35:$35-$C141, MATCH(F$50,$17:$17, 0))>0),1000000000,(p!F141+n!F141+m!F141+INDEX(Vt!E:E, MATCH(($A141+INDEX($D141*($24:$24-$35:$35), MATCH(F$50,$17:$17, 0))),Vt!$A:$A,0)+INDEX($B141+$D141*$24:$24, MATCH(F$50,$17:$17, 0))*2)))))","v":0},{"$f":"IF(($A141+INDEX($D141*($24:$24-$35:$35), MATCH(G$50,$17:$17, 0)))>$C$8,1000000000,(IF(OR(INDEX($22:$22-($A141-$D141*$35:$35), MATCH(G$50,$17:$17, 0))>0, INDEX($D141*$35:$35-$C141, MATCH(G$50,$17:$17, 0))>0),1000000000,(p!G141+n!G141+m!G141+INDEX(Vt!F:F, MATCH(($A141+INDEX($D141*($24:$24-$35:$35), MATCH(G$50,$17:$17, 0))),Vt!$A:$A,0)+INDEX($B141+$D141*$24:$24, MATCH(G$50,$17:$17, 0))*2)))))","v":0},{"$f":"IF(($A141+INDEX($D141*($24:$24-$35:$35), MATCH(H$50,$17:$17, 0)))>$C$8,1000000000,(IF(OR(INDEX($22:$22-($A141-$D141*$35:$35), MATCH(H$50,$17:$17, 0))>0, INDEX($D141*$35:$35-$C141, MATCH(H$50,$17:$17, 0))>0),1000000000,(p!H141+n!H141+m!H141+INDEX(Vt!G:G, MATCH(($A141+INDEX($D141*($24:$24-$35:$35), MATCH(H$50,$17:$17, 0))),Vt!$A:$A,0)+INDEX($B141+$D141*$24:$24, MATCH(H$50,$17:$17, 0))*2)))))","v":0},{"$f":"IF(($A141+INDEX($D141*($24:$24-$35:$35), MATCH(I$50,$17:$17, 0)))>$C$8,1000000000,(IF(OR(INDEX($22:$22-($A141-$D141*$35:$35), MATCH(I$50,$17:$17, 0))>0, INDEX($D141*$35:$35-$C141, MATCH(I$50,$17:$17, 0))>0),1000000000,(p!I141+n!I141+m!I141+INDEX(Vt!H:H, MATCH(($A141+INDEX($D141*($24:$24-$35:$35), MATCH(I$50,$17:$17, 0))),Vt!$A:$A,0)+INDEX($B141+$D141*$24:$24, MATCH(I$50,$17:$17, 0))*2)))))","v":0},{"$f":"IF(($A141+INDEX($D141*($24:$24-$35:$35), MATCH(J$50,$17:$17, 0)))>$C$8,1000000000,(IF(OR(INDEX($22:$22-($A141-$D141*$35:$35), MATCH(J$50,$17:$17, 0))>0, INDEX($D141*$35:$35-$C141, MATCH(J$50,$17:$17, 0))>0),1000000000,(p!J141+n!J141+m!J141+INDEX(Vt!I:I, MATCH(($A141+INDEX($D141*($24:$24-$35:$35), MATCH(J$50,$17:$17, 0))),Vt!$A:$A,0)+INDEX($B141+$D141*$24:$24, MATCH(J$50,$17:$17, 0))*2)))))","v":0},{"$f":"IF(($A141+INDEX($D141*($24:$24-$35:$35), MATCH(K$50,$17:$17, 0)))>$C$8,1000000000,(IF(OR(INDEX($22:$22-($A141-$D141*$35:$35), MATCH(K$50,$17:$17, 0))>0, INDEX($D141*$35:$35-$C141, MATCH(K$50,$17:$17, 0))>0),1000000000,(p!K141+n!K141+m!K141+INDEX(Vt!J:J, MATCH(($A141+INDEX($D141*($24:$24-$35:$35), MATCH(K$50,$17:$17, 0))),Vt!$A:$A,0)+INDEX($B141+$D141*$24:$24, MATCH(K$50,$17:$17, 0))*2)))))","v":0},{"$f":"IF(($A141+INDEX($D141*($24:$24-$35:$35), MATCH(L$50,$17:$17, 0)))>$C$8,1000000000,(IF(OR(INDEX($22:$22-($A141-$D141*$35:$35), MATCH(L$50,$17:$17, 0))>0, INDEX($D141*$35:$35-$C141, MATCH(L$50,$17:$17, 0))>0),1000000000,(p!L141+n!L141+m!L141+INDEX(Vt!K:K, MATCH(($A141+INDEX($D141*($24:$24-$35:$35), MATCH(L$50,$17:$17, 0))),Vt!$A:$A,0)+INDEX($B141+$D141*$24:$24, MATCH(L$50,$17:$17, 0))*2)))))","v":0},{"$f":"IF(($A141+INDEX($D141*($24:$24-$35:$35), MATCH(M$50,$17:$17, 0)))>$C$8,1000000000,(IF(OR(INDEX($22:$22-($A141-$D141*$35:$35), MATCH(M$50,$17:$17, 0))>0, INDEX($D141*$35:$35-$C141, MATCH(M$50,$17:$17, 0))>0),1000000000,(p!M141+n!M141+m!M141+INDEX(Vt!L:L, MATCH(($A141+INDEX($D141*($24:$24-$35:$35), MATCH(M$50,$17:$17, 0))),Vt!$A:$A,0)+INDEX($B141+$D141*$24:$24, MATCH(M$50,$17:$17, 0))*2)))))","v":0},{"$f":"IF(($A141+INDEX($D141*($24:$24-$35:$35), MATCH(N$50,$17:$17, 0)))>$C$8,1000000000,(IF(OR(INDEX($22:$22-($A141-$D141*$35:$35), MATCH(N$50,$17:$17, 0))>0, INDEX($D141*$35:$35-$C141, MATCH(N$50,$17:$17, 0))>0),1000000000,(p!N141+n!N141+m!N141+INDEX(Vt!M:M, MATCH(($A141+INDEX($D141*($24:$24-$35:$35), MATCH(N$50,$17:$17, 0))),Vt!$A:$A,0)+INDEX($B141+$D141*$24:$24, MATCH(N$50,$17:$17, 0))*2)))))","v":0},{"$f":"IF(($A141+INDEX($D141*($24:$24-$35:$35), MATCH(O$50,$17:$17, 0)))>$C$8,1000000000,(IF(OR(INDEX($22:$22-($A141-$D141*$35:$35), MATCH(O$50,$17:$17, 0))>0, INDEX($D141*$35:$35-$C141, MATCH(O$50,$17:$17, 0))>0),1000000000,(p!O141+n!O141+m!O141+INDEX(Vt!N:N, MATCH(($A141+INDEX($D141*($24:$24-$35:$35), MATCH(O$50,$17:$17, 0))),Vt!$A:$A,0)+INDEX($B141+$D141*$24:$24, MATCH(O$50,$17:$17, 0))*2)))))","v":0}]
[9,0,9,1,0,{"$f":"IF(($A142+INDEX($D142*($24:$24-$35:$35), MATCH(F$50,$17:$17, 0)))>$C$8,1000000000,(IF(OR(INDEX($22:$22-($A142-$D142*$35:$35), MATCH(F$50,$17:$17, 0))>0, INDEX($D142*$35:$35-$C142, MATCH(F$50,$17:$17, 0))>0),1000000000,(p!F142+n!F142+m!F142+INDEX(Vt!E:E, MATCH(($A142+INDEX($D142*($24:$24-$35:$35), MATCH(F$50,$17:$17, 0))),Vt!$A:$A,0)+INDEX($B142+$D142*$24:$24, MATCH(F$50,$17:$17, 0))*2)))))","v":0},{"$f":"IF(($A142+INDEX($D142*($24:$24-$35:$35), MATCH(G$50,$17:$17, 0)))>$C$8,1000000000,(IF(OR(INDEX($22:$22-($A142-$D142*$35:$35), MATCH(G$50,$17:$17, 0))>0, INDEX($D142*$35:$35-$C142, MATCH(G$50,$17:$17, 0))>0),1000000000,(p!G142+n!G142+m!G142+INDEX(Vt!F:F, MATCH(($A142+INDEX($D142*($24:$24-$35:$35), MATCH(G$50,$17:$17, 0))),Vt!$A:$A,0)+INDEX($B142+$D142*$24:$24, MATCH(G$50,$17:$17, 0))*2)))))","v":0},{"$f":"IF(($A142+INDEX($D142*($24:$24-$35:$35), MATCH(H$50,$17:$17, 0)))>$C$8,1000000000,(IF(OR(INDEX($22:$22-($A142-$D142*$35:$35), MATCH(H$50,$17:$17, 0))>0, INDEX($D142*$35:$35-$C142, MATCH(H$50,$17:$17, 0))>0),1000000000,(p!H142+n!H142+m!H142+INDEX(Vt!G:G, MATCH(($A142+INDEX($D142*($24:$24-$35:$35), MATCH(H$50,$17:$17, 0))),Vt!$A:$A,0)+INDEX($B142+$D142*$24:$24, MATCH(H$50,$17:$17, 0))*2)))))","v":0},{"$f":"IF(($A142+INDEX($D142*($24:$24-$35:$35), MATCH(I$50,$17:$17, 0)))>$C$8,1000000000,(IF(OR(INDEX($22:$22-($A142-$D142*$35:$35), MATCH(I$50,$17:$17, 0))>0, INDEX($D142*$35:$35-$C142, MATCH(I$50,$17:$17, 0))>0),1000000000,(p!I142+n!I142+m!I142+INDEX(Vt!H:H, MATCH(($A142+INDEX($D142*($24:$24-$35:$35), MATCH(I$50,$17:$17, 0))),Vt!$A:$A,0)+INDEX($B142+$D142*$24:$24, MATCH(I$50,$17:$17, 0))*2)))))","v":0},{"$f":"IF(($A142+INDEX($D142*($24:$24-$35:$35), MATCH(J$50,$17:$17, 0)))>$C$8,1000000000,(IF(OR(INDEX($22:$22-($A142-$D142*$35:$35), MATCH(J$50,$17:$17, 0))>0, INDEX($D142*$35:$35-$C142, MATCH(J$50,$17:$17, 0))>0),1000000000,(p!J142+n!J142+m!J142+INDEX(Vt!I:I, MATCH(($A142+INDEX($D142*($24:$24-$35:$35), MATCH(J$50,$17:$17, 0))),Vt!$A:$A,0)+INDEX($B142+$D142*$24:$24, MATCH(J$50,$17:$17, 0))*2)))))","v":0},{"$f":"IF(($A142+INDEX($D142*($24:$24-$35:$35), MATCH(K$50,$17:$17, 0)))>$C$8,1000000000,(IF(OR(INDEX($22:$22-($A142-$D142*$35:$35), MATCH(K$50,$17:$17, 0))>0, INDEX($D142*$35:$35-$C142, MATCH(K$50,$17:$17, 0))>0),1000000000,(p!K142+n!K142+m!K142+INDEX(Vt!J:J, MATCH(($A142+INDEX($D142*($24:$24-$35:$35), MATCH(K$50,$17:$17, 0))),Vt!$A:$A,0)+INDEX($B142+$D142*$24:$24, MATCH(K$50,$17:$17, 0))*2)))))","v":0},{"$f":"IF(($A142+INDEX($D142*($24:$24-$35:$35), MATCH(L$50,$17:$17, 0)))>$C$8,1000000000,(IF(OR(INDEX($22:$22-($A142-$D142*$35:$35), MATCH(L$50,$17:$17, 0))>0, INDEX($D142*$35:$35-$C142, MATCH(L$50,$17:$17, 0))>0),1000000000,(p!L142+n!L142+m!L142+INDEX(Vt!K:K, MATCH(($A142+INDEX($D142*($24:$24-$35:$35), MATCH(L$50,$17:$17, 0))),Vt!$A:$A,0)+INDEX($B142+$D142*$24:$24, MATCH(L$50,$17:$17, 0))*2)))))","v":0},{"$f":"IF(($A142+INDEX($D142*($24:$24-$35:$35), MATCH(M$50,$17:$17, 0)))>$C$8,1000000000,(IF(OR(INDEX($22:$22-($A142-$D142*$35:$35), MATCH(M$50,$17:$17, 0))>0, INDEX($D142*$35:$35-$C142, MATCH(M$50,$17:$17, 0))>0),1000000000,(p!M142+n!M142+m!M142+INDEX(Vt!L:L, MATCH(($A142+INDEX($D142*($24:$24-$35:$35), MATCH(M$50,$17:$17, 0))),Vt!$A:$A,0)+INDEX($B142+$D142*$24:$24, MATCH(M$50,$17:$17, 0))*2)))))","v":0},{"$f":"IF(($A142+INDEX($D142*($24:$24-$35:$35), MATCH(N$50,$17:$17, 0)))>$C$8,1000000000,(IF(OR(INDEX($22:$22-($A142-$D142*$35:$35), MATCH(N$50,$17:$17, 0))>0, INDEX($D142*$35:$35-$C142, MATCH(N$50,$17:$17, 0))>0),1000000000,(p!N142+n!N142+m!N142+INDEX(Vt!M:M, MATCH(($A142+INDEX($D142*($24:$24-$35:$35), MATCH(N$50,$17:$17, 0))),Vt!$A:$A,0)+INDEX($B142+$D142*$24:$24, MATCH(N$50,$17:$17, 0))*2)))))","v":0},{"$f":"IF(($A142+INDEX($D142*($24:$24-$35:$35), MATCH(O$50,$17:$17, 0)))>$C$8,1000000000,(IF(OR(INDEX($22:$22-($A142-$D142*$35:$35), MATCH(O$50,$17:$17, 0))>0, INDEX($D142*$35:$35-$C142, MATCH(O$50,$17:$17, 0))>0),1000000000,(p!O142+n!O142+m!O142+INDEX(Vt!N:N, MATCH(($A142+INDEX($D142*($24:$24-$35:$35), MATCH(O$50,$17:$17, 0))),Vt!$A:$A,0)+INDEX($B142+$D142*$24:$24, MATCH(O$50,$17:$17, 0))*2)))))","v":0}]
[9,1,8,0,0,{"$f":"IF(($A143+INDEX($D143*($24:$24-$35:$35), MATCH(F$50,$17:$17, 0)))>$C$8,1000000000,(IF(OR(INDEX($22:$22-($A143-$D143*$35:$35), MATCH(F$50,$17:$17, 0))>0, INDEX($D143*$35:$35-$C143, MATCH(F$50,$17:$17, 0))>0),1000000000,(p!F143+n!F143+m!F143+INDEX(Vt!E:E, MATCH(($A143+INDEX($D143*($24:$24-$35:$35), MATCH(F$50,$17:$17, 0))),Vt!$A:$A,0)+INDEX($B143+$D143*$24:$24, MATCH(F$50,$17:$17, 0))*2)))))","v":0},{"$f":"IF(($A143+INDEX($D143*($24:$24-$35:$35), MATCH(G$50,$17:$17, 0)))>$C$8,1000000000,(IF(OR(INDEX($22:$22-($A143-$D143*$35:$35), MATCH(G$50,$17:$17, 0))>0, INDEX($D143*$35:$35-$C143, MATCH(G$50,$17:$17, 0))>0),1000000000,(p!G143+n!G143+m!G143+INDEX(Vt!F:F, MATCH(($A143+INDEX($D143*($24:$24-$35:$35), MATCH(G$50,$17:$17, 0))),Vt!$A:$A,0)+INDEX($B143+$D143*$24:$24, MATCH(G$50,$17:$17, 0))*2)))))","v":0},{"$f":"IF(($A143+INDEX($D143*($24:$24-$35:$35), MATCH(H$50,$17:$17, 0)))>$C$8,1000000000,(IF(OR(INDEX($22:$22-($A143-$D143*$35:$35), MATCH(H$50,$17:$17, 0))>0, INDEX($D143*$35:$35-$C143, MATCH(H$50,$17:$17, 0))>0),1000000000,(p!H143+n!H143+m!H143+INDEX(Vt!G:G, MATCH(($A143+INDEX($D143*($24:$24-$35:$35), MATCH(H$50,$17:$17, 0))),Vt!$A:$A,0)+INDEX($B143+$D143*$24:$24, MATCH(H$50,$17:$17, 0))*2)))))","v":0},{"$f":"IF(($A143+INDEX($D143*($24:$24-$35:$35), MATCH(I$50,$17:$17, 0)))>$C$8,1000000000,(IF(OR(INDEX($22:$22-($A143-$D143*$35:$35), MATCH(I$50,$17:$17, 0))>0, INDEX($D143*$35:$35-$C143, MATCH(I$50,$17:$17, 0))>0),1000000000,(p!I143+n!I143+m!I143+INDEX(Vt!H:H, MATCH(($A143+INDEX($D143*($24:$24-$35:$35), MATCH(I$50,$17:$17, 0))),Vt!$A:$A,0)+INDEX($B143+$D143*$24:$24, MATCH(I$50,$17:$17, 0))*2)))))","v":0},{"$f":"IF(($A143+INDEX($D143*($24:$24-$35:$35), MATCH(J$50,$17:$17, 0)))>$C$8,1000000000,(IF(OR(INDEX($22:$22-($A143-$D143*$35:$35), MATCH(J$50,$17:$17, 0))>0, INDEX($D143*$35:$35-$C143, MATCH(J$50,$17:$17, 0))>0),1000000000,(p!J143+n!J143+m!J143+INDEX(Vt!I:I, MATCH(($A143+INDEX($D143*($24:$24-$35:$35), MATCH(J$50,$17:$17, 0))),Vt!$A:$A,0)+INDEX($B143+$D143*$24:$24, MATCH(J$50,$17:$17, 0))*2)))))","v":0},{"$f":"IF(($A143+INDEX($D143*($24:$24-$35:$35), MATCH(K$50,$17:$17, 0)))>$C$8,1000000000,(IF(OR(INDEX($22:$22-($A143-$D143*$35:$35), MATCH(K$50,$17:$17, 0))>0, INDEX($D143*$35:$35-$C143, MATCH(K$50,$17:$17, 0))>0),1000000000,(p!K143+n!K143+m!K143+INDEX(Vt!J:J, MATCH(($A143+INDEX($D143*($24:$24-$35:$35), MATCH(K$50,$17:$17, 0))),Vt!$A:$A,0)+INDEX($B143+$D143*$24:$24, MATCH(K$50,$17:$17, 0))*2)))))","v":0},{"$f":"IF(($A143+INDEX($D143*($24:$24-$35:$35), MATCH(L$50,$17:$17, 0)))>$C$8,1000000000,(IF(OR(INDEX($22:$22-($A143-$D143*$35:$35), MATCH(L$50,$17:$17, 0))>0, INDEX($D143*$35:$35-$C143, MATCH(L$50,$17:$17, 0))>0),1000000000,(p!L143+n!L143+m!L143+INDEX(Vt!K:K, MATCH(($A143+INDEX($D143*($24:$24-$35:$35), MATCH(L$50,$17:$17, 0))),Vt!$A:$A,0)+INDEX($B143+$D143*$24:$24, MATCH(L$50,$17:$17, 0))*2)))))","v":0},{"$f":"IF(($A143+INDEX($D143*($24:$24-$35:$35), MATCH(M$50,$17:$17, 0)))>$C$8,1000000000,(IF(OR(INDEX($22:$22-($A143-$D143*$35:$35), MATCH(M$50,$17:$17, 0))>0, INDEX($D143*$35:$35-$C143, MATCH(M$50,$17:$17, 0))>0),1000000000,(p!M143+n!M143+m!M143+INDEX(Vt!L:L, MATCH(($A143+INDEX($D143*($24:$24-$35:$35), MATCH(M$50,$17:$17, 0))),Vt!$A:$A,0)+INDEX($B143+$D143*$24:$24, MATCH(M$50,$17:$17, 0))*2)))))","v":0},{"$f":"IF(($A143+INDEX($D143*($24:$24-$35:$35), MATCH(N$50,$17:$17, 0)))>$C$8,1000000000,(IF(OR(INDEX($22:$22-($A143-$D143*$35:$35), MATCH(N$50,$17:$17, 0))>0, INDEX($D143*$35:$35-$C143, MATCH(N$50,$17:$17, 0))>0),1000000000,(p!N143+n!N143+m!N143+INDEX(Vt!M:M, MATCH(($A143+INDEX($D143*($24:$24-$35:$35), MATCH(N$50,$17:$17, 0))),Vt!$A:$A,0)+INDEX($B143+$D143*$24:$24, MATCH(N$50,$17:$17, 0))*2)))))","v":0},{"$f":"IF(($A143+INDEX($D143*($24:$24-$35:$35), MATCH(O$50,$17:$17, 0)))>$C$8,1000000000,(IF(OR(INDEX($22:$22-($A143-$D143*$35:$35), MATCH(O$50,$17:$17, 0))>0, INDEX($D143*$35:$35-$C143, MATCH(O$50,$17:$17, 0))>0),1000000000,(p!O143+n!O143+m!O143+INDEX(Vt!N:N, MATCH(($A143+INDEX($D143*($24:$24-$35:$35), MATCH(O$50,$17:$17, 0))),Vt!$A:$A,0)+INDEX($B143+$D143*$24:$24, MATCH(O$50,$17:$17, 0))*2)))))","v":0}]
[9,1,8,1,0,{"$f":"IF(($A144+INDEX($D144*($24:$24-$35:$35), MATCH(F$50,$17:$17, 0)))>$C$8,1000000000,(IF(OR(INDEX($22:$22-($A144-$D144*$35:$35), MATCH(F$50,$17:$17, 0))>0, INDEX($D144*$35:$35-$C144, MATCH(F$50,$17:$17, 0))>0),1000000000,(p!F144+n!F144+m!F144+INDEX(Vt!E:E, MATCH(($A144+INDEX($D144*($24:$24-$35:$35), MATCH(F$50,$17:$17, 0))),Vt!$A:$A,0)+INDEX($B144+$D144*$24:$24, MATCH(F$50,$17:$17, 0))*2)))))","v":0},{"$f":"IF(($A144+INDEX($D144*($24:$24-$35:$35), MATCH(G$50,$17:$17, 0)))>$C$8,1000000000,(IF(OR(INDEX($22:$22-($A144-$D144*$35:$35), MATCH(G$50,$17:$17, 0))>0, INDEX($D144*$35:$35-$C144, MATCH(G$50,$17:$17, 0))>0),1000000000,(p!G144+n!G144+m!G144+INDEX(Vt!F:F, MATCH(($A144+INDEX($D144*($24:$24-$35:$35), MATCH(G$50,$17:$17, 0))),Vt!$A:$A,0)+INDEX($B144+$D144*$24:$24, MATCH(G$50,$17:$17, 0))*2)))))","v":0},{"$f":"IF(($A144+INDEX($D144*($24:$24-$35:$35), MATCH(H$50,$17:$17, 0)))>$C$8,1000000000,(IF(OR(INDEX($22:$22-($A144-$D144*$35:$35), MATCH(H$50,$17:$17, 0))>0, INDEX($D144*$35:$35-$C144, MATCH(H$50,$17:$17, 0))>0),1000000000,(p!H144+n!H144+m!H144+INDEX(Vt!G:G, MATCH(($A144+INDEX($D144*($24:$24-$35:$35), MATCH(H$50,$17:$17, 0))),Vt!$A:$A,0)+INDEX($B144+$D144*$24:$24, MATCH(H$50,$17:$17, 0))*2)))))","v":0},{"$f":"IF(($A144+INDEX($D144*($24:$24-$35:$35), MATCH(I$50,$17:$17, 0)))>$C$8,1000000000,(IF(OR(INDEX($22:$22-($A144-$D144*$35:$35), MATCH(I$50,$17:$17, 0))>0, INDEX($D144*$35:$35-$C144, MATCH(I$50,$17:$17, 0))>0),1000000000,(p!I144+n!I144+m!I144+INDEX(Vt!H:H, MATCH(($A144+INDEX($D144*($24:$24-$35:$35), MATCH(I$50,$17:$17, 0))),Vt!$A:$A,0)+INDEX($B144+$D144*$24:$24, MATCH(I$50,$17:$17, 0))*2)))))","v":0},{"$f":"IF(($A144+INDEX($D144*($24:$24-$35:$35), MATCH(J$50,$17:$17, 0)))>$C$8,1000000000,(IF(OR(INDEX($22:$22-($A144-$D144*$35:$35), MATCH(J$50,$17:$17, 0))>0, INDEX($D144*$35:$35-$C144, MATCH(J$50,$17:$17, 0))>0),1000000000,(p!J144+n!J144+m!J144+INDEX(Vt!I:I, MATCH(($A144+INDEX($D144*($24:$24-$35:$35), MATCH(J$50,$17:$17, 0))),Vt!$A:$A,0)+INDEX($B144+$D144*$24:$24, MATCH(J$50,$17:$17, 0))*2)))))","v":0},{"$f":"IF(($A144+INDEX($D144*($24:$24-$35:$35), MATCH(K$50,$17:$17, 0)))>$C$8,1000000000,(IF(OR(INDEX($22:$22-($A144-$D144*$35:$35), MATCH(K$50,$17:$17, 0))>0, INDEX($D144*$35:$35-$C144, MATCH(K$50,$17:$17, 0))>0),1000000000,(p!K144+n!K144+m!K144+INDEX(Vt!J:J, MATCH(($A144+INDEX($D144*($24:$24-$35:$35), MATCH(K$50,$17:$17, 0))),Vt!$A:$A,0)+INDEX($B144+$D144*$24:$24, MATCH(K$50,$17:$17, 0))*2)))))","v":0},{"$f":"IF(($A144+INDEX($D144*($24:$24-$35:$35), MATCH(L$50,$17:$17, 0)))>$C$8,1000000000,(IF(OR(INDEX($22:$22-($A144-$D144*$35:$35), MATCH(L$50,$17:$17, 0))>0, INDEX($D144*$35:$35-$C144, MATCH(L$50,$17:$17, 0))>0),1000000000,(p!L144+n!L144+m!L144+INDEX(Vt!K:K, MATCH(($A144+INDEX($D144*($24:$24-$35:$35), MATCH(L$50,$17:$17, 0))),Vt!$A:$A,0)+INDEX($B144+$D144*$24:$24, MATCH(L$50,$17:$17, 0))*2)))))","v":0},{"$f":"IF(($A144+INDEX($D144*($24:$24-$35:$35), MATCH(M$50,$17:$17, 0)))>$C$8,1000000000,(IF(OR(INDEX($22:$22-($A144-$D144*$35:$35), MATCH(M$50,$17:$17, 0))>0, INDEX($D144*$35:$35-$C144, MATCH(M$50,$17:$17, 0))>0),1000000000,(p!M144+n!M144+m!M144+INDEX(Vt!L:L, MATCH(($A144+INDEX($D144*($24:$24-$35:$35), MATCH(M$50,$17:$17, 0))),Vt!$A:$A,0)+INDEX($B144+$D144*$24:$24, MATCH(M$50,$17:$17, 0))*2)))))","v":0},{"$f":"IF(($A144+INDEX($D144*($24:$24-$35:$35), MATCH(N$50,$17:$17, 0)))>$C$8,1000000000,(IF(OR(INDEX($22:$22-($A144-$D144*$35:$35), MATCH(N$50,$17:$17, 0))>0, INDEX($D144*$35:$35-$C144, MATCH(N$50,$17:$17, 0))>0),1000000000,(p!N144+n!N144+m!N144+INDEX(Vt!M:M, MATCH(($A144+INDEX($D144*($24:$24-$35:$35), MATCH(N$50,$17:$17, 0))),Vt!$A:$A,0)+INDEX($B144+$D144*$24:$24, MATCH(N$50,$17:$17, 0))*2)))))","v":0},{"$f":"IF(($A144+INDEX($D144*($24:$24-$35:$35), MATCH(O$50,$17:$17, 0)))>$C$8,1000000000,(IF(OR(INDEX($22:$22-($A144-$D144*$35:$35), MATCH(O$50,$17:$17, 0))>0, INDEX($D144*$35:$35-$C144, MATCH(O$50,$17:$17, 0))>0),1000000000,(p!O144+n!O144+m!O144+INDEX(Vt!N:N, MATCH(($A144+INDEX($D144*($24:$24-$35:$35), MATCH(O$50,$17:$17, 0))),Vt!$A:$A,0)+INDEX($B144+$D144*$24:$24, MATCH(O$50,$17:$17, 0))*2)))))","v":0}]
[9,2,7,0,0,{"$f":"IF(($A145+INDEX($D145*($24:$24-$35:$35), MATCH(F$50,$17:$17, 0)))>$C$8,1000000000,(IF(OR(INDEX($22:$22-($A145-$D145*$35:$35), MATCH(F$50,$17:$17, 0))>0, INDEX($D145*$35:$35-$C145, MATCH(F$50,$17:$17, 0))>0),1000000000,(p!F145+n!F145+m!F145+INDEX(Vt!E:E, MATCH(($A145+INDEX($D145*($24:$24-$35:$35), MATCH(F$50,$17:$17, 0))),Vt!$A:$A,0)+INDEX($B145+$D145*$24:$24, MATCH(F$50,$17:$17, 0))*2)))))","v":0},{"$f":"IF(($A145+INDEX($D145*($24:$24-$35:$35), MATCH(G$50,$17:$17, 0)))>$C$8,1000000000,(IF(OR(INDEX($22:$22-($A145-$D145*$35:$35), MATCH(G$50,$17:$17, 0))>0, INDEX($D145*$35:$35-$C145, MATCH(G$50,$17:$17, 0))>0),1000000000,(p!G145+n!G145+m!G145+INDEX(Vt!F:F, MATCH(($A145+INDEX($D145*($24:$24-$35:$35), MATCH(G$50,$17:$17, 0))),Vt!$A:$A,0)+INDEX($B145+$D145*$24:$24, MATCH(G$50,$17:$17, 0))*2)))))","v":0},{"$f":"IF(($A145+INDEX($D145*($24:$24-$35:$35), MATCH(H$50,$17:$17, 0)))>$C$8,1000000000,(IF(OR(INDEX($22:$22-($A145-$D145*$35:$35), MATCH(H$50,$17:$17, 0))>0, INDEX($D145*$35:$35-$C145, MATCH(H$50,$17:$17, 0))>0),1000000000,(p!H145+n!H145+m!H145+INDEX(Vt!G:G, MATCH(($A145+INDEX($D145*($24:$24-$35:$35), MATCH(H$50,$17:$17, 0))),Vt!$A:$A,0)+INDEX($B145+$D145*$24:$24, MATCH(H$50,$17:$17, 0))*2)))))","v":0},{"$f":"IF(($A145+INDEX($D145*($24:$24-$35:$35), MATCH(I$50,$17:$17, 0)))>$C$8,1000000000,(IF(OR(INDEX($22:$22-($A145-$D145*$35:$35), MATCH(I$50,$17:$17, 0))>0, INDEX($D145*$35:$35-$C145, MATCH(I$50,$17:$17, 0))>0),1000000000,(p!I145+n!I145+m!I145+INDEX(Vt!H:H, MATCH(($A145+INDEX($D145*($24:$24-$35:$35), MATCH(I$50,$17:$17, 0))),Vt!$A:$A,0)+INDEX($B145+$D145*$24:$24, MATCH(I$50,$17:$17, 0))*2)))))","v":0},{"$f":"IF(($A145+INDEX($D145*($24:$24-$35:$35), MATCH(J$50,$17:$17, 0)))>$C$8,1000000000,(IF(OR(INDEX($22:$22-($A145-$D145*$35:$35), MATCH(J$50,$17:$17, 0))>0, INDEX($D145*$35:$35-$C145, MATCH(J$50,$17:$17, 0))>0),1000000000,(p!J145+n!J145+m!J145+INDEX(Vt!I:I, MATCH(($A145+INDEX($D145*($24:$24-$35:$35), MATCH(J$50,$17:$17, 0))),Vt!$A:$A,0)+INDEX($B145+$D145*$24:$24, MATCH(J$50,$17:$17, 0))*2)))))","v":0},{"$f":"IF(($A145+INDEX($D145*($24:$24-$35:$35), MATCH(K$50,$17:$17, 0)))>$C$8,1000000000,(IF(OR(INDEX($22:$22-($A145-$D145*$35:$35), MATCH(K$50,$17:$17, 0))>0, INDEX($D145*$35:$35-$C145, MATCH(K$50,$17:$17, 0))>0),1000000000,(p!K145+n!K145+m!K145+INDEX(Vt!J:J, MATCH(($A145+INDEX($D145*($24:$24-$35:$35), MATCH(K$50,$17:$17, 0))),Vt!$A:$A,0)+INDEX($B145+$D145*$24:$24, MATCH(K$50,$17:$17, 0))*2)))))","v":0},{"$f":"IF(($A145+INDEX($D145*($24:$24-$35:$35), MATCH(L$50,$17:$17, 0)))>$C$8,1000000000,(IF(OR(INDEX($22:$22-($A145-$D145*$35:$35), MATCH(L$50,$17:$17, 0))>0, INDEX($D145*$35:$35-$C145, MATCH(L$50,$17:$17, 0))>0),1000000000,(p!L145+n!L145+m!L145+INDEX(Vt!K:K, MATCH(($A145+INDEX($D145*($24:$24-$35:$35), MATCH(L$50,$17:$17, 0))),Vt!$A:$A,0)+INDEX($B145+$D145*$24:$24, MATCH(L$50,$17:$17, 0))*2)))))","v":0},{"$f":"IF(($A145+INDEX($D145*($24:$24-$35:$35), MATCH(M$50,$17:$17, 0)))>$C$8,1000000000,(IF(OR(INDEX($22:$22-($A145-$D145*$35:$35), MATCH(M$50,$17:$17, 0))>0, INDEX($D145*$35:$35-$C145, MATCH(M$50,$17:$17, 0))>0),1000000000,(p!M145+n!M145+m!M145+INDEX(Vt!L:L, MATCH(($A145+INDEX($D145*($24:$24-$35:$35), MATCH(M$50,$17:$17, 0))),Vt!$A:$A,0)+INDEX($B145+$D145*$24:$24, MATCH(M$50,$17:$17, 0))*2)))))","v":0},{"$f":"IF(($A145+INDEX($D145*($24:$24-$35:$35), MATCH(N$50,$17:$17, 0)))>$C$8,1000000000,(IF(OR(INDEX($22:$22-($A145-$D145*$35:$35), MATCH(N$50,$17:$17, 0))>0, INDEX($D145*$35:$35-$C145, MATCH(N$50,$17:$17, 0))>0),1000000000,(p!N145+n!N145+m!N145+INDEX(Vt!M:M, MATCH(($A145+INDEX($D145*($24:$24-$35:$35), MATCH(N$50,$17:$17, 0))),Vt!$A:$A,0)+INDEX($B145+$D145*$24:$24, MATCH(N$50,$17:$17, 0))*2)))))","v":0},{"$f":"IF(($A145+INDEX($D145*($24:$24-$35:$35), MATCH(O$50,$17:$17, 0)))>$C$8,1000000000,(IF(OR(INDEX($22:$22-($A145-$D145*$35:$35), MATCH(O$50,$17:$17, 0))>0, INDEX($D145*$35:$35-$C145, MATCH(O$50,$17:$17, 0))>0),1000000000,(p!O145+n!O145+m!O145+INDEX(Vt!N:N, MATCH(($A145+INDEX($D145*($24:$24-$35:$35), MATCH(O$50,$17:$17, 0))),Vt!$A:$A,0)+INDEX($B145+$D145*$24:$24, MATCH(O$50,$17:$17, 0))*2)))))","v":0}]
[9,2,7,1,0,{"$f":"IF(($A146+INDEX($D146*($24:$24-$35:$35), MATCH(F$50,$17:$17, 0)))>$C$8,1000000000,(IF(OR(INDEX($22:$22-($A146-$D146*$35:$35), MATCH(F$50,$17:$17, 0))>0, INDEX($D146*$35:$35-$C146, MATCH(F$50,$17:$17, 0))>0),1000000000,(p!F146+n!F146+m!F146+INDEX(Vt!E:E, MATCH(($A146+INDEX($D146*($24:$24-$35:$35), MATCH(F$50,$17:$17, 0))),Vt!$A:$A,0)+INDEX($B146+$D146*$24:$24, MATCH(F$50,$17:$17, 0))*2)))))","v":0},{"$f":"IF(($A146+INDEX($D146*($24:$24-$35:$35), MATCH(G$50,$17:$17, 0)))>$C$8,1000000000,(IF(OR(INDEX($22:$22-($A146-$D146*$35:$35), MATCH(G$50,$17:$17, 0))>0, INDEX($D146*$35:$35-$C146, MATCH(G$50,$17:$17, 0))>0),1000000000,(p!G146+n!G146+m!G146+INDEX(Vt!F:F, MATCH(($A146+INDEX($D146*($24:$24-$35:$35), MATCH(G$50,$17:$17, 0))),Vt!$A:$A,0)+INDEX($B146+$D146*$24:$24, MATCH(G$50,$17:$17, 0))*2)))))","v":0},{"$f":"IF(($A146+INDEX($D146*($24:$24-$35:$35), MATCH(H$50,$17:$17, 0)))>$C$8,1000000000,(IF(OR(INDEX($22:$22-($A146-$D146*$35:$35), MATCH(H$50,$17:$17, 0))>0, INDEX($D146*$35:$35-$C146, MATCH(H$50,$17:$17, 0))>0),1000000000,(p!H146+n!H146+m!H146+INDEX(Vt!G:G, MATCH(($A146+INDEX($D146*($24:$24-$35:$35), MATCH(H$50,$17:$17, 0))),Vt!$A:$A,0)+INDEX($B146+$D146*$24:$24, MATCH(H$50,$17:$17, 0))*2)))))","v":0},{"$f":"IF(($A146+INDEX($D146*($24:$24-$35:$35), MATCH(I$50,$17:$17, 0)))>$C$8,1000000000,(IF(OR(INDEX($22:$22-($A146-$D146*$35:$35), MATCH(I$50,$17:$17, 0))>0, INDEX($D146*$35:$35-$C146, MATCH(I$50,$17:$17, 0))>0),1000000000,(p!I146+n!I146+m!I146+INDEX(Vt!H:H, MATCH(($A146+INDEX($D146*($24:$24-$35:$35), MATCH(I$50,$17:$17, 0))),Vt!$A:$A,0)+INDEX($B146+$D146*$24:$24, MATCH(I$50,$17:$17, 0))*2)))))","v":0},{"$f":"IF(($A146+INDEX($D146*($24:$24-$35:$35), MATCH(J$50,$17:$17, 0)))>$C$8,1000000000,(IF(OR(INDEX($22:$22-($A146-$D146*$35:$35), MATCH(J$50,$17:$17, 0))>0, INDEX($D146*$35:$35-$C146, MATCH(J$50,$17:$17, 0))>0),1000000000,(p!J146+n!J146+m!J146+INDEX(Vt!I:I, MATCH(($A146+INDEX($D146*($24:$24-$35:$35), MATCH(J$50,$17:$17, 0))),Vt!$A:$A,0)+INDEX($B146+$D146*$24:$24, MATCH(J$50,$17:$17, 0))*2)))))","v":0},{"$f":"IF(($A146+INDEX($D146*($24:$24-$35:$35), MATCH(K$50,$17:$17, 0)))>$C$8,1000000000,(IF(OR(INDEX($22:$22-($A146-$D146*$35:$35), MATCH(K$50,$17:$17, 0))>0, INDEX($D146*$35:$35-$C146, MATCH(K$50,$17:$17, 0))>0),1000000000,(p!K146+n!K146+m!K146+INDEX(Vt!J:J, MATCH(($A146+INDEX($D146*($24:$24-$35:$35), MATCH(K$50,$17:$17, 0))),Vt!$A:$A,0)+INDEX($B146+$D146*$24:$24, MATCH(K$50,$17:$17, 0))*2)))))","v":0},{"$f":"IF(($A146+INDEX($D146*($24:$24-$35:$35), MATCH(L$50,$17:$17, 0)))>$C$8,1000000000,(IF(OR(INDEX($22:$22-($A146-$D146*$35:$35), MATCH(L$50,$17:$17, 0))>0, INDEX($D146*$35:$35-$C146, MATCH(L$50,$17:$17, 0))>0),1000000000,(p!L146+n!L146+m!L146+INDEX(Vt!K:K, MATCH(($A146+INDEX($D146*($24:$24-$35:$35), MATCH(L$50,$17:$17, 0))),Vt!$A:$A,0)+INDEX($B146+$D146*$24:$24, MATCH(L$50,$17:$17, 0))*2)))))","v":0},{"$f":"IF(($A146+INDEX($D146*($24:$24-$35:$35), MATCH(M$50,$17:$17, 0)))>$C$8,1000000000,(IF(OR(INDEX($22:$22-($A146-$D146*$35:$35), MATCH(M$50,$17:$17, 0))>0, INDEX($D146*$35:$35-$C146, MATCH(M$50,$17:$17, 0))>0),1000000000,(p!M146+n!M146+m!M146+INDEX(Vt!L:L, MATCH(($A146+INDEX($D146*($24:$24-$35:$35), MATCH(M$50,$17:$17, 0))),Vt!$A:$A,0)+INDEX($B146+$D146*$24:$24, MATCH(M$50,$17:$17, 0))*2)))))","v":0},{"$f":"IF(($A146+INDEX($D146*($24:$24-$35:$35), MATCH(N$50,$17:$17, 0)))>$C$8,1000000000,(IF(OR(INDEX($22:$22-($A146-$D146*$35:$35), MATCH(N$50,$17:$17, 0))>0, INDEX($D146*$35:$35-$C146, MATCH(N$50,$17:$17, 0))>0),1000000000,(p!N146+n!N146+m!N146+INDEX(Vt!M:M, MATCH(($A146+INDEX($D146*($24:$24-$35:$35), MATCH(N$50,$17:$17, 0))),Vt!$A:$A,0)+INDEX($B146+$D146*$24:$24, MATCH(N$50,$17:$17, 0))*2)))))","v":0},{"$f":"IF(($A146+INDEX($D146*($24:$24-$35:$35), MATCH(O$50,$17:$17, 0)))>$C$8,1000000000,(IF(OR(INDEX($22:$22-($A146-$D146*$35:$35), MATCH(O$50,$17:$17, 0))>0, INDEX($D146*$35:$35-$C146, MATCH(O$50,$17:$17, 0))>0),1000000000,(p!O146+n!O146+m!O146+INDEX(Vt!N:N, MATCH(($A146+INDEX($D146*($24:$24-$35:$35), MATCH(O$50,$17:$17, 0))),Vt!$A:$A,0)+INDEX($B146+$D146*$24:$24, MATCH(O$50,$17:$17, 0))*2)))))","v":0}]
[9,3,6,0,0,{"$f":"IF(($A147+INDEX($D147*($24:$24-$35:$35), MATCH(F$50,$17:$17, 0)))>$C$8,1000000000,(IF(OR(INDEX($22:$22-($A147-$D147*$35:$35), MATCH(F$50,$17:$17, 0))>0, INDEX($D147*$35:$35-$C147, MATCH(F$50,$17:$17, 0))>0),1000000000,(p!F147+n!F147+m!F147+INDEX(Vt!E:E, MATCH(($A147+INDEX($D147*($24:$24-$35:$35), MATCH(F$50,$17:$17, 0))),Vt!$A:$A,0)+INDEX($B147+$D147*$24:$24, MATCH(F$50,$17:$17, 0))*2)))))","v":0},{"$f":"IF(($A147+INDEX($D147*($24:$24-$35:$35), MATCH(G$50,$17:$17, 0)))>$C$8,1000000000,(IF(OR(INDEX($22:$22-($A147-$D147*$35:$35), MATCH(G$50,$17:$17, 0))>0, INDEX($D147*$35:$35-$C147, MATCH(G$50,$17:$17, 0))>0),1000000000,(p!G147+n!G147+m!G147+INDEX(Vt!F:F, MATCH(($A147+INDEX($D147*($24:$24-$35:$35), MATCH(G$50,$17:$17, 0))),Vt!$A:$A,0)+INDEX($B147+$D147*$24:$24, MATCH(G$50,$17:$17, 0))*2)))))","v":0},{"$f":"IF(($A147+INDEX($D147*($24:$24-$35:$35), MATCH(H$50,$17:$17, 0)))>$C$8,1000000000,(IF(OR(INDEX($22:$22-($A147-$D147*$35:$35), MATCH(H$50,$17:$17, 0))>0, INDEX($D147*$35:$35-$C147, MATCH(H$50,$17:$17, 0))>0),1000000000,(p!H147+n!H147+m!H147+INDEX(Vt!G:G, MATCH(($A147+INDEX($D147*($24:$24-$35:$35), MATCH(H$50,$17:$17, 0))),Vt!$A:$A,0)+INDEX($B147+$D147*$24:$24, MATCH(H$50,$17:$17, 0))*2)))))","v":0},{"$f":"IF(($A147+INDEX($D147*($24:$24-$35:$35), MATCH(I$50,$17:$17, 0)))>$C$8,1000000000,(IF(OR(INDEX($22:$22-($A147-$D147*$35:$35), MATCH(I$50,$17:$17, 0))>0, INDEX($D147*$35:$35-$C147, MATCH(I$50,$17:$17, 0))>0),1000000000,(p!I147+n!I147+m!I147+INDEX(Vt!H:H, MATCH(($A147+INDEX($D147*($24:$24-$35:$35), MATCH(I$50,$17:$17, 0))),Vt!$A:$A,0)+INDEX($B147+$D147*$24:$24, MATCH(I$50,$17:$17, 0))*2)))))","v":0},{"$f":"IF(($A147+INDEX($D147*($24:$24-$35:$35), MATCH(J$50,$17:$17, 0)))>$C$8,1000000000,(IF(OR(INDEX($22:$22-($A147-$D147*$35:$35), MATCH(J$50,$17:$17, 0))>0, INDEX($D147*$35:$35-$C147, MATCH(J$50,$17:$17, 0))>0),1000000000,(p!J147+n!J147+m!J147+INDEX(Vt!I:I, MATCH(($A147+INDEX($D147*($24:$24-$35:$35), MATCH(J$50,$17:$17, 0))),Vt!$A:$A,0)+INDEX($B147+$D147*$24:$24, MATCH(J$50,$17:$17, 0))*2)))))","v":0},{"$f":"IF(($A147+INDEX($D147*($24:$24-$35:$35), MATCH(K$50,$17:$17, 0)))>$C$8,1000000000,(IF(OR(INDEX($22:$22-($A147-$D147*$35:$35), MATCH(K$50,$17:$17, 0))>0, INDEX($D147*$35:$35-$C147, MATCH(K$50,$17:$17, 0))>0),1000000000,(p!K147+n!K147+m!K147+INDEX(Vt!J:J, MATCH(($A147+INDEX($D147*($24:$24-$35:$35), MATCH(K$50,$17:$17, 0))),Vt!$A:$A,0)+INDEX($B147+$D147*$24:$24, MATCH(K$50,$17:$17, 0))*2)))))","v":0},{"$f":"IF(($A147+INDEX($D147*($24:$24-$35:$35), MATCH(L$50,$17:$17, 0)))>$C$8,1000000000,(IF(OR(INDEX($22:$22-($A147-$D147*$35:$35), MATCH(L$50,$17:$17, 0))>0, INDEX($D147*$35:$35-$C147, MATCH(L$50,$17:$17, 0))>0),1000000000,(p!L147+n!L147+m!L147+INDEX(Vt!K:K, MATCH(($A147+INDEX($D147*($24:$24-$35:$35), MATCH(L$50,$17:$17, 0))),Vt!$A:$A,0)+INDEX($B147+$D147*$24:$24, MATCH(L$50,$17:$17, 0))*2)))))","v":0},{"$f":"IF(($A147+INDEX($D147*($24:$24-$35:$35), MATCH(M$50,$17:$17, 0)))>$C$8,1000000000,(IF(OR(INDEX($22:$22-($A147-$D147*$35:$35), MATCH(M$50,$17:$17, 0))>0, INDEX($D147*$35:$35-$C147, MATCH(M$50,$17:$17, 0))>0),1000000000,(p!M147+n!M147+m!M147+INDEX(Vt!L:L, MATCH(($A147+INDEX($D147*($24:$24-$35:$35), MATCH(M$50,$17:$17, 0))),Vt!$A:$A,0)+INDEX($B147+$D147*$24:$24, MATCH(M$50,$17:$17, 0))*2)))))","v":0},{"$f":"IF(($A147+INDEX($D147*($24:$24-$35:$35), MATCH(N$50,$17:$17, 0)))>$C$8,1000000000,(IF(OR(INDEX($22:$22-($A147-$D147*$35:$35), MATCH(N$50,$17:$17, 0))>0, INDEX($D147*$35:$35-$C147, MATCH(N$50,$17:$17, 0))>0),1000000000,(p!N147+n!N147+m!N147+INDEX(Vt!M:M, MATCH(($A147+INDEX($D147*($24:$24-$35:$35), MATCH(N$50,$17:$17, 0))),Vt!$A:$A,0)+INDEX($B147+$D147*$24:$24, MATCH(N$50,$17:$17, 0))*2)))))","v":0},{"$f":"IF(($A147+INDEX($D147*($24:$24-$35:$35), MATCH(O$50,$17:$17, 0)))>$C$8,1000000000,(IF(OR(INDEX($22:$22-($A147-$D147*$35:$35), MATCH(O$50,$17:$17, 0))>0, INDEX($D147*$35:$35-$C147, MATCH(O$50,$17:$17, 0))>0),1000000000,(p!O147+n!O147+m!O147+INDEX(Vt!N:N, MATCH(($A147+INDEX($D147*($24:$24-$35:$35), MATCH(O$50,$17:$17, 0))),Vt!$A:$A,0)+INDEX($B147+$D147*$24:$24, MATCH(O$50,$17:$17, 0))*2)))))","v":0}]
[9,3,6,1,0,{"$f":"IF(($A148+INDEX($D148*($24:$24-$35:$35), MATCH(F$50,$17:$17, 0)))>$C$8,1000000000,(IF(OR(INDEX($22:$22-($A148-$D148*$35:$35), MATCH(F$50,$17:$17, 0))>0, INDEX($D148*$35:$35-$C148, MATCH(F$50,$17:$17, 0))>0),1000000000,(p!F148+n!F148+m!F148+INDEX(Vt!E:E, MATCH(($A148+INDEX($D148*($24:$24-$35:$35), MATCH(F$50,$17:$17, 0))),Vt!$A:$A,0)+INDEX($B148+$D148*$24:$24, MATCH(F$50,$17:$17, 0))*2)))))","v":0},{"$f":"IF(($A148+INDEX($D148*($24:$24-$35:$35), MATCH(G$50,$17:$17, 0)))>$C$8,1000000000,(IF(OR(INDEX($22:$22-($A148-$D148*$35:$35), MATCH(G$50,$17:$17, 0))>0, INDEX($D148*$35:$35-$C148, MATCH(G$50,$17:$17, 0))>0),1000000000,(p!G148+n!G148+m!G148+INDEX(Vt!F:F, MATCH(($A148+INDEX($D148*($24:$24-$35:$35), MATCH(G$50,$17:$17, 0))),Vt!$A:$A,0)+INDEX($B148+$D148*$24:$24, MATCH(G$50,$17:$17, 0))*2)))))","v":0},{"$f":"IF(($A148+INDEX($D148*($24:$24-$35:$35), MATCH(H$50,$17:$17, 0)))>$C$8,1000000000,(IF(OR(INDEX($22:$22-($A148-$D148*$35:$35), MATCH(H$50,$17:$17, 0))>0, INDEX($D148*$35:$35-$C148, MATCH(H$50,$17:$17, 0))>0),1000000000,(p!H148+n!H148+m!H148+INDEX(Vt!G:G, MATCH(($A148+INDEX($D148*($24:$24-$35:$35), MATCH(H$50,$17:$17, 0))),Vt!$A:$A,0)+INDEX($B148+$D148*$24:$24, MATCH(H$50,$17:$17, 0))*2)))))","v":0},{"$f":"IF(($A148+INDEX($D148*($24:$24-$35:$35), MATCH(I$50,$17:$17, 0)))>$C$8,1000000000,(IF(OR(INDEX($22:$22-($A148-$D148*$35:$35), MATCH(I$50,$17:$17, 0))>0, INDEX($D148*$35:$35-$C148, MATCH(I$50,$17:$17, 0))>0),1000000000,(p!I148+n!I148+m!I148+INDEX(Vt!H:H, MATCH(($A148+INDEX($D148*($24:$24-$35:$35), MATCH(I$50,$17:$17, 0))),Vt!$A:$A,0)+INDEX($B148+$D148*$24:$24, MATCH(I$50,$17:$17, 0))*2)))))","v":0},{"$f":"IF(($A148+INDEX($D148*($24:$24-$35:$35), MATCH(J$50,$17:$17, 0)))>$C$8,1000000000,(IF(OR(INDEX($22:$22-($A148-$D148*$35:$35), MATCH(J$50,$17:$17, 0))>0, INDEX($D148*$35:$35-$C148, MATCH(J$50,$17:$17, 0))>0),1000000000,(p!J148+n!J148+m!J148+INDEX(Vt!I:I, MATCH(($A148+INDEX($D148*($24:$24-$35:$35), MATCH(J$50,$17:$17, 0))),Vt!$A:$A,0)+INDEX($B148+$D148*$24:$24, MATCH(J$50,$17:$17, 0))*2)))))","v":0},{"$f":"IF(($A148+INDEX($D148*($24:$24-$35:$35), MATCH(K$50,$17:$17, 0)))>$C$8,1000000000,(IF(OR(INDEX($22:$22-($A148-$D148*$35:$35), MATCH(K$50,$17:$17, 0))>0, INDEX($D148*$35:$35-$C148, MATCH(K$50,$17:$17, 0))>0),1000000000,(p!K148+n!K148+m!K148+INDEX(Vt!J:J, MATCH(($A148+INDEX($D148*($24:$24-$35:$35), MATCH(K$50,$17:$17, 0))),Vt!$A:$A,0)+INDEX($B148+$D148*$24:$24, MATCH(K$50,$17:$17, 0))*2)))))","v":0},{"$f":"IF(($A148+INDEX($D148*($24:$24-$35:$35), MATCH(L$50,$17:$17, 0)))>$C$8,1000000000,(IF(OR(INDEX($22:$22-($A148-$D148*$35:$35), MATCH(L$50,$17:$17, 0))>0, INDEX($D148*$35:$35-$C148, MATCH(L$50,$17:$17, 0))>0),1000000000,(p!L148+n!L148+m!L148+INDEX(Vt!K:K, MATCH(($A148+INDEX($D148*($24:$24-$35:$35), MATCH(L$50,$17:$17, 0))),Vt!$A:$A,0)+INDEX($B148+$D148*$24:$24, MATCH(L$50,$17:$17, 0))*2)))))","v":0},{"$f":"IF(($A148+INDEX($D148*($24:$24-$35:$35), MATCH(M$50,$17:$17, 0)))>$C$8,1000000000,(IF(OR(INDEX($22:$22-($A148-$D148*$35:$35), MATCH(M$50,$17:$17, 0))>0, INDEX($D148*$35:$35-$C148, MATCH(M$50,$17:$17, 0))>0),1000000000,(p!M148+n!M148+m!M148+INDEX(Vt!L:L, MATCH(($A148+INDEX($D148*($24:$24-$35:$35), MATCH(M$50,$17:$17, 0))),Vt!$A:$A,0)+INDEX($B148+$D148*$24:$24, MATCH(M$50,$17:$17, 0))*2)))))","v":0},{"$f":"IF(($A148+INDEX($D148*($24:$24-$35:$35), MATCH(N$50,$17:$17, 0)))>$C$8,1000000000,(IF(OR(INDEX($22:$22-($A148-$D148*$35:$35), MATCH(N$50,$17:$17, 0))>0, INDEX($D148*$35:$35-$C148, MATCH(N$50,$17:$17, 0))>0),1000000000,(p!N148+n!N148+m!N148+INDEX(Vt!M:M, MATCH(($A148+INDEX($D148*($24:$24-$35:$35), MATCH(N$50,$17:$17, 0))),Vt!$A:$A,0)+INDEX($B148+$D148*$24:$24, MATCH(N$50,$17:$17, 0))*2)))))","v":0},{"$f":"IF(($A148+INDEX($D148*($24:$24-$35:$35), MATCH(O$50,$17:$17, 0)))>$C$8,1000000000,(IF(OR(INDEX($22:$22-($A148-$D148*$35:$35), MATCH(O$50,$17:$17, 0))>0, INDEX($D148*$35:$35-$C148, MATCH(O$50,$17:$17, 0))>0),1000000000,(p!O148+n!O148+m!O148+INDEX(Vt!N:N, MATCH(($A148+INDEX($D148*($24:$24-$35:$35), MATCH(O$50,$17:$17, 0))),Vt!$A:$A,0)+INDEX($B148+$D148*$24:$24, MATCH(O$50,$17:$17, 0))*2)))))","v":0}]
[9,4,5,0,0,{"$f":"IF(($A149+INDEX($D149*($24:$24-$35:$35), MATCH(F$50,$17:$17, 0)))>$C$8,1000000000,(IF(OR(INDEX($22:$22-($A149-$D149*$35:$35), MATCH(F$50,$17:$17, 0))>0, INDEX($D149*$35:$35-$C149, MATCH(F$50,$17:$17, 0))>0),1000000000,(p!F149+n!F149+m!F149+INDEX(Vt!E:E, MATCH(($A149+INDEX($D149*($24:$24-$35:$35), MATCH(F$50,$17:$17, 0))),Vt!$A:$A,0)+INDEX($B149+$D149*$24:$24, MATCH(F$50,$17:$17, 0))*2)))))","v":0},{"$f":"IF(($A149+INDEX($D149*($24:$24-$35:$35), MATCH(G$50,$17:$17, 0)))>$C$8,1000000000,(IF(OR(INDEX($22:$22-($A149-$D149*$35:$35), MATCH(G$50,$17:$17, 0))>0, INDEX($D149*$35:$35-$C149, MATCH(G$50,$17:$17, 0))>0),1000000000,(p!G149+n!G149+m!G149+INDEX(Vt!F:F, MATCH(($A149+INDEX($D149*($24:$24-$35:$35), MATCH(G$50,$17:$17, 0))),Vt!$A:$A,0)+INDEX($B149+$D149*$24:$24, MATCH(G$50,$17:$17, 0))*2)))))","v":0},{"$f":"IF(($A149+INDEX($D149*($24:$24-$35:$35), MATCH(H$50,$17:$17, 0)))>$C$8,1000000000,(IF(OR(INDEX($22:$22-($A149-$D149*$35:$35), MATCH(H$50,$17:$17, 0))>0, INDEX($D149*$35:$35-$C149, MATCH(H$50,$17:$17, 0))>0),1000000000,(p!H149+n!H149+m!H149+INDEX(Vt!G:G, MATCH(($A149+INDEX($D149*($24:$24-$35:$35), MATCH(H$50,$17:$17, 0))),Vt!$A:$A,0)+INDEX($B149+$D149*$24:$24, MATCH(H$50,$17:$17, 0))*2)))))","v":0},{"$f":"IF(($A149+INDEX($D149*($24:$24-$35:$35), MATCH(I$50,$17:$17, 0)))>$C$8,1000000000,(IF(OR(INDEX($22:$22-($A149-$D149*$35:$35), MATCH(I$50,$17:$17, 0))>0, INDEX($D149*$35:$35-$C149, MATCH(I$50,$17:$17, 0))>0),1000000000,(p!I149+n!I149+m!I149+INDEX(Vt!H:H, MATCH(($A149+INDEX($D149*($24:$24-$35:$35), MATCH(I$50,$17:$17, 0))),Vt!$A:$A,0)+INDEX($B149+$D149*$24:$24, MATCH(I$50,$17:$17, 0))*2)))))","v":0},{"$f":"IF(($A149+INDEX($D149*($24:$24-$35:$35), MATCH(J$50,$17:$17, 0)))>$C$8,1000000000,(IF(OR(INDEX($22:$22-($A149-$D149*$35:$35), MATCH(J$50,$17:$17, 0))>0, INDEX($D149*$35:$35-$C149, MATCH(J$50,$17:$17, 0))>0),1000000000,(p!J149+n!J149+m!J149+INDEX(Vt!I:I, MATCH(($A149+INDEX($D149*($24:$24-$35:$35), MATCH(J$50,$17:$17, 0))),Vt!$A:$A,0)+INDEX($B149+$D149*$24:$24, MATCH(J$50,$17:$17, 0))*2)))))","v":0},{"$f":"IF(($A149+INDEX($D149*($24:$24-$35:$35), MATCH(K$50,$17:$17, 0)))>$C$8,1000000000,(IF(OR(INDEX($22:$22-($A149-$D149*$35:$35), MATCH(K$50,$17:$17, 0))>0, INDEX($D149*$35:$35-$C149, MATCH(K$50,$17:$17, 0))>0),1000000000,(p!K149+n!K149+m!K149+INDEX(Vt!J:J, MATCH(($A149+INDEX($D149*($24:$24-$35:$35), MATCH(K$50,$17:$17, 0))),Vt!$A:$A,0)+INDEX($B149+$D149*$24:$24, MATCH(K$50,$17:$17, 0))*2)))))","v":0},{"$f":"IF(($A149+INDEX($D149*($24:$24-$35:$35), MATCH(L$50,$17:$17, 0)))>$C$8,1000000000,(IF(OR(INDEX($22:$22-($A149-$D149*$35:$35), MATCH(L$50,$17:$17, 0))>0, INDEX($D149*$35:$35-$C149, MATCH(L$50,$17:$17, 0))>0),1000000000,(p!L149+n!L149+m!L149+INDEX(Vt!K:K, MATCH(($A149+INDEX($D149*($24:$24-$35:$35), MATCH(L$50,$17:$17, 0))),Vt!$A:$A,0)+INDEX($B149+$D149*$24:$24, MATCH(L$50,$17:$17, 0))*2)))))","v":0},{"$f":"IF(($A149+INDEX($D149*($24:$24-$35:$35), MATCH(M$50,$17:$17, 0)))>$C$8,1000000000,(IF(OR(INDEX($22:$22-($A149-$D149*$35:$35), MATCH(M$50,$17:$17, 0))>0, INDEX($D149*$35:$35-$C149, MATCH(M$50,$17:$17, 0))>0),1000000000,(p!M149+n!M149+m!M149+INDEX(Vt!L:L, MATCH(($A149+INDEX($D149*($24:$24-$35:$35), MATCH(M$50,$17:$17, 0))),Vt!$A:$A,0)+INDEX($B149+$D149*$24:$24, MATCH(M$50,$17:$17, 0))*2)))))","v":0},{"$f":"IF(($A149+INDEX($D149*($24:$24-$35:$35), MATCH(N$50,$17:$17, 0)))>$C$8,1000000000,(IF(OR(INDEX($22:$22-($A149-$D149*$35:$35), MATCH(N$50,$17:$17, 0))>0, INDEX($D149*$35:$35-$C149, MATCH(N$50,$17:$17, 0))>0),1000000000,(p!N149+n!N149+m!N149+INDEX(Vt!M:M, MATCH(($A149+INDEX($D149*($24:$24-$35:$35), MATCH(N$50,$17:$17, 0))),Vt!$A:$A,0)+INDEX($B149+$D149*$24:$24, MATCH(N$50,$17:$17, 0))*2)))))","v":0},{"$f":"IF(($A149+INDEX($D149*($24:$24-$35:$35), MATCH(O$50,$17:$17, 0)))>$C$8,1000000000,(IF(OR(INDEX($22:$22-($A149-$D149*$35:$35), MATCH(O$50,$17:$17, 0))>0, INDEX($D149*$35:$35-$C149, MATCH(O$50,$17:$17, 0))>0),1000000000,(p!O149+n!O149+m!O149+INDEX(Vt!N:N, MATCH(($A149+INDEX($D149*($24:$24-$35:$35), MATCH(O$50,$17:$17, 0))),Vt!$A:$A,0)+INDEX($B149+$D149*$24:$24, MATCH(O$50,$17:$17, 0))*2)))))","v":0}]
[9,4,5,1,0,{"$f":"IF(($A150+INDEX($D150*($24:$24-$35:$35), MATCH(F$50,$17:$17, 0)))>$C$8,1000000000,(IF(OR(INDEX($22:$22-($A150-$D150*$35:$35), MATCH(F$50,$17:$17, 0))>0, INDEX($D150*$35:$35-$C150, MATCH(F$50,$17:$17, 0))>0),1000000000,(p!F150+n!F150+m!F150+INDEX(Vt!E:E, MATCH(($A150+INDEX($D150*($24:$24-$35:$35), MATCH(F$50,$17:$17, 0))),Vt!$A:$A,0)+INDEX($B150+$D150*$24:$24, MATCH(F$50,$17:$17, 0))*2)))))","v":0},{"$f":"IF(($A150+INDEX($D150*($24:$24-$35:$35), MATCH(G$50,$17:$17, 0)))>$C$8,1000000000,(IF(OR(INDEX($22:$22-($A150-$D150*$35:$35), MATCH(G$50,$17:$17, 0))>0, INDEX($D150*$35:$35-$C150, MATCH(G$50,$17:$17, 0))>0),1000000000,(p!G150+n!G150+m!G150+INDEX(Vt!F:F, MATCH(($A150+INDEX($D150*($24:$24-$35:$35), MATCH(G$50,$17:$17, 0))),Vt!$A:$A,0)+INDEX($B150+$D150*$24:$24, MATCH(G$50,$17:$17, 0))*2)))))","v":0},{"$f":"IF(($A150+INDEX($D150*($24:$24-$35:$35), MATCH(H$50,$17:$17, 0)))>$C$8,1000000000,(IF(OR(INDEX($22:$22-($A150-$D150*$35:$35), MATCH(H$50,$17:$17, 0))>0, INDEX($D150*$35:$35-$C150, MATCH(H$50,$17:$17, 0))>0),1000000000,(p!H150+n!H150+m!H150+INDEX(Vt!G:G, MATCH(($A150+INDEX($D150*($24:$24-$35:$35), MATCH(H$50,$17:$17, 0))),Vt!$A:$A,0)+INDEX($B150+$D150*$24:$24, MATCH(H$50,$17:$17, 0))*2)))))","v":0},{"$f":"IF(($A150+INDEX($D150*($24:$24-$35:$35), MATCH(I$50,$17:$17, 0)))>$C$8,1000000000,(IF(OR(INDEX($22:$22-($A150-$D150*$35:$35), MATCH(I$50,$17:$17, 0))>0, INDEX($D150*$35:$35-$C150, MATCH(I$50,$17:$17, 0))>0),1000000000,(p!I150+n!I150+m!I150+INDEX(Vt!H:H, MATCH(($A150+INDEX($D150*($24:$24-$35:$35), MATCH(I$50,$17:$17, 0))),Vt!$A:$A,0)+INDEX($B150+$D150*$24:$24, MATCH(I$50,$17:$17, 0))*2)))))","v":0},{"$f":"IF(($A150+INDEX($D150*($24:$24-$35:$35), MATCH(J$50,$17:$17, 0)))>$C$8,1000000000,(IF(OR(INDEX($22:$22-($A150-$D150*$35:$35), MATCH(J$50,$17:$17, 0))>0, INDEX($D150*$35:$35-$C150, MATCH(J$50,$17:$17, 0))>0),1000000000,(p!J150+n!J150+m!J150+INDEX(Vt!I:I, MATCH(($A150+INDEX($D150*($24:$24-$35:$35), MATCH(J$50,$17:$17, 0))),Vt!$A:$A,0)+INDEX($B150+$D150*$24:$24, MATCH(J$50,$17:$17, 0))*2)))))","v":0},{"$f":"IF(($A150+INDEX($D150*($24:$24-$35:$35), MATCH(K$50,$17:$17, 0)))>$C$8,1000000000,(IF(OR(INDEX($22:$22-($A150-$D150*$35:$35), MATCH(K$50,$17:$17, 0))>0, INDEX($D150*$35:$35-$C150, MATCH(K$50,$17:$17, 0))>0),1000000000,(p!K150+n!K150+m!K150+INDEX(Vt!J:J, MATCH(($A150+INDEX($D150*($24:$24-$35:$35), MATCH(K$50,$17:$17, 0))),Vt!$A:$A,0)+INDEX($B150+$D150*$24:$24, MATCH(K$50,$17:$17, 0))*2)))))","v":0},{"$f":"IF(($A150+INDEX($D150*($24:$24-$35:$35), MATCH(L$50,$17:$17, 0)))>$C$8,1000000000,(IF(OR(INDEX($22:$22-($A150-$D150*$35:$35), MATCH(L$50,$17:$17, 0))>0, INDEX($D150*$35:$35-$C150, MATCH(L$50,$17:$17, 0))>0),1000000000,(p!L150+n!L150+m!L150+INDEX(Vt!K:K, MATCH(($A150+INDEX($D150*($24:$24-$35:$35), MATCH(L$50,$17:$17, 0))),Vt!$A:$A,0)+INDEX($B150+$D150*$24:$24, MATCH(L$50,$17:$17, 0))*2)))))","v":0},{"$f":"IF(($A150+INDEX($D150*($24:$24-$35:$35), MATCH(M$50,$17:$17, 0)))>$C$8,1000000000,(IF(OR(INDEX($22:$22-($A150-$D150*$35:$35), MATCH(M$50,$17:$17, 0))>0, INDEX($D150*$35:$35-$C150, MATCH(M$50,$17:$17, 0))>0),1000000000,(p!M150+n!M150+m!M150+INDEX(Vt!L:L, MATCH(($A150+INDEX($D150*($24:$24-$35:$35), MATCH(M$50,$17:$17, 0))),Vt!$A:$A,0)+INDEX($B150+$D150*$24:$24, MATCH(M$50,$17:$17, 0))*2)))))","v":0},{"$f":"IF(($A150+INDEX($D150*($24:$24-$35:$35), MATCH(N$50,$17:$17, 0)))>$C$8,1000000000,(IF(OR(INDEX($22:$22-($A150-$D150*$35:$35), MATCH(N$50,$17:$17, 0))>0, INDEX($D150*$35:$35-$C150, MATCH(N$50,$17:$17, 0))>0),1000000000,(p!N150+n!N150+m!N150+INDEX(Vt!M:M, MATCH(($A150+INDEX($D150*($24:$24-$35:$35), MATCH(N$50,$17:$17, 0))),Vt!$A:$A,0)+INDEX($B150+$D150*$24:$24, MATCH(N$50,$17:$17, 0))*2)))))","v":0},{"$f":"IF(($A150+INDEX($D150*($24:$24-$35:$35), MATCH(O$50,$17:$17, 0)))>$C$8,1000000000,(IF(OR(INDEX($22:$22-($A150-$D150*$35:$35), MATCH(O$50,$17:$17, 0))>0, INDEX($D150*$35:$35-$C150, MATCH(O$50,$17:$17, 0))>0),1000000000,(p!O150+n!O150+m!O150+INDEX(Vt!N:N, MATCH(($A150+INDEX($D150*($24:$24-$35:$35), MATCH(O$50,$17:$17, 0))),Vt!$A:$A,0)+INDEX($B150+$D150*$24:$24, MATCH(O$50,$17:$17, 0))*2)))))","v":0}]
[9,5,4,0,0,{"$f":"IF(($A151+INDEX($D151*($24:$24-$35:$35), MATCH(F$50,$17:$17, 0)))>$C$8,1000000000,(IF(OR(INDEX($22:$22-($A151-$D151*$35:$35), MATCH(F$50,$17:$17, 0))>0, INDEX($D151*$35:$35-$C151, MATCH(F$50,$17:$17, 0))>0),1000000000,(p!F151+n!F151+m!F151+INDEX(Vt!E:E, MATCH(($A151+INDEX($D151*($24:$24-$35:$35), MATCH(F$50,$17:$17, 0))),Vt!$A:$A,0)+INDEX($B151+$D151*$24:$24, MATCH(F$50,$17:$17, 0))*2)))))","v":0},{"$f":"IF(($A151+INDEX($D151*($24:$24-$35:$35), MATCH(G$50,$17:$17, 0)))>$C$8,1000000000,(IF(OR(INDEX($22:$22-($A151-$D151*$35:$35), MATCH(G$50,$17:$17, 0))>0, INDEX($D151*$35:$35-$C151, MATCH(G$50,$17:$17, 0))>0),1000000000,(p!G151+n!G151+m!G151+INDEX(Vt!F:F, MATCH(($A151+INDEX($D151*($24:$24-$35:$35), MATCH(G$50,$17:$17, 0))),Vt!$A:$A,0)+INDEX($B151+$D151*$24:$24, MATCH(G$50,$17:$17, 0))*2)))))","v":0},{"$f":"IF(($A151+INDEX($D151*($24:$24-$35:$35), MATCH(H$50,$17:$17, 0)))>$C$8,1000000000,(IF(OR(INDEX($22:$22-($A151-$D151*$35:$35), MATCH(H$50,$17:$17, 0))>0, INDEX($D151*$35:$35-$C151, MATCH(H$50,$17:$17, 0))>0),1000000000,(p!H151+n!H151+m!H151+INDEX(Vt!G:G, MATCH(($A151+INDEX($D151*($24:$24-$35:$35), MATCH(H$50,$17:$17, 0))),Vt!$A:$A,0)+INDEX($B151+$D151*$24:$24, MATCH(H$50,$17:$17, 0))*2)))))","v":0},{"$f":"IF(($A151+INDEX($D151*($24:$24-$35:$35), MATCH(I$50,$17:$17, 0)))>$C$8,1000000000,(IF(OR(INDEX($22:$22-($A151-$D151*$35:$35), MATCH(I$50,$17:$17, 0))>0, INDEX($D151*$35:$35-$C151, MATCH(I$50,$17:$17, 0))>0),1000000000,(p!I151+n!I151+m!I151+INDEX(Vt!H:H, MATCH(($A151+INDEX($D151*($24:$24-$35:$35), MATCH(I$50,$17:$17, 0))),Vt!$A:$A,0)+INDEX($B151+$D151*$24:$24, MATCH(I$50,$17:$17, 0))*2)))))","v":0},{"$f":"IF(($A151+INDEX($D151*($24:$24-$35:$35), MATCH(J$50,$17:$17, 0)))>$C$8,1000000000,(IF(OR(INDEX($22:$22-($A151-$D151*$35:$35), MATCH(J$50,$17:$17, 0))>0, INDEX($D151*$35:$35-$C151, MATCH(J$50,$17:$17, 0))>0),1000000000,(p!J151+n!J151+m!J151+INDEX(Vt!I:I, MATCH(($A151+INDEX($D151*($24:$24-$35:$35), MATCH(J$50,$17:$17, 0))),Vt!$A:$A,0)+INDEX($B151+$D151*$24:$24, MATCH(J$50,$17:$17, 0))*2)))))","v":0},{"$f":"IF(($A151+INDEX($D151*($24:$24-$35:$35), MATCH(K$50,$17:$17, 0)))>$C$8,1000000000,(IF(OR(INDEX($22:$22-($A151-$D151*$35:$35), MATCH(K$50,$17:$17, 0))>0, INDEX($D151*$35:$35-$C151, MATCH(K$50,$17:$17, 0))>0),1000000000,(p!K151+n!K151+m!K151+INDEX(Vt!J:J, MATCH(($A151+INDEX($D151*($24:$24-$35:$35), MATCH(K$50,$17:$17, 0))),Vt!$A:$A,0)+INDEX($B151+$D151*$24:$24, MATCH(K$50,$17:$17, 0))*2)))))","v":0},{"$f":"IF(($A151+INDEX($D151*($24:$24-$35:$35), MATCH(L$50,$17:$17, 0)))>$C$8,1000000000,(IF(OR(INDEX($22:$22-($A151-$D151*$35:$35), MATCH(L$50,$17:$17, 0))>0, INDEX($D151*$35:$35-$C151, MATCH(L$50,$17:$17, 0))>0),1000000000,(p!L151+n!L151+m!L151+INDEX(Vt!K:K, MATCH(($A151+INDEX($D151*($24:$24-$35:$35), MATCH(L$50,$17:$17, 0))),Vt!$A:$A,0)+INDEX($B151+$D151*$24:$24, MATCH(L$50,$17:$17, 0))*2)))))","v":0},{"$f":"IF(($A151+INDEX($D151*($24:$24-$35:$35), MATCH(M$50,$17:$17, 0)))>$C$8,1000000000,(IF(OR(INDEX($22:$22-($A151-$D151*$35:$35), MATCH(M$50,$17:$17, 0))>0, INDEX($D151*$35:$35-$C151, MATCH(M$50,$17:$17, 0))>0),1000000000,(p!M151+n!M151+m!M151+INDEX(Vt!L:L, MATCH(($A151+INDEX($D151*($24:$24-$35:$35), MATCH(M$50,$17:$17, 0))),Vt!$A:$A,0)+INDEX($B151+$D151*$24:$24, MATCH(M$50,$17:$17, 0))*2)))))","v":0},{"$f":"IF(($A151+INDEX($D151*($24:$24-$35:$35), MATCH(N$50,$17:$17, 0)))>$C$8,1000000000,(IF(OR(INDEX($22:$22-($A151-$D151*$35:$35), MATCH(N$50,$17:$17, 0))>0, INDEX($D151*$35:$35-$C151, MATCH(N$50,$17:$17, 0))>0),1000000000,(p!N151+n!N151+m!N151+INDEX(Vt!M:M, MATCH(($A151+INDEX($D151*($24:$24-$35:$35), MATCH(N$50,$17:$17, 0))),Vt!$A:$A,0)+INDEX($B151+$D151*$24:$24, MATCH(N$50,$17:$17, 0))*2)))))","v":0},{"$f":"IF(($A151+INDEX($D151*($24:$24-$35:$35), MATCH(O$50,$17:$17, 0)))>$C$8,1000000000,(IF(OR(INDEX($22:$22-($A151-$D151*$35:$35), MATCH(O$50,$17:$17, 0))>0, INDEX($D151*$35:$35-$C151, MATCH(O$50,$17:$17, 0))>0),1000000000,(p!O151+n!O151+m!O151+INDEX(Vt!N:N, MATCH(($A151+INDEX($D151*($24:$24-$35:$35), MATCH(O$50,$17:$17, 0))),Vt!$A:$A,0)+INDEX($B151+$D151*$24:$24, MATCH(O$50,$17:$17, 0))*2)))))","v":0}]
[9,5,4,1,0,{"$f":"IF(($A152+INDEX($D152*($24:$24-$35:$35), MATCH(F$50,$17:$17, 0)))>$C$8,1000000000,(IF(OR(INDEX($22:$22-($A152-$D152*$35:$35), MATCH(F$50,$17:$17, 0))>0, INDEX($D152*$35:$35-$C152, MATCH(F$50,$17:$17, 0))>0),1000000000,(p!F152+n!F152+m!F152+INDEX(Vt!E:E, MATCH(($A152+INDEX($D152*($24:$24-$35:$35), MATCH(F$50,$17:$17, 0))),Vt!$A:$A,0)+INDEX($B152+$D152*$24:$24, MATCH(F$50,$17:$17, 0))*2)))))","v":0},{"$f":"IF(($A152+INDEX($D152*($24:$24-$35:$35), MATCH(G$50,$17:$17, 0)))>$C$8,1000000000,(IF(OR(INDEX($22:$22-($A152-$D152*$35:$35), MATCH(G$50,$17:$17, 0))>0, INDEX($D152*$35:$35-$C152, MATCH(G$50,$17:$17, 0))>0),1000000000,(p!G152+n!G152+m!G152+INDEX(Vt!F:F, MATCH(($A152+INDEX($D152*($24:$24-$35:$35), MATCH(G$50,$17:$17, 0))),Vt!$A:$A,0)+INDEX($B152+$D152*$24:$24, MATCH(G$50,$17:$17, 0))*2)))))","v":0},{"$f":"IF(($A152+INDEX($D152*($24:$24-$35:$35), MATCH(H$50,$17:$17, 0)))>$C$8,1000000000,(IF(OR(INDEX($22:$22-($A152-$D152*$35:$35), MATCH(H$50,$17:$17, 0))>0, INDEX($D152*$35:$35-$C152, MATCH(H$50,$17:$17, 0))>0),1000000000,(p!H152+n!H152+m!H152+INDEX(Vt!G:G, MATCH(($A152+INDEX($D152*($24:$24-$35:$35), MATCH(H$50,$17:$17, 0))),Vt!$A:$A,0)+INDEX($B152+$D152*$24:$24, MATCH(H$50,$17:$17, 0))*2)))))","v":0},{"$f":"IF(($A152+INDEX($D152*($24:$24-$35:$35), MATCH(I$50,$17:$17, 0)))>$C$8,1000000000,(IF(OR(INDEX($22:$22-($A152-$D152*$35:$35), MATCH(I$50,$17:$17, 0))>0, INDEX($D152*$35:$35-$C152, MATCH(I$50,$17:$17, 0))>0),1000000000,(p!I152+n!I152+m!I152+INDEX(Vt!H:H, MATCH(($A152+INDEX($D152*($24:$24-$35:$35), MATCH(I$50,$17:$17, 0))),Vt!$A:$A,0)+INDEX($B152+$D152*$24:$24, MATCH(I$50,$17:$17, 0))*2)))))","v":0},{"$f":"IF(($A152+INDEX($D152*($24:$24-$35:$35), MATCH(J$50,$17:$17, 0)))>$C$8,1000000000,(IF(OR(INDEX($22:$22-($A152-$D152*$35:$35), MATCH(J$50,$17:$17, 0))>0, INDEX($D152*$35:$35-$C152, MATCH(J$50,$17:$17, 0))>0),1000000000,(p!J152+n!J152+m!J152+INDEX(Vt!I:I, MATCH(($A152+INDEX($D152*($24:$24-$35:$35), MATCH(J$50,$17:$17, 0))),Vt!$A:$A,0)+INDEX($B152+$D152*$24:$24, MATCH(J$50,$17:$17, 0))*2)))))","v":0},{"$f":"IF(($A152+INDEX($D152*($24:$24-$35:$35), MATCH(K$50,$17:$17, 0)))>$C$8,1000000000,(IF(OR(INDEX($22:$22-($A152-$D152*$35:$35), MATCH(K$50,$17:$17, 0))>0, INDEX($D152*$35:$35-$C152, MATCH(K$50,$17:$17, 0))>0),1000000000,(p!K152+n!K152+m!K152+INDEX(Vt!J:J, MATCH(($A152+INDEX($D152*($24:$24-$35:$35), MATCH(K$50,$17:$17, 0))),Vt!$A:$A,0)+INDEX($B152+$D152*$24:$24, MATCH(K$50,$17:$17, 0))*2)))))","v":0},{"$f":"IF(($A152+INDEX($D152*($24:$24-$35:$35), MATCH(L$50,$17:$17, 0)))>$C$8,1000000000,(IF(OR(INDEX($22:$22-($A152-$D152*$35:$35), MATCH(L$50,$17:$17, 0))>0, INDEX($D152*$35:$35-$C152, MATCH(L$50,$17:$17, 0))>0),1000000000,(p!L152+n!L152+m!L152+INDEX(Vt!K:K, MATCH(($A152+INDEX($D152*($24:$24-$35:$35), MATCH(L$50,$17:$17, 0))),Vt!$A:$A,0)+INDEX($B152+$D152*$24:$24, MATCH(L$50,$17:$17, 0))*2)))))","v":0},{"$f":"IF(($A152+INDEX($D152*($24:$24-$35:$35), MATCH(M$50,$17:$17, 0)))>$C$8,1000000000,(IF(OR(INDEX($22:$22-($A152-$D152*$35:$35), MATCH(M$50,$17:$17, 0))>0, INDEX($D152*$35:$35-$C152, MATCH(M$50,$17:$17, 0))>0),1000000000,(p!M152+n!M152+m!M152+INDEX(Vt!L:L, MATCH(($A152+INDEX($D152*($24:$24-$35:$35), MATCH(M$50,$17:$17, 0))),Vt!$A:$A,0)+INDEX($B152+$D152*$24:$24, MATCH(M$50,$17:$17, 0))*2)))))","v":0},{"$f":"IF(($A152+INDEX($D152*($24:$24-$35:$35), MATCH(N$50,$17:$17, 0)))>$C$8,1000000000,(IF(OR(INDEX($22:$22-($A152-$D152*$35:$35), MATCH(N$50,$17:$17, 0))>0, INDEX($D152*$35:$35-$C152, MATCH(N$50,$17:$17, 0))>0),1000000000,(p!N152+n!N152+m!N152+INDEX(Vt!M:M, MATCH(($A152+INDEX($D152*($24:$24-$35:$35), MATCH(N$50,$17:$17, 0))),Vt!$A:$A,0)+INDEX($B152+$D152*$24:$24, MATCH(N$50,$17:$17, 0))*2)))))","v":0},{"$f":"IF(($A152+INDEX($D152*($24:$24-$35:$35), MATCH(O$50,$17:$17, 0)))>$C$8,1000000000,(IF(OR(INDEX($22:$22-($A152-$D152*$35:$35), MATCH(O$50,$17:$17, 0))>0, INDEX($D152*$35:$35-$C152, MATCH(O$50,$17:$17, 0))>0),1000000000,(p!O152+n!O152+m!O152+INDEX(Vt!N:N, MATCH(($A152+INDEX($D152*($24:$24-$35:$35), MATCH(O$50,$17:$17, 0))),Vt!$A:$A,0)+INDEX($B152+$D152*$24:$24, MATCH(O$50,$17:$17, 0))*2)))))","v":0}]
[9,6,3,0,0,{"$f":"IF(($A153+INDEX($D153*($24:$24-$35:$35), MATCH(F$50,$17:$17, 0)))>$C$8,1000000000,(IF(OR(INDEX($22:$22-($A153-$D153*$35:$35), MATCH(F$50,$17:$17, 0))>0, INDEX($D153*$35:$35-$C153, MATCH(F$50,$17:$17, 0))>0),1000000000,(p!F153+n!F153+m!F153+INDEX(Vt!E:E, MATCH(($A153+INDEX($D153*($24:$24-$35:$35), MATCH(F$50,$17:$17, 0))),Vt!$A:$A,0)+INDEX($B153+$D153*$24:$24, MATCH(F$50,$17:$17, 0))*2)))))","v":0},{"$f":"IF(($A153+INDEX($D153*($24:$24-$35:$35), MATCH(G$50,$17:$17, 0)))>$C$8,1000000000,(IF(OR(INDEX($22:$22-($A153-$D153*$35:$35), MATCH(G$50,$17:$17, 0))>0, INDEX($D153*$35:$35-$C153, MATCH(G$50,$17:$17, 0))>0),1000000000,(p!G153+n!G153+m!G153+INDEX(Vt!F:F, MATCH(($A153+INDEX($D153*($24:$24-$35:$35), MATCH(G$50,$17:$17, 0))),Vt!$A:$A,0)+INDEX($B153+$D153*$24:$24, MATCH(G$50,$17:$17, 0))*2)))))","v":0},{"$f":"IF(($A153+INDEX($D153*($24:$24-$35:$35), MATCH(H$50,$17:$17, 0)))>$C$8,1000000000,(IF(OR(INDEX($22:$22-($A153-$D153*$35:$35), MATCH(H$50,$17:$17, 0))>0, INDEX($D153*$35:$35-$C153, MATCH(H$50,$17:$17, 0))>0),1000000000,(p!H153+n!H153+m!H153+INDEX(Vt!G:G, MATCH(($A153+INDEX($D153*($24:$24-$35:$35), MATCH(H$50,$17:$17, 0))),Vt!$A:$A,0)+INDEX($B153+$D153*$24:$24, MATCH(H$50,$17:$17, 0))*2)))))","v":0},{"$f":"IF(($A153+INDEX($D153*($24:$24-$35:$35), MATCH(I$50,$17:$17, 0)))>$C$8,1000000000,(IF(OR(INDEX($22:$22-($A153-$D153*$35:$35), MATCH(I$50,$17:$17, 0))>0, INDEX($D153*$35:$35-$C153, MATCH(I$50,$17:$17, 0))>0),1000000000,(p!I153+n!I153+m!I153+INDEX(Vt!H:H, MATCH(($A153+INDEX($D153*($24:$24-$35:$35), MATCH(I$50,$17:$17, 0))),Vt!$A:$A,0)+INDEX($B153+$D153*$24:$24, MATCH(I$50,$17:$17, 0))*2)))))","v":0},{"$f":"IF(($A153+INDEX($D153*($24:$24-$35:$35), MATCH(J$50,$17:$17, 0)))>$C$8,1000000000,(IF(OR(INDEX($22:$22-($A153-$D153*$35:$35), MATCH(J$50,$17:$17, 0))>0, INDEX($D153*$35:$35-$C153, MATCH(J$50,$17:$17, 0))>0),1000000000,(p!J153+n!J153+m!J153+INDEX(Vt!I:I, MATCH(($A153+INDEX($D153*($24:$24-$35:$35), MATCH(J$50,$17:$17, 0))),Vt!$A:$A,0)+INDEX($B153+$D153*$24:$24, MATCH(J$50,$17:$17, 0))*2)))))","v":0},{"$f":"IF(($A153+INDEX($D153*($24:$24-$35:$35), MATCH(K$50,$17:$17, 0)))>$C$8,1000000000,(IF(OR(INDEX($22:$22-($A153-$D153*$35:$35), MATCH(K$50,$17:$17, 0))>0, INDEX($D153*$35:$35-$C153, MATCH(K$50,$17:$17, 0))>0),1000000000,(p!K153+n!K153+m!K153+INDEX(Vt!J:J, MATCH(($A153+INDEX($D153*($24:$24-$35:$35), MATCH(K$50,$17:$17, 0))),Vt!$A:$A,0)+INDEX($B153+$D153*$24:$24, MATCH(K$50,$17:$17, 0))*2)))))","v":0},{"$f":"IF(($A153+INDEX($D153*($24:$24-$35:$35), MATCH(L$50,$17:$17, 0)))>$C$8,1000000000,(IF(OR(INDEX($22:$22-($A153-$D153*$35:$35), MATCH(L$50,$17:$17, 0))>0, INDEX($D153*$35:$35-$C153, MATCH(L$50,$17:$17, 0))>0),1000000000,(p!L153+n!L153+m!L153+INDEX(Vt!K:K, MATCH(($A153+INDEX($D153*($24:$24-$35:$35), MATCH(L$50,$17:$17, 0))),Vt!$A:$A,0)+INDEX($B153+$D153*$24:$24, MATCH(L$50,$17:$17, 0))*2)))))","v":0},{"$f":"IF(($A153+INDEX($D153*($24:$24-$35:$35), MATCH(M$50,$17:$17, 0)))>$C$8,1000000000,(IF(OR(INDEX($22:$22-($A153-$D153*$35:$35), MATCH(M$50,$17:$17, 0))>0, INDEX($D153*$35:$35-$C153, MATCH(M$50,$17:$17, 0))>0),1000000000,(p!M153+n!M153+m!M153+INDEX(Vt!L:L, MATCH(($A153+INDEX($D153*($24:$24-$35:$35), MATCH(M$50,$17:$17, 0))),Vt!$A:$A,0)+INDEX($B153+$D153*$24:$24, MATCH(M$50,$17:$17, 0))*2)))))","v":0},{"$f":"IF(($A153+INDEX($D153*($24:$24-$35:$35), MATCH(N$50,$17:$17, 0)))>$C$8,1000000000,(IF(OR(INDEX($22:$22-($A153-$D153*$35:$35), MATCH(N$50,$17:$17, 0))>0, INDEX($D153*$35:$35-$C153, MATCH(N$50,$17:$17, 0))>0),1000000000,(p!N153+n!N153+m!N153+INDEX(Vt!M:M, MATCH(($A153+INDEX($D153*($24:$24-$35:$35), MATCH(N$50,$17:$17, 0))),Vt!$A:$A,0)+INDEX($B153+$D153*$24:$24, MATCH(N$50,$17:$17, 0))*2)))))","v":0},{"$f":"IF(($A153+INDEX($D153*($24:$24-$35:$35), MATCH(O$50,$17:$17, 0)))>$C$8,1000000000,(IF(OR(INDEX($22:$22-($A153-$D153*$35:$35), MATCH(O$50,$17:$17, 0))>0, INDEX($D153*$35:$35-$C153, MATCH(O$50,$17:$17, 0))>0),1000000000,(p!O153+n!O153+m!O153+INDEX(Vt!N:N, MATCH(($A153+INDEX($D153*($24:$24-$35:$35), MATCH(O$50,$17:$17, 0))),Vt!$A:$A,0)+INDEX($B153+$D153*$24:$24, MATCH(O$50,$17:$17, 0))*2)))))","v":0}]
[9,6,3,1,0,{"$f":"IF(($A154+INDEX($D154*($24:$24-$35:$35), MATCH(F$50,$17:$17, 0)))>$C$8,1000000000,(IF(OR(INDEX($22:$22-($A154-$D154*$35:$35), MATCH(F$50,$17:$17, 0))>0, INDEX($D154*$35:$35-$C154, MATCH(F$50,$17:$17, 0))>0),1000000000,(p!F154+n!F154+m!F154+INDEX(Vt!E:E, MATCH(($A154+INDEX($D154*($24:$24-$35:$35), MATCH(F$50,$17:$17, 0))),Vt!$A:$A,0)+INDEX($B154+$D154*$24:$24, MATCH(F$50,$17:$17, 0))*2)))))","v":0},{"$f":"IF(($A154+INDEX($D154*($24:$24-$35:$35), MATCH(G$50,$17:$17, 0)))>$C$8,1000000000,(IF(OR(INDEX($22:$22-($A154-$D154*$35:$35), MATCH(G$50,$17:$17, 0))>0, INDEX($D154*$35:$35-$C154, MATCH(G$50,$17:$17, 0))>0),1000000000,(p!G154+n!G154+m!G154+INDEX(Vt!F:F, MATCH(($A154+INDEX($D154*($24:$24-$35:$35), MATCH(G$50,$17:$17, 0))),Vt!$A:$A,0)+INDEX($B154+$D154*$24:$24, MATCH(G$50,$17:$17, 0))*2)))))","v":0},{"$f":"IF(($A154+INDEX($D154*($24:$24-$35:$35), MATCH(H$50,$17:$17, 0)))>$C$8,1000000000,(IF(OR(INDEX($22:$22-($A154-$D154*$35:$35), MATCH(H$50,$17:$17, 0))>0, INDEX($D154*$35:$35-$C154, MATCH(H$50,$17:$17, 0))>0),1000000000,(p!H154+n!H154+m!H154+INDEX(Vt!G:G, MATCH(($A154+INDEX($D154*($24:$24-$35:$35), MATCH(H$50,$17:$17, 0))),Vt!$A:$A,0)+INDEX($B154+$D154*$24:$24, MATCH(H$50,$17:$17, 0))*2)))))","v":0},{"$f":"IF(($A154+INDEX($D154*($24:$24-$35:$35), MATCH(I$50,$17:$17, 0)))>$C$8,1000000000,(IF(OR(INDEX($22:$22-($A154-$D154*$35:$35), MATCH(I$50,$17:$17, 0))>0, INDEX($D154*$35:$35-$C154, MATCH(I$50,$17:$17, 0))>0),1000000000,(p!I154+n!I154+m!I154+INDEX(Vt!H:H, MATCH(($A154+INDEX($D154*($24:$24-$35:$35), MATCH(I$50,$17:$17, 0))),Vt!$A:$A,0)+INDEX($B154+$D154*$24:$24, MATCH(I$50,$17:$17, 0))*2)))))","v":0},{"$f":"IF(($A154+INDEX($D154*($24:$24-$35:$35), MATCH(J$50,$17:$17, 0)))>$C$8,1000000000,(IF(OR(INDEX($22:$22-($A154-$D154*$35:$35), MATCH(J$50,$17:$17, 0))>0, INDEX($D154*$35:$35-$C154, MATCH(J$50,$17:$17, 0))>0),1000000000,(p!J154+n!J154+m!J154+INDEX(Vt!I:I, MATCH(($A154+INDEX($D154*($24:$24-$35:$35), MATCH(J$50,$17:$17, 0))),Vt!$A:$A,0)+INDEX($B154+$D154*$24:$24, MATCH(J$50,$17:$17, 0))*2)))))","v":0},{"$f":"IF(($A154+INDEX($D154*($24:$24-$35:$35), MATCH(K$50,$17:$17, 0)))>$C$8,1000000000,(IF(OR(INDEX($22:$22-($A154-$D154*$35:$35), MATCH(K$50,$17:$17, 0))>0, INDEX($D154*$35:$35-$C154, MATCH(K$50,$17:$17, 0))>0),1000000000,(p!K154+n!K154+m!K154+INDEX(Vt!J:J, MATCH(($A154+INDEX($D154*($24:$24-$35:$35), MATCH(K$50,$17:$17, 0))),Vt!$A:$A,0)+INDEX($B154+$D154*$24:$24, MATCH(K$50,$17:$17, 0))*2)))))","v":0},{"$f":"IF(($A154+INDEX($D154*($24:$24-$35:$35), MATCH(L$50,$17:$17, 0)))>$C$8,1000000000,(IF(OR(INDEX($22:$22-($A154-$D154*$35:$35), MATCH(L$50,$17:$17, 0))>0, INDEX($D154*$35:$35-$C154, MATCH(L$50,$17:$17, 0))>0),1000000000,(p!L154+n!L154+m!L154+INDEX(Vt!K:K, MATCH(($A154+INDEX($D154*($24:$24-$35:$35), MATCH(L$50,$17:$17, 0))),Vt!$A:$A,0)+INDEX($B154+$D154*$24:$24, MATCH(L$50,$17:$17, 0))*2)))))","v":0},{"$f":"IF(($A154+INDEX($D154*($24:$24-$35:$35), MATCH(M$50,$17:$17, 0)))>$C$8,1000000000,(IF(OR(INDEX($22:$22-($A154-$D154*$35:$35), MATCH(M$50,$17:$17, 0))>0, INDEX($D154*$35:$35-$C154, MATCH(M$50,$17:$17, 0))>0),1000000000,(p!M154+n!M154+m!M154+INDEX(Vt!L:L, MATCH(($A154+INDEX($D154*($24:$24-$35:$35), MATCH(M$50,$17:$17, 0))),Vt!$A:$A,0)+INDEX($B154+$D154*$24:$24, MATCH(M$50,$17:$17, 0))*2)))))","v":0},{"$f":"IF(($A154+INDEX($D154*($24:$24-$35:$35), MATCH(N$50,$17:$17, 0)))>$C$8,1000000000,(IF(OR(INDEX($22:$22-($A154-$D154*$35:$35), MATCH(N$50,$17:$17, 0))>0, INDEX($D154*$35:$35-$C154, MATCH(N$50,$17:$17, 0))>0),1000000000,(p!N154+n!N154+m!N154+INDEX(Vt!M:M, MATCH(($A154+INDEX($D154*($24:$24-$35:$35), MATCH(N$50,$17:$17, 0))),Vt!$A:$A,0)+INDEX($B154+$D154*$24:$24, MATCH(N$50,$17:$17, 0))*2)))))","v":0},{"$f":"IF(($A154+INDEX($D154*($24:$24-$35:$35), MATCH(O$50,$17:$17, 0)))>$C$8,1000000000,(IF(OR(INDEX($22:$22-($A154-$D154*$35:$35), MATCH(O$50,$17:$17, 0))>0, INDEX($D154*$35:$35-$C154, MATCH(O$50,$17:$17, 0))>0),1000000000,(p!O154+n!O154+m!O154+INDEX(Vt!N:N, MATCH(($A154+INDEX($D154*($24:$24-$35:$35), MATCH(O$50,$17:$17, 0))),Vt!$A:$A,0)+INDEX($B154+$D154*$24:$24, MATCH(O$50,$17:$17, 0))*2)))))","v":0}]
[9,7,2,0,0,{"$f":"IF(($A155+INDEX($D155*($24:$24-$35:$35), MATCH(F$50,$17:$17, 0)))>$C$8,1000000000,(IF(OR(INDEX($22:$22-($A155-$D155*$35:$35), MATCH(F$50,$17:$17, 0))>0, INDEX($D155*$35:$35-$C155, MATCH(F$50,$17:$17, 0))>0),1000000000,(p!F155+n!F155+m!F155+INDEX(Vt!E:E, MATCH(($A155+INDEX($D155*($24:$24-$35:$35), MATCH(F$50,$17:$17, 0))),Vt!$A:$A,0)+INDEX($B155+$D155*$24:$24, MATCH(F$50,$17:$17, 0))*2)))))","v":0},{"$f":"IF(($A155+INDEX($D155*($24:$24-$35:$35), MATCH(G$50,$17:$17, 0)))>$C$8,1000000000,(IF(OR(INDEX($22:$22-($A155-$D155*$35:$35), MATCH(G$50,$17:$17, 0))>0, INDEX($D155*$35:$35-$C155, MATCH(G$50,$17:$17, 0))>0),1000000000,(p!G155+n!G155+m!G155+INDEX(Vt!F:F, MATCH(($A155+INDEX($D155*($24:$24-$35:$35), MATCH(G$50,$17:$17, 0))),Vt!$A:$A,0)+INDEX($B155+$D155*$24:$24, MATCH(G$50,$17:$17, 0))*2)))))","v":0},{"$f":"IF(($A155+INDEX($D155*($24:$24-$35:$35), MATCH(H$50,$17:$17, 0)))>$C$8,1000000000,(IF(OR(INDEX($22:$22-($A155-$D155*$35:$35), MATCH(H$50,$17:$17, 0))>0, INDEX($D155*$35:$35-$C155, MATCH(H$50,$17:$17, 0))>0),1000000000,(p!H155+n!H155+m!H155+INDEX(Vt!G:G, MATCH(($A155+INDEX($D155*($24:$24-$35:$35), MATCH(H$50,$17:$17, 0))),Vt!$A:$A,0)+INDEX($B155+$D155*$24:$24, MATCH(H$50,$17:$17, 0))*2)))))","v":0},{"$f":"IF(($A155+INDEX($D155*($24:$24-$35:$35), MATCH(I$50,$17:$17, 0)))>$C$8,1000000000,(IF(OR(INDEX($22:$22-($A155-$D155*$35:$35), MATCH(I$50,$17:$17, 0))>0, INDEX($D155*$35:$35-$C155, MATCH(I$50,$17:$17, 0))>0),1000000000,(p!I155+n!I155+m!I155+INDEX(Vt!H:H, MATCH(($A155+INDEX($D155*($24:$24-$35:$35), MATCH(I$50,$17:$17, 0))),Vt!$A:$A,0)+INDEX($B155+$D155*$24:$24, MATCH(I$50,$17:$17, 0))*2)))))","v":0},{"$f":"IF(($A155+INDEX($D155*($24:$24-$35:$35), MATCH(J$50,$17:$17, 0)))>$C$8,1000000000,(IF(OR(INDEX($22:$22-($A155-$D155*$35:$35), MATCH(J$50,$17:$17, 0))>0, INDEX($D155*$35:$35-$C155, MATCH(J$50,$17:$17, 0))>0),1000000000,(p!J155+n!J155+m!J155+INDEX(Vt!I:I, MATCH(($A155+INDEX($D155*($24:$24-$35:$35), MATCH(J$50,$17:$17, 0))),Vt!$A:$A,0)+INDEX($B155+$D155*$24:$24, MATCH(J$50,$17:$17, 0))*2)))))","v":0},{"$f":"IF(($A155+INDEX($D155*($24:$24-$35:$35), MATCH(K$50,$17:$17, 0)))>$C$8,1000000000,(IF(OR(INDEX($22:$22-($A155-$D155*$35:$35), MATCH(K$50,$17:$17, 0))>0, INDEX($D155*$35:$35-$C155, MATCH(K$50,$17:$17, 0))>0),1000000000,(p!K155+n!K155+m!K155+INDEX(Vt!J:J, MATCH(($A155+INDEX($D155*($24:$24-$35:$35), MATCH(K$50,$17:$17, 0))),Vt!$A:$A,0)+INDEX($B155+$D155*$24:$24, MATCH(K$50,$17:$17, 0))*2)))))","v":0},{"$f":"IF(($A155+INDEX($D155*($24:$24-$35:$35), MATCH(L$50,$17:$17, 0)))>$C$8,1000000000,(IF(OR(INDEX($22:$22-($A155-$D155*$35:$35), MATCH(L$50,$17:$17, 0))>0, INDEX($D155*$35:$35-$C155, MATCH(L$50,$17:$17, 0))>0),1000000000,(p!L155+n!L155+m!L155+INDEX(Vt!K:K, MATCH(($A155+INDEX($D155*($24:$24-$35:$35), MATCH(L$50,$17:$17, 0))),Vt!$A:$A,0)+INDEX($B155+$D155*$24:$24, MATCH(L$50,$17:$17, 0))*2)))))","v":0},{"$f":"IF(($A155+INDEX($D155*($24:$24-$35:$35), MATCH(M$50,$17:$17, 0)))>$C$8,1000000000,(IF(OR(INDEX($22:$22-($A155-$D155*$35:$35), MATCH(M$50,$17:$17, 0))>0, INDEX($D155*$35:$35-$C155, MATCH(M$50,$17:$17, 0))>0),1000000000,(p!M155+n!M155+m!M155+INDEX(Vt!L:L, MATCH(($A155+INDEX($D155*($24:$24-$35:$35), MATCH(M$50,$17:$17, 0))),Vt!$A:$A,0)+INDEX($B155+$D155*$24:$24, MATCH(M$50,$17:$17, 0))*2)))))","v":0},{"$f":"IF(($A155+INDEX($D155*($24:$24-$35:$35), MATCH(N$50,$17:$17, 0)))>$C$8,1000000000,(IF(OR(INDEX($22:$22-($A155-$D155*$35:$35), MATCH(N$50,$17:$17, 0))>0, INDEX($D155*$35:$35-$C155, MATCH(N$50,$17:$17, 0))>0),1000000000,(p!N155+n!N155+m!N155+INDEX(Vt!M:M, MATCH(($A155+INDEX($D155*($24:$24-$35:$35), MATCH(N$50,$17:$17, 0))),Vt!$A:$A,0)+INDEX($B155+$D155*$24:$24, MATCH(N$50,$17:$17, 0))*2)))))","v":0},{"$f":"IF(($A155+INDEX($D155*($24:$24-$35:$35), MATCH(O$50,$17:$17, 0)))>$C$8,1000000000,(IF(OR(INDEX($22:$22-($A155-$D155*$35:$35), MATCH(O$50,$17:$17, 0))>0, INDEX($D155*$35:$35-$C155, MATCH(O$50,$17:$17, 0))>0),1000000000,(p!O155+n!O155+m!O155+INDEX(Vt!N:N, MATCH(($A155+INDEX($D155*($24:$24-$35:$35), MATCH(O$50,$17:$17, 0))),Vt!$A:$A,0)+INDEX($B155+$D155*$24:$24, MATCH(O$50,$17:$17, 0))*2)))))","v":0}]
[9,7,2,1,0,{"$f":"IF(($A156+INDEX($D156*($24:$24-$35:$35), MATCH(F$50,$17:$17, 0)))>$C$8,1000000000,(IF(OR(INDEX($22:$22-($A156-$D156*$35:$35), MATCH(F$50,$17:$17, 0))>0, INDEX($D156*$35:$35-$C156, MATCH(F$50,$17:$17, 0))>0),1000000000,(p!F156+n!F156+m!F156+INDEX(Vt!E:E, MATCH(($A156+INDEX($D156*($24:$24-$35:$35), MATCH(F$50,$17:$17, 0))),Vt!$A:$A,0)+INDEX($B156+$D156*$24:$24, MATCH(F$50,$17:$17, 0))*2)))))","v":0},{"$f":"IF(($A156+INDEX($D156*($24:$24-$35:$35), MATCH(G$50,$17:$17, 0)))>$C$8,1000000000,(IF(OR(INDEX($22:$22-($A156-$D156*$35:$35), MATCH(G$50,$17:$17, 0))>0, INDEX($D156*$35:$35-$C156, MATCH(G$50,$17:$17, 0))>0),1000000000,(p!G156+n!G156+m!G156+INDEX(Vt!F:F, MATCH(($A156+INDEX($D156*($24:$24-$35:$35), MATCH(G$50,$17:$17, 0))),Vt!$A:$A,0)+INDEX($B156+$D156*$24:$24, MATCH(G$50,$17:$17, 0))*2)))))","v":0},{"$f":"IF(($A156+INDEX($D156*($24:$24-$35:$35), MATCH(H$50,$17:$17, 0)))>$C$8,1000000000,(IF(OR(INDEX($22:$22-($A156-$D156*$35:$35), MATCH(H$50,$17:$17, 0))>0, INDEX($D156*$35:$35-$C156, MATCH(H$50,$17:$17, 0))>0),1000000000,(p!H156+n!H156+m!H156+INDEX(Vt!G:G, MATCH(($A156+INDEX($D156*($24:$24-$35:$35), MATCH(H$50,$17:$17, 0))),Vt!$A:$A,0)+INDEX($B156+$D156*$24:$24, MATCH(H$50,$17:$17, 0))*2)))))","v":0},{"$f":"IF(($A156+INDEX($D156*($24:$24-$35:$35), MATCH(I$50,$17:$17, 0)))>$C$8,1000000000,(IF(OR(INDEX($22:$22-($A156-$D156*$35:$35), MATCH(I$50,$17:$17, 0))>0, INDEX($D156*$35:$35-$C156, MATCH(I$50,$17:$17, 0))>0),1000000000,(p!I156+n!I156+m!I156+INDEX(Vt!H:H, MATCH(($A156+INDEX($D156*($24:$24-$35:$35), MATCH(I$50,$17:$17, 0))),Vt!$A:$A,0)+INDEX($B156+$D156*$24:$24, MATCH(I$50,$17:$17, 0))*2)))))","v":0},{"$f":"IF(($A156+INDEX($D156*($24:$24-$35:$35), MATCH(J$50,$17:$17, 0)))>$C$8,1000000000,(IF(OR(INDEX($22:$22-($A156-$D156*$35:$35), MATCH(J$50,$17:$17, 0))>0, INDEX($D156*$35:$35-$C156, MATCH(J$50,$17:$17, 0))>0),1000000000,(p!J156+n!J156+m!J156+INDEX(Vt!I:I, MATCH(($A156+INDEX($D156*($24:$24-$35:$35), MATCH(J$50,$17:$17, 0))),Vt!$A:$A,0)+INDEX($B156+$D156*$24:$24, MATCH(J$50,$17:$17, 0))*2)))))","v":0},{"$f":"IF(($A156+INDEX($D156*($24:$24-$35:$35), MATCH(K$50,$17:$17, 0)))>$C$8,1000000000,(IF(OR(INDEX($22:$22-($A156-$D156*$35:$35), MATCH(K$50,$17:$17, 0))>0, INDEX($D156*$35:$35-$C156, MATCH(K$50,$17:$17, 0))>0),1000000000,(p!K156+n!K156+m!K156+INDEX(Vt!J:J, MATCH(($A156+INDEX($D156*($24:$24-$35:$35), MATCH(K$50,$17:$17, 0))),Vt!$A:$A,0)+INDEX($B156+$D156*$24:$24, MATCH(K$50,$17:$17, 0))*2)))))","v":0},{"$f":"IF(($A156+INDEX($D156*($24:$24-$35:$35), MATCH(L$50,$17:$17, 0)))>$C$8,1000000000,(IF(OR(INDEX($22:$22-($A156-$D156*$35:$35), MATCH(L$50,$17:$17, 0))>0, INDEX($D156*$35:$35-$C156, MATCH(L$50,$17:$17, 0))>0),1000000000,(p!L156+n!L156+m!L156+INDEX(Vt!K:K, MATCH(($A156+INDEX($D156*($24:$24-$35:$35), MATCH(L$50,$17:$17, 0))),Vt!$A:$A,0)+INDEX($B156+$D156*$24:$24, MATCH(L$50,$17:$17, 0))*2)))))","v":0},{"$f":"IF(($A156+INDEX($D156*($24:$24-$35:$35), MATCH(M$50,$17:$17, 0)))>$C$8,1000000000,(IF(OR(INDEX($22:$22-($A156-$D156*$35:$35), MATCH(M$50,$17:$17, 0))>0, INDEX($D156*$35:$35-$C156, MATCH(M$50,$17:$17, 0))>0),1000000000,(p!M156+n!M156+m!M156+INDEX(Vt!L:L, MATCH(($A156+INDEX($D156*($24:$24-$35:$35), MATCH(M$50,$17:$17, 0))),Vt!$A:$A,0)+INDEX($B156+$D156*$24:$24, MATCH(M$50,$17:$17, 0))*2)))))","v":0},{"$f":"IF(($A156+INDEX($D156*($24:$24-$35:$35), MATCH(N$50,$17:$17, 0)))>$C$8,1000000000,(IF(OR(INDEX($22:$22-($A156-$D156*$35:$35), MATCH(N$50,$17:$17, 0))>0, INDEX($D156*$35:$35-$C156, MATCH(N$50,$17:$17, 0))>0),1000000000,(p!N156+n!N156+m!N156+INDEX(Vt!M:M, MATCH(($A156+INDEX($D156*($24:$24-$35:$35), MATCH(N$50,$17:$17, 0))),Vt!$A:$A,0)+INDEX($B156+$D156*$24:$24, MATCH(N$50,$17:$17, 0))*2)))))","v":0},{"$f":"IF(($A156+INDEX($D156*($24:$24-$35:$35), MATCH(O$50,$17:$17, 0)))>$C$8,1000000000,(IF(OR(INDEX($22:$22-($A156-$D156*$35:$35), MATCH(O$50,$17:$17, 0))>0, INDEX($D156*$35:$35-$C156, MATCH(O$50,$17:$17, 0))>0),1000000000,(p!O156+n!O156+m!O156+INDEX(Vt!N:N, MATCH(($A156+INDEX($D156*($24:$24-$35:$35), MATCH(O$50,$17:$17, 0))),Vt!$A:$A,0)+INDEX($B156+$D156*$24:$24, MATCH(O$50,$17:$17, 0))*2)))))","v":0}]
[9,8,1,0,0,{"$f":"IF(($A157+INDEX($D157*($24:$24-$35:$35), MATCH(F$50,$17:$17, 0)))>$C$8,1000000000,(IF(OR(INDEX($22:$22-($A157-$D157*$35:$35), MATCH(F$50,$17:$17, 0))>0, INDEX($D157*$35:$35-$C157, MATCH(F$50,$17:$17, 0))>0),1000000000,(p!F157+n!F157+m!F157+INDEX(Vt!E:E, MATCH(($A157+INDEX($D157*($24:$24-$35:$35), MATCH(F$50,$17:$17, 0))),Vt!$A:$A,0)+INDEX($B157+$D157*$24:$24, MATCH(F$50,$17:$17, 0))*2)))))","v":0},{"$f":"IF(($A157+INDEX($D157*($24:$24-$35:$35), MATCH(G$50,$17:$17, 0)))>$C$8,1000000000,(IF(OR(INDEX($22:$22-($A157-$D157*$35:$35), MATCH(G$50,$17:$17, 0))>0, INDEX($D157*$35:$35-$C157, MATCH(G$50,$17:$17, 0))>0),1000000000,(p!G157+n!G157+m!G157+INDEX(Vt!F:F, MATCH(($A157+INDEX($D157*($24:$24-$35:$35), MATCH(G$50,$17:$17, 0))),Vt!$A:$A,0)+INDEX($B157+$D157*$24:$24, MATCH(G$50,$17:$17, 0))*2)))))","v":0},{"$f":"IF(($A157+INDEX($D157*($24:$24-$35:$35), MATCH(H$50,$17:$17, 0)))>$C$8,1000000000,(IF(OR(INDEX($22:$22-($A157-$D157*$35:$35), MATCH(H$50,$17:$17, 0))>0, INDEX($D157*$35:$35-$C157, MATCH(H$50,$17:$17, 0))>0),1000000000,(p!H157+n!H157+m!H157+INDEX(Vt!G:G, MATCH(($A157+INDEX($D157*($24:$24-$35:$35), MATCH(H$50,$17:$17, 0))),Vt!$A:$A,0)+INDEX($B157+$D157*$24:$24, MATCH(H$50,$17:$17, 0))*2)))))","v":0},{"$f":"IF(($A157+INDEX($D157*($24:$24-$35:$35), MATCH(I$50,$17:$17, 0)))>$C$8,1000000000,(IF(OR(INDEX($22:$22-($A157-$D157*$35:$35), MATCH(I$50,$17:$17, 0))>0, INDEX($D157*$35:$35-$C157, MATCH(I$50,$17:$17, 0))>0),1000000000,(p!I157+n!I157+m!I157+INDEX(Vt!H:H, MATCH(($A157+INDEX($D157*($24:$24-$35:$35), MATCH(I$50,$17:$17, 0))),Vt!$A:$A,0)+INDEX($B157+$D157*$24:$24, MATCH(I$50,$17:$17, 0))*2)))))","v":0},{"$f":"IF(($A157+INDEX($D157*($24:$24-$35:$35), MATCH(J$50,$17:$17, 0)))>$C$8,1000000000,(IF(OR(INDEX($22:$22-($A157-$D157*$35:$35), MATCH(J$50,$17:$17, 0))>0, INDEX($D157*$35:$35-$C157, MATCH(J$50,$17:$17, 0))>0),1000000000,(p!J157+n!J157+m!J157+INDEX(Vt!I:I, MATCH(($A157+INDEX($D157*($24:$24-$35:$35), MATCH(J$50,$17:$17, 0))),Vt!$A:$A,0)+INDEX($B157+$D157*$24:$24, MATCH(J$50,$17:$17, 0))*2)))))","v":0},{"$f":"IF(($A157+INDEX($D157*($24:$24-$35:$35), MATCH(K$50,$17:$17, 0)))>$C$8,1000000000,(IF(OR(INDEX($22:$22-($A157-$D157*$35:$35), MATCH(K$50,$17:$17, 0))>0, INDEX($D157*$35:$35-$C157, MATCH(K$50,$17:$17, 0))>0),1000000000,(p!K157+n!K157+m!K157+INDEX(Vt!J:J, MATCH(($A157+INDEX($D157*($24:$24-$35:$35), MATCH(K$50,$17:$17, 0))),Vt!$A:$A,0)+INDEX($B157+$D157*$24:$24, MATCH(K$50,$17:$17, 0))*2)))))","v":0},{"$f":"IF(($A157+INDEX($D157*($24:$24-$35:$35), MATCH(L$50,$17:$17, 0)))>$C$8,1000000000,(IF(OR(INDEX($22:$22-($A157-$D157*$35:$35), MATCH(L$50,$17:$17, 0))>0, INDEX($D157*$35:$35-$C157, MATCH(L$50,$17:$17, 0))>0),1000000000,(p!L157+n!L157+m!L157+INDEX(Vt!K:K, MATCH(($A157+INDEX($D157*($24:$24-$35:$35), MATCH(L$50,$17:$17, 0))),Vt!$A:$A,0)+INDEX($B157+$D157*$24:$24, MATCH(L$50,$17:$17, 0))*2)))))","v":0},{"$f":"IF(($A157+INDEX($D157*($24:$24-$35:$35), MATCH(M$50,$17:$17, 0)))>$C$8,1000000000,(IF(OR(INDEX($22:$22-($A157-$D157*$35:$35), MATCH(M$50,$17:$17, 0))>0, INDEX($D157*$35:$35-$C157, MATCH(M$50,$17:$17, 0))>0),1000000000,(p!M157+n!M157+m!M157+INDEX(Vt!L:L, MATCH(($A157+INDEX($D157*($24:$24-$35:$35), MATCH(M$50,$17:$17, 0))),Vt!$A:$A,0)+INDEX($B157+$D157*$24:$24, MATCH(M$50,$17:$17, 0))*2)))))","v":0},{"$f":"IF(($A157+INDEX($D157*($24:$24-$35:$35), MATCH(N$50,$17:$17, 0)))>$C$8,1000000000,(IF(OR(INDEX($22:$22-($A157-$D157*$35:$35), MATCH(N$50,$17:$17, 0))>0, INDEX($D157*$35:$35-$C157, MATCH(N$50,$17:$17, 0))>0),1000000000,(p!N157+n!N157+m!N157+INDEX(Vt!M:M, MATCH(($A157+INDEX($D157*($24:$24-$35:$35), MATCH(N$50,$17:$17, 0))),Vt!$A:$A,0)+INDEX($B157+$D157*$24:$24, MATCH(N$50,$17:$17, 0))*2)))))","v":0},{"$f":"IF(($A157+INDEX($D157*($24:$24-$35:$35), MATCH(O$50,$17:$17, 0)))>$C$8,1000000000,(IF(OR(INDEX($22:$22-($A157-$D157*$35:$35), MATCH(O$50,$17:$17, 0))>0, INDEX($D157*$35:$35-$C157, MATCH(O$50,$17:$17, 0))>0),1000000000,(p!O157+n!O157+m!O157+INDEX(Vt!N:N, MATCH(($A157+INDEX($D157*($24:$24-$35:$35), MATCH(O$50,$17:$17, 0))),Vt!$A:$A,0)+INDEX($B157+$D157*$24:$24, MATCH(O$50,$17:$17, 0))*2)))))","v":0}]
[9,8,1,1,0,{"$f":"IF(($A158+INDEX($D158*($24:$24-$35:$35), MATCH(F$50,$17:$17, 0)))>$C$8,1000000000,(IF(OR(INDEX($22:$22-($A158-$D158*$35:$35), MATCH(F$50,$17:$17, 0))>0, INDEX($D158*$35:$35-$C158, MATCH(F$50,$17:$17, 0))>0),1000000000,(p!F158+n!F158+m!F158+INDEX(Vt!E:E, MATCH(($A158+INDEX($D158*($24:$24-$35:$35), MATCH(F$50,$17:$17, 0))),Vt!$A:$A,0)+INDEX($B158+$D158*$24:$24, MATCH(F$50,$17:$17, 0))*2)))))","v":0},{"$f":"IF(($A158+INDEX($D158*($24:$24-$35:$35), MATCH(G$50,$17:$17, 0)))>$C$8,1000000000,(IF(OR(INDEX($22:$22-($A158-$D158*$35:$35), MATCH(G$50,$17:$17, 0))>0, INDEX($D158*$35:$35-$C158, MATCH(G$50,$17:$17, 0))>0),1000000000,(p!G158+n!G158+m!G158+INDEX(Vt!F:F, MATCH(($A158+INDEX($D158*($24:$24-$35:$35), MATCH(G$50,$17:$17, 0))),Vt!$A:$A,0)+INDEX($B158+$D158*$24:$24, MATCH(G$50,$17:$17, 0))*2)))))","v":0},{"$f":"IF(($A158+INDEX($D158*($24:$24-$35:$35), MATCH(H$50,$17:$17, 0)))>$C$8,1000000000,(IF(OR(INDEX($22:$22-($A158-$D158*$35:$35), MATCH(H$50,$17:$17, 0))>0, INDEX($D158*$35:$35-$C158, MATCH(H$50,$17:$17, 0))>0),1000000000,(p!H158+n!H158+m!H158+INDEX(Vt!G:G, MATCH(($A158+INDEX($D158*($24:$24-$35:$35), MATCH(H$50,$17:$17, 0))),Vt!$A:$A,0)+INDEX($B158+$D158*$24:$24, MATCH(H$50,$17:$17, 0))*2)))))","v":0},{"$f":"IF(($A158+INDEX($D158*($24:$24-$35:$35), MATCH(I$50,$17:$17, 0)))>$C$8,1000000000,(IF(OR(INDEX($22:$22-($A158-$D158*$35:$35), MATCH(I$50,$17:$17, 0))>0, INDEX($D158*$35:$35-$C158, MATCH(I$50,$17:$17, 0))>0),1000000000,(p!I158+n!I158+m!I158+INDEX(Vt!H:H, MATCH(($A158+INDEX($D158*($24:$24-$35:$35), MATCH(I$50,$17:$17, 0))),Vt!$A:$A,0)+INDEX($B158+$D158*$24:$24, MATCH(I$50,$17:$17, 0))*2)))))","v":0},{"$f":"IF(($A158+INDEX($D158*($24:$24-$35:$35), MATCH(J$50,$17:$17, 0)))>$C$8,1000000000,(IF(OR(INDEX($22:$22-($A158-$D158*$35:$35), MATCH(J$50,$17:$17, 0))>0, INDEX($D158*$35:$35-$C158, MATCH(J$50,$17:$17, 0))>0),1000000000,(p!J158+n!J158+m!J158+INDEX(Vt!I:I, MATCH(($A158+INDEX($D158*($24:$24-$35:$35), MATCH(J$50,$17:$17, 0))),Vt!$A:$A,0)+INDEX($B158+$D158*$24:$24, MATCH(J$50,$17:$17, 0))*2)))))","v":0},{"$f":"IF(($A158+INDEX($D158*($24:$24-$35:$35), MATCH(K$50,$17:$17, 0)))>$C$8,1000000000,(IF(OR(INDEX($22:$22-($A158-$D158*$35:$35), MATCH(K$50,$17:$17, 0))>0, INDEX($D158*$35:$35-$C158, MATCH(K$50,$17:$17, 0))>0),1000000000,(p!K158+n!K158+m!K158+INDEX(Vt!J:J, MATCH(($A158+INDEX($D158*($24:$24-$35:$35), MATCH(K$50,$17:$17, 0))),Vt!$A:$A,0)+INDEX($B158+$D158*$24:$24, MATCH(K$50,$17:$17, 0))*2)))))","v":0},{"$f":"IF(($A158+INDEX($D158*($24:$24-$35:$35), MATCH(L$50,$17:$17, 0)))>$C$8,1000000000,(IF(OR(INDEX($22:$22-($A158-$D158*$35:$35), MATCH(L$50,$17:$17, 0))>0, INDEX($D158*$35:$35-$C158, MATCH(L$50,$17:$17, 0))>0),1000000000,(p!L158+n!L158+m!L158+INDEX(Vt!K:K, MATCH(($A158+INDEX($D158*($24:$24-$35:$35), MATCH(L$50,$17:$17, 0))),Vt!$A:$A,0)+INDEX($B158+$D158*$24:$24, MATCH(L$50,$17:$17, 0))*2)))))","v":0},{"$f":"IF(($A158+INDEX($D158*($24:$24-$35:$35), MATCH(M$50,$17:$17, 0)))>$C$8,1000000000,(IF(OR(INDEX($22:$22-($A158-$D158*$35:$35), MATCH(M$50,$17:$17, 0))>0, INDEX($D158*$35:$35-$C158, MATCH(M$50,$17:$17, 0))>0),1000000000,(p!M158+n!M158+m!M158+INDEX(Vt!L:L, MATCH(($A158+INDEX($D158*($24:$24-$35:$35), MATCH(M$50,$17:$17, 0))),Vt!$A:$A,0)+INDEX($B158+$D158*$24:$24, MATCH(M$50,$17:$17, 0))*2)))))","v":0},{"$f":"IF(($A158+INDEX($D158*($24:$24-$35:$35), MATCH(N$50,$17:$17, 0)))>$C$8,1000000000,(IF(OR(INDEX($22:$22-($A158-$D158*$35:$35), MATCH(N$50,$17:$17, 0))>0, INDEX($D158*$35:$35-$C158, MATCH(N$50,$17:$17, 0))>0),1000000000,(p!N158+n!N158+m!N158+INDEX(Vt!M:M, MATCH(($A158+INDEX($D158*($24:$24-$35:$35), MATCH(N$50,$17:$17, 0))),Vt!$A:$A,0)+INDEX($B158+$D158*$24:$24, MATCH(N$50,$17:$17, 0))*2)))))","v":0},{"$f":"IF(($A158+INDEX($D158*($24:$24-$35:$35), MATCH(O$50,$17:$17, 0)))>$C$8,1000000000,(IF(OR(INDEX($22:$22-($A158-$D158*$35:$35), MATCH(O$50,$17:$17, 0))>0, INDEX($D158*$35:$35-$C158, MATCH(O$50,$17:$17, 0))>0),1000000000,(p!O158+n!O158+m!O158+INDEX(Vt!N:N, MATCH(($A158+INDEX($D158*($24:$24-$35:$35), MATCH(O$50,$17:$17, 0))),Vt!$A:$A,0)+INDEX($B158+$D158*$24:$24, MATCH(O$50,$17:$17, 0))*2)))))","v":0}]
[9,9,0,0,0,{"$f":"IF(($A159+INDEX($D159*($24:$24-$35:$35), MATCH(F$50,$17:$17, 0)))>$C$8,1000000000,(IF(OR(INDEX($22:$22-($A159-$D159*$35:$35), MATCH(F$50,$17:$17, 0))>0, INDEX($D159*$35:$35-$C159, MATCH(F$50,$17:$17, 0))>0),1000000000,(p!F159+n!F159+m!F159+INDEX(Vt!E:E, MATCH(($A159+INDEX($D159*($24:$24-$35:$35), MATCH(F$50,$17:$17, 0))),Vt!$A:$A,0)+INDEX($B159+$D159*$24:$24, MATCH(F$50,$17:$17, 0))*2)))))","v":0},{"$f":"IF(($A159+INDEX($D159*($24:$24-$35:$35), MATCH(G$50,$17:$17, 0)))>$C$8,1000000000,(IF(OR(INDEX($22:$22-($A159-$D159*$35:$35), MATCH(G$50,$17:$17, 0))>0, INDEX($D159*$35:$35-$C159, MATCH(G$50,$17:$17, 0))>0),1000000000,(p!G159+n!G159+m!G159+INDEX(Vt!F:F, MATCH(($A159+INDEX($D159*($24:$24-$35:$35), MATCH(G$50,$17:$17, 0))),Vt!$A:$A,0)+INDEX($B159+$D159*$24:$24, MATCH(G$50,$17:$17, 0))*2)))))","v":0},{"$f":"IF(($A159+INDEX($D159*($24:$24-$35:$35), MATCH(H$50,$17:$17, 0)))>$C$8,1000000000,(IF(OR(INDEX($22:$22-($A159-$D159*$35:$35), MATCH(H$50,$17:$17, 0))>0, INDEX($D159*$35:$35-$C159, MATCH(H$50,$17:$17, 0))>0),1000000000,(p!H159+n!H159+m!H159+INDEX(Vt!G:G, MATCH(($A159+INDEX($D159*($24:$24-$35:$35), MATCH(H$50,$17:$17, 0))),Vt!$A:$A,0)+INDEX($B159+$D159*$24:$24, MATCH(H$50,$17:$17, 0))*2)))))","v":0},{"$f":"IF(($A159+INDEX($D159*($24:$24-$35:$35), MATCH(I$50,$17:$17, 0)))>$C$8,1000000000,(IF(OR(INDEX($22:$22-($A159-$D159*$35:$35), MATCH(I$50,$17:$17, 0))>0, INDEX($D159*$35:$35-$C159, MATCH(I$50,$17:$17, 0))>0),1000000000,(p!I159+n!I159+m!I159+INDEX(Vt!H:H, MATCH(($A159+INDEX($D159*($24:$24-$35:$35), MATCH(I$50,$17:$17, 0))),Vt!$A:$A,0)+INDEX($B159+$D159*$24:$24, MATCH(I$50,$17:$17, 0))*2)))))","v":0},{"$f":"IF(($A159+INDEX($D159*($24:$24-$35:$35), MATCH(J$50,$17:$17, 0)))>$C$8,1000000000,(IF(OR(INDEX($22:$22-($A159-$D159*$35:$35), MATCH(J$50,$17:$17, 0))>0, INDEX($D159*$35:$35-$C159, MATCH(J$50,$17:$17, 0))>0),1000000000,(p!J159+n!J159+m!J159+INDEX(Vt!I:I, MATCH(($A159+INDEX($D159*($24:$24-$35:$35), MATCH(J$50,$17:$17, 0))),Vt!$A:$A,0)+INDEX($B159+$D159*$24:$24, MATCH(J$50,$17:$17, 0))*2)))))","v":0},{"$f":"IF(($A159+INDEX($D159*($24:$24-$35:$35), MATCH(K$50,$17:$17, 0)))>$C$8,1000000000,(IF(OR(INDEX($22:$22-($A159-$D159*$35:$35), MATCH(K$50,$17:$17, 0))>0, INDEX($D159*$35:$35-$C159, MATCH(K$50,$17:$17, 0))>0),1000000000,(p!K159+n!K159+m!K159+INDEX(Vt!J:J, MATCH(($A159+INDEX($D159*($24:$24-$35:$35), MATCH(K$50,$17:$17, 0))),Vt!$A:$A,0)+INDEX($B159+$D159*$24:$24, MATCH(K$50,$17:$17, 0))*2)))))","v":0},{"$f":"IF(($A159+INDEX($D159*($24:$24-$35:$35), MATCH(L$50,$17:$17, 0)))>$C$8,1000000000,(IF(OR(INDEX($22:$22-($A159-$D159*$35:$35), MATCH(L$50,$17:$17, 0))>0, INDEX($D159*$35:$35-$C159, MATCH(L$50,$17:$17, 0))>0),1000000000,(p!L159+n!L159+m!L159+INDEX(Vt!K:K, MATCH(($A159+INDEX($D159*($24:$24-$35:$35), MATCH(L$50,$17:$17, 0))),Vt!$A:$A,0)+INDEX($B159+$D159*$24:$24, MATCH(L$50,$17:$17, 0))*2)))))","v":0},{"$f":"IF(($A159+INDEX($D159*($24:$24-$35:$35), MATCH(M$50,$17:$17, 0)))>$C$8,1000000000,(IF(OR(INDEX($22:$22-($A159-$D159*$35:$35), MATCH(M$50,$17:$17, 0))>0, INDEX($D159*$35:$35-$C159, MATCH(M$50,$17:$17, 0))>0),1000000000,(p!M159+n!M159+m!M159+INDEX(Vt!L:L, MATCH(($A159+INDEX($D159*($24:$24-$35:$35), MATCH(M$50,$17:$17, 0))),Vt!$A:$A,0)+INDEX($B159+$D159*$24:$24, MATCH(M$50,$17:$17, 0))*2)))))","v":0},{"$f":"IF(($A159+INDEX($D159*($24:$24-$35:$35), MATCH(N$50,$17:$17, 0)))>$C$8,1000000000,(IF(OR(INDEX($22:$22-($A159-$D159*$35:$35), MATCH(N$50,$17:$17, 0))>0, INDEX($D159*$35:$35-$C159, MATCH(N$50,$17:$17, 0))>0),1000000000,(p!N159+n!N159+m!N159+INDEX(Vt!M:M, MATCH(($A159+INDEX($D159*($24:$24-$35:$35), MATCH(N$50,$17:$17, 0))),Vt!$A:$A,0)+INDEX($B159+$D159*$24:$24, MATCH(N$50,$17:$17, 0))*2)))))","v":0},{"$f":"IF(($A159+INDEX($D159*($24:$24-$35:$35), MATCH(O$50,$17:$17, 0)))>$C$8,1000000000,(IF(OR(INDEX($22:$22-($A159-$D159*$35:$35), MATCH(O$50,$17:$17, 0))>0, INDEX($D159*$35:$35-$C159, MATCH(O$50,$17:$17, 0))>0),1000000000,(p!O159+n!O159+m!O159+INDEX(Vt!N:N, MATCH(($A159+INDEX($D159*($24:$24-$35:$35), MATCH(O$50,$17:$17, 0))),Vt!$A:$A,0)+INDEX($B159+$D159*$24:$24, MATCH(O$50,$17:$17, 0))*2)))))","v":0}]
[9,9,0,1,0,{"$f":"IF(($A160+INDEX($D160*($24:$24-$35:$35), MATCH(F$50,$17:$17, 0)))>$C$8,1000000000,(IF(OR(INDEX($22:$22-($A160-$D160*$35:$35), MATCH(F$50,$17:$17, 0))>0, INDEX($D160*$35:$35-$C160, MATCH(F$50,$17:$17, 0))>0),1000000000,(p!F160+n!F160+m!F160+INDEX(Vt!E:E, MATCH(($A160+INDEX($D160*($24:$24-$35:$35), MATCH(F$50,$17:$17, 0))),Vt!$A:$A,0)+INDEX($B160+$D160*$24:$24, MATCH(F$50,$17:$17, 0))*2)))))","v":0},{"$f":"IF(($A160+INDEX($D160*($24:$24-$35:$35), MATCH(G$50,$17:$17, 0)))>$C$8,1000000000,(IF(OR(INDEX($22:$22-($A160-$D160*$35:$35), MATCH(G$50,$17:$17, 0))>0, INDEX($D160*$35:$35-$C160, MATCH(G$50,$17:$17, 0))>0),1000000000,(p!G160+n!G160+m!G160+INDEX(Vt!F:F, MATCH(($A160+INDEX($D160*($24:$24-$35:$35), MATCH(G$50,$17:$17, 0))),Vt!$A:$A,0)+INDEX($B160+$D160*$24:$24, MATCH(G$50,$17:$17, 0))*2)))))","v":0},{"$f":"IF(($A160+INDEX($D160*($24:$24-$35:$35), MATCH(H$50,$17:$17, 0)))>$C$8,1000000000,(IF(OR(INDEX($22:$22-($A160-$D160*$35:$35), MATCH(H$50,$17:$17, 0))>0, INDEX($D160*$35:$35-$C160, MATCH(H$50,$17:$17, 0))>0),1000000000,(p!H160+n!H160+m!H160+INDEX(Vt!G:G, MATCH(($A160+INDEX($D160*($24:$24-$35:$35), MATCH(H$50,$17:$17, 0))),Vt!$A:$A,0)+INDEX($B160+$D160*$24:$24, MATCH(H$50,$17:$17, 0))*2)))))","v":0},{"$f":"IF(($A160+INDEX($D160*($24:$24-$35:$35), MATCH(I$50,$17:$17, 0)))>$C$8,1000000000,(IF(OR(INDEX($22:$22-($A160-$D160*$35:$35), MATCH(I$50,$17:$17, 0))>0, INDEX($D160*$35:$35-$C160, MATCH(I$50,$17:$17, 0))>0),1000000000,(p!I160+n!I160+m!I160+INDEX(Vt!H:H, MATCH(($A160+INDEX($D160*($24:$24-$35:$35), MATCH(I$50,$17:$17, 0))),Vt!$A:$A,0)+INDEX($B160+$D160*$24:$24, MATCH(I$50,$17:$17, 0))*2)))))","v":0},{"$f":"IF(($A160+INDEX($D160*($24:$24-$35:$35), MATCH(J$50,$17:$17, 0)))>$C$8,1000000000,(IF(OR(INDEX($22:$22-($A160-$D160*$35:$35), MATCH(J$50,$17:$17, 0))>0, INDEX($D160*$35:$35-$C160, MATCH(J$50,$17:$17, 0))>0),1000000000,(p!J160+n!J160+m!J160+INDEX(Vt!I:I, MATCH(($A160+INDEX($D160*($24:$24-$35:$35), MATCH(J$50,$17:$17, 0))),Vt!$A:$A,0)+INDEX($B160+$D160*$24:$24, MATCH(J$50,$17:$17, 0))*2)))))","v":0},{"$f":"IF(($A160+INDEX($D160*($24:$24-$35:$35), MATCH(K$50,$17:$17, 0)))>$C$8,1000000000,(IF(OR(INDEX($22:$22-($A160-$D160*$35:$35), MATCH(K$50,$17:$17, 0))>0, INDEX($D160*$35:$35-$C160, MATCH(K$50,$17:$17, 0))>0),1000000000,(p!K160+n!K160+m!K160+INDEX(Vt!J:J, MATCH(($A160+INDEX($D160*($24:$24-$35:$35), MATCH(K$50,$17:$17, 0))),Vt!$A:$A,0)+INDEX($B160+$D160*$24:$24, MATCH(K$50,$17:$17, 0))*2)))))","v":0},{"$f":"IF(($A160+INDEX($D160*($24:$24-$35:$35), MATCH(L$50,$17:$17, 0)))>$C$8,1000000000,(IF(OR(INDEX($22:$22-($A160-$D160*$35:$35), MATCH(L$50,$17:$17, 0))>0, INDEX($D160*$35:$35-$C160, MATCH(L$50,$17:$17, 0))>0),1000000000,(p!L160+n!L160+m!L160+INDEX(Vt!K:K, MATCH(($A160+INDEX($D160*($24:$24-$35:$35), MATCH(L$50,$17:$17, 0))),Vt!$A:$A,0)+INDEX($B160+$D160*$24:$24, MATCH(L$50,$17:$17, 0))*2)))))","v":0},{"$f":"IF(($A160+INDEX($D160*($24:$24-$35:$35), MATCH(M$50,$17:$17, 0)))>$C$8,1000000000,(IF(OR(INDEX($22:$22-($A160-$D160*$35:$35), MATCH(M$50,$17:$17, 0))>0, INDEX($D160*$35:$35-$C160, MATCH(M$50,$17:$17, 0))>0),1000000000,(p!M160+n!M160+m!M160+INDEX(Vt!L:L, MATCH(($A160+INDEX($D160*($24:$24-$35:$35), MATCH(M$50,$17:$17, 0))),Vt!$A:$A,0)+INDEX($B160+$D160*$24:$24, MATCH(M$50,$17:$17, 0))*2)))))","v":0},{"$f":"IF(($A160+INDEX($D160*($24:$24-$35:$35), MATCH(N$50,$17:$17, 0)))>$C$8,1000000000,(IF(OR(INDEX($22:$22-($A160-$D160*$35:$35), MATCH(N$50,$17:$17, 0))>0, INDEX($D160*$35:$35-$C160, MATCH(N$50,$17:$17, 0))>0),1000000000,(p!N160+n!N160+m!N160+INDEX(Vt!M:M, MATCH(($A160+INDEX($D160*($24:$24-$35:$35), MATCH(N$50,$17:$17, 0))),Vt!$A:$A,0)+INDEX($B160+$D160*$24:$24, MATCH(N$50,$17:$17, 0))*2)))))","v":0},{"$f":"IF(($A160+INDEX($D160*($24:$24-$35:$35), MATCH(O$50,$17:$17, 0)))>$C$8,1000000000,(IF(OR(INDEX($22:$22-($A160-$D160*$35:$35), MATCH(O$50,$17:$17, 0))>0, INDEX($D160*$35:$35-$C160, MATCH(O$50,$17:$17, 0))>0),1000000000,(p!O160+n!O160+m!O160+INDEX(Vt!N:N, MATCH(($A160+INDEX($D160*($24:$24-$35:$35), MATCH(O$50,$17:$17, 0))),Vt!$A:$A,0)+INDEX($B160+$D160*$24:$24, MATCH(O$50,$17:$17, 0))*2)))))","v":0}]
[10,0,10,0,0,{"$f":"IF(($A161+INDEX($D161*($24:$24-$35:$35), MATCH(F$50,$17:$17, 0)))>$C$8,1000000000,(IF(OR(INDEX($22:$22-($A161-$D161*$35:$35), MATCH(F$50,$17:$17, 0))>0, INDEX($D161*$35:$35-$C161, MATCH(F$50,$17:$17, 0))>0),1000000000,(p!F161+n!F161+m!F161+INDEX(Vt!E:E, MATCH(($A161+INDEX($D161*($24:$24-$35:$35), MATCH(F$50,$17:$17, 0))),Vt!$A:$A,0)+INDEX($B161+$D161*$24:$24, MATCH(F$50,$17:$17, 0))*2)))))","v":0},{"$f":"IF(($A161+INDEX($D161*($24:$24-$35:$35), MATCH(G$50,$17:$17, 0)))>$C$8,1000000000,(IF(OR(INDEX($22:$22-($A161-$D161*$35:$35), MATCH(G$50,$17:$17, 0))>0, INDEX($D161*$35:$35-$C161, MATCH(G$50,$17:$17, 0))>0),1000000000,(p!G161+n!G161+m!G161+INDEX(Vt!F:F, MATCH(($A161+INDEX($D161*($24:$24-$35:$35), MATCH(G$50,$17:$17, 0))),Vt!$A:$A,0)+INDEX($B161+$D161*$24:$24, MATCH(G$50,$17:$17, 0))*2)))))","v":0},{"$f":"IF(($A161+INDEX($D161*($24:$24-$35:$35), MATCH(H$50,$17:$17, 0)))>$C$8,1000000000,(IF(OR(INDEX($22:$22-($A161-$D161*$35:$35), MATCH(H$50,$17:$17, 0))>0, INDEX($D161*$35:$35-$C161, MATCH(H$50,$17:$17, 0))>0),1000000000,(p!H161+n!H161+m!H161+INDEX(Vt!G:G, MATCH(($A161+INDEX($D161*($24:$24-$35:$35), MATCH(H$50,$17:$17, 0))),Vt!$A:$A,0)+INDEX($B161+$D161*$24:$24, MATCH(H$50,$17:$17, 0))*2)))))","v":0},{"$f":"IF(($A161+INDEX($D161*($24:$24-$35:$35), MATCH(I$50,$17:$17, 0)))>$C$8,1000000000,(IF(OR(INDEX($22:$22-($A161-$D161*$35:$35), MATCH(I$50,$17:$17, 0))>0, INDEX($D161*$35:$35-$C161, MATCH(I$50,$17:$17, 0))>0),1000000000,(p!I161+n!I161+m!I161+INDEX(Vt!H:H, MATCH(($A161+INDEX($D161*($24:$24-$35:$35), MATCH(I$50,$17:$17, 0))),Vt!$A:$A,0)+INDEX($B161+$D161*$24:$24, MATCH(I$50,$17:$17, 0))*2)))))","v":0},{"$f":"IF(($A161+INDEX($D161*($24:$24-$35:$35), MATCH(J$50,$17:$17, 0)))>$C$8,1000000000,(IF(OR(INDEX($22:$22-($A161-$D161*$35:$35), MATCH(J$50,$17:$17, 0))>0, INDEX($D161*$35:$35-$C161, MATCH(J$50,$17:$17, 0))>0),1000000000,(p!J161+n!J161+m!J161+INDEX(Vt!I:I, MATCH(($A161+INDEX($D161*($24:$24-$35:$35), MATCH(J$50,$17:$17, 0))),Vt!$A:$A,0)+INDEX($B161+$D161*$24:$24, MATCH(J$50,$17:$17, 0))*2)))))","v":0},{"$f":"IF(($A161+INDEX($D161*($24:$24-$35:$35), MATCH(K$50,$17:$17, 0)))>$C$8,1000000000,(IF(OR(INDEX($22:$22-($A161-$D161*$35:$35), MATCH(K$50,$17:$17, 0))>0, INDEX($D161*$35:$35-$C161, MATCH(K$50,$17:$17, 0))>0),1000000000,(p!K161+n!K161+m!K161+INDEX(Vt!J:J, MATCH(($A161+INDEX($D161*($24:$24-$35:$35), MATCH(K$50,$17:$17, 0))),Vt!$A:$A,0)+INDEX($B161+$D161*$24:$24, MATCH(K$50,$17:$17, 0))*2)))))","v":0},{"$f":"IF(($A161+INDEX($D161*($24:$24-$35:$35), MATCH(L$50,$17:$17, 0)))>$C$8,1000000000,(IF(OR(INDEX($22:$22-($A161-$D161*$35:$35), MATCH(L$50,$17:$17, 0))>0, INDEX($D161*$35:$35-$C161, MATCH(L$50,$17:$17, 0))>0),1000000000,(p!L161+n!L161+m!L161+INDEX(Vt!K:K, MATCH(($A161+INDEX($D161*($24:$24-$35:$35), MATCH(L$50,$17:$17, 0))),Vt!$A:$A,0)+INDEX($B161+$D161*$24:$24, MATCH(L$50,$17:$17, 0))*2)))))","v":0},{"$f":"IF(($A161+INDEX($D161*($24:$24-$35:$35), MATCH(M$50,$17:$17, 0)))>$C$8,1000000000,(IF(OR(INDEX($22:$22-($A161-$D161*$35:$35), MATCH(M$50,$17:$17, 0))>0, INDEX($D161*$35:$35-$C161, MATCH(M$50,$17:$17, 0))>0),1000000000,(p!M161+n!M161+m!M161+INDEX(Vt!L:L, MATCH(($A161+INDEX($D161*($24:$24-$35:$35), MATCH(M$50,$17:$17, 0))),Vt!$A:$A,0)+INDEX($B161+$D161*$24:$24, MATCH(M$50,$17:$17, 0))*2)))))","v":0},{"$f":"IF(($A161+INDEX($D161*($24:$24-$35:$35), MATCH(N$50,$17:$17, 0)))>$C$8,1000000000,(IF(OR(INDEX($22:$22-($A161-$D161*$35:$35), MATCH(N$50,$17:$17, 0))>0, INDEX($D161*$35:$35-$C161, MATCH(N$50,$17:$17, 0))>0),1000000000,(p!N161+n!N161+m!N161+INDEX(Vt!M:M, MATCH(($A161+INDEX($D161*($24:$24-$35:$35), MATCH(N$50,$17:$17, 0))),Vt!$A:$A,0)+INDEX($B161+$D161*$24:$24, MATCH(N$50,$17:$17, 0))*2)))))","v":0},{"$f":"IF(($A161+INDEX($D161*($24:$24-$35:$35), MATCH(O$50,$17:$17, 0)))>$C$8,1000000000,(IF(OR(INDEX($22:$22-($A161-$D161*$35:$35), MATCH(O$50,$17:$17, 0))>0, INDEX($D161*$35:$35-$C161, MATCH(O$50,$17:$17, 0))>0),1000000000,(p!O161+n!O161+m!O161+INDEX(Vt!N:N, MATCH(($A161+INDEX($D161*($24:$24-$35:$35), MATCH(O$50,$17:$17, 0))),Vt!$A:$A,0)+INDEX($B161+$D161*$24:$24, MATCH(O$50,$17:$17, 0))*2)))))","v":0}]
[10,0,10,1,0,{"$f":"IF(($A162+INDEX($D162*($24:$24-$35:$35), MATCH(F$50,$17:$17, 0)))>$C$8,1000000000,(IF(OR(INDEX($22:$22-($A162-$D162*$35:$35), MATCH(F$50,$17:$17, 0))>0, INDEX($D162*$35:$35-$C162, MATCH(F$50,$17:$17, 0))>0),1000000000,(p!F162+n!F162+m!F162+INDEX(Vt!E:E, MATCH(($A162+INDEX($D162*($24:$24-$35:$35), MATCH(F$50,$17:$17, 0))),Vt!$A:$A,0)+INDEX($B162+$D162*$24:$24, MATCH(F$50,$17:$17, 0))*2)))))","v":0},{"$f":"IF(($A162+INDEX($D162*($24:$24-$35:$35), MATCH(G$50,$17:$17, 0)))>$C$8,1000000000,(IF(OR(INDEX($22:$22-($A162-$D162*$35:$35), MATCH(G$50,$17:$17, 0))>0, INDEX($D162*$35:$35-$C162, MATCH(G$50,$17:$17, 0))>0),1000000000,(p!G162+n!G162+m!G162+INDEX(Vt!F:F, MATCH(($A162+INDEX($D162*($24:$24-$35:$35), MATCH(G$50,$17:$17, 0))),Vt!$A:$A,0)+INDEX($B162+$D162*$24:$24, MATCH(G$50,$17:$17, 0))*2)))))","v":0},{"$f":"IF(($A162+INDEX($D162*($24:$24-$35:$35), MATCH(H$50,$17:$17, 0)))>$C$8,1000000000,(IF(OR(INDEX($22:$22-($A162-$D162*$35:$35), MATCH(H$50,$17:$17, 0))>0, INDEX($D162*$35:$35-$C162, MATCH(H$50,$17:$17, 0))>0),1000000000,(p!H162+n!H162+m!H162+INDEX(Vt!G:G, MATCH(($A162+INDEX($D162*($24:$24-$35:$35), MATCH(H$50,$17:$17, 0))),Vt!$A:$A,0)+INDEX($B162+$D162*$24:$24, MATCH(H$50,$17:$17, 0))*2)))))","v":0},{"$f":"IF(($A162+INDEX($D162*($24:$24-$35:$35), MATCH(I$50,$17:$17, 0)))>$C$8,1000000000,(IF(OR(INDEX($22:$22-($A162-$D162*$35:$35), MATCH(I$50,$17:$17, 0))>0, INDEX($D162*$35:$35-$C162, MATCH(I$50,$17:$17, 0))>0),1000000000,(p!I162+n!I162+m!I162+INDEX(Vt!H:H, MATCH(($A162+INDEX($D162*($24:$24-$35:$35), MATCH(I$50,$17:$17, 0))),Vt!$A:$A,0)+INDEX($B162+$D162*$24:$24, MATCH(I$50,$17:$17, 0))*2)))))","v":0},{"$f":"IF(($A162+INDEX($D162*($24:$24-$35:$35), MATCH(J$50,$17:$17, 0)))>$C$8,1000000000,(IF(OR(INDEX($22:$22-($A162-$D162*$35:$35), MATCH(J$50,$17:$17, 0))>0, INDEX($D162*$35:$35-$C162, MATCH(J$50,$17:$17, 0))>0),1000000000,(p!J162+n!J162+m!J162+INDEX(Vt!I:I, MATCH(($A162+INDEX($D162*($24:$24-$35:$35), MATCH(J$50,$17:$17, 0))),Vt!$A:$A,0)+INDEX($B162+$D162*$24:$24, MATCH(J$50,$17:$17, 0))*2)))))","v":0},{"$f":"IF(($A162+INDEX($D162*($24:$24-$35:$35), MATCH(K$50,$17:$17, 0)))>$C$8,1000000000,(IF(OR(INDEX($22:$22-($A162-$D162*$35:$35), MATCH(K$50,$17:$17, 0))>0, INDEX($D162*$35:$35-$C162, MATCH(K$50,$17:$17, 0))>0),1000000000,(p!K162+n!K162+m!K162+INDEX(Vt!J:J, MATCH(($A162+INDEX($D162*($24:$24-$35:$35), MATCH(K$50,$17:$17, 0))),Vt!$A:$A,0)+INDEX($B162+$D162*$24:$24, MATCH(K$50,$17:$17, 0))*2)))))","v":0},{"$f":"IF(($A162+INDEX($D162*($24:$24-$35:$35), MATCH(L$50,$17:$17, 0)))>$C$8,1000000000,(IF(OR(INDEX($22:$22-($A162-$D162*$35:$35), MATCH(L$50,$17:$17, 0))>0, INDEX($D162*$35:$35-$C162, MATCH(L$50,$17:$17, 0))>0),1000000000,(p!L162+n!L162+m!L162+INDEX(Vt!K:K, MATCH(($A162+INDEX($D162*($24:$24-$35:$35), MATCH(L$50,$17:$17, 0))),Vt!$A:$A,0)+INDEX($B162+$D162*$24:$24, MATCH(L$50,$17:$17, 0))*2)))))","v":0},{"$f":"IF(($A162+INDEX($D162*($24:$24-$35:$35), MATCH(M$50,$17:$17, 0)))>$C$8,1000000000,(IF(OR(INDEX($22:$22-($A162-$D162*$35:$35), MATCH(M$50,$17:$17, 0))>0, INDEX($D162*$35:$35-$C162, MATCH(M$50,$17:$17, 0))>0),1000000000,(p!M162+n!M162+m!M162+INDEX(Vt!L:L, MATCH(($A162+INDEX($D162*($24:$24-$35:$35), MATCH(M$50,$17:$17, 0))),Vt!$A:$A,0)+INDEX($B162+$D162*$24:$24, MATCH(M$50,$17:$17, 0))*2)))))","v":0},{"$f":"IF(($A162+INDEX($D162*($24:$24-$35:$35), MATCH(N$50,$17:$17, 0)))>$C$8,1000000000,(IF(OR(INDEX($22:$22-($A162-$D162*$35:$35), MATCH(N$50,$17:$17, 0))>0, INDEX($D162*$35:$35-$C162, MATCH(N$50,$17:$17, 0))>0),1000000000,(p!N162+n!N162+m!N162+INDEX(Vt!M:M, MATCH(($A162+INDEX($D162*($24:$24-$35:$35), MATCH(N$50,$17:$17, 0))),Vt!$A:$A,0)+INDEX($B162+$D162*$24:$24, MATCH(N$50,$17:$17, 0))*2)))))","v":0},{"$f":"IF(($A162+INDEX($D162*($24:$24-$35:$35), MATCH(O$50,$17:$17, 0)))>$C$8,1000000000,(IF(OR(INDEX($22:$22-($A162-$D162*$35:$35), MATCH(O$50,$17:$17, 0))>0, INDEX($D162*$35:$35-$C162, MATCH(O$50,$17:$17, 0))>0),1000000000,(p!O162+n!O162+m!O162+INDEX(Vt!N:N, MATCH(($A162+INDEX($D162*($24:$24-$35:$35), MATCH(O$50,$17:$17, 0))),Vt!$A:$A,0)+INDEX($B162+$D162*$24:$24, MATCH(O$50,$17:$17, 0))*2)))))","v":0}]
[10,1,9,0,0,{"$f":"IF(($A163+INDEX($D163*($24:$24-$35:$35), MATCH(F$50,$17:$17, 0)))>$C$8,1000000000,(IF(OR(INDEX($22:$22-($A163-$D163*$35:$35), MATCH(F$50,$17:$17, 0))>0, INDEX($D163*$35:$35-$C163, MATCH(F$50,$17:$17, 0))>0),1000000000,(p!F163+n!F163+m!F163+INDEX(Vt!E:E, MATCH(($A163+INDEX($D163*($24:$24-$35:$35), MATCH(F$50,$17:$17, 0))),Vt!$A:$A,0)+INDEX($B163+$D163*$24:$24, MATCH(F$50,$17:$17, 0))*2)))))","v":0},{"$f":"IF(($A163+INDEX($D163*($24:$24-$35:$35), MATCH(G$50,$17:$17, 0)))>$C$8,1000000000,(IF(OR(INDEX($22:$22-($A163-$D163*$35:$35), MATCH(G$50,$17:$17, 0))>0, INDEX($D163*$35:$35-$C163, MATCH(G$50,$17:$17, 0))>0),1000000000,(p!G163+n!G163+m!G163+INDEX(Vt!F:F, MATCH(($A163+INDEX($D163*($24:$24-$35:$35), MATCH(G$50,$17:$17, 0))),Vt!$A:$A,0)+INDEX($B163+$D163*$24:$24, MATCH(G$50,$17:$17, 0))*2)))))","v":0},{"$f":"IF(($A163+INDEX($D163*($24:$24-$35:$35), MATCH(H$50,$17:$17, 0)))>$C$8,1000000000,(IF(OR(INDEX($22:$22-($A163-$D163*$35:$35), MATCH(H$50,$17:$17, 0))>0, INDEX($D163*$35:$35-$C163, MATCH(H$50,$17:$17, 0))>0),1000000000,(p!H163+n!H163+m!H163+INDEX(Vt!G:G, MATCH(($A163+INDEX($D163*($24:$24-$35:$35), MATCH(H$50,$17:$17, 0))),Vt!$A:$A,0)+INDEX($B163+$D163*$24:$24, MATCH(H$50,$17:$17, 0))*2)))))","v":0},{"$f":"IF(($A163+INDEX($D163*($24:$24-$35:$35), MATCH(I$50,$17:$17, 0)))>$C$8,1000000000,(IF(OR(INDEX($22:$22-($A163-$D163*$35:$35), MATCH(I$50,$17:$17, 0))>0, INDEX($D163*$35:$35-$C163, MATCH(I$50,$17:$17, 0))>0),1000000000,(p!I163+n!I163+m!I163+INDEX(Vt!H:H, MATCH(($A163+INDEX($D163*($24:$24-$35:$35), MATCH(I$50,$17:$17, 0))),Vt!$A:$A,0)+INDEX($B163+$D163*$24:$24, MATCH(I$50,$17:$17, 0))*2)))))","v":0},{"$f":"IF(($A163+INDEX($D163*($24:$24-$35:$35), MATCH(J$50,$17:$17, 0)))>$C$8,1000000000,(IF(OR(INDEX($22:$22-($A163-$D163*$35:$35), MATCH(J$50,$17:$17, 0))>0, INDEX($D163*$35:$35-$C163, MATCH(J$50,$17:$17, 0))>0),1000000000,(p!J163+n!J163+m!J163+INDEX(Vt!I:I, MATCH(($A163+INDEX($D163*($24:$24-$35:$35), MATCH(J$50,$17:$17, 0))),Vt!$A:$A,0)+INDEX($B163+$D163*$24:$24, MATCH(J$50,$17:$17, 0))*2)))))","v":0},{"$f":"IF(($A163+INDEX($D163*($24:$24-$35:$35), MATCH(K$50,$17:$17, 0)))>$C$8,1000000000,(IF(OR(INDEX($22:$22-($A163-$D163*$35:$35), MATCH(K$50,$17:$17, 0))>0, INDEX($D163*$35:$35-$C163, MATCH(K$50,$17:$17, 0))>0),1000000000,(p!K163+n!K163+m!K163+INDEX(Vt!J:J, MATCH(($A163+INDEX($D163*($24:$24-$35:$35), MATCH(K$50,$17:$17, 0))),Vt!$A:$A,0)+INDEX($B163+$D163*$24:$24, MATCH(K$50,$17:$17, 0))*2)))))","v":0},{"$f":"IF(($A163+INDEX($D163*($24:$24-$35:$35), MATCH(L$50,$17:$17, 0)))>$C$8,1000000000,(IF(OR(INDEX($22:$22-($A163-$D163*$35:$35), MATCH(L$50,$17:$17, 0))>0, INDEX($D163*$35:$35-$C163, MATCH(L$50,$17:$17, 0))>0),1000000000,(p!L163+n!L163+m!L163+INDEX(Vt!K:K, MATCH(($A163+INDEX($D163*($24:$24-$35:$35), MATCH(L$50,$17:$17, 0))),Vt!$A:$A,0)+INDEX($B163+$D163*$24:$24, MATCH(L$50,$17:$17, 0))*2)))))","v":0},{"$f":"IF(($A163+INDEX($D163*($24:$24-$35:$35), MATCH(M$50,$17:$17, 0)))>$C$8,1000000000,(IF(OR(INDEX($22:$22-($A163-$D163*$35:$35), MATCH(M$50,$17:$17, 0))>0, INDEX($D163*$35:$35-$C163, MATCH(M$50,$17:$17, 0))>0),1000000000,(p!M163+n!M163+m!M163+INDEX(Vt!L:L, MATCH(($A163+INDEX($D163*($24:$24-$35:$35), MATCH(M$50,$17:$17, 0))),Vt!$A:$A,0)+INDEX($B163+$D163*$24:$24, MATCH(M$50,$17:$17, 0))*2)))))","v":0},{"$f":"IF(($A163+INDEX($D163*($24:$24-$35:$35), MATCH(N$50,$17:$17, 0)))>$C$8,1000000000,(IF(OR(INDEX($22:$22-($A163-$D163*$35:$35), MATCH(N$50,$17:$17, 0))>0, INDEX($D163*$35:$35-$C163, MATCH(N$50,$17:$17, 0))>0),1000000000,(p!N163+n!N163+m!N163+INDEX(Vt!M:M, MATCH(($A163+INDEX($D163*($24:$24-$35:$35), MATCH(N$50,$17:$17, 0))),Vt!$A:$A,0)+INDEX($B163+$D163*$24:$24, MATCH(N$50,$17:$17, 0))*2)))))","v":0},{"$f":"IF(($A163+INDEX($D163*($24:$24-$35:$35), MATCH(O$50,$17:$17, 0)))>$C$8,1000000000,(IF(OR(INDEX($22:$22-($A163-$D163*$35:$35), MATCH(O$50,$17:$17, 0))>0, INDEX($D163*$35:$35-$C163, MATCH(O$50,$17:$17, 0))>0),1000000000,(p!O163+n!O163+m!O163+INDEX(Vt!N:N, MATCH(($A163+INDEX($D163*($24:$24-$35:$35), MATCH(O$50,$17:$17, 0))),Vt!$A:$A,0)+INDEX($B163+$D163*$24:$24, MATCH(O$50,$17:$17, 0))*2)))))","v":0}]
[10,1,9,1,0,{"$f":"IF(($A164+INDEX($D164*($24:$24-$35:$35), MATCH(F$50,$17:$17, 0)))>$C$8,1000000000,(IF(OR(INDEX($22:$22-($A164-$D164*$35:$35), MATCH(F$50,$17:$17, 0))>0, INDEX($D164*$35:$35-$C164, MATCH(F$50,$17:$17, 0))>0),1000000000,(p!F164+n!F164+m!F164+INDEX(Vt!E:E, MATCH(($A164+INDEX($D164*($24:$24-$35:$35), MATCH(F$50,$17:$17, 0))),Vt!$A:$A,0)+INDEX($B164+$D164*$24:$24, MATCH(F$50,$17:$17, 0))*2)))))","v":0},{"$f":"IF(($A164+INDEX($D164*($24:$24-$35:$35), MATCH(G$50,$17:$17, 0)))>$C$8,1000000000,(IF(OR(INDEX($22:$22-($A164-$D164*$35:$35), MATCH(G$50,$17:$17, 0))>0, INDEX($D164*$35:$35-$C164, MATCH(G$50,$17:$17, 0))>0),1000000000,(p!G164+n!G164+m!G164+INDEX(Vt!F:F, MATCH(($A164+INDEX($D164*($24:$24-$35:$35), MATCH(G$50,$17:$17, 0))),Vt!$A:$A,0)+INDEX($B164+$D164*$24:$24, MATCH(G$50,$17:$17, 0))*2)))))","v":0},{"$f":"IF(($A164+INDEX($D164*($24:$24-$35:$35), MATCH(H$50,$17:$17, 0)))>$C$8,1000000000,(IF(OR(INDEX($22:$22-($A164-$D164*$35:$35), MATCH(H$50,$17:$17, 0))>0, INDEX($D164*$35:$35-$C164, MATCH(H$50,$17:$17, 0))>0),1000000000,(p!H164+n!H164+m!H164+INDEX(Vt!G:G, MATCH(($A164+INDEX($D164*($24:$24-$35:$35), MATCH(H$50,$17:$17, 0))),Vt!$A:$A,0)+INDEX($B164+$D164*$24:$24, MATCH(H$50,$17:$17, 0))*2)))))","v":0},{"$f":"IF(($A164+INDEX($D164*($24:$24-$35:$35), MATCH(I$50,$17:$17, 0)))>$C$8,1000000000,(IF(OR(INDEX($22:$22-($A164-$D164*$35:$35), MATCH(I$50,$17:$17, 0))>0, INDEX($D164*$35:$35-$C164, MATCH(I$50,$17:$17, 0))>0),1000000000,(p!I164+n!I164+m!I164+INDEX(Vt!H:H, MATCH(($A164+INDEX($D164*($24:$24-$35:$35), MATCH(I$50,$17:$17, 0))),Vt!$A:$A,0)+INDEX($B164+$D164*$24:$24, MATCH(I$50,$17:$17, 0))*2)))))","v":0},{"$f":"IF(($A164+INDEX($D164*($24:$24-$35:$35), MATCH(J$50,$17:$17, 0)))>$C$8,1000000000,(IF(OR(INDEX($22:$22-($A164-$D164*$35:$35), MATCH(J$50,$17:$17, 0))>0, INDEX($D164*$35:$35-$C164, MATCH(J$50,$17:$17, 0))>0),1000000000,(p!J164+n!J164+m!J164+INDEX(Vt!I:I, MATCH(($A164+INDEX($D164*($24:$24-$35:$35), MATCH(J$50,$17:$17, 0))),Vt!$A:$A,0)+INDEX($B164+$D164*$24:$24, MATCH(J$50,$17:$17, 0))*2)))))","v":0},{"$f":"IF(($A164+INDEX($D164*($24:$24-$35:$35), MATCH(K$50,$17:$17, 0)))>$C$8,1000000000,(IF(OR(INDEX($22:$22-($A164-$D164*$35:$35), MATCH(K$50,$17:$17, 0))>0, INDEX($D164*$35:$35-$C164, MATCH(K$50,$17:$17, 0))>0),1000000000,(p!K164+n!K164+m!K164+INDEX(Vt!J:J, MATCH(($A164+INDEX($D164*($24:$24-$35:$35), MATCH(K$50,$17:$17, 0))),Vt!$A:$A,0)+INDEX($B164+$D164*$24:$24, MATCH(K$50,$17:$17, 0))*2)))))","v":0},{"$f":"IF(($A164+INDEX($D164*($24:$24-$35:$35), MATCH(L$50,$17:$17, 0)))>$C$8,1000000000,(IF(OR(INDEX($22:$22-($A164-$D164*$35:$35), MATCH(L$50,$17:$17, 0))>0, INDEX($D164*$35:$35-$C164, MATCH(L$50,$17:$17, 0))>0),1000000000,(p!L164+n!L164+m!L164+INDEX(Vt!K:K, MATCH(($A164+INDEX($D164*($24:$24-$35:$35), MATCH(L$50,$17:$17, 0))),Vt!$A:$A,0)+INDEX($B164+$D164*$24:$24, MATCH(L$50,$17:$17, 0))*2)))))","v":0},{"$f":"IF(($A164+INDEX($D164*($24:$24-$35:$35), MATCH(M$50,$17:$17, 0)))>$C$8,1000000000,(IF(OR(INDEX($22:$22-($A164-$D164*$35:$35), MATCH(M$50,$17:$17, 0))>0, INDEX($D164*$35:$35-$C164, MATCH(M$50,$17:$17, 0))>0),1000000000,(p!M164+n!M164+m!M164+INDEX(Vt!L:L, MATCH(($A164+INDEX($D164*($24:$24-$35:$35), MATCH(M$50,$17:$17, 0))),Vt!$A:$A,0)+INDEX($B164+$D164*$24:$24, MATCH(M$50,$17:$17, 0))*2)))))","v":0},{"$f":"IF(($A164+INDEX($D164*($24:$24-$35:$35), MATCH(N$50,$17:$17, 0)))>$C$8,1000000000,(IF(OR(INDEX($22:$22-($A164-$D164*$35:$35), MATCH(N$50,$17:$17, 0))>0, INDEX($D164*$35:$35-$C164, MATCH(N$50,$17:$17, 0))>0),1000000000,(p!N164+n!N164+m!N164+INDEX(Vt!M:M, MATCH(($A164+INDEX($D164*($24:$24-$35:$35), MATCH(N$50,$17:$17, 0))),Vt!$A:$A,0)+INDEX($B164+$D164*$24:$24, MATCH(N$50,$17:$17, 0))*2)))))","v":0},{"$f":"IF(($A164+INDEX($D164*($24:$24-$35:$35), MATCH(O$50,$17:$17, 0)))>$C$8,1000000000,(IF(OR(INDEX($22:$22-($A164-$D164*$35:$35), MATCH(O$50,$17:$17, 0))>0, INDEX($D164*$35:$35-$C164, MATCH(O$50,$17:$17, 0))>0),1000000000,(p!O164+n!O164+m!O164+INDEX(Vt!N:N, MATCH(($A164+INDEX($D164*($24:$24-$35:$35), MATCH(O$50,$17:$17, 0))),Vt!$A:$A,0)+INDEX($B164+$D164*$24:$24, MATCH(O$50,$17:$17, 0))*2)))))","v":0}]
[10,2,8,0,0,{"$f":"IF(($A165+INDEX($D165*($24:$24-$35:$35), MATCH(F$50,$17:$17, 0)))>$C$8,1000000000,(IF(OR(INDEX($22:$22-($A165-$D165*$35:$35), MATCH(F$50,$17:$17, 0))>0, INDEX($D165*$35:$35-$C165, MATCH(F$50,$17:$17, 0))>0),1000000000,(p!F165+n!F165+m!F165+INDEX(Vt!E:E, MATCH(($A165+INDEX($D165*($24:$24-$35:$35), MATCH(F$50,$17:$17, 0))),Vt!$A:$A,0)+INDEX($B165+$D165*$24:$24, MATCH(F$50,$17:$17, 0))*2)))))","v":0},{"$f":"IF(($A165+INDEX($D165*($24:$24-$35:$35), MATCH(G$50,$17:$17, 0)))>$C$8,1000000000,(IF(OR(INDEX($22:$22-($A165-$D165*$35:$35), MATCH(G$50,$17:$17, 0))>0, INDEX($D165*$35:$35-$C165, MATCH(G$50,$17:$17, 0))>0),1000000000,(p!G165+n!G165+m!G165+INDEX(Vt!F:F, MATCH(($A165+INDEX($D165*($24:$24-$35:$35), MATCH(G$50,$17:$17, 0))),Vt!$A:$A,0)+INDEX($B165+$D165*$24:$24, MATCH(G$50,$17:$17, 0))*2)))))","v":0},{"$f":"IF(($A165+INDEX($D165*($24:$24-$35:$35), MATCH(H$50,$17:$17, 0)))>$C$8,1000000000,(IF(OR(INDEX($22:$22-($A165-$D165*$35:$35), MATCH(H$50,$17:$17, 0))>0, INDEX($D165*$35:$35-$C165, MATCH(H$50,$17:$17, 0))>0),1000000000,(p!H165+n!H165+m!H165+INDEX(Vt!G:G, MATCH(($A165+INDEX($D165*($24:$24-$35:$35), MATCH(H$50,$17:$17, 0))),Vt!$A:$A,0)+INDEX($B165+$D165*$24:$24, MATCH(H$50,$17:$17, 0))*2)))))","v":0},{"$f":"IF(($A165+INDEX($D165*($24:$24-$35:$35), MATCH(I$50,$17:$17, 0)))>$C$8,1000000000,(IF(OR(INDEX($22:$22-($A165-$D165*$35:$35), MATCH(I$50,$17:$17, 0))>0, INDEX($D165*$35:$35-$C165, MATCH(I$50,$17:$17, 0))>0),1000000000,(p!I165+n!I165+m!I165+INDEX(Vt!H:H, MATCH(($A165+INDEX($D165*($24:$24-$35:$35), MATCH(I$50,$17:$17, 0))),Vt!$A:$A,0)+INDEX($B165+$D165*$24:$24, MATCH(I$50,$17:$17, 0))*2)))))","v":0},{"$f":"IF(($A165+INDEX($D165*($24:$24-$35:$35), MATCH(J$50,$17:$17, 0)))>$C$8,1000000000,(IF(OR(INDEX($22:$22-($A165-$D165*$35:$35), MATCH(J$50,$17:$17, 0))>0, INDEX($D165*$35:$35-$C165, MATCH(J$50,$17:$17, 0))>0),1000000000,(p!J165+n!J165+m!J165+INDEX(Vt!I:I, MATCH(($A165+INDEX($D165*($24:$24-$35:$35), MATCH(J$50,$17:$17, 0))),Vt!$A:$A,0)+INDEX($B165+$D165*$24:$24, MATCH(J$50,$17:$17, 0))*2)))))","v":0},{"$f":"IF(($A165+INDEX($D165*($24:$24-$35:$35), MATCH(K$50,$17:$17, 0)))>$C$8,1000000000,(IF(OR(INDEX($22:$22-($A165-$D165*$35:$35), MATCH(K$50,$17:$17, 0))>0, INDEX($D165*$35:$35-$C165, MATCH(K$50,$17:$17, 0))>0),1000000000,(p!K165+n!K165+m!K165+INDEX(Vt!J:J, MATCH(($A165+INDEX($D165*($24:$24-$35:$35), MATCH(K$50,$17:$17, 0))),Vt!$A:$A,0)+INDEX($B165+$D165*$24:$24, MATCH(K$50,$17:$17, 0))*2)))))","v":0},{"$f":"IF(($A165+INDEX($D165*($24:$24-$35:$35), MATCH(L$50,$17:$17, 0)))>$C$8,1000000000,(IF(OR(INDEX($22:$22-($A165-$D165*$35:$35), MATCH(L$50,$17:$17, 0))>0, INDEX($D165*$35:$35-$C165, MATCH(L$50,$17:$17, 0))>0),1000000000,(p!L165+n!L165+m!L165+INDEX(Vt!K:K, MATCH(($A165+INDEX($D165*($24:$24-$35:$35), MATCH(L$50,$17:$17, 0))),Vt!$A:$A,0)+INDEX($B165+$D165*$24:$24, MATCH(L$50,$17:$17, 0))*2)))))","v":0},{"$f":"IF(($A165+INDEX($D165*($24:$24-$35:$35), MATCH(M$50,$17:$17, 0)))>$C$8,1000000000,(IF(OR(INDEX($22:$22-($A165-$D165*$35:$35), MATCH(M$50,$17:$17, 0))>0, INDEX($D165*$35:$35-$C165, MATCH(M$50,$17:$17, 0))>0),1000000000,(p!M165+n!M165+m!M165+INDEX(Vt!L:L, MATCH(($A165+INDEX($D165*($24:$24-$35:$35), MATCH(M$50,$17:$17, 0))),Vt!$A:$A,0)+INDEX($B165+$D165*$24:$24, MATCH(M$50,$17:$17, 0))*2)))))","v":0},{"$f":"IF(($A165+INDEX($D165*($24:$24-$35:$35), MATCH(N$50,$17:$17, 0)))>$C$8,1000000000,(IF(OR(INDEX($22:$22-($A165-$D165*$35:$35), MATCH(N$50,$17:$17, 0))>0, INDEX($D165*$35:$35-$C165, MATCH(N$50,$17:$17, 0))>0),1000000000,(p!N165+n!N165+m!N165+INDEX(Vt!M:M, MATCH(($A165+INDEX($D165*($24:$24-$35:$35), MATCH(N$50,$17:$17, 0))),Vt!$A:$A,0)+INDEX($B165+$D165*$24:$24, MATCH(N$50,$17:$17, 0))*2)))))","v":0},{"$f":"IF(($A165+INDEX($D165*($24:$24-$35:$35), MATCH(O$50,$17:$17, 0)))>$C$8,1000000000,(IF(OR(INDEX($22:$22-($A165-$D165*$35:$35), MATCH(O$50,$17:$17, 0))>0, INDEX($D165*$35:$35-$C165, MATCH(O$50,$17:$17, 0))>0),1000000000,(p!O165+n!O165+m!O165+INDEX(Vt!N:N, MATCH(($A165+INDEX($D165*($24:$24-$35:$35), MATCH(O$50,$17:$17, 0))),Vt!$A:$A,0)+INDEX($B165+$D165*$24:$24, MATCH(O$50,$17:$17, 0))*2)))))","v":0}]
[10,2,8,1,0,{"$f":"IF(($A166+INDEX($D166*($24:$24-$35:$35), MATCH(F$50,$17:$17, 0)))>$C$8,1000000000,(IF(OR(INDEX($22:$22-($A166-$D166*$35:$35), MATCH(F$50,$17:$17, 0))>0, INDEX($D166*$35:$35-$C166, MATCH(F$50,$17:$17, 0))>0),1000000000,(p!F166+n!F166+m!F166+INDEX(Vt!E:E, MATCH(($A166+INDEX($D166*($24:$24-$35:$35), MATCH(F$50,$17:$17, 0))),Vt!$A:$A,0)+INDEX($B166+$D166*$24:$24, MATCH(F$50,$17:$17, 0))*2)))))","v":0},{"$f":"IF(($A166+INDEX($D166*($24:$24-$35:$35), MATCH(G$50,$17:$17, 0)))>$C$8,1000000000,(IF(OR(INDEX($22:$22-($A166-$D166*$35:$35), MATCH(G$50,$17:$17, 0))>0, INDEX($D166*$35:$35-$C166, MATCH(G$50,$17:$17, 0))>0),1000000000,(p!G166+n!G166+m!G166+INDEX(Vt!F:F, MATCH(($A166+INDEX($D166*($24:$24-$35:$35), MATCH(G$50,$17:$17, 0))),Vt!$A:$A,0)+INDEX($B166+$D166*$24:$24, MATCH(G$50,$17:$17, 0))*2)))))","v":0},{"$f":"IF(($A166+INDEX($D166*($24:$24-$35:$35), MATCH(H$50,$17:$17, 0)))>$C$8,1000000000,(IF(OR(INDEX($22:$22-($A166-$D166*$35:$35), MATCH(H$50,$17:$17, 0))>0, INDEX($D166*$35:$35-$C166, MATCH(H$50,$17:$17, 0))>0),1000000000,(p!H166+n!H166+m!H166+INDEX(Vt!G:G, MATCH(($A166+INDEX($D166*($24:$24-$35:$35), MATCH(H$50,$17:$17, 0))),Vt!$A:$A,0)+INDEX($B166+$D166*$24:$24, MATCH(H$50,$17:$17, 0))*2)))))","v":0},{"$f":"IF(($A166+INDEX($D166*($24:$24-$35:$35), MATCH(I$50,$17:$17, 0)))>$C$8,1000000000,(IF(OR(INDEX($22:$22-($A166-$D166*$35:$35), MATCH(I$50,$17:$17, 0))>0, INDEX($D166*$35:$35-$C166, MATCH(I$50,$17:$17, 0))>0),1000000000,(p!I166+n!I166+m!I166+INDEX(Vt!H:H, MATCH(($A166+INDEX($D166*($24:$24-$35:$35), MATCH(I$50,$17:$17, 0))),Vt!$A:$A,0)+INDEX($B166+$D166*$24:$24, MATCH(I$50,$17:$17, 0))*2)))))","v":0},{"$f":"IF(($A166+INDEX($D166*($24:$24-$35:$35), MATCH(J$50,$17:$17, 0)))>$C$8,1000000000,(IF(OR(INDEX($22:$22-($A166-$D166*$35:$35), MATCH(J$50,$17:$17, 0))>0, INDEX($D166*$35:$35-$C166, MATCH(J$50,$17:$17, 0))>0),1000000000,(p!J166+n!J166+m!J166+INDEX(Vt!I:I, MATCH(($A166+INDEX($D166*($24:$24-$35:$35), MATCH(J$50,$17:$17, 0))),Vt!$A:$A,0)+INDEX($B166+$D166*$24:$24, MATCH(J$50,$17:$17, 0))*2)))))","v":0},{"$f":"IF(($A166+INDEX($D166*($24:$24-$35:$35), MATCH(K$50,$17:$17, 0)))>$C$8,1000000000,(IF(OR(INDEX($22:$22-($A166-$D166*$35:$35), MATCH(K$50,$17:$17, 0))>0, INDEX($D166*$35:$35-$C166, MATCH(K$50,$17:$17, 0))>0),1000000000,(p!K166+n!K166+m!K166+INDEX(Vt!J:J, MATCH(($A166+INDEX($D166*($24:$24-$35:$35), MATCH(K$50,$17:$17, 0))),Vt!$A:$A,0)+INDEX($B166+$D166*$24:$24, MATCH(K$50,$17:$17, 0))*2)))))","v":0},{"$f":"IF(($A166+INDEX($D166*($24:$24-$35:$35), MATCH(L$50,$17:$17, 0)))>$C$8,1000000000,(IF(OR(INDEX($22:$22-($A166-$D166*$35:$35), MATCH(L$50,$17:$17, 0))>0, INDEX($D166*$35:$35-$C166, MATCH(L$50,$17:$17, 0))>0),1000000000,(p!L166+n!L166+m!L166+INDEX(Vt!K:K, MATCH(($A166+INDEX($D166*($24:$24-$35:$35), MATCH(L$50,$17:$17, 0))),Vt!$A:$A,0)+INDEX($B166+$D166*$24:$24, MATCH(L$50,$17:$17, 0))*2)))))","v":0},{"$f":"IF(($A166+INDEX($D166*($24:$24-$35:$35), MATCH(M$50,$17:$17, 0)))>$C$8,1000000000,(IF(OR(INDEX($22:$22-($A166-$D166*$35:$35), MATCH(M$50,$17:$17, 0))>0, INDEX($D166*$35:$35-$C166, MATCH(M$50,$17:$17, 0))>0),1000000000,(p!M166+n!M166+m!M166+INDEX(Vt!L:L, MATCH(($A166+INDEX($D166*($24:$24-$35:$35), MATCH(M$50,$17:$17, 0))),Vt!$A:$A,0)+INDEX($B166+$D166*$24:$24, MATCH(M$50,$17:$17, 0))*2)))))","v":0},{"$f":"IF(($A166+INDEX($D166*($24:$24-$35:$35), MATCH(N$50,$17:$17, 0)))>$C$8,1000000000,(IF(OR(INDEX($22:$22-($A166-$D166*$35:$35), MATCH(N$50,$17:$17, 0))>0, INDEX($D166*$35:$35-$C166, MATCH(N$50,$17:$17, 0))>0),1000000000,(p!N166+n!N166+m!N166+INDEX(Vt!M:M, MATCH(($A166+INDEX($D166*($24:$24-$35:$35), MATCH(N$50,$17:$17, 0))),Vt!$A:$A,0)+INDEX($B166+$D166*$24:$24, MATCH(N$50,$17:$17, 0))*2)))))","v":0},{"$f":"IF(($A166+INDEX($D166*($24:$24-$35:$35), MATCH(O$50,$17:$17, 0)))>$C$8,1000000000,(IF(OR(INDEX($22:$22-($A166-$D166*$35:$35), MATCH(O$50,$17:$17, 0))>0, INDEX($D166*$35:$35-$C166, MATCH(O$50,$17:$17, 0))>0),1000000000,(p!O166+n!O166+m!O166+INDEX(Vt!N:N, MATCH(($A166+INDEX($D166*($24:$24-$35:$35), MATCH(O$50,$17:$17, 0))),Vt!$A:$A,0)+INDEX($B166+$D166*$24:$24, MATCH(O$50,$17:$17, 0))*2)))))","v":0}]
[10,3,7,0,0,{"$f":"IF(($A167+INDEX($D167*($24:$24-$35:$35), MATCH(F$50,$17:$17, 0)))>$C$8,1000000000,(IF(OR(INDEX($22:$22-($A167-$D167*$35:$35), MATCH(F$50,$17:$17, 0))>0, INDEX($D167*$35:$35-$C167, MATCH(F$50,$17:$17, 0))>0),1000000000,(p!F167+n!F167+m!F167+INDEX(Vt!E:E, MATCH(($A167+INDEX($D167*($24:$24-$35:$35), MATCH(F$50,$17:$17, 0))),Vt!$A:$A,0)+INDEX($B167+$D167*$24:$24, MATCH(F$50,$17:$17, 0))*2)))))","v":0},{"$f":"IF(($A167+INDEX($D167*($24:$24-$35:$35), MATCH(G$50,$17:$17, 0)))>$C$8,1000000000,(IF(OR(INDEX($22:$22-($A167-$D167*$35:$35), MATCH(G$50,$17:$17, 0))>0, INDEX($D167*$35:$35-$C167, MATCH(G$50,$17:$17, 0))>0),1000000000,(p!G167+n!G167+m!G167+INDEX(Vt!F:F, MATCH(($A167+INDEX($D167*($24:$24-$35:$35), MATCH(G$50,$17:$17, 0))),Vt!$A:$A,0)+INDEX($B167+$D167*$24:$24, MATCH(G$50,$17:$17, 0))*2)))))","v":0},{"$f":"IF(($A167+INDEX($D167*($24:$24-$35:$35), MATCH(H$50,$17:$17, 0)))>$C$8,1000000000,(IF(OR(INDEX($22:$22-($A167-$D167*$35:$35), MATCH(H$50,$17:$17, 0))>0, INDEX($D167*$35:$35-$C167, MATCH(H$50,$17:$17, 0))>0),1000000000,(p!H167+n!H167+m!H167+INDEX(Vt!G:G, MATCH(($A167+INDEX($D167*($24:$24-$35:$35), MATCH(H$50,$17:$17, 0))),Vt!$A:$A,0)+INDEX($B167+$D167*$24:$24, MATCH(H$50,$17:$17, 0))*2)))))","v":0},{"$f":"IF(($A167+INDEX($D167*($24:$24-$35:$35), MATCH(I$50,$17:$17, 0)))>$C$8,1000000000,(IF(OR(INDEX($22:$22-($A167-$D167*$35:$35), MATCH(I$50,$17:$17, 0))>0, INDEX($D167*$35:$35-$C167, MATCH(I$50,$17:$17, 0))>0),1000000000,(p!I167+n!I167+m!I167+INDEX(Vt!H:H, MATCH(($A167+INDEX($D167*($24:$24-$35:$35), MATCH(I$50,$17:$17, 0))),Vt!$A:$A,0)+INDEX($B167+$D167*$24:$24, MATCH(I$50,$17:$17, 0))*2)))))","v":0},{"$f":"IF(($A167+INDEX($D167*($24:$24-$35:$35), MATCH(J$50,$17:$17, 0)))>$C$8,1000000000,(IF(OR(INDEX($22:$22-($A167-$D167*$35:$35), MATCH(J$50,$17:$17, 0))>0, INDEX($D167*$35:$35-$C167, MATCH(J$50,$17:$17, 0))>0),1000000000,(p!J167+n!J167+m!J167+INDEX(Vt!I:I, MATCH(($A167+INDEX($D167*($24:$24-$35:$35), MATCH(J$50,$17:$17, 0))),Vt!$A:$A,0)+INDEX($B167+$D167*$24:$24, MATCH(J$50,$17:$17, 0))*2)))))","v":0},{"$f":"IF(($A167+INDEX($D167*($24:$24-$35:$35), MATCH(K$50,$17:$17, 0)))>$C$8,1000000000,(IF(OR(INDEX($22:$22-($A167-$D167*$35:$35), MATCH(K$50,$17:$17, 0))>0, INDEX($D167*$35:$35-$C167, MATCH(K$50,$17:$17, 0))>0),1000000000,(p!K167+n!K167+m!K167+INDEX(Vt!J:J, MATCH(($A167+INDEX($D167*($24:$24-$35:$35), MATCH(K$50,$17:$17, 0))),Vt!$A:$A,0)+INDEX($B167+$D167*$24:$24, MATCH(K$50,$17:$17, 0))*2)))))","v":0},{"$f":"IF(($A167+INDEX($D167*($24:$24-$35:$35), MATCH(L$50,$17:$17, 0)))>$C$8,1000000000,(IF(OR(INDEX($22:$22-($A167-$D167*$35:$35), MATCH(L$50,$17:$17, 0))>0, INDEX($D167*$35:$35-$C167, MATCH(L$50,$17:$17, 0))>0),1000000000,(p!L167+n!L167+m!L167+INDEX(Vt!K:K, MATCH(($A167+INDEX($D167*($24:$24-$35:$35), MATCH(L$50,$17:$17, 0))),Vt!$A:$A,0)+INDEX($B167+$D167*$24:$24, MATCH(L$50,$17:$17, 0))*2)))))","v":0},{"$f":"IF(($A167+INDEX($D167*($24:$24-$35:$35), MATCH(M$50,$17:$17, 0)))>$C$8,1000000000,(IF(OR(INDEX($22:$22-($A167-$D167*$35:$35), MATCH(M$50,$17:$17, 0))>0, INDEX($D167*$35:$35-$C167, MATCH(M$50,$17:$17, 0))>0),1000000000,(p!M167+n!M167+m!M167+INDEX(Vt!L:L, MATCH(($A167+INDEX($D167*($24:$24-$35:$35), MATCH(M$50,$17:$17, 0))),Vt!$A:$A,0)+INDEX($B167+$D167*$24:$24, MATCH(M$50,$17:$17, 0))*2)))))","v":0},{"$f":"IF(($A167+INDEX($D167*($24:$24-$35:$35), MATCH(N$50,$17:$17, 0)))>$C$8,1000000000,(IF(OR(INDEX($22:$22-($A167-$D167*$35:$35), MATCH(N$50,$17:$17, 0))>0, INDEX($D167*$35:$35-$C167, MATCH(N$50,$17:$17, 0))>0),1000000000,(p!N167+n!N167+m!N167+INDEX(Vt!M:M, MATCH(($A167+INDEX($D167*($24:$24-$35:$35), MATCH(N$50,$17:$17, 0))),Vt!$A:$A,0)+INDEX($B167+$D167*$24:$24, MATCH(N$50,$17:$17, 0))*2)))))","v":0},{"$f":"IF(($A167+INDEX($D167*($24:$24-$35:$35), MATCH(O$50,$17:$17, 0)))>$C$8,1000000000,(IF(OR(INDEX($22:$22-($A167-$D167*$35:$35), MATCH(O$50,$17:$17, 0))>0, INDEX($D167*$35:$35-$C167, MATCH(O$50,$17:$17, 0))>0),1000000000,(p!O167+n!O167+m!O167+INDEX(Vt!N:N, MATCH(($A167+INDEX($D167*($24:$24-$35:$35), MATCH(O$50,$17:$17, 0))),Vt!$A:$A,0)+INDEX($B167+$D167*$24:$24, MATCH(O$50,$17:$17, 0))*2)))))","v":0}]
[10,3,7,1,0,{"$f":"IF(($A168+INDEX($D168*($24:$24-$35:$35), MATCH(F$50,$17:$17, 0)))>$C$8,1000000000,(IF(OR(INDEX($22:$22-($A168-$D168*$35:$35), MATCH(F$50,$17:$17, 0))>0, INDEX($D168*$35:$35-$C168, MATCH(F$50,$17:$17, 0))>0),1000000000,(p!F168+n!F168+m!F168+INDEX(Vt!E:E, MATCH(($A168+INDEX($D168*($24:$24-$35:$35), MATCH(F$50,$17:$17, 0))),Vt!$A:$A,0)+INDEX($B168+$D168*$24:$24, MATCH(F$50,$17:$17, 0))*2)))))","v":0},{"$f":"IF(($A168+INDEX($D168*($24:$24-$35:$35), MATCH(G$50,$17:$17, 0)))>$C$8,1000000000,(IF(OR(INDEX($22:$22-($A168-$D168*$35:$35), MATCH(G$50,$17:$17, 0))>0, INDEX($D168*$35:$35-$C168, MATCH(G$50,$17:$17, 0))>0),1000000000,(p!G168+n!G168+m!G168+INDEX(Vt!F:F, MATCH(($A168+INDEX($D168*($24:$24-$35:$35), MATCH(G$50,$17:$17, 0))),Vt!$A:$A,0)+INDEX($B168+$D168*$24:$24, MATCH(G$50,$17:$17, 0))*2)))))","v":0},{"$f":"IF(($A168+INDEX($D168*($24:$24-$35:$35), MATCH(H$50,$17:$17, 0)))>$C$8,1000000000,(IF(OR(INDEX($22:$22-($A168-$D168*$35:$35), MATCH(H$50,$17:$17, 0))>0, INDEX($D168*$35:$35-$C168, MATCH(H$50,$17:$17, 0))>0),1000000000,(p!H168+n!H168+m!H168+INDEX(Vt!G:G, MATCH(($A168+INDEX($D168*($24:$24-$35:$35), MATCH(H$50,$17:$17, 0))),Vt!$A:$A,0)+INDEX($B168+$D168*$24:$24, MATCH(H$50,$17:$17, 0))*2)))))","v":0},{"$f":"IF(($A168+INDEX($D168*($24:$24-$35:$35), MATCH(I$50,$17:$17, 0)))>$C$8,1000000000,(IF(OR(INDEX($22:$22-($A168-$D168*$35:$35), MATCH(I$50,$17:$17, 0))>0, INDEX($D168*$35:$35-$C168, MATCH(I$50,$17:$17, 0))>0),1000000000,(p!I168+n!I168+m!I168+INDEX(Vt!H:H, MATCH(($A168+INDEX($D168*($24:$24-$35:$35), MATCH(I$50,$17:$17, 0))),Vt!$A:$A,0)+INDEX($B168+$D168*$24:$24, MATCH(I$50,$17:$17, 0))*2)))))","v":0},{"$f":"IF(($A168+INDEX($D168*($24:$24-$35:$35), MATCH(J$50,$17:$17, 0)))>$C$8,1000000000,(IF(OR(INDEX($22:$22-($A168-$D168*$35:$35), MATCH(J$50,$17:$17, 0))>0, INDEX($D168*$35:$35-$C168, MATCH(J$50,$17:$17, 0))>0),1000000000,(p!J168+n!J168+m!J168+INDEX(Vt!I:I, MATCH(($A168+INDEX($D168*($24:$24-$35:$35), MATCH(J$50,$17:$17, 0))),Vt!$A:$A,0)+INDEX($B168+$D168*$24:$24, MATCH(J$50,$17:$17, 0))*2)))))","v":0},{"$f":"IF(($A168+INDEX($D168*($24:$24-$35:$35), MATCH(K$50,$17:$17, 0)))>$C$8,1000000000,(IF(OR(INDEX($22:$22-($A168-$D168*$35:$35), MATCH(K$50,$17:$17, 0))>0, INDEX($D168*$35:$35-$C168, MATCH(K$50,$17:$17, 0))>0),1000000000,(p!K168+n!K168+m!K168+INDEX(Vt!J:J, MATCH(($A168+INDEX($D168*($24:$24-$35:$35), MATCH(K$50,$17:$17, 0))),Vt!$A:$A,0)+INDEX($B168+$D168*$24:$24, MATCH(K$50,$17:$17, 0))*2)))))","v":0},{"$f":"IF(($A168+INDEX($D168*($24:$24-$35:$35), MATCH(L$50,$17:$17, 0)))>$C$8,1000000000,(IF(OR(INDEX($22:$22-($A168-$D168*$35:$35), MATCH(L$50,$17:$17, 0))>0, INDEX($D168*$35:$35-$C168, MATCH(L$50,$17:$17, 0))>0),1000000000,(p!L168+n!L168+m!L168+INDEX(Vt!K:K, MATCH(($A168+INDEX($D168*($24:$24-$35:$35), MATCH(L$50,$17:$17, 0))),Vt!$A:$A,0)+INDEX($B168+$D168*$24:$24, MATCH(L$50,$17:$17, 0))*2)))))","v":0},{"$f":"IF(($A168+INDEX($D168*($24:$24-$35:$35), MATCH(M$50,$17:$17, 0)))>$C$8,1000000000,(IF(OR(INDEX($22:$22-($A168-$D168*$35:$35), MATCH(M$50,$17:$17, 0))>0, INDEX($D168*$35:$35-$C168, MATCH(M$50,$17:$17, 0))>0),1000000000,(p!M168+n!M168+m!M168+INDEX(Vt!L:L, MATCH(($A168+INDEX($D168*($24:$24-$35:$35), MATCH(M$50,$17:$17, 0))),Vt!$A:$A,0)+INDEX($B168+$D168*$24:$24, MATCH(M$50,$17:$17, 0))*2)))))","v":0},{"$f":"IF(($A168+INDEX($D168*($24:$24-$35:$35), MATCH(N$50,$17:$17, 0)))>$C$8,1000000000,(IF(OR(INDEX($22:$22-($A168-$D168*$35:$35), MATCH(N$50,$17:$17, 0))>0, INDEX($D168*$35:$35-$C168, MATCH(N$50,$17:$17, 0))>0),1000000000,(p!N168+n!N168+m!N168+INDEX(Vt!M:M, MATCH(($A168+INDEX($D168*($24:$24-$35:$35), MATCH(N$50,$17:$17, 0))),Vt!$A:$A,0)+INDEX($B168+$D168*$24:$24, MATCH(N$50,$17:$17, 0))*2)))))","v":0},{"$f":"IF(($A168+INDEX($D168*($24:$24-$35:$35), MATCH(O$50,$17:$17, 0)))>$C$8,1000000000,(IF(OR(INDEX($22:$22-($A168-$D168*$35:$35), MATCH(O$50,$17:$17, 0))>0, INDEX($D168*$35:$35-$C168, MATCH(O$50,$17:$17, 0))>0),1000000000,(p!O168+n!O168+m!O168+INDEX(Vt!N:N, MATCH(($A168+INDEX($D168*($24:$24-$35:$35), MATCH(O$50,$17:$17, 0))),Vt!$A:$A,0)+INDEX($B168+$D168*$24:$24, MATCH(O$50,$17:$17, 0))*2)))))","v":0}]
[10,4,6,0,0,{"$f":"IF(($A169+INDEX($D169*($24:$24-$35:$35), MATCH(F$50,$17:$17, 0)))>$C$8,1000000000,(IF(OR(INDEX($22:$22-($A169-$D169*$35:$35), MATCH(F$50,$17:$17, 0))>0, INDEX($D169*$35:$35-$C169, MATCH(F$50,$17:$17, 0))>0),1000000000,(p!F169+n!F169+m!F169+INDEX(Vt!E:E, MATCH(($A169+INDEX($D169*($24:$24-$35:$35), MATCH(F$50,$17:$17, 0))),Vt!$A:$A,0)+INDEX($B169+$D169*$24:$24, MATCH(F$50,$17:$17, 0))*2)))))","v":0},{"$f":"IF(($A169+INDEX($D169*($24:$24-$35:$35), MATCH(G$50,$17:$17, 0)))>$C$8,1000000000,(IF(OR(INDEX($22:$22-($A169-$D169*$35:$35), MATCH(G$50,$17:$17, 0))>0, INDEX($D169*$35:$35-$C169, MATCH(G$50,$17:$17, 0))>0),1000000000,(p!G169+n!G169+m!G169+INDEX(Vt!F:F, MATCH(($A169+INDEX($D169*($24:$24-$35:$35), MATCH(G$50,$17:$17, 0))),Vt!$A:$A,0)+INDEX($B169+$D169*$24:$24, MATCH(G$50,$17:$17, 0))*2)))))","v":0},{"$f":"IF(($A169+INDEX($D169*($24:$24-$35:$35), MATCH(H$50,$17:$17, 0)))>$C$8,1000000000,(IF(OR(INDEX($22:$22-($A169-$D169*$35:$35), MATCH(H$50,$17:$17, 0))>0, INDEX($D169*$35:$35-$C169, MATCH(H$50,$17:$17, 0))>0),1000000000,(p!H169+n!H169+m!H169+INDEX(Vt!G:G, MATCH(($A169+INDEX($D169*($24:$24-$35:$35), MATCH(H$50,$17:$17, 0))),Vt!$A:$A,0)+INDEX($B169+$D169*$24:$24, MATCH(H$50,$17:$17, 0))*2)))))","v":0},{"$f":"IF(($A169+INDEX($D169*($24:$24-$35:$35), MATCH(I$50,$17:$17, 0)))>$C$8,1000000000,(IF(OR(INDEX($22:$22-($A169-$D169*$35:$35), MATCH(I$50,$17:$17, 0))>0, INDEX($D169*$35:$35-$C169, MATCH(I$50,$17:$17, 0))>0),1000000000,(p!I169+n!I169+m!I169+INDEX(Vt!H:H, MATCH(($A169+INDEX($D169*($24:$24-$35:$35), MATCH(I$50,$17:$17, 0))),Vt!$A:$A,0)+INDEX($B169+$D169*$24:$24, MATCH(I$50,$17:$17, 0))*2)))))","v":0},{"$f":"IF(($A169+INDEX($D169*($24:$24-$35:$35), MATCH(J$50,$17:$17, 0)))>$C$8,1000000000,(IF(OR(INDEX($22:$22-($A169-$D169*$35:$35), MATCH(J$50,$17:$17, 0))>0, INDEX($D169*$35:$35-$C169, MATCH(J$50,$17:$17, 0))>0),1000000000,(p!J169+n!J169+m!J169+INDEX(Vt!I:I, MATCH(($A169+INDEX($D169*($24:$24-$35:$35), MATCH(J$50,$17:$17, 0))),Vt!$A:$A,0)+INDEX($B169+$D169*$24:$24, MATCH(J$50,$17:$17, 0))*2)))))","v":0},{"$f":"IF(($A169+INDEX($D169*($24:$24-$35:$35), MATCH(K$50,$17:$17, 0)))>$C$8,1000000000,(IF(OR(INDEX($22:$22-($A169-$D169*$35:$35), MATCH(K$50,$17:$17, 0))>0, INDEX($D169*$35:$35-$C169, MATCH(K$50,$17:$17, 0))>0),1000000000,(p!K169+n!K169+m!K169+INDEX(Vt!J:J, MATCH(($A169+INDEX($D169*($24:$24-$35:$35), MATCH(K$50,$17:$17, 0))),Vt!$A:$A,0)+INDEX($B169+$D169*$24:$24, MATCH(K$50,$17:$17, 0))*2)))))","v":0},{"$f":"IF(($A169+INDEX($D169*($24:$24-$35:$35), MATCH(L$50,$17:$17, 0)))>$C$8,1000000000,(IF(OR(INDEX($22:$22-($A169-$D169*$35:$35), MATCH(L$50,$17:$17, 0))>0, INDEX($D169*$35:$35-$C169, MATCH(L$50,$17:$17, 0))>0),1000000000,(p!L169+n!L169+m!L169+INDEX(Vt!K:K, MATCH(($A169+INDEX($D169*($24:$24-$35:$35), MATCH(L$50,$17:$17, 0))),Vt!$A:$A,0)+INDEX($B169+$D169*$24:$24, MATCH(L$50,$17:$17, 0))*2)))))","v":0},{"$f":"IF(($A169+INDEX($D169*($24:$24-$35:$35), MATCH(M$50,$17:$17, 0)))>$C$8,1000000000,(IF(OR(INDEX($22:$22-($A169-$D169*$35:$35), MATCH(M$50,$17:$17, 0))>0, INDEX($D169*$35:$35-$C169, MATCH(M$50,$17:$17, 0))>0),1000000000,(p!M169+n!M169+m!M169+INDEX(Vt!L:L, MATCH(($A169+INDEX($D169*($24:$24-$35:$35), MATCH(M$50,$17:$17, 0))),Vt!$A:$A,0)+INDEX($B169+$D169*$24:$24, MATCH(M$50,$17:$17, 0))*2)))))","v":0},{"$f":"IF(($A169+INDEX($D169*($24:$24-$35:$35), MATCH(N$50,$17:$17, 0)))>$C$8,1000000000,(IF(OR(INDEX($22:$22-($A169-$D169*$35:$35), MATCH(N$50,$17:$17, 0))>0, INDEX($D169*$35:$35-$C169, MATCH(N$50,$17:$17, 0))>0),1000000000,(p!N169+n!N169+m!N169+INDEX(Vt!M:M, MATCH(($A169+INDEX($D169*($24:$24-$35:$35), MATCH(N$50,$17:$17, 0))),Vt!$A:$A,0)+INDEX($B169+$D169*$24:$24, MATCH(N$50,$17:$17, 0))*2)))))","v":0},{"$f":"IF(($A169+INDEX($D169*($24:$24-$35:$35), MATCH(O$50,$17:$17, 0)))>$C$8,1000000000,(IF(OR(INDEX($22:$22-($A169-$D169*$35:$35), MATCH(O$50,$17:$17, 0))>0, INDEX($D169*$35:$35-$C169, MATCH(O$50,$17:$17, 0))>0),1000000000,(p!O169+n!O169+m!O169+INDEX(Vt!N:N, MATCH(($A169+INDEX($D169*($24:$24-$35:$35), MATCH(O$50,$17:$17, 0))),Vt!$A:$A,0)+INDEX($B169+$D169*$24:$24, MATCH(O$50,$17:$17, 0))*2)))))","v":0}]
[10,4,6,1,0,{"$f":"IF(($A170+INDEX($D170*($24:$24-$35:$35), MATCH(F$50,$17:$17, 0)))>$C$8,1000000000,(IF(OR(INDEX($22:$22-($A170-$D170*$35:$35), MATCH(F$50,$17:$17, 0))>0, INDEX($D170*$35:$35-$C170, MATCH(F$50,$17:$17, 0))>0),1000000000,(p!F170+n!F170+m!F170+INDEX(Vt!E:E, MATCH(($A170+INDEX($D170*($24:$24-$35:$35), MATCH(F$50,$17:$17, 0))),Vt!$A:$A,0)+INDEX($B170+$D170*$24:$24, MATCH(F$50,$17:$17, 0))*2)))))","v":0},{"$f":"IF(($A170+INDEX($D170*($24:$24-$35:$35), MATCH(G$50,$17:$17, 0)))>$C$8,1000000000,(IF(OR(INDEX($22:$22-($A170-$D170*$35:$35), MATCH(G$50,$17:$17, 0))>0, INDEX($D170*$35:$35-$C170, MATCH(G$50,$17:$17, 0))>0),1000000000,(p!G170+n!G170+m!G170+INDEX(Vt!F:F, MATCH(($A170+INDEX($D170*($24:$24-$35:$35), MATCH(G$50,$17:$17, 0))),Vt!$A:$A,0)+INDEX($B170+$D170*$24:$24, MATCH(G$50,$17:$17, 0))*2)))))","v":0},{"$f":"IF(($A170+INDEX($D170*($24:$24-$35:$35), MATCH(H$50,$17:$17, 0)))>$C$8,1000000000,(IF(OR(INDEX($22:$22-($A170-$D170*$35:$35), MATCH(H$50,$17:$17, 0))>0, INDEX($D170*$35:$35-$C170, MATCH(H$50,$17:$17, 0))>0),1000000000,(p!H170+n!H170+m!H170+INDEX(Vt!G:G, MATCH(($A170+INDEX($D170*($24:$24-$35:$35), MATCH(H$50,$17:$17, 0))),Vt!$A:$A,0)+INDEX($B170+$D170*$24:$24, MATCH(H$50,$17:$17, 0))*2)))))","v":0},{"$f":"IF(($A170+INDEX($D170*($24:$24-$35:$35), MATCH(I$50,$17:$17, 0)))>$C$8,1000000000,(IF(OR(INDEX($22:$22-($A170-$D170*$35:$35), MATCH(I$50,$17:$17, 0))>0, INDEX($D170*$35:$35-$C170, MATCH(I$50,$17:$17, 0))>0),1000000000,(p!I170+n!I170+m!I170+INDEX(Vt!H:H, MATCH(($A170+INDEX($D170*($24:$24-$35:$35), MATCH(I$50,$17:$17, 0))),Vt!$A:$A,0)+INDEX($B170+$D170*$24:$24, MATCH(I$50,$17:$17, 0))*2)))))","v":0},{"$f":"IF(($A170+INDEX($D170*($24:$24-$35:$35), MATCH(J$50,$17:$17, 0)))>$C$8,1000000000,(IF(OR(INDEX($22:$22-($A170-$D170*$35:$35), MATCH(J$50,$17:$17, 0))>0, INDEX($D170*$35:$35-$C170, MATCH(J$50,$17:$17, 0))>0),1000000000,(p!J170+n!J170+m!J170+INDEX(Vt!I:I, MATCH(($A170+INDEX($D170*($24:$24-$35:$35), MATCH(J$50,$17:$17, 0))),Vt!$A:$A,0)+INDEX($B170+$D170*$24:$24, MATCH(J$50,$17:$17, 0))*2)))))","v":0},{"$f":"IF(($A170+INDEX($D170*($24:$24-$35:$35), MATCH(K$50,$17:$17, 0)))>$C$8,1000000000,(IF(OR(INDEX($22:$22-($A170-$D170*$35:$35), MATCH(K$50,$17:$17, 0))>0, INDEX($D170*$35:$35-$C170, MATCH(K$50,$17:$17, 0))>0),1000000000,(p!K170+n!K170+m!K170+INDEX(Vt!J:J, MATCH(($A170+INDEX($D170*($24:$24-$35:$35), MATCH(K$50,$17:$17, 0))),Vt!$A:$A,0)+INDEX($B170+$D170*$24:$24, MATCH(K$50,$17:$17, 0))*2)))))","v":0},{"$f":"IF(($A170+INDEX($D170*($24:$24-$35:$35), MATCH(L$50,$17:$17, 0)))>$C$8,1000000000,(IF(OR(INDEX($22:$22-($A170-$D170*$35:$35), MATCH(L$50,$17:$17, 0))>0, INDEX($D170*$35:$35-$C170, MATCH(L$50,$17:$17, 0))>0),1000000000,(p!L170+n!L170+m!L170+INDEX(Vt!K:K, MATCH(($A170+INDEX($D170*($24:$24-$35:$35), MATCH(L$50,$17:$17, 0))),Vt!$A:$A,0)+INDEX($B170+$D170*$24:$24, MATCH(L$50,$17:$17, 0))*2)))))","v":0},{"$f":"IF(($A170+INDEX($D170*($24:$24-$35:$35), MATCH(M$50,$17:$17, 0)))>$C$8,1000000000,(IF(OR(INDEX($22:$22-($A170-$D170*$35:$35), MATCH(M$50,$17:$17, 0))>0, INDEX($D170*$35:$35-$C170, MATCH(M$50,$17:$17, 0))>0),1000000000,(p!M170+n!M170+m!M170+INDEX(Vt!L:L, MATCH(($A170+INDEX($D170*($24:$24-$35:$35), MATCH(M$50,$17:$17, 0))),Vt!$A:$A,0)+INDEX($B170+$D170*$24:$24, MATCH(M$50,$17:$17, 0))*2)))))","v":0},{"$f":"IF(($A170+INDEX($D170*($24:$24-$35:$35), MATCH(N$50,$17:$17, 0)))>$C$8,1000000000,(IF(OR(INDEX($22:$22-($A170-$D170*$35:$35), MATCH(N$50,$17:$17, 0))>0, INDEX($D170*$35:$35-$C170, MATCH(N$50,$17:$17, 0))>0),1000000000,(p!N170+n!N170+m!N170+INDEX(Vt!M:M, MATCH(($A170+INDEX($D170*($24:$24-$35:$35), MATCH(N$50,$17:$17, 0))),Vt!$A:$A,0)+INDEX($B170+$D170*$24:$24, MATCH(N$50,$17:$17, 0))*2)))))","v":0},{"$f":"IF(($A170+INDEX($D170*($24:$24-$35:$35), MATCH(O$50,$17:$17, 0)))>$C$8,1000000000,(IF(OR(INDEX($22:$22-($A170-$D170*$35:$35), MATCH(O$50,$17:$17, 0))>0, INDEX($D170*$35:$35-$C170, MATCH(O$50,$17:$17, 0))>0),1000000000,(p!O170+n!O170+m!O170+INDEX(Vt!N:N, MATCH(($A170+INDEX($D170*($24:$24-$35:$35), MATCH(O$50,$17:$17, 0))),Vt!$A:$A,0)+INDEX($B170+$D170*$24:$24, MATCH(O$50,$17:$17, 0))*2)))))","v":0}]
[10,5,5,0,0,{"$f":"IF(($A171+INDEX($D171*($24:$24-$35:$35), MATCH(F$50,$17:$17, 0)))>$C$8,1000000000,(IF(OR(INDEX($22:$22-($A171-$D171*$35:$35), MATCH(F$50,$17:$17, 0))>0, INDEX($D171*$35:$35-$C171, MATCH(F$50,$17:$17, 0))>0),1000000000,(p!F171+n!F171+m!F171+INDEX(Vt!E:E, MATCH(($A171+INDEX($D171*($24:$24-$35:$35), MATCH(F$50,$17:$17, 0))),Vt!$A:$A,0)+INDEX($B171+$D171*$24:$24, MATCH(F$50,$17:$17, 0))*2)))))","v":0},{"$f":"IF(($A171+INDEX($D171*($24:$24-$35:$35), MATCH(G$50,$17:$17, 0)))>$C$8,1000000000,(IF(OR(INDEX($22:$22-($A171-$D171*$35:$35), MATCH(G$50,$17:$17, 0))>0, INDEX($D171*$35:$35-$C171, MATCH(G$50,$17:$17, 0))>0),1000000000,(p!G171+n!G171+m!G171+INDEX(Vt!F:F, MATCH(($A171+INDEX($D171*($24:$24-$35:$35), MATCH(G$50,$17:$17, 0))),Vt!$A:$A,0)+INDEX($B171+$D171*$24:$24, MATCH(G$50,$17:$17, 0))*2)))))","v":0},{"$f":"IF(($A171+INDEX($D171*($24:$24-$35:$35), MATCH(H$50,$17:$17, 0)))>$C$8,1000000000,(IF(OR(INDEX($22:$22-($A171-$D171*$35:$35), MATCH(H$50,$17:$17, 0))>0, INDEX($D171*$35:$35-$C171, MATCH(H$50,$17:$17, 0))>0),1000000000,(p!H171+n!H171+m!H171+INDEX(Vt!G:G, MATCH(($A171+INDEX($D171*($24:$24-$35:$35), MATCH(H$50,$17:$17, 0))),Vt!$A:$A,0)+INDEX($B171+$D171*$24:$24, MATCH(H$50,$17:$17, 0))*2)))))","v":0},{"$f":"IF(($A171+INDEX($D171*($24:$24-$35:$35), MATCH(I$50,$17:$17, 0)))>$C$8,1000000000,(IF(OR(INDEX($22:$22-($A171-$D171*$35:$35), MATCH(I$50,$17:$17, 0))>0, INDEX($D171*$35:$35-$C171, MATCH(I$50,$17:$17, 0))>0),1000000000,(p!I171+n!I171+m!I171+INDEX(Vt!H:H, MATCH(($A171+INDEX($D171*($24:$24-$35:$35), MATCH(I$50,$17:$17, 0))),Vt!$A:$A,0)+INDEX($B171+$D171*$24:$24, MATCH(I$50,$17:$17, 0))*2)))))","v":0},{"$f":"IF(($A171+INDEX($D171*($24:$24-$35:$35), MATCH(J$50,$17:$17, 0)))>$C$8,1000000000,(IF(OR(INDEX($22:$22-($A171-$D171*$35:$35), MATCH(J$50,$17:$17, 0))>0, INDEX($D171*$35:$35-$C171, MATCH(J$50,$17:$17, 0))>0),1000000000,(p!J171+n!J171+m!J171+INDEX(Vt!I:I, MATCH(($A171+INDEX($D171*($24:$24-$35:$35), MATCH(J$50,$17:$17, 0))),Vt!$A:$A,0)+INDEX($B171+$D171*$24:$24, MATCH(J$50,$17:$17, 0))*2)))))","v":0},{"$f":"IF(($A171+INDEX($D171*($24:$24-$35:$35), MATCH(K$50,$17:$17, 0)))>$C$8,1000000000,(IF(OR(INDEX($22:$22-($A171-$D171*$35:$35), MATCH(K$50,$17:$17, 0))>0, INDEX($D171*$35:$35-$C171, MATCH(K$50,$17:$17, 0))>0),1000000000,(p!K171+n!K171+m!K171+INDEX(Vt!J:J, MATCH(($A171+INDEX($D171*($24:$24-$35:$35), MATCH(K$50,$17:$17, 0))),Vt!$A:$A,0)+INDEX($B171+$D171*$24:$24, MATCH(K$50,$17:$17, 0))*2)))))","v":0},{"$f":"IF(($A171+INDEX($D171*($24:$24-$35:$35), MATCH(L$50,$17:$17, 0)))>$C$8,1000000000,(IF(OR(INDEX($22:$22-($A171-$D171*$35:$35), MATCH(L$50,$17:$17, 0))>0, INDEX($D171*$35:$35-$C171, MATCH(L$50,$17:$17, 0))>0),1000000000,(p!L171+n!L171+m!L171+INDEX(Vt!K:K, MATCH(($A171+INDEX($D171*($24:$24-$35:$35), MATCH(L$50,$17:$17, 0))),Vt!$A:$A,0)+INDEX($B171+$D171*$24:$24, MATCH(L$50,$17:$17, 0))*2)))))","v":0},{"$f":"IF(($A171+INDEX($D171*($24:$24-$35:$35), MATCH(M$50,$17:$17, 0)))>$C$8,1000000000,(IF(OR(INDEX($22:$22-($A171-$D171*$35:$35), MATCH(M$50,$17:$17, 0))>0, INDEX($D171*$35:$35-$C171, MATCH(M$50,$17:$17, 0))>0),1000000000,(p!M171+n!M171+m!M171+INDEX(Vt!L:L, MATCH(($A171+INDEX($D171*($24:$24-$35:$35), MATCH(M$50,$17:$17, 0))),Vt!$A:$A,0)+INDEX($B171+$D171*$24:$24, MATCH(M$50,$17:$17, 0))*2)))))","v":0},{"$f":"IF(($A171+INDEX($D171*($24:$24-$35:$35), MATCH(N$50,$17:$17, 0)))>$C$8,1000000000,(IF(OR(INDEX($22:$22-($A171-$D171*$35:$35), MATCH(N$50,$17:$17, 0))>0, INDEX($D171*$35:$35-$C171, MATCH(N$50,$17:$17, 0))>0),1000000000,(p!N171+n!N171+m!N171+INDEX(Vt!M:M, MATCH(($A171+INDEX($D171*($24:$24-$35:$35), MATCH(N$50,$17:$17, 0))),Vt!$A:$A,0)+INDEX($B171+$D171*$24:$24, MATCH(N$50,$17:$17, 0))*2)))))","v":0},{"$f":"IF(($A171+INDEX($D171*($24:$24-$35:$35), MATCH(O$50,$17:$17, 0)))>$C$8,1000000000,(IF(OR(INDEX($22:$22-($A171-$D171*$35:$35), MATCH(O$50,$17:$17, 0))>0, INDEX($D171*$35:$35-$C171, MATCH(O$50,$17:$17, 0))>0),1000000000,(p!O171+n!O171+m!O171+INDEX(Vt!N:N, MATCH(($A171+INDEX($D171*($24:$24-$35:$35), MATCH(O$50,$17:$17, 0))),Vt!$A:$A,0)+INDEX($B171+$D171*$24:$24, MATCH(O$50,$17:$17, 0))*2)))))","v":0}]
[10,5,5,1,0,{"$f":"IF(($A172+INDEX($D172*($24:$24-$35:$35), MATCH(F$50,$17:$17, 0)))>$C$8,1000000000,(IF(OR(INDEX($22:$22-($A172-$D172*$35:$35), MATCH(F$50,$17:$17, 0))>0, INDEX($D172*$35:$35-$C172, MATCH(F$50,$17:$17, 0))>0),1000000000,(p!F172+n!F172+m!F172+INDEX(Vt!E:E, MATCH(($A172+INDEX($D172*($24:$24-$35:$35), MATCH(F$50,$17:$17, 0))),Vt!$A:$A,0)+INDEX($B172+$D172*$24:$24, MATCH(F$50,$17:$17, 0))*2)))))","v":0},{"$f":"IF(($A172+INDEX($D172*($24:$24-$35:$35), MATCH(G$50,$17:$17, 0)))>$C$8,1000000000,(IF(OR(INDEX($22:$22-($A172-$D172*$35:$35), MATCH(G$50,$17:$17, 0))>0, INDEX($D172*$35:$35-$C172, MATCH(G$50,$17:$17, 0))>0),1000000000,(p!G172+n!G172+m!G172+INDEX(Vt!F:F, MATCH(($A172+INDEX($D172*($24:$24-$35:$35), MATCH(G$50,$17:$17, 0))),Vt!$A:$A,0)+INDEX($B172+$D172*$24:$24, MATCH(G$50,$17:$17, 0))*2)))))","v":0},{"$f":"IF(($A172+INDEX($D172*($24:$24-$35:$35), MATCH(H$50,$17:$17, 0)))>$C$8,1000000000,(IF(OR(INDEX($22:$22-($A172-$D172*$35:$35), MATCH(H$50,$17:$17, 0))>0, INDEX($D172*$35:$35-$C172, MATCH(H$50,$17:$17, 0))>0),1000000000,(p!H172+n!H172+m!H172+INDEX(Vt!G:G, MATCH(($A172+INDEX($D172*($24:$24-$35:$35), MATCH(H$50,$17:$17, 0))),Vt!$A:$A,0)+INDEX($B172+$D172*$24:$24, MATCH(H$50,$17:$17, 0))*2)))))","v":0},{"$f":"IF(($A172+INDEX($D172*($24:$24-$35:$35), MATCH(I$50,$17:$17, 0)))>$C$8,1000000000,(IF(OR(INDEX($22:$22-($A172-$D172*$35:$35), MATCH(I$50,$17:$17, 0))>0, INDEX($D172*$35:$35-$C172, MATCH(I$50,$17:$17, 0))>0),1000000000,(p!I172+n!I172+m!I172+INDEX(Vt!H:H, MATCH(($A172+INDEX($D172*($24:$24-$35:$35), MATCH(I$50,$17:$17, 0))),Vt!$A:$A,0)+INDEX($B172+$D172*$24:$24, MATCH(I$50,$17:$17, 0))*2)))))","v":0},{"$f":"IF(($A172+INDEX($D172*($24:$24-$35:$35), MATCH(J$50,$17:$17, 0)))>$C$8,1000000000,(IF(OR(INDEX($22:$22-($A172-$D172*$35:$35), MATCH(J$50,$17:$17, 0))>0, INDEX($D172*$35:$35-$C172, MATCH(J$50,$17:$17, 0))>0),1000000000,(p!J172+n!J172+m!J172+INDEX(Vt!I:I, MATCH(($A172+INDEX($D172*($24:$24-$35:$35), MATCH(J$50,$17:$17, 0))),Vt!$A:$A,0)+INDEX($B172+$D172*$24:$24, MATCH(J$50,$17:$17, 0))*2)))))","v":0},{"$f":"IF(($A172+INDEX($D172*($24:$24-$35:$35), MATCH(K$50,$17:$17, 0)))>$C$8,1000000000,(IF(OR(INDEX($22:$22-($A172-$D172*$35:$35), MATCH(K$50,$17:$17, 0))>0, INDEX($D172*$35:$35-$C172, MATCH(K$50,$17:$17, 0))>0),1000000000,(p!K172+n!K172+m!K172+INDEX(Vt!J:J, MATCH(($A172+INDEX($D172*($24:$24-$35:$35), MATCH(K$50,$17:$17, 0))),Vt!$A:$A,0)+INDEX($B172+$D172*$24:$24, MATCH(K$50,$17:$17, 0))*2)))))","v":0},{"$f":"IF(($A172+INDEX($D172*($24:$24-$35:$35), MATCH(L$50,$17:$17, 0)))>$C$8,1000000000,(IF(OR(INDEX($22:$22-($A172-$D172*$35:$35), MATCH(L$50,$17:$17, 0))>0, INDEX($D172*$35:$35-$C172, MATCH(L$50,$17:$17, 0))>0),1000000000,(p!L172+n!L172+m!L172+INDEX(Vt!K:K, MATCH(($A172+INDEX($D172*($24:$24-$35:$35), MATCH(L$50,$17:$17, 0))),Vt!$A:$A,0)+INDEX($B172+$D172*$24:$24, MATCH(L$50,$17:$17, 0))*2)))))","v":0},{"$f":"IF(($A172+INDEX($D172*($24:$24-$35:$35), MATCH(M$50,$17:$17, 0)))>$C$8,1000000000,(IF(OR(INDEX($22:$22-($A172-$D172*$35:$35), MATCH(M$50,$17:$17, 0))>0, INDEX($D172*$35:$35-$C172, MATCH(M$50,$17:$17, 0))>0),1000000000,(p!M172+n!M172+m!M172+INDEX(Vt!L:L, MATCH(($A172+INDEX($D172*($24:$24-$35:$35), MATCH(M$50,$17:$17, 0))),Vt!$A:$A,0)+INDEX($B172+$D172*$24:$24, MATCH(M$50,$17:$17, 0))*2)))))","v":0},{"$f":"IF(($A172+INDEX($D172*($24:$24-$35:$35), MATCH(N$50,$17:$17, 0)))>$C$8,1000000000,(IF(OR(INDEX($22:$22-($A172-$D172*$35:$35), MATCH(N$50,$17:$17, 0))>0, INDEX($D172*$35:$35-$C172, MATCH(N$50,$17:$17, 0))>0),1000000000,(p!N172+n!N172+m!N172+INDEX(Vt!M:M, MATCH(($A172+INDEX($D172*($24:$24-$35:$35), MATCH(N$50,$17:$17, 0))),Vt!$A:$A,0)+INDEX($B172+$D172*$24:$24, MATCH(N$50,$17:$17, 0))*2)))))","v":0},{"$f":"IF(($A172+INDEX($D172*($24:$24-$35:$35), MATCH(O$50,$17:$17, 0)))>$C$8,1000000000,(IF(OR(INDEX($22:$22-($A172-$D172*$35:$35), MATCH(O$50,$17:$17, 0))>0, INDEX($D172*$35:$35-$C172, MATCH(O$50,$17:$17, 0))>0),1000000000,(p!O172+n!O172+m!O172+INDEX(Vt!N:N, MATCH(($A172+INDEX($D172*($24:$24-$35:$35), MATCH(O$50,$17:$17, 0))),Vt!$A:$A,0)+INDEX($B172+$D172*$24:$24, MATCH(O$50,$17:$17, 0))*2)))))","v":0}]
[10,6,4,0,0,{"$f":"IF(($A173+INDEX($D173*($24:$24-$35:$35), MATCH(F$50,$17:$17, 0)))>$C$8,1000000000,(IF(OR(INDEX($22:$22-($A173-$D173*$35:$35), MATCH(F$50,$17:$17, 0))>0, INDEX($D173*$35:$35-$C173, MATCH(F$50,$17:$17, 0))>0),1000000000,(p!F173+n!F173+m!F173+INDEX(Vt!E:E, MATCH(($A173+INDEX($D173*($24:$24-$35:$35), MATCH(F$50,$17:$17, 0))),Vt!$A:$A,0)+INDEX($B173+$D173*$24:$24, MATCH(F$50,$17:$17, 0))*2)))))","v":0},{"$f":"IF(($A173+INDEX($D173*($24:$24-$35:$35), MATCH(G$50,$17:$17, 0)))>$C$8,1000000000,(IF(OR(INDEX($22:$22-($A173-$D173*$35:$35), MATCH(G$50,$17:$17, 0))>0, INDEX($D173*$35:$35-$C173, MATCH(G$50,$17:$17, 0))>0),1000000000,(p!G173+n!G173+m!G173+INDEX(Vt!F:F, MATCH(($A173+INDEX($D173*($24:$24-$35:$35), MATCH(G$50,$17:$17, 0))),Vt!$A:$A,0)+INDEX($B173+$D173*$24:$24, MATCH(G$50,$17:$17, 0))*2)))))","v":0},{"$f":"IF(($A173+INDEX($D173*($24:$24-$35:$35), MATCH(H$50,$17:$17, 0)))>$C$8,1000000000,(IF(OR(INDEX($22:$22-($A173-$D173*$35:$35), MATCH(H$50,$17:$17, 0))>0, INDEX($D173*$35:$35-$C173, MATCH(H$50,$17:$17, 0))>0),1000000000,(p!H173+n!H173+m!H173+INDEX(Vt!G:G, MATCH(($A173+INDEX($D173*($24:$24-$35:$35), MATCH(H$50,$17:$17, 0))),Vt!$A:$A,0)+INDEX($B173+$D173*$24:$24, MATCH(H$50,$17:$17, 0))*2)))))","v":0},{"$f":"IF(($A173+INDEX($D173*($24:$24-$35:$35), MATCH(I$50,$17:$17, 0)))>$C$8,1000000000,(IF(OR(INDEX($22:$22-($A173-$D173*$35:$35), MATCH(I$50,$17:$17, 0))>0, INDEX($D173*$35:$35-$C173, MATCH(I$50,$17:$17, 0))>0),1000000000,(p!I173+n!I173+m!I173+INDEX(Vt!H:H, MATCH(($A173+INDEX($D173*($24:$24-$35:$35), MATCH(I$50,$17:$17, 0))),Vt!$A:$A,0)+INDEX($B173+$D173*$24:$24, MATCH(I$50,$17:$17, 0))*2)))))","v":0},{"$f":"IF(($A173+INDEX($D173*($24:$24-$35:$35), MATCH(J$50,$17:$17, 0)))>$C$8,1000000000,(IF(OR(INDEX($22:$22-($A173-$D173*$35:$35), MATCH(J$50,$17:$17, 0))>0, INDEX($D173*$35:$35-$C173, MATCH(J$50,$17:$17, 0))>0),1000000000,(p!J173+n!J173+m!J173+INDEX(Vt!I:I, MATCH(($A173+INDEX($D173*($24:$24-$35:$35), MATCH(J$50,$17:$17, 0))),Vt!$A:$A,0)+INDEX($B173+$D173*$24:$24, MATCH(J$50,$17:$17, 0))*2)))))","v":0},{"$f":"IF(($A173+INDEX($D173*($24:$24-$35:$35), MATCH(K$50,$17:$17, 0)))>$C$8,1000000000,(IF(OR(INDEX($22:$22-($A173-$D173*$35:$35), MATCH(K$50,$17:$17, 0))>0, INDEX($D173*$35:$35-$C173, MATCH(K$50,$17:$17, 0))>0),1000000000,(p!K173+n!K173+m!K173+INDEX(Vt!J:J, MATCH(($A173+INDEX($D173*($24:$24-$35:$35), MATCH(K$50,$17:$17, 0))),Vt!$A:$A,0)+INDEX($B173+$D173*$24:$24, MATCH(K$50,$17:$17, 0))*2)))))","v":0},{"$f":"IF(($A173+INDEX($D173*($24:$24-$35:$35), MATCH(L$50,$17:$17, 0)))>$C$8,1000000000,(IF(OR(INDEX($22:$22-($A173-$D173*$35:$35), MATCH(L$50,$17:$17, 0))>0, INDEX($D173*$35:$35-$C173, MATCH(L$50,$17:$17, 0))>0),1000000000,(p!L173+n!L173+m!L173+INDEX(Vt!K:K, MATCH(($A173+INDEX($D173*($24:$24-$35:$35), MATCH(L$50,$17:$17, 0))),Vt!$A:$A,0)+INDEX($B173+$D173*$24:$24, MATCH(L$50,$17:$17, 0))*2)))))","v":0},{"$f":"IF(($A173+INDEX($D173*($24:$24-$35:$35), MATCH(M$50,$17:$17, 0)))>$C$8,1000000000,(IF(OR(INDEX($22:$22-($A173-$D173*$35:$35), MATCH(M$50,$17:$17, 0))>0, INDEX($D173*$35:$35-$C173, MATCH(M$50,$17:$17, 0))>0),1000000000,(p!M173+n!M173+m!M173+INDEX(Vt!L:L, MATCH(($A173+INDEX($D173*($24:$24-$35:$35), MATCH(M$50,$17:$17, 0))),Vt!$A:$A,0)+INDEX($B173+$D173*$24:$24, MATCH(M$50,$17:$17, 0))*2)))))","v":0},{"$f":"IF(($A173+INDEX($D173*($24:$24-$35:$35), MATCH(N$50,$17:$17, 0)))>$C$8,1000000000,(IF(OR(INDEX($22:$22-($A173-$D173*$35:$35), MATCH(N$50,$17:$17, 0))>0, INDEX($D173*$35:$35-$C173, MATCH(N$50,$17:$17, 0))>0),1000000000,(p!N173+n!N173+m!N173+INDEX(Vt!M:M, MATCH(($A173+INDEX($D173*($24:$24-$35:$35), MATCH(N$50,$17:$17, 0))),Vt!$A:$A,0)+INDEX($B173+$D173*$24:$24, MATCH(N$50,$17:$17, 0))*2)))))","v":0},{"$f":"IF(($A173+INDEX($D173*($24:$24-$35:$35), MATCH(O$50,$17:$17, 0)))>$C$8,1000000000,(IF(OR(INDEX($22:$22-($A173-$D173*$35:$35), MATCH(O$50,$17:$17, 0))>0, INDEX($D173*$35:$35-$C173, MATCH(O$50,$17:$17, 0))>0),1000000000,(p!O173+n!O173+m!O173+INDEX(Vt!N:N, MATCH(($A173+INDEX($D173*($24:$24-$35:$35), MATCH(O$50,$17:$17, 0))),Vt!$A:$A,0)+INDEX($B173+$D173*$24:$24, MATCH(O$50,$17:$17, 0))*2)))))","v":0}]
[10,6,4,1,0,{"$f":"IF(($A174+INDEX($D174*($24:$24-$35:$35), MATCH(F$50,$17:$17, 0)))>$C$8,1000000000,(IF(OR(INDEX($22:$22-($A174-$D174*$35:$35), MATCH(F$50,$17:$17, 0))>0, INDEX($D174*$35:$35-$C174, MATCH(F$50,$17:$17, 0))>0),1000000000,(p!F174+n!F174+m!F174+INDEX(Vt!E:E, MATCH(($A174+INDEX($D174*($24:$24-$35:$35), MATCH(F$50,$17:$17, 0))),Vt!$A:$A,0)+INDEX($B174+$D174*$24:$24, MATCH(F$50,$17:$17, 0))*2)))))","v":0},{"$f":"IF(($A174+INDEX($D174*($24:$24-$35:$35), MATCH(G$50,$17:$17, 0)))>$C$8,1000000000,(IF(OR(INDEX($22:$22-($A174-$D174*$35:$35), MATCH(G$50,$17:$17, 0))>0, INDEX($D174*$35:$35-$C174, MATCH(G$50,$17:$17, 0))>0),1000000000,(p!G174+n!G174+m!G174+INDEX(Vt!F:F, MATCH(($A174+INDEX($D174*($24:$24-$35:$35), MATCH(G$50,$17:$17, 0))),Vt!$A:$A,0)+INDEX($B174+$D174*$24:$24, MATCH(G$50,$17:$17, 0))*2)))))","v":0},{"$f":"IF(($A174+INDEX($D174*($24:$24-$35:$35), MATCH(H$50,$17:$17, 0)))>$C$8,1000000000,(IF(OR(INDEX($22:$22-($A174-$D174*$35:$35), MATCH(H$50,$17:$17, 0))>0, INDEX($D174*$35:$35-$C174, MATCH(H$50,$17:$17, 0))>0),1000000000,(p!H174+n!H174+m!H174+INDEX(Vt!G:G, MATCH(($A174+INDEX($D174*($24:$24-$35:$35), MATCH(H$50,$17:$17, 0))),Vt!$A:$A,0)+INDEX($B174+$D174*$24:$24, MATCH(H$50,$17:$17, 0))*2)))))","v":0},{"$f":"IF(($A174+INDEX($D174*($24:$24-$35:$35), MATCH(I$50,$17:$17, 0)))>$C$8,1000000000,(IF(OR(INDEX($22:$22-($A174-$D174*$35:$35), MATCH(I$50,$17:$17, 0))>0, INDEX($D174*$35:$35-$C174, MATCH(I$50,$17:$17, 0))>0),1000000000,(p!I174+n!I174+m!I174+INDEX(Vt!H:H, MATCH(($A174+INDEX($D174*($24:$24-$35:$35), MATCH(I$50,$17:$17, 0))),Vt!$A:$A,0)+INDEX($B174+$D174*$24:$24, MATCH(I$50,$17:$17, 0))*2)))))","v":0},{"$f":"IF(($A174+INDEX($D174*($24:$24-$35:$35), MATCH(J$50,$17:$17, 0)))>$C$8,1000000000,(IF(OR(INDEX($22:$22-($A174-$D174*$35:$35), MATCH(J$50,$17:$17, 0))>0, INDEX($D174*$35:$35-$C174, MATCH(J$50,$17:$17, 0))>0),1000000000,(p!J174+n!J174+m!J174+INDEX(Vt!I:I, MATCH(($A174+INDEX($D174*($24:$24-$35:$35), MATCH(J$50,$17:$17, 0))),Vt!$A:$A,0)+INDEX($B174+$D174*$24:$24, MATCH(J$50,$17:$17, 0))*2)))))","v":0},{"$f":"IF(($A174+INDEX($D174*($24:$24-$35:$35), MATCH(K$50,$17:$17, 0)))>$C$8,1000000000,(IF(OR(INDEX($22:$22-($A174-$D174*$35:$35), MATCH(K$50,$17:$17, 0))>0, INDEX($D174*$35:$35-$C174, MATCH(K$50,$17:$17, 0))>0),1000000000,(p!K174+n!K174+m!K174+INDEX(Vt!J:J, MATCH(($A174+INDEX($D174*($24:$24-$35:$35), MATCH(K$50,$17:$17, 0))),Vt!$A:$A,0)+INDEX($B174+$D174*$24:$24, MATCH(K$50,$17:$17, 0))*2)))))","v":0},{"$f":"IF(($A174+INDEX($D174*($24:$24-$35:$35), MATCH(L$50,$17:$17, 0)))>$C$8,1000000000,(IF(OR(INDEX($22:$22-($A174-$D174*$35:$35), MATCH(L$50,$17:$17, 0))>0, INDEX($D174*$35:$35-$C174, MATCH(L$50,$17:$17, 0))>0),1000000000,(p!L174+n!L174+m!L174+INDEX(Vt!K:K, MATCH(($A174+INDEX($D174*($24:$24-$35:$35), MATCH(L$50,$17:$17, 0))),Vt!$A:$A,0)+INDEX($B174+$D174*$24:$24, MATCH(L$50,$17:$17, 0))*2)))))","v":0},{"$f":"IF(($A174+INDEX($D174*($24:$24-$35:$35), MATCH(M$50,$17:$17, 0)))>$C$8,1000000000,(IF(OR(INDEX($22:$22-($A174-$D174*$35:$35), MATCH(M$50,$17:$17, 0))>0, INDEX($D174*$35:$35-$C174, MATCH(M$50,$17:$17, 0))>0),1000000000,(p!M174+n!M174+m!M174+INDEX(Vt!L:L, MATCH(($A174+INDEX($D174*($24:$24-$35:$35), MATCH(M$50,$17:$17, 0))),Vt!$A:$A,0)+INDEX($B174+$D174*$24:$24, MATCH(M$50,$17:$17, 0))*2)))))","v":0},{"$f":"IF(($A174+INDEX($D174*($24:$24-$35:$35), MATCH(N$50,$17:$17, 0)))>$C$8,1000000000,(IF(OR(INDEX($22:$22-($A174-$D174*$35:$35), MATCH(N$50,$17:$17, 0))>0, INDEX($D174*$35:$35-$C174, MATCH(N$50,$17:$17, 0))>0),1000000000,(p!N174+n!N174+m!N174+INDEX(Vt!M:M, MATCH(($A174+INDEX($D174*($24:$24-$35:$35), MATCH(N$50,$17:$17, 0))),Vt!$A:$A,0)+INDEX($B174+$D174*$24:$24, MATCH(N$50,$17:$17, 0))*2)))))","v":0},{"$f":"IF(($A174+INDEX($D174*($24:$24-$35:$35), MATCH(O$50,$17:$17, 0)))>$C$8,1000000000,(IF(OR(INDEX($22:$22-($A174-$D174*$35:$35), MATCH(O$50,$17:$17, 0))>0, INDEX($D174*$35:$35-$C174, MATCH(O$50,$17:$17, 0))>0),1000000000,(p!O174+n!O174+m!O174+INDEX(Vt!N:N, MATCH(($A174+INDEX($D174*($24:$24-$35:$35), MATCH(O$50,$17:$17, 0))),Vt!$A:$A,0)+INDEX($B174+$D174*$24:$24, MATCH(O$50,$17:$17, 0))*2)))))","v":0}]
[10,7,3,0,0,{"$f":"IF(($A175+INDEX($D175*($24:$24-$35:$35), MATCH(F$50,$17:$17, 0)))>$C$8,1000000000,(IF(OR(INDEX($22:$22-($A175-$D175*$35:$35), MATCH(F$50,$17:$17, 0))>0, INDEX($D175*$35:$35-$C175, MATCH(F$50,$17:$17, 0))>0),1000000000,(p!F175+n!F175+m!F175+INDEX(Vt!E:E, MATCH(($A175+INDEX($D175*($24:$24-$35:$35), MATCH(F$50,$17:$17, 0))),Vt!$A:$A,0)+INDEX($B175+$D175*$24:$24, MATCH(F$50,$17:$17, 0))*2)))))","v":0},{"$f":"IF(($A175+INDEX($D175*($24:$24-$35:$35), MATCH(G$50,$17:$17, 0)))>$C$8,1000000000,(IF(OR(INDEX($22:$22-($A175-$D175*$35:$35), MATCH(G$50,$17:$17, 0))>0, INDEX($D175*$35:$35-$C175, MATCH(G$50,$17:$17, 0))>0),1000000000,(p!G175+n!G175+m!G175+INDEX(Vt!F:F, MATCH(($A175+INDEX($D175*($24:$24-$35:$35), MATCH(G$50,$17:$17, 0))),Vt!$A:$A,0)+INDEX($B175+$D175*$24:$24, MATCH(G$50,$17:$17, 0))*2)))))","v":0},{"$f":"IF(($A175+INDEX($D175*($24:$24-$35:$35), MATCH(H$50,$17:$17, 0)))>$C$8,1000000000,(IF(OR(INDEX($22:$22-($A175-$D175*$35:$35), MATCH(H$50,$17:$17, 0))>0, INDEX($D175*$35:$35-$C175, MATCH(H$50,$17:$17, 0))>0),1000000000,(p!H175+n!H175+m!H175+INDEX(Vt!G:G, MATCH(($A175+INDEX($D175*($24:$24-$35:$35), MATCH(H$50,$17:$17, 0))),Vt!$A:$A,0)+INDEX($B175+$D175*$24:$24, MATCH(H$50,$17:$17, 0))*2)))))","v":0},{"$f":"IF(($A175+INDEX($D175*($24:$24-$35:$35), MATCH(I$50,$17:$17, 0)))>$C$8,1000000000,(IF(OR(INDEX($22:$22-($A175-$D175*$35:$35), MATCH(I$50,$17:$17, 0))>0, INDEX($D175*$35:$35-$C175, MATCH(I$50,$17:$17, 0))>0),1000000000,(p!I175+n!I175+m!I175+INDEX(Vt!H:H, MATCH(($A175+INDEX($D175*($24:$24-$35:$35), MATCH(I$50,$17:$17, 0))),Vt!$A:$A,0)+INDEX($B175+$D175*$24:$24, MATCH(I$50,$17:$17, 0))*2)))))","v":0},{"$f":"IF(($A175+INDEX($D175*($24:$24-$35:$35), MATCH(J$50,$17:$17, 0)))>$C$8,1000000000,(IF(OR(INDEX($22:$22-($A175-$D175*$35:$35), MATCH(J$50,$17:$17, 0))>0, INDEX($D175*$35:$35-$C175, MATCH(J$50,$17:$17, 0))>0),1000000000,(p!J175+n!J175+m!J175+INDEX(Vt!I:I, MATCH(($A175+INDEX($D175*($24:$24-$35:$35), MATCH(J$50,$17:$17, 0))),Vt!$A:$A,0)+INDEX($B175+$D175*$24:$24, MATCH(J$50,$17:$17, 0))*2)))))","v":0},{"$f":"IF(($A175+INDEX($D175*($24:$24-$35:$35), MATCH(K$50,$17:$17, 0)))>$C$8,1000000000,(IF(OR(INDEX($22:$22-($A175-$D175*$35:$35), MATCH(K$50,$17:$17, 0))>0, INDEX($D175*$35:$35-$C175, MATCH(K$50,$17:$17, 0))>0),1000000000,(p!K175+n!K175+m!K175+INDEX(Vt!J:J, MATCH(($A175+INDEX($D175*($24:$24-$35:$35), MATCH(K$50,$17:$17, 0))),Vt!$A:$A,0)+INDEX($B175+$D175*$24:$24, MATCH(K$50,$17:$17, 0))*2)))))","v":0},{"$f":"IF(($A175+INDEX($D175*($24:$24-$35:$35), MATCH(L$50,$17:$17, 0)))>$C$8,1000000000,(IF(OR(INDEX($22:$22-($A175-$D175*$35:$35), MATCH(L$50,$17:$17, 0))>0, INDEX($D175*$35:$35-$C175, MATCH(L$50,$17:$17, 0))>0),1000000000,(p!L175+n!L175+m!L175+INDEX(Vt!K:K, MATCH(($A175+INDEX($D175*($24:$24-$35:$35), MATCH(L$50,$17:$17, 0))),Vt!$A:$A,0)+INDEX($B175+$D175*$24:$24, MATCH(L$50,$17:$17, 0))*2)))))","v":0},{"$f":"IF(($A175+INDEX($D175*($24:$24-$35:$35), MATCH(M$50,$17:$17, 0)))>$C$8,1000000000,(IF(OR(INDEX($22:$22-($A175-$D175*$35:$35), MATCH(M$50,$17:$17, 0))>0, INDEX($D175*$35:$35-$C175, MATCH(M$50,$17:$17, 0))>0),1000000000,(p!M175+n!M175+m!M175+INDEX(Vt!L:L, MATCH(($A175+INDEX($D175*($24:$24-$35:$35), MATCH(M$50,$17:$17, 0))),Vt!$A:$A,0)+INDEX($B175+$D175*$24:$24, MATCH(M$50,$17:$17, 0))*2)))))","v":0},{"$f":"IF(($A175+INDEX($D175*($24:$24-$35:$35), MATCH(N$50,$17:$17, 0)))>$C$8,1000000000,(IF(OR(INDEX($22:$22-($A175-$D175*$35:$35), MATCH(N$50,$17:$17, 0))>0, INDEX($D175*$35:$35-$C175, MATCH(N$50,$17:$17, 0))>0),1000000000,(p!N175+n!N175+m!N175+INDEX(Vt!M:M, MATCH(($A175+INDEX($D175*($24:$24-$35:$35), MATCH(N$50,$17:$17, 0))),Vt!$A:$A,0)+INDEX($B175+$D175*$24:$24, MATCH(N$50,$17:$17, 0))*2)))))","v":0},{"$f":"IF(($A175+INDEX($D175*($24:$24-$35:$35), MATCH(O$50,$17:$17, 0)))>$C$8,1000000000,(IF(OR(INDEX($22:$22-($A175-$D175*$35:$35), MATCH(O$50,$17:$17, 0))>0, INDEX($D175*$35:$35-$C175, MATCH(O$50,$17:$17, 0))>0),1000000000,(p!O175+n!O175+m!O175+INDEX(Vt!N:N, MATCH(($A175+INDEX($D175*($24:$24-$35:$35), MATCH(O$50,$17:$17, 0))),Vt!$A:$A,0)+INDEX($B175+$D175*$24:$24, MATCH(O$50,$17:$17, 0))*2)))))","v":0}]
[10,7,3,1,0,{"$f":"IF(($A176+INDEX($D176*($24:$24-$35:$35), MATCH(F$50,$17:$17, 0)))>$C$8,1000000000,(IF(OR(INDEX($22:$22-($A176-$D176*$35:$35), MATCH(F$50,$17:$17, 0))>0, INDEX($D176*$35:$35-$C176, MATCH(F$50,$17:$17, 0))>0),1000000000,(p!F176+n!F176+m!F176+INDEX(Vt!E:E, MATCH(($A176+INDEX($D176*($24:$24-$35:$35), MATCH(F$50,$17:$17, 0))),Vt!$A:$A,0)+INDEX($B176+$D176*$24:$24, MATCH(F$50,$17:$17, 0))*2)))))","v":0},{"$f":"IF(($A176+INDEX($D176*($24:$24-$35:$35), MATCH(G$50,$17:$17, 0)))>$C$8,1000000000,(IF(OR(INDEX($22:$22-($A176-$D176*$35:$35), MATCH(G$50,$17:$17, 0))>0, INDEX($D176*$35:$35-$C176, MATCH(G$50,$17:$17, 0))>0),1000000000,(p!G176+n!G176+m!G176+INDEX(Vt!F:F, MATCH(($A176+INDEX($D176*($24:$24-$35:$35), MATCH(G$50,$17:$17, 0))),Vt!$A:$A,0)+INDEX($B176+$D176*$24:$24, MATCH(G$50,$17:$17, 0))*2)))))","v":0},{"$f":"IF(($A176+INDEX($D176*($24:$24-$35:$35), MATCH(H$50,$17:$17, 0)))>$C$8,1000000000,(IF(OR(INDEX($22:$22-($A176-$D176*$35:$35), MATCH(H$50,$17:$17, 0))>0, INDEX($D176*$35:$35-$C176, MATCH(H$50,$17:$17, 0))>0),1000000000,(p!H176+n!H176+m!H176+INDEX(Vt!G:G, MATCH(($A176+INDEX($D176*($24:$24-$35:$35), MATCH(H$50,$17:$17, 0))),Vt!$A:$A,0)+INDEX($B176+$D176*$24:$24, MATCH(H$50,$17:$17, 0))*2)))))","v":0},{"$f":"IF(($A176+INDEX($D176*($24:$24-$35:$35), MATCH(I$50,$17:$17, 0)))>$C$8,1000000000,(IF(OR(INDEX($22:$22-($A176-$D176*$35:$35), MATCH(I$50,$17:$17, 0))>0, INDEX($D176*$35:$35-$C176, MATCH(I$50,$17:$17, 0))>0),1000000000,(p!I176+n!I176+m!I176+INDEX(Vt!H:H, MATCH(($A176+INDEX($D176*($24:$24-$35:$35), MATCH(I$50,$17:$17, 0))),Vt!$A:$A,0)+INDEX($B176+$D176*$24:$24, MATCH(I$50,$17:$17, 0))*2)))))","v":0},{"$f":"IF(($A176+INDEX($D176*($24:$24-$35:$35), MATCH(J$50,$17:$17, 0)))>$C$8,1000000000,(IF(OR(INDEX($22:$22-($A176-$D176*$35:$35), MATCH(J$50,$17:$17, 0))>0, INDEX($D176*$35:$35-$C176, MATCH(J$50,$17:$17, 0))>0),1000000000,(p!J176+n!J176+m!J176+INDEX(Vt!I:I, MATCH(($A176+INDEX($D176*($24:$24-$35:$35), MATCH(J$50,$17:$17, 0))),Vt!$A:$A,0)+INDEX($B176+$D176*$24:$24, MATCH(J$50,$17:$17, 0))*2)))))","v":0},{"$f":"IF(($A176+INDEX($D176*($24:$24-$35:$35), MATCH(K$50,$17:$17, 0)))>$C$8,1000000000,(IF(OR(INDEX($22:$22-($A176-$D176*$35:$35), MATCH(K$50,$17:$17, 0))>0, INDEX($D176*$35:$35-$C176, MATCH(K$50,$17:$17, 0))>0),1000000000,(p!K176+n!K176+m!K176+INDEX(Vt!J:J, MATCH(($A176+INDEX($D176*($24:$24-$35:$35), MATCH(K$50,$17:$17, 0))),Vt!$A:$A,0)+INDEX($B176+$D176*$24:$24, MATCH(K$50,$17:$17, 0))*2)))))","v":0},{"$f":"IF(($A176+INDEX($D176*($24:$24-$35:$35), MATCH(L$50,$17:$17, 0)))>$C$8,1000000000,(IF(OR(INDEX($22:$22-($A176-$D176*$35:$35), MATCH(L$50,$17:$17, 0))>0, INDEX($D176*$35:$35-$C176, MATCH(L$50,$17:$17, 0))>0),1000000000,(p!L176+n!L176+m!L176+INDEX(Vt!K:K, MATCH(($A176+INDEX($D176*($24:$24-$35:$35), MATCH(L$50,$17:$17, 0))),Vt!$A:$A,0)+INDEX($B176+$D176*$24:$24, MATCH(L$50,$17:$17, 0))*2)))))","v":0},{"$f":"IF(($A176+INDEX($D176*($24:$24-$35:$35), MATCH(M$50,$17:$17, 0)))>$C$8,1000000000,(IF(OR(INDEX($22:$22-($A176-$D176*$35:$35), MATCH(M$50,$17:$17, 0))>0, INDEX($D176*$35:$35-$C176, MATCH(M$50,$17:$17, 0))>0),1000000000,(p!M176+n!M176+m!M176+INDEX(Vt!L:L, MATCH(($A176+INDEX($D176*($24:$24-$35:$35), MATCH(M$50,$17:$17, 0))),Vt!$A:$A,0)+INDEX($B176+$D176*$24:$24, MATCH(M$50,$17:$17, 0))*2)))))","v":0},{"$f":"IF(($A176+INDEX($D176*($24:$24-$35:$35), MATCH(N$50,$17:$17, 0)))>$C$8,1000000000,(IF(OR(INDEX($22:$22-($A176-$D176*$35:$35), MATCH(N$50,$17:$17, 0))>0, INDEX($D176*$35:$35-$C176, MATCH(N$50,$17:$17, 0))>0),1000000000,(p!N176+n!N176+m!N176+INDEX(Vt!M:M, MATCH(($A176+INDEX($D176*($24:$24-$35:$35), MATCH(N$50,$17:$17, 0))),Vt!$A:$A,0)+INDEX($B176+$D176*$24:$24, MATCH(N$50,$17:$17, 0))*2)))))","v":0},{"$f":"IF(($A176+INDEX($D176*($24:$24-$35:$35), MATCH(O$50,$17:$17, 0)))>$C$8,1000000000,(IF(OR(INDEX($22:$22-($A176-$D176*$35:$35), MATCH(O$50,$17:$17, 0))>0, INDEX($D176*$35:$35-$C176, MATCH(O$50,$17:$17, 0))>0),1000000000,(p!O176+n!O176+m!O176+INDEX(Vt!N:N, MATCH(($A176+INDEX($D176*($24:$24-$35:$35), MATCH(O$50,$17:$17, 0))),Vt!$A:$A,0)+INDEX($B176+$D176*$24:$24, MATCH(O$50,$17:$17, 0))*2)))))","v":0}]
[10,8,2,0,0,{"$f":"IF(($A177+INDEX($D177*($24:$24-$35:$35), MATCH(F$50,$17:$17, 0)))>$C$8,1000000000,(IF(OR(INDEX($22:$22-($A177-$D177*$35:$35), MATCH(F$50,$17:$17, 0))>0, INDEX($D177*$35:$35-$C177, MATCH(F$50,$17:$17, 0))>0),1000000000,(p!F177+n!F177+m!F177+INDEX(Vt!E:E, MATCH(($A177+INDEX($D177*($24:$24-$35:$35), MATCH(F$50,$17:$17, 0))),Vt!$A:$A,0)+INDEX($B177+$D177*$24:$24, MATCH(F$50,$17:$17, 0))*2)))))","v":0},{"$f":"IF(($A177+INDEX($D177*($24:$24-$35:$35), MATCH(G$50,$17:$17, 0)))>$C$8,1000000000,(IF(OR(INDEX($22:$22-($A177-$D177*$35:$35), MATCH(G$50,$17:$17, 0))>0, INDEX($D177*$35:$35-$C177, MATCH(G$50,$17:$17, 0))>0),1000000000,(p!G177+n!G177+m!G177+INDEX(Vt!F:F, MATCH(($A177+INDEX($D177*($24:$24-$35:$35), MATCH(G$50,$17:$17, 0))),Vt!$A:$A,0)+INDEX($B177+$D177*$24:$24, MATCH(G$50,$17:$17, 0))*2)))))","v":0},{"$f":"IF(($A177+INDEX($D177*($24:$24-$35:$35), MATCH(H$50,$17:$17, 0)))>$C$8,1000000000,(IF(OR(INDEX($22:$22-($A177-$D177*$35:$35), MATCH(H$50,$17:$17, 0))>0, INDEX($D177*$35:$35-$C177, MATCH(H$50,$17:$17, 0))>0),1000000000,(p!H177+n!H177+m!H177+INDEX(Vt!G:G, MATCH(($A177+INDEX($D177*($24:$24-$35:$35), MATCH(H$50,$17:$17, 0))),Vt!$A:$A,0)+INDEX($B177+$D177*$24:$24, MATCH(H$50,$17:$17, 0))*2)))))","v":0},{"$f":"IF(($A177+INDEX($D177*($24:$24-$35:$35), MATCH(I$50,$17:$17, 0)))>$C$8,1000000000,(IF(OR(INDEX($22:$22-($A177-$D177*$35:$35), MATCH(I$50,$17:$17, 0))>0, INDEX($D177*$35:$35-$C177, MATCH(I$50,$17:$17, 0))>0),1000000000,(p!I177+n!I177+m!I177+INDEX(Vt!H:H, MATCH(($A177+INDEX($D177*($24:$24-$35:$35), MATCH(I$50,$17:$17, 0))),Vt!$A:$A,0)+INDEX($B177+$D177*$24:$24, MATCH(I$50,$17:$17, 0))*2)))))","v":0},{"$f":"IF(($A177+INDEX($D177*($24:$24-$35:$35), MATCH(J$50,$17:$17, 0)))>$C$8,1000000000,(IF(OR(INDEX($22:$22-($A177-$D177*$35:$35), MATCH(J$50,$17:$17, 0))>0, INDEX($D177*$35:$35-$C177, MATCH(J$50,$17:$17, 0))>0),1000000000,(p!J177+n!J177+m!J177+INDEX(Vt!I:I, MATCH(($A177+INDEX($D177*($24:$24-$35:$35), MATCH(J$50,$17:$17, 0))),Vt!$A:$A,0)+INDEX($B177+$D177*$24:$24, MATCH(J$50,$17:$17, 0))*2)))))","v":0},{"$f":"IF(($A177+INDEX($D177*($24:$24-$35:$35), MATCH(K$50,$17:$17, 0)))>$C$8,1000000000,(IF(OR(INDEX($22:$22-($A177-$D177*$35:$35), MATCH(K$50,$17:$17, 0))>0, INDEX($D177*$35:$35-$C177, MATCH(K$50,$17:$17, 0))>0),1000000000,(p!K177+n!K177+m!K177+INDEX(Vt!J:J, MATCH(($A177+INDEX($D177*($24:$24-$35:$35), MATCH(K$50,$17:$17, 0))),Vt!$A:$A,0)+INDEX($B177+$D177*$24:$24, MATCH(K$50,$17:$17, 0))*2)))))","v":0},{"$f":"IF(($A177+INDEX($D177*($24:$24-$35:$35), MATCH(L$50,$17:$17, 0)))>$C$8,1000000000,(IF(OR(INDEX($22:$22-($A177-$D177*$35:$35), MATCH(L$50,$17:$17, 0))>0, INDEX($D177*$35:$35-$C177, MATCH(L$50,$17:$17, 0))>0),1000000000,(p!L177+n!L177+m!L177+INDEX(Vt!K:K, MATCH(($A177+INDEX($D177*($24:$24-$35:$35), MATCH(L$50,$17:$17, 0))),Vt!$A:$A,0)+INDEX($B177+$D177*$24:$24, MATCH(L$50,$17:$17, 0))*2)))))","v":0},{"$f":"IF(($A177+INDEX($D177*($24:$24-$35:$35), MATCH(M$50,$17:$17, 0)))>$C$8,1000000000,(IF(OR(INDEX($22:$22-($A177-$D177*$35:$35), MATCH(M$50,$17:$17, 0))>0, INDEX($D177*$35:$35-$C177, MATCH(M$50,$17:$17, 0))>0),1000000000,(p!M177+n!M177+m!M177+INDEX(Vt!L:L, MATCH(($A177+INDEX($D177*($24:$24-$35:$35), MATCH(M$50,$17:$17, 0))),Vt!$A:$A,0)+INDEX($B177+$D177*$24:$24, MATCH(M$50,$17:$17, 0))*2)))))","v":0},{"$f":"IF(($A177+INDEX($D177*($24:$24-$35:$35), MATCH(N$50,$17:$17, 0)))>$C$8,1000000000,(IF(OR(INDEX($22:$22-($A177-$D177*$35:$35), MATCH(N$50,$17:$17, 0))>0, INDEX($D177*$35:$35-$C177, MATCH(N$50,$17:$17, 0))>0),1000000000,(p!N177+n!N177+m!N177+INDEX(Vt!M:M, MATCH(($A177+INDEX($D177*($24:$24-$35:$35), MATCH(N$50,$17:$17, 0))),Vt!$A:$A,0)+INDEX($B177+$D177*$24:$24, MATCH(N$50,$17:$17, 0))*2)))))","v":0},{"$f":"IF(($A177+INDEX($D177*($24:$24-$35:$35), MATCH(O$50,$17:$17, 0)))>$C$8,1000000000,(IF(OR(INDEX($22:$22-($A177-$D177*$35:$35), MATCH(O$50,$17:$17, 0))>0, INDEX($D177*$35:$35-$C177, MATCH(O$50,$17:$17, 0))>0),1000000000,(p!O177+n!O177+m!O177+INDEX(Vt!N:N, MATCH(($A177+INDEX($D177*($24:$24-$35:$35), MATCH(O$50,$17:$17, 0))),Vt!$A:$A,0)+INDEX($B177+$D177*$24:$24, MATCH(O$50,$17:$17, 0))*2)))))","v":0}]
[10,8,2,1,0,{"$f":"IF(($A178+INDEX($D178*($24:$24-$35:$35), MATCH(F$50,$17:$17, 0)))>$C$8,1000000000,(IF(OR(INDEX($22:$22-($A178-$D178*$35:$35), MATCH(F$50,$17:$17, 0))>0, INDEX($D178*$35:$35-$C178, MATCH(F$50,$17:$17, 0))>0),1000000000,(p!F178+n!F178+m!F178+INDEX(Vt!E:E, MATCH(($A178+INDEX($D178*($24:$24-$35:$35), MATCH(F$50,$17:$17, 0))),Vt!$A:$A,0)+INDEX($B178+$D178*$24:$24, MATCH(F$50,$17:$17, 0))*2)))))","v":0},{"$f":"IF(($A178+INDEX($D178*($24:$24-$35:$35), MATCH(G$50,$17:$17, 0)))>$C$8,1000000000,(IF(OR(INDEX($22:$22-($A178-$D178*$35:$35), MATCH(G$50,$17:$17, 0))>0, INDEX($D178*$35:$35-$C178, MATCH(G$50,$17:$17, 0))>0),1000000000,(p!G178+n!G178+m!G178+INDEX(Vt!F:F, MATCH(($A178+INDEX($D178*($24:$24-$35:$35), MATCH(G$50,$17:$17, 0))),Vt!$A:$A,0)+INDEX($B178+$D178*$24:$24, MATCH(G$50,$17:$17, 0))*2)))))","v":0},{"$f":"IF(($A178+INDEX($D178*($24:$24-$35:$35), MATCH(H$50,$17:$17, 0)))>$C$8,1000000000,(IF(OR(INDEX($22:$22-($A178-$D178*$35:$35), MATCH(H$50,$17:$17, 0))>0, INDEX($D178*$35:$35-$C178, MATCH(H$50,$17:$17, 0))>0),1000000000,(p!H178+n!H178+m!H178+INDEX(Vt!G:G, MATCH(($A178+INDEX($D178*($24:$24-$35:$35), MATCH(H$50,$17:$17, 0))),Vt!$A:$A,0)+INDEX($B178+$D178*$24:$24, MATCH(H$50,$17:$17, 0))*2)))))","v":0},{"$f":"IF(($A178+INDEX($D178*($24:$24-$35:$35), MATCH(I$50,$17:$17, 0)))>$C$8,1000000000,(IF(OR(INDEX($22:$22-($A178-$D178*$35:$35), MATCH(I$50,$17:$17, 0))>0, INDEX($D178*$35:$35-$C178, MATCH(I$50,$17:$17, 0))>0),1000000000,(p!I178+n!I178+m!I178+INDEX(Vt!H:H, MATCH(($A178+INDEX($D178*($24:$24-$35:$35), MATCH(I$50,$17:$17, 0))),Vt!$A:$A,0)+INDEX($B178+$D178*$24:$24, MATCH(I$50,$17:$17, 0))*2)))))","v":0},{"$f":"IF(($A178+INDEX($D178*($24:$24-$35:$35), MATCH(J$50,$17:$17, 0)))>$C$8,1000000000,(IF(OR(INDEX($22:$22-($A178-$D178*$35:$35), MATCH(J$50,$17:$17, 0))>0, INDEX($D178*$35:$35-$C178, MATCH(J$50,$17:$17, 0))>0),1000000000,(p!J178+n!J178+m!J178+INDEX(Vt!I:I, MATCH(($A178+INDEX($D178*($24:$24-$35:$35), MATCH(J$50,$17:$17, 0))),Vt!$A:$A,0)+INDEX($B178+$D178*$24:$24, MATCH(J$50,$17:$17, 0))*2)))))","v":0},{"$f":"IF(($A178+INDEX($D178*($24:$24-$35:$35), MATCH(K$50,$17:$17, 0)))>$C$8,1000000000,(IF(OR(INDEX($22:$22-($A178-$D178*$35:$35), MATCH(K$50,$17:$17, 0))>0, INDEX($D178*$35:$35-$C178, MATCH(K$50,$17:$17, 0))>0),1000000000,(p!K178+n!K178+m!K178+INDEX(Vt!J:J, MATCH(($A178+INDEX($D178*($24:$24-$35:$35), MATCH(K$50,$17:$17, 0))),Vt!$A:$A,0)+INDEX($B178+$D178*$24:$24, MATCH(K$50,$17:$17, 0))*2)))))","v":0},{"$f":"IF(($A178+INDEX($D178*($24:$24-$35:$35), MATCH(L$50,$17:$17, 0)))>$C$8,1000000000,(IF(OR(INDEX($22:$22-($A178-$D178*$35:$35), MATCH(L$50,$17:$17, 0))>0, INDEX($D178*$35:$35-$C178, MATCH(L$50,$17:$17, 0))>0),1000000000,(p!L178+n!L178+m!L178+INDEX(Vt!K:K, MATCH(($A178+INDEX($D178*($24:$24-$35:$35), MATCH(L$50,$17:$17, 0))),Vt!$A:$A,0)+INDEX($B178+$D178*$24:$24, MATCH(L$50,$17:$17, 0))*2)))))","v":0},{"$f":"IF(($A178+INDEX($D178*($24:$24-$35:$35), MATCH(M$50,$17:$17, 0)))>$C$8,1000000000,(IF(OR(INDEX($22:$22-($A178-$D178*$35:$35), MATCH(M$50,$17:$17, 0))>0, INDEX($D178*$35:$35-$C178, MATCH(M$50,$17:$17, 0))>0),1000000000,(p!M178+n!M178+m!M178+INDEX(Vt!L:L, MATCH(($A178+INDEX($D178*($24:$24-$35:$35), MATCH(M$50,$17:$17, 0))),Vt!$A:$A,0)+INDEX($B178+$D178*$24:$24, MATCH(M$50,$17:$17, 0))*2)))))","v":0},{"$f":"IF(($A178+INDEX($D178*($24:$24-$35:$35), MATCH(N$50,$17:$17, 0)))>$C$8,1000000000,(IF(OR(INDEX($22:$22-($A178-$D178*$35:$35), MATCH(N$50,$17:$17, 0))>0, INDEX($D178*$35:$35-$C178, MATCH(N$50,$17:$17, 0))>0),1000000000,(p!N178+n!N178+m!N178+INDEX(Vt!M:M, MATCH(($A178+INDEX($D178*($24:$24-$35:$35), MATCH(N$50,$17:$17, 0))),Vt!$A:$A,0)+INDEX($B178+$D178*$24:$24, MATCH(N$50,$17:$17, 0))*2)))))","v":0},{"$f":"IF(($A178+INDEX($D178*($24:$24-$35:$35), MATCH(O$50,$17:$17, 0)))>$C$8,1000000000,(IF(OR(INDEX($22:$22-($A178-$D178*$35:$35), MATCH(O$50,$17:$17, 0))>0, INDEX($D178*$35:$35-$C178, MATCH(O$50,$17:$17, 0))>0),1000000000,(p!O178+n!O178+m!O178+INDEX(Vt!N:N, MATCH(($A178+INDEX($D178*($24:$24-$35:$35), MATCH(O$50,$17:$17, 0))),Vt!$A:$A,0)+INDEX($B178+$D178*$24:$24, MATCH(O$50,$17:$17, 0))*2)))))","v":0}]
[10,9,1,0,0,{"$f":"IF(($A179+INDEX($D179*($24:$24-$35:$35), MATCH(F$50,$17:$17, 0)))>$C$8,1000000000,(IF(OR(INDEX($22:$22-($A179-$D179*$35:$35), MATCH(F$50,$17:$17, 0))>0, INDEX($D179*$35:$35-$C179, MATCH(F$50,$17:$17, 0))>0),1000000000,(p!F179+n!F179+m!F179+INDEX(Vt!E:E, MATCH(($A179+INDEX($D179*($24:$24-$35:$35), MATCH(F$50,$17:$17, 0))),Vt!$A:$A,0)+INDEX($B179+$D179*$24:$24, MATCH(F$50,$17:$17, 0))*2)))))","v":0},{"$f":"IF(($A179+INDEX($D179*($24:$24-$35:$35), MATCH(G$50,$17:$17, 0)))>$C$8,1000000000,(IF(OR(INDEX($22:$22-($A179-$D179*$35:$35), MATCH(G$50,$17:$17, 0))>0, INDEX($D179*$35:$35-$C179, MATCH(G$50,$17:$17, 0))>0),1000000000,(p!G179+n!G179+m!G179+INDEX(Vt!F:F, MATCH(($A179+INDEX($D179*($24:$24-$35:$35), MATCH(G$50,$17:$17, 0))),Vt!$A:$A,0)+INDEX($B179+$D179*$24:$24, MATCH(G$50,$17:$17, 0))*2)))))","v":0},{"$f":"IF(($A179+INDEX($D179*($24:$24-$35:$35), MATCH(H$50,$17:$17, 0)))>$C$8,1000000000,(IF(OR(INDEX($22:$22-($A179-$D179*$35:$35), MATCH(H$50,$17:$17, 0))>0, INDEX($D179*$35:$35-$C179, MATCH(H$50,$17:$17, 0))>0),1000000000,(p!H179+n!H179+m!H179+INDEX(Vt!G:G, MATCH(($A179+INDEX($D179*($24:$24-$35:$35), MATCH(H$50,$17:$17, 0))),Vt!$A:$A,0)+INDEX($B179+$D179*$24:$24, MATCH(H$50,$17:$17, 0))*2)))))","v":0},{"$f":"IF(($A179+INDEX($D179*($24:$24-$35:$35), MATCH(I$50,$17:$17, 0)))>$C$8,1000000000,(IF(OR(INDEX($22:$22-($A179-$D179*$35:$35), MATCH(I$50,$17:$17, 0))>0, INDEX($D179*$35:$35-$C179, MATCH(I$50,$17:$17, 0))>0),1000000000,(p!I179+n!I179+m!I179+INDEX(Vt!H:H, MATCH(($A179+INDEX($D179*($24:$24-$35:$35), MATCH(I$50,$17:$17, 0))),Vt!$A:$A,0)+INDEX($B179+$D179*$24:$24, MATCH(I$50,$17:$17, 0))*2)))))","v":0},{"$f":"IF(($A179+INDEX($D179*($24:$24-$35:$35), MATCH(J$50,$17:$17, 0)))>$C$8,1000000000,(IF(OR(INDEX($22:$22-($A179-$D179*$35:$35), MATCH(J$50,$17:$17, 0))>0, INDEX($D179*$35:$35-$C179, MATCH(J$50,$17:$17, 0))>0),1000000000,(p!J179+n!J179+m!J179+INDEX(Vt!I:I, MATCH(($A179+INDEX($D179*($24:$24-$35:$35), MATCH(J$50,$17:$17, 0))),Vt!$A:$A,0)+INDEX($B179+$D179*$24:$24, MATCH(J$50,$17:$17, 0))*2)))))","v":0},{"$f":"IF(($A179+INDEX($D179*($24:$24-$35:$35), MATCH(K$50,$17:$17, 0)))>$C$8,1000000000,(IF(OR(INDEX($22:$22-($A179-$D179*$35:$35), MATCH(K$50,$17:$17, 0))>0, INDEX($D179*$35:$35-$C179, MATCH(K$50,$17:$17, 0))>0),1000000000,(p!K179+n!K179+m!K179+INDEX(Vt!J:J, MATCH(($A179+INDEX($D179*($24:$24-$35:$35), MATCH(K$50,$17:$17, 0))),Vt!$A:$A,0)+INDEX($B179+$D179*$24:$24, MATCH(K$50,$17:$17, 0))*2)))))","v":0},{"$f":"IF(($A179+INDEX($D179*($24:$24-$35:$35), MATCH(L$50,$17:$17, 0)))>$C$8,1000000000,(IF(OR(INDEX($22:$22-($A179-$D179*$35:$35), MATCH(L$50,$17:$17, 0))>0, INDEX($D179*$35:$35-$C179, MATCH(L$50,$17:$17, 0))>0),1000000000,(p!L179+n!L179+m!L179+INDEX(Vt!K:K, MATCH(($A179+INDEX($D179*($24:$24-$35:$35), MATCH(L$50,$17:$17, 0))),Vt!$A:$A,0)+INDEX($B179+$D179*$24:$24, MATCH(L$50,$17:$17, 0))*2)))))","v":0},{"$f":"IF(($A179+INDEX($D179*($24:$24-$35:$35), MATCH(M$50,$17:$17, 0)))>$C$8,1000000000,(IF(OR(INDEX($22:$22-($A179-$D179*$35:$35), MATCH(M$50,$17:$17, 0))>0, INDEX($D179*$35:$35-$C179, MATCH(M$50,$17:$17, 0))>0),1000000000,(p!M179+n!M179+m!M179+INDEX(Vt!L:L, MATCH(($A179+INDEX($D179*($24:$24-$35:$35), MATCH(M$50,$17:$17, 0))),Vt!$A:$A,0)+INDEX($B179+$D179*$24:$24, MATCH(M$50,$17:$17, 0))*2)))))","v":0},{"$f":"IF(($A179+INDEX($D179*($24:$24-$35:$35), MATCH(N$50,$17:$17, 0)))>$C$8,1000000000,(IF(OR(INDEX($22:$22-($A179-$D179*$35:$35), MATCH(N$50,$17:$17, 0))>0, INDEX($D179*$35:$35-$C179, MATCH(N$50,$17:$17, 0))>0),1000000000,(p!N179+n!N179+m!N179+INDEX(Vt!M:M, MATCH(($A179+INDEX($D179*($24:$24-$35:$35), MATCH(N$50,$17:$17, 0))),Vt!$A:$A,0)+INDEX($B179+$D179*$24:$24, MATCH(N$50,$17:$17, 0))*2)))))","v":0},{"$f":"IF(($A179+INDEX($D179*($24:$24-$35:$35), MATCH(O$50,$17:$17, 0)))>$C$8,1000000000,(IF(OR(INDEX($22:$22-($A179-$D179*$35:$35), MATCH(O$50,$17:$17, 0))>0, INDEX($D179*$35:$35-$C179, MATCH(O$50,$17:$17, 0))>0),1000000000,(p!O179+n!O179+m!O179+INDEX(Vt!N:N, MATCH(($A179+INDEX($D179*($24:$24-$35:$35), MATCH(O$50,$17:$17, 0))),Vt!$A:$A,0)+INDEX($B179+$D179*$24:$24, MATCH(O$50,$17:$17, 0))*2)))))","v":0}]
[10,9,1,1,0,{"$f":"IF(($A180+INDEX($D180*($24:$24-$35:$35), MATCH(F$50,$17:$17, 0)))>$C$8,1000000000,(IF(OR(INDEX($22:$22-($A180-$D180*$35:$35), MATCH(F$50,$17:$17, 0))>0, INDEX($D180*$35:$35-$C180, MATCH(F$50,$17:$17, 0))>0),1000000000,(p!F180+n!F180+m!F180+INDEX(Vt!E:E, MATCH(($A180+INDEX($D180*($24:$24-$35:$35), MATCH(F$50,$17:$17, 0))),Vt!$A:$A,0)+INDEX($B180+$D180*$24:$24, MATCH(F$50,$17:$17, 0))*2)))))","v":0},{"$f":"IF(($A180+INDEX($D180*($24:$24-$35:$35), MATCH(G$50,$17:$17, 0)))>$C$8,1000000000,(IF(OR(INDEX($22:$22-($A180-$D180*$35:$35), MATCH(G$50,$17:$17, 0))>0, INDEX($D180*$35:$35-$C180, MATCH(G$50,$17:$17, 0))>0),1000000000,(p!G180+n!G180+m!G180+INDEX(Vt!F:F, MATCH(($A180+INDEX($D180*($24:$24-$35:$35), MATCH(G$50,$17:$17, 0))),Vt!$A:$A,0)+INDEX($B180+$D180*$24:$24, MATCH(G$50,$17:$17, 0))*2)))))","v":0},{"$f":"IF(($A180+INDEX($D180*($24:$24-$35:$35), MATCH(H$50,$17:$17, 0)))>$C$8,1000000000,(IF(OR(INDEX($22:$22-($A180-$D180*$35:$35), MATCH(H$50,$17:$17, 0))>0, INDEX($D180*$35:$35-$C180, MATCH(H$50,$17:$17, 0))>0),1000000000,(p!H180+n!H180+m!H180+INDEX(Vt!G:G, MATCH(($A180+INDEX($D180*($24:$24-$35:$35), MATCH(H$50,$17:$17, 0))),Vt!$A:$A,0)+INDEX($B180+$D180*$24:$24, MATCH(H$50,$17:$17, 0))*2)))))","v":0},{"$f":"IF(($A180+INDEX($D180*($24:$24-$35:$35), MATCH(I$50,$17:$17, 0)))>$C$8,1000000000,(IF(OR(INDEX($22:$22-($A180-$D180*$35:$35), MATCH(I$50,$17:$17, 0))>0, INDEX($D180*$35:$35-$C180, MATCH(I$50,$17:$17, 0))>0),1000000000,(p!I180+n!I180+m!I180+INDEX(Vt!H:H, MATCH(($A180+INDEX($D180*($24:$24-$35:$35), MATCH(I$50,$17:$17, 0))),Vt!$A:$A,0)+INDEX($B180+$D180*$24:$24, MATCH(I$50,$17:$17, 0))*2)))))","v":0},{"$f":"IF(($A180+INDEX($D180*($24:$24-$35:$35), MATCH(J$50,$17:$17, 0)))>$C$8,1000000000,(IF(OR(INDEX($22:$22-($A180-$D180*$35:$35), MATCH(J$50,$17:$17, 0))>0, INDEX($D180*$35:$35-$C180, MATCH(J$50,$17:$17, 0))>0),1000000000,(p!J180+n!J180+m!J180+INDEX(Vt!I:I, MATCH(($A180+INDEX($D180*($24:$24-$35:$35), MATCH(J$50,$17:$17, 0))),Vt!$A:$A,0)+INDEX($B180+$D180*$24:$24, MATCH(J$50,$17:$17, 0))*2)))))","v":0},{"$f":"IF(($A180+INDEX($D180*($24:$24-$35:$35), MATCH(K$50,$17:$17, 0)))>$C$8,1000000000,(IF(OR(INDEX($22:$22-($A180-$D180*$35:$35), MATCH(K$50,$17:$17, 0))>0, INDEX($D180*$35:$35-$C180, MATCH(K$50,$17:$17, 0))>0),1000000000,(p!K180+n!K180+m!K180+INDEX(Vt!J:J, MATCH(($A180+INDEX($D180*($24:$24-$35:$35), MATCH(K$50,$17:$17, 0))),Vt!$A:$A,0)+INDEX($B180+$D180*$24:$24, MATCH(K$50,$17:$17, 0))*2)))))","v":0},{"$f":"IF(($A180+INDEX($D180*($24:$24-$35:$35), MATCH(L$50,$17:$17, 0)))>$C$8,1000000000,(IF(OR(INDEX($22:$22-($A180-$D180*$35:$35), MATCH(L$50,$17:$17, 0))>0, INDEX($D180*$35:$35-$C180, MATCH(L$50,$17:$17, 0))>0),1000000000,(p!L180+n!L180+m!L180+INDEX(Vt!K:K, MATCH(($A180+INDEX($D180*($24:$24-$35:$35), MATCH(L$50,$17:$17, 0))),Vt!$A:$A,0)+INDEX($B180+$D180*$24:$24, MATCH(L$50,$17:$17, 0))*2)))))","v":0},{"$f":"IF(($A180+INDEX($D180*($24:$24-$35:$35), MATCH(M$50,$17:$17, 0)))>$C$8,1000000000,(IF(OR(INDEX($22:$22-($A180-$D180*$35:$35), MATCH(M$50,$17:$17, 0))>0, INDEX($D180*$35:$35-$C180, MATCH(M$50,$17:$17, 0))>0),1000000000,(p!M180+n!M180+m!M180+INDEX(Vt!L:L, MATCH(($A180+INDEX($D180*($24:$24-$35:$35), MATCH(M$50,$17:$17, 0))),Vt!$A:$A,0)+INDEX($B180+$D180*$24:$24, MATCH(M$50,$17:$17, 0))*2)))))","v":0},{"$f":"IF(($A180+INDEX($D180*($24:$24-$35:$35), MATCH(N$50,$17:$17, 0)))>$C$8,1000000000,(IF(OR(INDEX($22:$22-($A180-$D180*$35:$35), MATCH(N$50,$17:$17, 0))>0, INDEX($D180*$35:$35-$C180, MATCH(N$50,$17:$17, 0))>0),1000000000,(p!N180+n!N180+m!N180+INDEX(Vt!M:M, MATCH(($A180+INDEX($D180*($24:$24-$35:$35), MATCH(N$50,$17:$17, 0))),Vt!$A:$A,0)+INDEX($B180+$D180*$24:$24, MATCH(N$50,$17:$17, 0))*2)))))","v":0},{"$f":"IF(($A180+INDEX($D180*($24:$24-$35:$35), MATCH(O$50,$17:$17, 0)))>$C$8,1000000000,(IF(OR(INDEX($22:$22-($A180-$D180*$35:$35), MATCH(O$50,$17:$17, 0))>0, INDEX($D180*$35:$35-$C180, MATCH(O$50,$17:$17, 0))>0),1000000000,(p!O180+n!O180+m!O180+INDEX(Vt!N:N, MATCH(($A180+INDEX($D180*($24:$24-$35:$35), MATCH(O$50,$17:$17, 0))),Vt!$A:$A,0)+INDEX($B180+$D180*$24:$24, MATCH(O$50,$17:$17, 0))*2)))))","v":0}]
[10,10,0,0,0,{"$f":"IF(($A181+INDEX($D181*($24:$24-$35:$35), MATCH(F$50,$17:$17, 0)))>$C$8,1000000000,(IF(OR(INDEX($22:$22-($A181-$D181*$35:$35), MATCH(F$50,$17:$17, 0))>0, INDEX($D181*$35:$35-$C181, MATCH(F$50,$17:$17, 0))>0),1000000000,(p!F181+n!F181+m!F181+INDEX(Vt!E:E, MATCH(($A181+INDEX($D181*($24:$24-$35:$35), MATCH(F$50,$17:$17, 0))),Vt!$A:$A,0)+INDEX($B181+$D181*$24:$24, MATCH(F$50,$17:$17, 0))*2)))))","v":0},{"$f":"IF(($A181+INDEX($D181*($24:$24-$35:$35), MATCH(G$50,$17:$17, 0)))>$C$8,1000000000,(IF(OR(INDEX($22:$22-($A181-$D181*$35:$35), MATCH(G$50,$17:$17, 0))>0, INDEX($D181*$35:$35-$C181, MATCH(G$50,$17:$17, 0))>0),1000000000,(p!G181+n!G181+m!G181+INDEX(Vt!F:F, MATCH(($A181+INDEX($D181*($24:$24-$35:$35), MATCH(G$50,$17:$17, 0))),Vt!$A:$A,0)+INDEX($B181+$D181*$24:$24, MATCH(G$50,$17:$17, 0))*2)))))","v":0},{"$f":"IF(($A181+INDEX($D181*($24:$24-$35:$35), MATCH(H$50,$17:$17, 0)))>$C$8,1000000000,(IF(OR(INDEX($22:$22-($A181-$D181*$35:$35), MATCH(H$50,$17:$17, 0))>0, INDEX($D181*$35:$35-$C181, MATCH(H$50,$17:$17, 0))>0),1000000000,(p!H181+n!H181+m!H181+INDEX(Vt!G:G, MATCH(($A181+INDEX($D181*($24:$24-$35:$35), MATCH(H$50,$17:$17, 0))),Vt!$A:$A,0)+INDEX($B181+$D181*$24:$24, MATCH(H$50,$17:$17, 0))*2)))))","v":0},{"$f":"IF(($A181+INDEX($D181*($24:$24-$35:$35), MATCH(I$50,$17:$17, 0)))>$C$8,1000000000,(IF(OR(INDEX($22:$22-($A181-$D181*$35:$35), MATCH(I$50,$17:$17, 0))>0, INDEX($D181*$35:$35-$C181, MATCH(I$50,$17:$17, 0))>0),1000000000,(p!I181+n!I181+m!I181+INDEX(Vt!H:H, MATCH(($A181+INDEX($D181*($24:$24-$35:$35), MATCH(I$50,$17:$17, 0))),Vt!$A:$A,0)+INDEX($B181+$D181*$24:$24, MATCH(I$50,$17:$17, 0))*2)))))","v":0},{"$f":"IF(($A181+INDEX($D181*($24:$24-$35:$35), MATCH(J$50,$17:$17, 0)))>$C$8,1000000000,(IF(OR(INDEX($22:$22-($A181-$D181*$35:$35), MATCH(J$50,$17:$17, 0))>0, INDEX($D181*$35:$35-$C181, MATCH(J$50,$17:$17, 0))>0),1000000000,(p!J181+n!J181+m!J181+INDEX(Vt!I:I, MATCH(($A181+INDEX($D181*($24:$24-$35:$35), MATCH(J$50,$17:$17, 0))),Vt!$A:$A,0)+INDEX($B181+$D181*$24:$24, MATCH(J$50,$17:$17, 0))*2)))))","v":0},{"$f":"IF(($A181+INDEX($D181*($24:$24-$35:$35), MATCH(K$50,$17:$17, 0)))>$C$8,1000000000,(IF(OR(INDEX($22:$22-($A181-$D181*$35:$35), MATCH(K$50,$17:$17, 0))>0, INDEX($D181*$35:$35-$C181, MATCH(K$50,$17:$17, 0))>0),1000000000,(p!K181+n!K181+m!K181+INDEX(Vt!J:J, MATCH(($A181+INDEX($D181*($24:$24-$35:$35), MATCH(K$50,$17:$17, 0))),Vt!$A:$A,0)+INDEX($B181+$D181*$24:$24, MATCH(K$50,$17:$17, 0))*2)))))","v":0},{"$f":"IF(($A181+INDEX($D181*($24:$24-$35:$35), MATCH(L$50,$17:$17, 0)))>$C$8,1000000000,(IF(OR(INDEX($22:$22-($A181-$D181*$35:$35), MATCH(L$50,$17:$17, 0))>0, INDEX($D181*$35:$35-$C181, MATCH(L$50,$17:$17, 0))>0),1000000000,(p!L181+n!L181+m!L181+INDEX(Vt!K:K, MATCH(($A181+INDEX($D181*($24:$24-$35:$35), MATCH(L$50,$17:$17, 0))),Vt!$A:$A,0)+INDEX($B181+$D181*$24:$24, MATCH(L$50,$17:$17, 0))*2)))))","v":0},{"$f":"IF(($A181+INDEX($D181*($24:$24-$35:$35), MATCH(M$50,$17:$17, 0)))>$C$8,1000000000,(IF(OR(INDEX($22:$22-($A181-$D181*$35:$35), MATCH(M$50,$17:$17, 0))>0, INDEX($D181*$35:$35-$C181, MATCH(M$50,$17:$17, 0))>0),1000000000,(p!M181+n!M181+m!M181+INDEX(Vt!L:L, MATCH(($A181+INDEX($D181*($24:$24-$35:$35), MATCH(M$50,$17:$17, 0))),Vt!$A:$A,0)+INDEX($B181+$D181*$24:$24, MATCH(M$50,$17:$17, 0))*2)))))","v":0},{"$f":"IF(($A181+INDEX($D181*($24:$24-$35:$35), MATCH(N$50,$17:$17, 0)))>$C$8,1000000000,(IF(OR(INDEX($22:$22-($A181-$D181*$35:$35), MATCH(N$50,$17:$17, 0))>0, INDEX($D181*$35:$35-$C181, MATCH(N$50,$17:$17, 0))>0),1000000000,(p!N181+n!N181+m!N181+INDEX(Vt!M:M, MATCH(($A181+INDEX($D181*($24:$24-$35:$35), MATCH(N$50,$17:$17, 0))),Vt!$A:$A,0)+INDEX($B181+$D181*$24:$24, MATCH(N$50,$17:$17, 0))*2)))))","v":0},{"$f":"IF(($A181+INDEX($D181*($24:$24-$35:$35), MATCH(O$50,$17:$17, 0)))>$C$8,1000000000,(IF(OR(INDEX($22:$22-($A181-$D181*$35:$35), MATCH(O$50,$17:$17, 0))>0, INDEX($D181*$35:$35-$C181, MATCH(O$50,$17:$17, 0))>0),1000000000,(p!O181+n!O181+m!O181+INDEX(Vt!N:N, MATCH(($A181+INDEX($D181*($24:$24-$35:$35), MATCH(O$50,$17:$17, 0))),Vt!$A:$A,0)+INDEX($B181+$D181*$24:$24, MATCH(O$50,$17:$17, 0))*2)))))","v":0}]
[10,10,0,1,0,{"$f":"IF(($A182+INDEX($D182*($24:$24-$35:$35), MATCH(F$50,$17:$17, 0)))>$C$8,1000000000,(IF(OR(INDEX($22:$22-($A182-$D182*$35:$35), MATCH(F$50,$17:$17, 0))>0, INDEX($D182*$35:$35-$C182, MATCH(F$50,$17:$17, 0))>0),1000000000,(p!F182+n!F182+m!F182+INDEX(Vt!E:E, MATCH(($A182+INDEX($D182*($24:$24-$35:$35), MATCH(F$50,$17:$17, 0))),Vt!$A:$A,0)+INDEX($B182+$D182*$24:$24, MATCH(F$50,$17:$17, 0))*2)))))","v":0},{"$f":"IF(($A182+INDEX($D182*($24:$24-$35:$35), MATCH(G$50,$17:$17, 0)))>$C$8,1000000000,(IF(OR(INDEX($22:$22-($A182-$D182*$35:$35), MATCH(G$50,$17:$17, 0))>0, INDEX($D182*$35:$35-$C182, MATCH(G$50,$17:$17, 0))>0),1000000000,(p!G182+n!G182+m!G182+INDEX(Vt!F:F, MATCH(($A182+INDEX($D182*($24:$24-$35:$35), MATCH(G$50,$17:$17, 0))),Vt!$A:$A,0)+INDEX($B182+$D182*$24:$24, MATCH(G$50,$17:$17, 0))*2)))))","v":0},{"$f":"IF(($A182+INDEX($D182*($24:$24-$35:$35), MATCH(H$50,$17:$17, 0)))>$C$8,1000000000,(IF(OR(INDEX($22:$22-($A182-$D182*$35:$35), MATCH(H$50,$17:$17, 0))>0, INDEX($D182*$35:$35-$C182, MATCH(H$50,$17:$17, 0))>0),1000000000,(p!H182+n!H182+m!H182+INDEX(Vt!G:G, MATCH(($A182+INDEX($D182*($24:$24-$35:$35), MATCH(H$50,$17:$17, 0))),Vt!$A:$A,0)+INDEX($B182+$D182*$24:$24, MATCH(H$50,$17:$17, 0))*2)))))","v":0},{"$f":"IF(($A182+INDEX($D182*($24:$24-$35:$35), MATCH(I$50,$17:$17, 0)))>$C$8,1000000000,(IF(OR(INDEX($22:$22-($A182-$D182*$35:$35), MATCH(I$50,$17:$17, 0))>0, INDEX($D182*$35:$35-$C182, MATCH(I$50,$17:$17, 0))>0),1000000000,(p!I182+n!I182+m!I182+INDEX(Vt!H:H, MATCH(($A182+INDEX($D182*($24:$24-$35:$35), MATCH(I$50,$17:$17, 0))),Vt!$A:$A,0)+INDEX($B182+$D182*$24:$24, MATCH(I$50,$17:$17, 0))*2)))))","v":0},{"$f":"IF(($A182+INDEX($D182*($24:$24-$35:$35), MATCH(J$50,$17:$17, 0)))>$C$8,1000000000,(IF(OR(INDEX($22:$22-($A182-$D182*$35:$35), MATCH(J$50,$17:$17, 0))>0, INDEX($D182*$35:$35-$C182, MATCH(J$50,$17:$17, 0))>0),1000000000,(p!J182+n!J182+m!J182+INDEX(Vt!I:I, MATCH(($A182+INDEX($D182*($24:$24-$35:$35), MATCH(J$50,$17:$17, 0))),Vt!$A:$A,0)+INDEX($B182+$D182*$24:$24, MATCH(J$50,$17:$17, 0))*2)))))","v":0},{"$f":"IF(($A182+INDEX($D182*($24:$24-$35:$35), MATCH(K$50,$17:$17, 0)))>$C$8,1000000000,(IF(OR(INDEX($22:$22-($A182-$D182*$35:$35), MATCH(K$50,$17:$17, 0))>0, INDEX($D182*$35:$35-$C182, MATCH(K$50,$17:$17, 0))>0),1000000000,(p!K182+n!K182+m!K182+INDEX(Vt!J:J, MATCH(($A182+INDEX($D182*($24:$24-$35:$35), MATCH(K$50,$17:$17, 0))),Vt!$A:$A,0)+INDEX($B182+$D182*$24:$24, MATCH(K$50,$17:$17, 0))*2)))))","v":0},{"$f":"IF(($A182+INDEX($D182*($24:$24-$35:$35), MATCH(L$50,$17:$17, 0)))>$C$8,1000000000,(IF(OR(INDEX($22:$22-($A182-$D182*$35:$35), MATCH(L$50,$17:$17, 0))>0, INDEX($D182*$35:$35-$C182, MATCH(L$50,$17:$17, 0))>0),1000000000,(p!L182+n!L182+m!L182+INDEX(Vt!K:K, MATCH(($A182+INDEX($D182*($24:$24-$35:$35), MATCH(L$50,$17:$17, 0))),Vt!$A:$A,0)+INDEX($B182+$D182*$24:$24, MATCH(L$50,$17:$17, 0))*2)))))","v":0},{"$f":"IF(($A182+INDEX($D182*($24:$24-$35:$35), MATCH(M$50,$17:$17, 0)))>$C$8,1000000000,(IF(OR(INDEX($22:$22-($A182-$D182*$35:$35), MATCH(M$50,$17:$17, 0))>0, INDEX($D182*$35:$35-$C182, MATCH(M$50,$17:$17, 0))>0),1000000000,(p!M182+n!M182+m!M182+INDEX(Vt!L:L, MATCH(($A182+INDEX($D182*($24:$24-$35:$35), MATCH(M$50,$17:$17, 0))),Vt!$A:$A,0)+INDEX($B182+$D182*$24:$24, MATCH(M$50,$17:$17, 0))*2)))))","v":0},{"$f":"IF(($A182+INDEX($D182*($24:$24-$35:$35), MATCH(N$50,$17:$17, 0)))>$C$8,1000000000,(IF(OR(INDEX($22:$22-($A182-$D182*$35:$35), MATCH(N$50,$17:$17, 0))>0, INDEX($D182*$35:$35-$C182, MATCH(N$50,$17:$17, 0))>0),1000000000,(p!N182+n!N182+m!N182+INDEX(Vt!M:M, MATCH(($A182+INDEX($D182*($24:$24-$35:$35), MATCH(N$50,$17:$17, 0))),Vt!$A:$A,0)+INDEX($B182+$D182*$24:$24, MATCH(N$50,$17:$17, 0))*2)))))","v":0},{"$f":"IF(($A182+INDEX($D182*($24:$24-$35:$35), MATCH(O$50,$17:$17, 0)))>$C$8,1000000000,(IF(OR(INDEX($22:$22-($A182-$D182*$35:$35), MATCH(O$50,$17:$17, 0))>0, INDEX($D182*$35:$35-$C182, MATCH(O$50,$17:$17, 0))>0),1000000000,(p!O182+n!O182+m!O182+INDEX(Vt!N:N, MATCH(($A182+INDEX($D182*($24:$24-$35:$35), MATCH(O$50,$17:$17, 0))),Vt!$A:$A,0)+INDEX($B182+$D182*$24:$24, MATCH(O$50,$17:$17, 0))*2)))))","v":0}]

{"sheet":"Vt","index":7,"n_rows":182,"n_cols":15,"rows_kept":182,"cut":false,"hidden":false,"merged":[]}
[]
["Worksheet \"Vt\" "]
["Stochastic Equipment Replacement Problem"]
["Back To Input"]
[]
["Criteria"]
["Maximum number of stages, T",null,{"$f":"Input!$C7","v":0}]
["Maximum number of equipment, rmax",null,{"$f":"Input!$C8","v":0}]
["Number of available equipment at stage 1",null,{"$f":"Input!$C9","v":0}]
["Total internal transaction costs",null,{"$f":"Input!$C10","v":0}]
["Initial operating cost of new equipment, ṅ",null,{"$f":"Input!$C11","v":0}]
["Efficiency index of new equipment per stage, η",null,{"$f":"Input!$C12","v":0}]
[]
["Input Display Table",{"$nulls":9},"Edit Next"]
[]
["Stage"]
["Stage, t",1,{"$f":"B$17+1","v":2},{"$f":"C$17+1","v":3},4,5,6,7,8,9,10]
["<Description>",{"$f":"Input!B18","v":0},{"$f":"Input!C18","v":0},{"$f":"Input!D18","v":0},{"$f":"Input!E18","v":0},{"$f":"Input!F18","v":0},{"$f":"Input!G18","v":0},{"$f":"Input!H18","v":0},{"$f":"Input!I18","v":0},{"$f":"Input!J18","v":0},{"$f":"Input!K18","v":0}]
["Demand"]
["Demand on the number of equipment, at",{"$f":"Input!B20","v":0},{"$f":"Input!C20","v":0},{"$f":"Input!D20","v":0},{"$f":"Input!E20","v":0},{"$f":"Input!F20","v":0},{"$f":"Input!G20","v":0},{"$f":"Input!H20","v":0},{"$f":"Input!I20","v":0},{"$f":"Input!J20","v":0},{"$f":"Input!K20","v":0}]
["Exogenous change to demand, ât",{"$f":"Input!B21","v":0},{"$f":"Input!C21","v":0},{"$f":"Input!D21","v":0},{"$f":"Input!E21","v":0},{"$f":"Input!F21","v":0},{"$f":"Input!G21","v":0},{"$f":"Input!H21","v":0},{"$f":"Input!I21","v":0},{"$f":"Input!J21","v":0},{"$f":"Input!K21","v":0}]
["Final demand on the number of equipment, ãt",{"$f":"SUM(B$20:B$21)","v":0},{"$f":"SUM(C$20:C$21)","v":0},0,0,0,0,0,0,0,0]
["Data for new equipment"]
["Number of equipment purchased, xtN",{"$f":"Input!B24","v":0},{"$f":"Input!C24","v":0},{"$f":"Input!D24","v":0},{"$f":"Input!E24","v":0},{"$f":"Input!F24","v":0},{"$f":"Input!G24","v":0},{"$f":"Input!H24","v":0},{"$f":"Input!I24","v":0},{"$f":"Input!J24","v":0},{"$f":"Input!K24","v":0}]
["Purchase price, ptN",{"$f":"Input!B25","v":0},{"$f":"Input!C25","v":0},{"$f":"Input!D25","v":0},{"$f":"Input!E25","v":0},{"$f":"Input!F25","v":0},{"$f":"Input!G25","v":0},{"$f":"Input!H25","v":0},{"$f":"Input!I25","v":0},{"$f":"Input!J25","v":0},{"$f":"Input!K25","v":0}]
["Fluctuation in purchase price, p̂tN",{"$f":"Input!B26","v":0},{"$f":"Input!C26","v":0},{"$f":"Input!D26","v":0},{"$f":"Input!E26","v":0},{"$f":"Input!F26","v":0},{"$f":"Input!G26","v":0},{"$f":"Input!H26","v":0},{"$f":"Input!I26","v":0},{"$f":"Input!J26","v":0},{"$f":"Input!K26","v":0}]
["Final purchase price per unit, p̃tN",{"$f":"SUM(B$25:B$26)","v":0},{"$f":"SUM(C$25:C$26)","v":0},0,0,0,0,0,0,0,0]
["Operating cost of new equipment, ntN",{"$f":"Input!B28","v":0},{"$f":"Input!C28","v":0},{"$f":"Input!D28","v":0},{"$f":"Input!E28","v":0},{"$f":"Input!F28","v":0},{"$f":"Input!G28","v":0},{"$f":"Input!H28","v":0},{"$f":"Input!I28","v":0},{"$f":"Input!J28","v":0},{"$f":"Input!K28","v":0}]
["Change in operating cost, n̂tN",{"$f":"Input!B29","v":0},{"$f":"Input!C29","v":0},{"$f":"Input!D29","v":0},{"$f":"Input!E29","v":0},{"$f":"Input!F29","v":0},{"$f":"Input!G29","v":0},{"$f":"Input!H29","v":0},{"$f":"Input!I29","v":0},{"$f":"Input!J29","v":0},{"$f":"Input!K29","v":0}]
["Final operating cost, ñtN",{"$f":"SUM(B$28:B$29)","v":0},{"$f":"SUM(C$28:C$29)","v":0},0,0,0,0,0,0,0,0]
["Maintenance cost of new equipment, mtN",{"$f":"Input!B31","v":0},{"$f":"Input!C31","v":0},{"$f":"Input!D31","v":0},{"$f":"Input!E31","v":0},{"$f":"Input!F31","v":0},{"$f":"Input!G31","v":0},{"$f":"Input!H31","v":0},{"$f":"Input!I31","v":0},{"$f":"Input!J31","v":0},{"$f":"Input!K31","v":0}]
["Change in maintenance cost, m̂tN",{"$f":"Input!B32","v":0},{"$f":"Input!C32","v":0},{"$f":"Input!D32","v":0},{"$f":"Input!E32","v":0},{"$f":"Input!F32","v":0},{"$f":"Input!G32","v":0},{"$f":"Input!H32","v":0},{"$f":"Input!I32","v":0},{"$f":"Input!J32","v":0},{"$f":"Input!K32","v":0}]
["Final maintenance cost, m̃tN",{"$f":"SUM(B$31:B$32)","v":0},{"$f":"SUM(C$31:C$32)","v":0},0,0,0,0,0,0,0,0]
["Data for old equipment"]
["Number of equipment sold, xtO",{"$f":"Input!B35","v":0},{"$f":"Input!C35","v":0},{"$f":"Input!D35","v":0},{"$f":"Input!E35","v":0},{"$f":"Input!F35","v":0},{"$f":"Input!G35","v":0},{"$f":"Input!H35","v":0},{"$f":"Input!I35","v":0},{"$f":"Input!J35","v":0},{"$f":"Input!K35","v":0}]
["Selling price, qtO",{"$f":"Input!B36","v":0},{"$f":"Input!C36","v":0},{"$f":"Input!D36","v":0},{"$f":"Input!E36","v":0},{"$f":"Input!F36","v":0},{"$f":"Input!G36","v":0},{"$f":"Input!H36","v":0},{"$f":"Input!I36","v":0},{"$f":"Input!J36","v":0},{"$f":"Input!K36","v":0}]
["Salvage value, gtO",{"$f":"Input!B37","v":0},{"$f":"Input!C37","v":0},{"$f":"Input!D37","v":0},{"$f":"Input!E37","v":0},{"$f":"Input!F37","v":0},{"$f":"Input!G37","v":0},{"$f":"Input!H37","v":0},{"$f":"Input!I37","v":0},{"$f":"Input!J37","v":0},{"$f":"Input!K37","v":0}]
["Probability of equipment failure, ztO",{"$f":"Input!B38","v":0},{"$f":"Input!C38","v":0},{"$f":"Input!D38","v":0},{"$f":"Input!E38","v":0},{"$f":"Input!F38","v":0},{"$f":"Input!G38","v":0},{"$f":"Input!H38","v":0},{"$f":"Input!I38","v":0},{"$f":"Input!J38","v":0},{"$f":"Input!K38","v":0}]
["Fluctuation in selling price, p̂tO",{"$f":"Input!B39","v":0},{"$f":"Input!C39","v":0},{"$f":"Input!D39","v":0},{"$f":"Input!E39","v":0},{"$f":"Input!F39","v":0},{"$f":"Input!G39","v":0},{"$f":"Input!H39","v":0},{"$f":"Input!I39","v":0},{"$f":"Input!J39","v":0},{"$f":"Input!K39","v":0}]
["Final selling price per unit, p̃tO",{"$f":"((1-B$38)*B$36+B$38*B$37)+B$39","v":0},{"$f":"((1-C$38)*C$36+C$38*C$37)+C$39","v":0},0,0,0,0,0,0,0,0]
["Operating cost of old equipment, ntO",{"$f":"Input!B41","v":0},{"$f":"Input!C41","v":0},{"$f":"Input!D41","v":0},{"$f":"Input!E41","v":0},{"$f":"Input!F41","v":0},{"$f":"Input!G41","v":0},{"$f":"Input!H41","v":0},{"$f":"Input!I41","v":0},{"$f":"Input!J41","v":0},{"$f":"Input!K41","v":0}]
["Change in operating cost, n̂tO",{"$f":"Input!B42","v":0},{"$f":"Input!C42","v":0},{"$f":"Input!D42","v":0},{"$f":"Input!E42","v":0},{"$f":"Input!F42","v":0},{"$f":"Input!G42","v":0},{"$f":"Input!H42","v":0},{"$f":"Input!I42","v":0},{"$f":"Input!J42","v":0},{"$f":"Input!K42","v":0}]
["Final operating cost, ñtO",{"$f":"SUM(B$41:B$42)","v":0},{"$f":"SUM(C$41:C$42)","v":0},0,0,0,0,0,0,0,0]
["Maintenance cost of old equipment, mtO",{"$f":"Input!B44","v":0},{"$f":"Input!C44","v":0},{"$f":"Input!D44","v":0},{"$f":"Input!E44","v":0},{"$f":"Input!F44","v":0},{"$f":"Input!G44","v":0},{"$f":"Input!H44","v":0},{"$f":"Input!I44","v":0},{"$f":"Input!J44","v":0},{"$f":"Input!K44","v":0}]
["Change in maintenance cost, m̂tO",{"$f":"Input!B45","v":0},{"$f":"Input!C45","v":0},{"$f":"Input!D45","v":0},{"$f":"Input!E45","v":0},{"$f":"Input!F45","v":0},{"$f":"Input!G45","v":0},{"$f":"Input!H45","v":0},{"$f":"Input!I45","v":0},{"$f":"Input!J45","v":0},{"$f":"Input!K45","v":0}]
["Final maintenance cost, m̃tO",{"$f":"SUM(B$44:B$45)","v":0},{"$f":"SUM(C$44:C$45)","v":0},0,0,0,0,0,0,0,0]
[]
["Stage Computations Table"]
[]
["Total number of equipment before decision, rt","rtN","rtO","Min",{"$f":"$C$7+1","v":1},{"$f":"E$50-1","v":0},{"$f":"F$50-1","v":0},0,0,0,0,0,0,0,0]
[0,0,0,"Min",{"$f":"MIN(Ct!E51:E52)","v":0},{"$f":"MIN(Ct!F51:F52)","v":0},{"$f":"MIN(Ct!G51:G52)","v":0},{"$f":"MIN(Ct!H51:H52)","v":0},{"$f":"MIN(Ct!I51:I52)","v":0},{"$f":"MIN(Ct!J51:J52)","v":0},{"$f":"MIN(Ct!K51:K52)","v":0},{"$f":"MIN(Ct!L51:L52)","v":0},{"$f":"MIN(Ct!M51:M52)","v":0},{"$f":"MIN(Ct!N51:N52)","v":0},{"$f":"MIN(Ct!O51:O52)","v":0}]
[0,0,0,null,{"$f":"MIN(Ct!E52:E53)","v":0},{"$f":"MIN(Ct!F52:F53)","v":0},{"$f":"MIN(Ct!G52:G53)","v":0},{"$f":"MIN(Ct!H52:H53)","v":0},{"$f":"MIN(Ct!I52:I53)","v":0},{"$f":"MIN(Ct!J52:J53)","v":0},{"$f":"MIN(Ct!K52:K53)","v":0},{"$f":"MIN(Ct!L52:L53)","v":0},{"$f":"MIN(Ct!M52:M53)","v":0},{"$f":"MIN(Ct!N52:N53)","v":0},{"$f":"MIN(Ct!O52:O53)","v":0}]
[1,0,1,"Min",{"$f":"MIN(Ct!E53:E54)","v":0},{"$f":"MIN(Ct!F53:F54)","v":0},{"$f":"MIN(Ct!G53:G54)","v":0},{"$f":"MIN(Ct!H53:H54)","v":0},{"$f":"MIN(Ct!I53:I54)","v":0},{"$f":"MIN(Ct!J53:J54)","v":0},{"$f":"MIN(Ct!K53:K54)","v":0},{"$f":"MIN(Ct!L53:L54)","v":0},{"$f":"MIN(Ct!M53:M54)","v":0},{"$f":"MIN(Ct!N53:N54)","v":0},{"$f":"MIN(Ct!O53:O54)","v":0}]
[1,0,1,null,{"$f":"MIN(Ct!E54:E55)","v":0},{"$f":"MIN(Ct!F54:F55)","v":0},{"$f":"MIN(Ct!G54:G55)","v":0},{"$f":"MIN(Ct!H54:H55)","v":0},{"$f":"MIN(Ct!I54:I55)","v":0},{"$f":"MIN(Ct!J54:J55)","v":0},{"$f":"MIN(Ct!K54:K55)","v":0},{"$f":"MIN(Ct!L54:L55)","v":0},{"$f":"MIN(Ct!M54:M55)","v":0},{"$f":"MIN(Ct!N54:N55)","v":0},{"$f":"MIN(Ct!O54:O55)","v":0}]
[1,1,0,"Min",{"$f":"MIN(Ct!E55:E56)","v":0},{"$f":"MIN(Ct!F55:F56)","v":0},{"$f":"MIN(Ct!G55:G56)","v":0},{"$f":"MIN(Ct!H55:H56)","v":0},{"$f":"MIN(Ct!I55:I56)","v":0},{"$f":"MIN(Ct!J55:J56)","v":0},{"$f":"MIN(Ct!K55:K56)","v":0},{"$f":"MIN(Ct!L55:L56)","v":0},{"$f":"MIN(Ct!M55:M56)","v":0},{"$f":"MIN(Ct!N55:N56)","v":0},{"$f":"MIN(Ct!O55:O56)","v":0}]
[1,1,0,null,{"$f":"MIN(Ct!E56:E57)","v":0},{"$f":"MIN(Ct!F56:F57)","v":0},{"$f":"MIN(Ct!G56:G57)","v":0},{"$f":"MIN(Ct!H56:H57)","v":0},{"$f":"MIN(Ct!I56:I57)","v":0},{"$f":"MIN(Ct!J56:J57)","v":0},{"$f":"MIN(Ct!K56:K57)","v":0},{"$f":"MIN(Ct!L56:L57)","v":0},{"$f":"MIN(Ct!M56:M57)","v":0},{"$f":"MIN(Ct!N56:N57)","v":0},{"$f":"MIN(Ct!O56:O57)","v":0}]
[2,0,2,"Min",{"$f":"MIN(Ct!E57:E58)","v":0},{"$f":"MIN(Ct!F57:F58)","v":0},{"$f":"MIN(Ct!G57:G58)","v":0},{"$f":"MIN(Ct!H57:H58)","v":0},{"$f":"MIN(Ct!I57:I58)","v":0},{"$f":"MIN(Ct!J57:J58)","v":0},{"$f":"MIN(Ct!K57:K58)","v":0},{"$f":"MIN(Ct!L57:L58)","v":0},{"$f":"MIN(Ct!M57:M58)","v":0},{"$f":"MIN(Ct!N57:N58)","v":0},{"$f":"MIN(Ct!O57:O58)","v":0}]
[2,0,2,null,{"$f":"MIN(Ct!E58:E59)","v":0},{"$f":"MIN(Ct!F58:F59)","v":0},{"$f":"MIN(Ct!G58:G59)","v":0},{"$f":"MIN(Ct!H58:H59)","v":0},{"$f":"MIN(Ct!I58:I59)","v":0},{"$f":"MIN(Ct!J58:J59)","v":0},{"$f":"MIN(Ct!K58:K59)","v":0},{"$f":"MIN(Ct!L58:L59)","v":0},{"$f":"MIN(Ct!M58:M59)","v":0},{"$f":"MIN(Ct!N58:N59)","v":0},{"$f":"MIN(Ct!O58:O59)","v":0}]
[2,1,1,"Min",{"$f":"MIN(Ct!E59:E60)","v":0},{"$f":"MIN(Ct!F59:F60)","v":0},{"$f":"MIN(Ct!G59:G60)","v":0},{"$f":"MIN(Ct!H59:H60)","v":0},{"$f":"MIN(Ct!I59:I60)","v":0},{"$f":"MIN(Ct!J59:J60)","v":0},{"$f":"MIN(Ct!K59:K60)","v":0},{"$f":"MIN(Ct!L59:L60)","v":0},{"$f":"MIN(Ct!M59:M60)","v":0},{"$f":"MIN(Ct!N59:N60)","v":0},{"$f":"MIN(Ct!O59:O60)","v":0}]
[2,1,1,null,{"$f":"MIN(Ct!E60:E61)","v":0},{"$f":"MIN(Ct!F60:F61)","v":0},{"$f":"MIN(Ct!G60:G61)","v":0},{"$f":"MIN(Ct!H60:H61)","v":0},{"$f":"MIN(Ct!I60:I61)","v":0},{"$f":"MIN(Ct!J60:J61)","v":0},{"$f":"MIN(Ct!K60:K61)","v":0},{"$f":"MIN(Ct!L60:L61)","v":0},{"$f":"MIN(Ct!M60:M61)","v":0},{"$f":"MIN(Ct!N60:N61)","v":0},{"$f":"MIN(Ct!O60:O61)","v":0}]
[2,2,0,"Min",{"$f":"MIN(Ct!E61:E62)","v":0},{"$f":"MIN(Ct!F61:F62)","v":0},{"$f":"MIN(Ct!G61:G62)","v":0},{"$f":"MIN(Ct!H61:H62)","v":0},{"$f":"MIN(Ct!I61:I62)","v":0},{"$f":"MIN(Ct!J61:J62)","v":0},{"$f":"MIN(Ct!K61:K62)","v":0},{"$f":"MIN(Ct!L61:L62)","v":0},{"$f":"MIN(Ct!M61:M62)","v":0},{"$f":"MIN(Ct!N61:N62)","v":0},{"$f":"MIN(Ct!O61:O62)","v":0}]
[2,2,0,null,{"$f":"MIN(Ct!E62:E63)","v":0},{"$f":"MIN(Ct!F62:F63)","v":0},{"$f":"MIN(Ct!G62:G63)","v":0},{"$f":"MIN(Ct!H62:H63)","v":0},{"$f":"MIN(Ct!I62:I63)","v":0},{"$f":"MIN(Ct!J62:J63)","v":0},{"$f":"MIN(Ct!K62:K63)","v":0},{"$f":"MIN(Ct!L62:L63)","v":0},{"$f":"MIN(Ct!M62:M63)","v":0},{"$f":"MIN(Ct!N62:N63)","v":0},{"$f":"MIN(Ct!O62:O63)","v":0}]
[3,0,3,"Min",{"$f":"MIN(Ct!E63:E64)","v":0},{"$f":"MIN(Ct!F63:F64)","v":0},{"$f":"MIN(Ct!G63:G64)","v":0},{"$f":"MIN(Ct!H63:H64)","v":0},{"$f":"MIN(Ct!I63:I64)","v":0},{"$f":"MIN(Ct!J63:J64)","v":0},{"$f":"MIN(Ct!K63:K64)","v":0},{"$f":"MIN(Ct!L63:L64)","v":0},{"$f":"MIN(Ct!M63:M64)","v":0},{"$f":"MIN(Ct!N63:N64)","v":0},{"$f":"MIN(Ct!O63:O64)","v":0}]
[3,0,3,null,{"$f":"MIN(Ct!E64:E65)","v":0},{"$f":"MIN(Ct!F64:F65)","v":0},{"$f":"MIN(Ct!G64:G65)","v":0},{"$f":"MIN(Ct!H64:H65)","v":0},{"$f":"MIN(Ct!I64:I65)","v":0},{"$f":"MIN(Ct!J64:J65)","v":0},{"$f":"MIN(Ct!K64:K65)","v":0},{"$f":"MIN(Ct!L64:L65)","v":0},{"$f":"MIN(Ct!M64:M65)","v":0},{"$f":"MIN(Ct!N64:N65)","v":0},{"$f":"MIN(Ct!O64:O65)","v":0}]
[3,1,2,"Min",{"$f":"MIN(Ct!E65:E66)","v":0},{"$f":"MIN(Ct!F65:F66)","v":0},{"$f":"MIN(Ct!G65:G66)","v":0},{"$f":"MIN(Ct!H65:H66)","v":0},{"$f":"MIN(Ct!I65:I66)","v":0},{"$f":"MIN(Ct!J65:J66)","v":0},{"$f":"MIN(Ct!K65:K66)","v":0},{"$f":"MIN(Ct!L65:L66)","v":0},{"$f":"MIN(Ct!M65:M66)","v":0},{"$f":"MIN(Ct!N65:N66)","v":0},{"$f":"MIN(Ct!O65:O66)","v":0}]
[3,1,2,null,{"$f":"MIN(Ct!E66:E67)","v":0},{"$f":"MIN(Ct!F66:F67)","v":0},{"$f":"MIN(Ct!G66:G67)","v":0},{"$f":"MIN(Ct!H66:H67)","v":0},{"$f":"MIN(Ct!I66:I67)","v":0},{"$f":"MIN(Ct!J66:J67)","v":0},{"$f":"MIN(Ct!K66:K67)","v":0},{"$f":"MIN(Ct!L66:L67)","v":0},{"$f":"MIN(Ct!M66:M67)","v":0},{"$f":"MIN(Ct!N66:N67)","v":0},{"$f":"MIN(Ct!O66:O67)","v":0}]
[3,2,1,"Min",{"$f":"MIN(Ct!E67:E68)","v":0},{"$f":"MIN(Ct!F67:F68)","v":0},{"$f":"MIN(Ct!G67:G68)","v":0},{"$f":"MIN(Ct!H67:H68)","v":0},{"$f":"MIN(Ct!I67:I68)","v":0},{"$f":"MIN(Ct!J67:J68)","v":0},{"$f":"MIN(Ct!K67:K68)","v":0},{"$f":"MIN(Ct!L67:L68)","v":0},{"$f":"MIN(Ct!M67:M68)","v":0},{"$f":"MIN(Ct!N67:N68)","v":0},{"$f":"MIN(Ct!O67:O68)","v":0}]
[3,2,1,null,{"$f":"MIN(Ct!E68:E69)","v":0},{"$f":"MIN(Ct!F68:F69)","v":0},{"$f":"MIN(Ct!G68:G69)","v":0},{"$f":"MIN(Ct!H68:H69)","v":0},{"$f":"MIN(Ct!I68:I69)","v":0},{"$f":"MIN(Ct!J68:J69)","v":0},{"$f":"MIN(Ct!K68:K69)","v":0},{"$f":"MIN(Ct!L68:L69)","v":0},{"$f":"MIN(Ct!M68:M69)","v":0},{"$f":"MIN(Ct!N68:N69)","v":0},{"$f":"MIN(Ct!O68:O69)","v":0}]
[3,3,0,"Min",{"$f":"MIN(Ct!E69:E70)","v":0},{"$f":"MIN(Ct!F69:F70)","v":0},{"$f":"MIN(Ct!G69:G70)","v":0},{"$f":"MIN(Ct!H69:H70)","v":0},{"$f":"MIN(Ct!I69:I70)","v":0},{"$f":"MIN(Ct!J69:J70)","v":0},{"$f":"MIN(Ct!K69:K70)","v":0},{"$f":"MIN(Ct!L69:L70)","v":0},{"$f":"MIN(Ct!M69:M70)","v":0},{"$f":"MIN(Ct!N69:N70)","v":0},{"$f":"MIN(Ct!O69:O70)","v":0}]
[3,3,0,null,{"$f":"MIN(Ct!E70:E71)","v":0},{"$f":"MIN(Ct!F70:F71)","v":0},{"$f":"MIN(Ct!G70:G71)","v":0},{"$f":"MIN(Ct!H70:H71)","v":0},{"$f":"MIN(Ct!I70:I71)","v":0},{"$f":"MIN(Ct!J70:J71)","v":0},{"$f":"MIN(Ct!K70:K71)","v":0},{"$f":"MIN(Ct!L70:L71)","v":0},{"$f":"MIN(Ct!M70:M71)","v":0},{"$f":"MIN(Ct!N70:N71)","v":0},{"$f":"MIN(Ct!O70:O71)","v":0}]
[4,0,4,"Min",{"$f":"MIN(Ct!E71:E72)","v":0},{"$f":"MIN(Ct!F71:F72)","v":0},{"$f":"MIN(Ct!G71:G72)","v":0},{"$f":"MIN(Ct!H71:H72)","v":0},{"$f":"MIN(Ct!I71:I72)","v":0},{"$f":"MIN(Ct!J71:J72)","v":0},{"$f":"MIN(Ct!K71:K72)","v":0},{"$f":"MIN(Ct!L71:L72)","v":0},{"$f":"MIN(Ct!M71:M72)","v":0},{"$f":"MIN(Ct!N71:N72)","v":0},{"$f":"MIN(Ct!O71:O72)","v":0}]
[4,0,4,null,{"$f":"MIN(Ct!E72:E73)","v":0},{"$f":"MIN(Ct!F72:F73)","v":0},{"$f":"MIN(Ct!G72:G73)","v":0},{"$f":"MIN(Ct!H72:H73)","v":0},{"$f":"MIN(Ct!I72:I73)","v":0},{"$f":"MIN(Ct!J72:J73)","v":0},{"$f":"MIN(Ct!K72:K73)","v":0},{"$f":"MIN(Ct!L72:L73)","v":0},{"$f":"MIN(Ct!M72:M73)","v":0},{"$f":"MIN(Ct!N72:N73)","v":0},{"$f":"MIN(Ct!O72:O73)","v":0}]
[4,1,3,"Min",{"$f":"MIN(Ct!E73:E74)","v":0},{"$f":"MIN(Ct!F73:F74)","v":0},{"$f":"MIN(Ct!G73:G74)","v":0},{"$f":"MIN(Ct!H73:H74)","v":0},{"$f":"MIN(Ct!I73:I74)","v":0},{"$f":"MIN(Ct!J73:J74)","v":0},{"$f":"MIN(Ct!K73:K74)","v":0},{"$f":"MIN(Ct!L73:L74)","v":0},{"$f":"MIN(Ct!M73:M74)","v":0},{"$f":"MIN(Ct!N73:N74)","v":0},{"$f":"MIN(Ct!O73:O74)","v":0}]
[4,1,3,null,{"$f":"MIN(Ct!E74:E75)","v":0},{"$f":"MIN(Ct!F74:F75)","v":0},{"$f":"MIN(Ct!G74:G75)","v":0},{"$f":"MIN(Ct!H74:H75)","v":0},{"$f":"MIN(Ct!I74:I75)","v":0},{"$f":"MIN(Ct!J74:J75)","v":0},{"$f":"MIN(Ct!K74:K75)","v":0},{"$f":"MIN(Ct!L74:L75)","v":0},{"$f":"MIN(Ct!M74:M75)","v":0},{"$f":"MIN(Ct!N74:N75)","v":0},{"$f":"MIN(Ct!O74:O75)","v":0}]
[4,2,2,"Min",{"$f":"MIN(Ct!E75:E76)","v":0},{"$f":"MIN(Ct!F75:F76)","v":0},{"$f":"MIN(Ct!G75:G76)","v":0},{"$f":"MIN(Ct!H75:H76)","v":0},{"$f":"MIN(Ct!I75:I76)","v":0},{"$f":"MIN(Ct!J75:J76)","v":0},{"$f":"MIN(Ct!K75:K76)","v":0},{"$f":"MIN(Ct!L75:L76)","v":0},{"$f":"MIN(Ct!M75:M76)","v":0},{"$f":"MIN(Ct!N75:N76)","v":0},{"$f":"MIN(Ct!O75:O76)","v":0}]
[4,2,2,null,{"$f":"MIN(Ct!E76:E77)","v":0},{"$f":"MIN(Ct!F76:F77)","v":0},{"$f":"MIN(Ct!G76:G77)","v":0},{"$f":"MIN(Ct!H76:H77)","v":0},{"$f":"MIN(Ct!I76:I77)","v":0},{"$f":"MIN(Ct!J76:J77)","v":0},{"$f":"MIN(Ct!K76:K77)","v":0},{"$f":"MIN(Ct!L76:L77)","v":0},{"$f":"MIN(Ct!M76:M77)","v":0},{"$f":"MIN(Ct!N76:N77)","v":0},{"$f":"MIN(Ct!O76:O77)","v":0}]
[4,3,1,"Min",{"$f":"MIN(Ct!E77:E78)","v":0},{"$f":"MIN(Ct!F77:F78)","v":0},{"$f":"MIN(Ct!G77:G78)","v":0},{"$f":"MIN(Ct!H77:H78)","v":0},{"$f":"MIN(Ct!I77:I78)","v":0},{"$f":"MIN(Ct!J77:J78)","v":0},{"$f":"MIN(Ct!K77:K78)","v":0},{"$f":"MIN(Ct!L77:L78)","v":0},{"$f":"MIN(Ct!M77:M78)","v":0},{"$f":"MIN(Ct!N77:N78)","v":0},{"$f":"MIN(Ct!O77:O78)","v":0}]
[4,3,1,null,{"$f":"MIN(Ct!E78:E79)","v":0},{"$f":"MIN(Ct!F78:F79)","v":0},{"$f":"MIN(Ct!G78:G79)","v":0},{"$f":"MIN(Ct!H78:H79)","v":0},{"$f":"MIN(Ct!I78:I79)","v":0},{"$f":"MIN(Ct!J78:J79)","v":0},{"$f":"MIN(Ct!K78:K79)","v":0},{"$f":"MIN(Ct!L78:L79)","v":0},{"$f":"MIN(Ct!M78:M79)","v":0},{"$f":"MIN(Ct!N78:N79)","v":0},{"$f":"MIN(Ct!O78:O79)","v":0}]
[4,4,0,"Min",{"$f":"MIN(Ct!E79:E80)","v":0},{"$f":"MIN(Ct!F79:F80)","v":0},{"$f":"MIN(Ct!G79:G80)","v":0},{"$f":"MIN(Ct!H79:H80)","v":0},{"$f":"MIN(Ct!I79:I80)","v":0},{"$f":"MIN(Ct!J79:J80)","v":0},{"$f":"MIN(Ct!K79:K80)","v":0},{"$f":"MIN(Ct!L79:L80)","v":0},{"$f":"MIN(Ct!M79:M80)","v":0},{"$f":"MIN(Ct!N79:N80)","v":0},{"$f":"MIN(Ct!O79:O80)","v":0}]
[4,4,0,null,{"$f":"MIN(Ct!E80:E81)","v":0},{"$f":"MIN(Ct!F80:F81)","v":0},{"$f":"MIN(Ct!G80:G81)","v":0},{"$f":"MIN(Ct!H80:H81)","v":0},{"$f":"MIN(Ct!I80:I81)","v":0},{"$f":"MIN(Ct!J80:J81)","v":0},{"$f":"MIN(Ct!K80:K81)","v":0},{"$f":"MIN(Ct!L80:L81)","v":0},{"$f":"MIN(Ct!M80:M81)","v":0},{"$f":"MIN(Ct!N80:N81)","v":0},{"$f":"MIN(Ct!O80:O81)","v":0}]
[5,0,5,"Min",{"$f":"MIN(Ct!E81:E82)","v":0},{"$f":"MIN(Ct!F81:F82)","v":0},{"$f":"MIN(Ct!G81:G82)","v":0},{"$f":"MIN(Ct!H81:H82)","v":0},{"$f":"MIN(Ct!I81:I82)","v":0},{"$f":"MIN(Ct!J81:J82)","v":0},{"$f":"MIN(Ct!K81:K82)","v":0},{"$f":"MIN(Ct!L81:L82)","v":0},{"$f":"MIN(Ct!M81:M82)","v":0},{"$f":"MIN(Ct!N81:N82)","v":0},{"$f":"MIN(Ct!O81:O82)","v":0}]
[5,0,5,null,{"$f":"MIN(Ct!E82:E83)","v":0},{"$f":"MIN(Ct!F82:F83)","v":0},{"$f":"MIN(Ct!G82:G83)","v":0},{"$f":"MIN(Ct!H82:H83)","v":0},{"$f":"MIN(Ct!I82:I83)","v":0},{"$f":"MIN(Ct!J82:J83)","v":0},{"$f":"MIN(Ct!K82:K83)","v":0},{"$f":"MIN(Ct!L82:L83)","v":0},{"$f":"MIN(Ct!M82:M83)","v":0},{"$f":"MIN(Ct!N82:N83)","v":0},{"$f":"MIN(Ct!O82:O83)","v":0}]
[5,1,4,"Min",{"$f":"MIN(Ct!E83:E84)","v":0},{"$f":"MIN(Ct!F83:F84)","v":0},{"$f":"MIN(Ct!G83:G84)","v":0},{"$f":"MIN(Ct!H83:H84)","v":0},{"$f":"MIN(Ct!I83:I84)","v":0},{"$f":"MIN(Ct!J83:J84)","v":0},{"$f":"MIN(Ct!K83:K84)","v":0},{"$f":"MIN(Ct!L83:L84)","v":0},{"$f":"MIN(Ct!M83:M84)","v":0},{"$f":"MIN(Ct!N83:N84)","v":0},{"$f":"MIN(Ct!O83:O84)","v":0}]
[5,1,4,null,{"$f":"MIN(Ct!E84:E85)","v":0},{"$f":"MIN(Ct!F84:F85)","v":0},{"$f":"MIN(Ct!G84:G85)","v":0},{"$f":"MIN(Ct!H84:H85)","v":0},{"$f":"MIN(Ct!I84:I85)","v":0},{"$f":"MIN(Ct!J84:J85)","v":0},{"$f":"MIN(Ct!K84:K85)","v":0},{"$f":"MIN(Ct!L84:L85)","v":0},{"$f":"MIN(Ct!M84:M85)","v":0},{"$f":"MIN(Ct!N84:N85)","v":0},{"$f":"MIN(Ct!O84:O85)","v":0}]
[5,2,3,"Min",{"$f":"MIN(Ct!E85:E86)","v":0},{"$f":"MIN(Ct!F85:F86)","v":0},{"$f":"MIN(Ct!G85:G86)","v":0},{"$f":"MIN(Ct!H85:H86)","v":0},{"$f":"MIN(Ct!I85:I86)","v":0},{"$f":"MIN(Ct!J85:J86)","v":0},{"$f":"MIN(Ct!K85:K86)","v":0},{"$f":"MIN(Ct!L85:L86)","v":0},{"$f":"MIN(Ct!M85:M86)","v":0},{"$f":"MIN(Ct!N85:N86)","v":0},{"$f":"MIN(Ct!O85:O86)","v":0}]
[5,2,3,null,{"$f":"MIN(Ct!E86:E87)","v":0},{"$f":"MIN(Ct!F86:F87)","v":0},{"$f":"MIN(Ct!G86:G87)","v":0},{"$f":"MIN(Ct!H86:H87)","v":0},{"$f":"MIN(Ct!I86:I87)","v":0},{"$f":"MIN(Ct!J86:J87)","v":0},{"$f":"MIN(Ct!K86:K87)","v":0},{"$f":"MIN(Ct!L86:L87)","v":0},{"$f":"MIN(Ct!M86:M87)","v":0},{"$f":"MIN(Ct!N86:N87)","v":0},{"$f":"MIN(Ct!O86:O87)","v":0}]
[5,3,2,"Min",{"$f":"MIN(Ct!E87:E88)","v":0},{"$f":"MIN(Ct!F87:F88)","v":0},{"$f":"MIN(Ct!G87:G88)","v":0},{"$f":"MIN(Ct!H87:H88)","v":0},{"$f":"MIN(Ct!I87:I88)","v":0},{"$f":"MIN(Ct!J87:J88)","v":0},{"$f":"MIN(Ct!K87:K88)","v":0},{"$f":"MIN(Ct!L87:L88)","v":0},{"$f":"MIN(Ct!M87:M88)","v":0},{"$f":"MIN(Ct!N87:N88)","v":0},{"$f":"MIN(Ct!O87:O88)","v":0}]
[5,3,2,null,{"$f":"MIN(Ct!E88:E89)","v":0},{"$f":"MIN(Ct!F88:F89)","v":0},{"$f":"MIN(Ct!G88:G89)","v":0},{"$f":"MIN(Ct!H88:H89)","v":0},{"$f":"MIN(Ct!I88:I89)","v":0},{"$f":"MIN(Ct!J88:J89)","v":0},{"$f":"MIN(Ct!K88:K89)","v":0},{"$f":"MIN(Ct!L88:L89)","v":0},{"$f":"MIN(Ct!M88:M89)","v":0},{"$f":"MIN(Ct!N88:N89)","v":0},{"$f":"MIN(Ct!O88:O89)","v":0}]
[5,4,1,"Min",{"$f":"MIN(Ct!E89:E90)","v":0},{"$f":"MIN(Ct!F89:F90)","v":0},{"$f":"MIN(Ct!G89:G90)","v":0},{"$f":"MIN(Ct!H89:H90)","v":0},{"$f":"MIN(Ct!I89:I90)","v":0},{"$f":"MIN(Ct!J89:J90)","v":0},{"$f":"MIN(Ct!K89:K90)","v":0},{"$f":"MIN(Ct!L89:L90)","v":0},{"$f":"MIN(Ct!M89:M90)","v":0},{"$f":"MIN(Ct!N89:N90)","v":0},{"$f":"MIN(Ct!O89:O90)","v":0}]
[5,4,1,null,{"$f":"MIN(Ct!E90:E91)","v":0},{"$f":"MIN(Ct!F90:F91)","v":0},{"$f":"MIN(Ct!G90:G91)","v":0},{"$f":"MIN(Ct!H90:H91)","v":0},{"$f":"MIN(Ct!I90:I91)","v":0},{"$f":"MIN(Ct!J90:J91)","v":0},{"$f":"MIN(Ct!K90:K91)","v":0},{"$f":"MIN(Ct!L90:L91)","v":0},{"$f":"MIN(Ct!M90:M91)","v":0},{"$f":"MIN(Ct!N90:N91)","v":0},{"$f":"MIN(Ct!O90:O91)","v":0}]
[5,5,0,"Min",{"$f":"MIN(Ct!E91:E92)","v":0},{"$f":"MIN(Ct!F91:F92)","v":0},{"$f":"MIN(Ct!G91:G92)","v":0},{"$f":"MIN(Ct!H91:H92)","v":0},{"$f":"MIN(Ct!I91:I92)","v":0},{"$f":"MIN(Ct!J91:J92)","v":0},{"$f":"MIN(Ct!K91:K92)","v":0},{"$f":"MIN(Ct!L91:L92)","v":0},{"$f":"MIN(Ct!M91:M92)","v":0},{"$f":"MIN(Ct!N91:N92)","v":0},{"$f":"MIN(Ct!O91:O92)","v":0}]
[5,5,0,null,{"$f":"MIN(Ct!E92:E93)","v":0},{"$f":"MIN(Ct!F92:F93)","v":0},{"$f":"MIN(Ct!G92:G93)","v":0},{"$f":"MIN(Ct!H92:H93)","v":0},{"$f":"MIN(Ct!I92:I93)","v":0},{"$f":"MIN(Ct!J92:J93)","v":0},{"$f":"MIN(Ct!K92:K93)","v":0},{"$f":"MIN(Ct!L92:L93)","v":0},{"$f":"MIN(Ct!M92:M93)","v":0},{"$f":"MIN(Ct!N92:N93)","v":0},{"$f":"MIN(Ct!O92:O93)","v":0}]
[6,0,6,"Min",{"$f":"MIN(Ct!E93:E94)","v":0},{"$f":"MIN(Ct!F93:F94)","v":0},{"$f":"MIN(Ct!G93:G94)","v":0},{"$f":"MIN(Ct!H93:H94)","v":0},{"$f":"MIN(Ct!I93:I94)","v":0},{"$f":"MIN(Ct!J93:J94)","v":0},{"$f":"MIN(Ct!K93:K94)","v":0},{"$f":"MIN(Ct!L93:L94)","v":0},{"$f":"MIN(Ct!M93:M94)","v":0},{"$f":"MIN(Ct!N93:N94)","v":0},{"$f":"MIN(Ct!O93:O94)","v":0}]
[6,0,6,null,{"$f":"MIN(Ct!E94:E95)","v":0},{"$f":"MIN(Ct!F94:F95)","v":0},{"$f":"MIN(Ct!G94:G95)","v":0},{"$f":"MIN(Ct!H94:H95)","v":0},{"$f":"MIN(Ct!I94:I95)","v":0},{"$f":"MIN(Ct!J94:J95)","v":0},{"$f":"MIN(Ct!K94:K95)","v":0},{"$f":"MIN(Ct!L94:L95)","v":0},{"$f":"MIN(Ct!M94:M95)","v":0},{"$f":"MIN(Ct!N94:N95)","v":0},{"$f":"MIN(Ct!O94:O95)","v":0}]
[6,1,5,"Min",{"$f":"MIN(Ct!E95:E96)","v":0},{"$f":"MIN(Ct!F95:F96)","v":0},{"$f":"MIN(Ct!G95:G96)","v":0},{"$f":"MIN(Ct!H95:H96)","v":0},{"$f":"MIN(Ct!I95:I96)","v":0},{"$f":"MIN(Ct!J95:J96)","v":0},{"$f":"MIN(Ct!K95:K96)","v":0},{"$f":"MIN(Ct!L95:L96)","v":0},{"$f":"MIN(Ct!M95:M96)","v":0},{"$f":"MIN(Ct!N95:N96)","v":0},{"$f":"MIN(Ct!O95:O96)","v":0}]
[6,1,5,null,{"$f":"MIN(Ct!E96:E97)","v":0},{"$f":"MIN(Ct!F96:F97)","v":0},{"$f":"MIN(Ct!G96:G97)","v":0},{"$f":"MIN(Ct!H96:H97)","v":0},{"$f":"MIN(Ct!I96:I97)","v":0},{"$f":"MIN(Ct!J96:J97)","v":0},{"$f":"MIN(Ct!K96:K97)","v":0},{"$f":"MIN(Ct!L96:L97)","v":0},{"$f":"MIN(Ct!M96:M97)","v":0},{"$f":"MIN(Ct!N96:N97)","v":0},{"$f":"MIN(Ct!O96:O97)","v":0}]
[6,2,4,"Min",{"$f":"MIN(Ct!E97:E98)","v":0},{"$f":"MIN(Ct!F97:F98)","v":0},{"$f":"MIN(Ct!G97:G98)","v":0},{"$f":"MIN(Ct!H97:H98)","v":0},{"$f":"MIN(Ct!I97:I98)","v":0},{"$f":"MIN(Ct!J97:J98)","v":0},{"$f":"MIN(Ct!K97:K98)","v":0},{"$f":"MIN(Ct!L97:L98)","v":0},{"$f":"MIN(Ct!M97:M98)","v":0},{"$f":"MIN(Ct!N97:N98)","v":0},{"$f":"MIN(Ct!O97:O98)","v":0}]
[6,2,4,null,{"$f":"MIN(Ct!E98:E99)","v":0},{"$f":"MIN(Ct!F98:F99)","v":0},{"$f":"MIN(Ct!G98:G99)","v":0},{"$f":"MIN(Ct!H98:H99)","v":0},{"$f":"MIN(Ct!I98:I99)","v":0},{"$f":"MIN(Ct!J98:J99)","v":0},{"$f":"MIN(Ct!K98:K99)","v":0},{"$f":"MIN(Ct!L98:L99)","v":0},{"$f":"MIN(Ct!M98:M99)","v":0},{"$f":"MIN(Ct!N98:N99)","v":0},{"$f":"MIN(Ct!O98:O99)","v":0}]
[6,3,3,"Min",{"$f":"MIN(Ct!E99:E100)","v":0},{"$f":"MIN(Ct!F99:F100)","v":0},{"$f":"MIN(Ct!G99:G100)","v":0},{"$f":"MIN(Ct!H99:H100)","v":0},{"$f":"MIN(Ct!I99:I100)","v":0},{"$f":"MIN(Ct!J99:J100)","v":0},{"$f":"MIN(Ct!K99:K100)","v":0},{"$f":"MIN(Ct!L99:L100)","v":0},{"$f":"MIN(Ct!M99:M100)","v":0},{"$f":"MIN(Ct!N99:N100)","v":0},{"$f":"MIN(Ct!O99:O100)","v":0}]
[6,3,3,null,{"$f":"MIN(Ct!E100:E101)","v":0},{"$f":"MIN(Ct!F100:F101)","v":0},{"$f":"MIN(Ct!G100:G101)","v":0},{"$f":"MIN(Ct!H100:H101)","v":0},{"$f":"MIN(Ct!I100:I101)","v":0},{"$f":"MIN(Ct!J100:J101)","v":0},{"$f":"MIN(Ct!K100:K101)","v":0},{"$f":"MIN(Ct!L100:L101)","v":0},{"$f":"MIN(Ct!M100:M101)","v":0},{"$f":"MIN(Ct!N100:N101)","v":0},{"$f":"MIN(Ct!O100:O101)","v":0}]
[6,4,2,"Min",{"$f":"MIN(Ct!E101:E102)","v":0},{"$f":"MIN(Ct!F101:F102)","v":0},{"$f":"MIN(Ct!G101:G102)","v":0},{"$f":"MIN(Ct!H101:H102)","v":0},{"$f":"MIN(Ct!I101:I102)","v":0},{"$f":"MIN(Ct!J101:J102)","v":0},{"$f":"MIN(Ct!K101:K102)","v":0},{"$f":"MIN(Ct!L101:L102)","v":0},{"$f":"MIN(Ct!M101:M102)","v":0},{"$f":"MIN(Ct!N101:N102)","v":0},{"$f":"MIN(Ct!O101:O102)","v":0}]
[6,4,2,null,{"$f":"MIN(Ct!E102:E103)","v":0},{"$f":"MIN(Ct!F102:F103)","v":0},{"$f":"MIN(Ct!G102:G103)","v":0},{"$f":"MIN(Ct!H102:H103)","v":0},{"$f":"MIN(Ct!I102:I103)","v":0},{"$f":"MIN(Ct!J102:J103)","v":0},{"$f":"MIN(Ct!K102:K103)","v":0},{"$f":"MIN(Ct!L102:L103)","v":0},{"$f":"MIN(Ct!M102:M103)","v":0},{"$f":"MIN(Ct!N102:N103)","v":0},{"$f":"MIN(Ct!O102:O103)","v":0}]
[6,5,1,"Min",{"$f":"MIN(Ct!E103:E104)","v":0},{"$f":"MIN(Ct!F103:F104)","v":0},{"$f":"MIN(Ct!G103:G104)","v":0},{"$f":"MIN(Ct!H103:H104)","v":0},{"$f":"MIN(Ct!I103:I104)","v":0},{"$f":"MIN(Ct!J103:J104)","v":0},{"$f":"MIN(Ct!K103:K104)","v":0},{"$f":"MIN(Ct!L103:L104)","v":0},{"$f":"MIN(Ct!M103:M104)","v":0},{"$f":"MIN(Ct!N103:N104)","v":0},{"$f":"MIN(Ct!O103:O104)","v":0}]
[6,5,1,null,{"$f":"MIN(Ct!E104:E105)","v":0},{"$f":"MIN(Ct!F104:F105)","v":0},{"$f":"MIN(Ct!G104:G105)","v":0},{"$f":"MIN(Ct!H104:H105)","v":0},{"$f":"MIN(Ct!I104:I105)","v":0},{"$f":"MIN(Ct!J104:J105)","v":0},{"$f":"MIN(Ct!K104:K105)","v":0},{"$f":"MIN(Ct!L104:L105)","v":0},{"$f":"MIN(Ct!M104:M105)","v":0},{"$f":"MIN(Ct!N104:N105)","v":0},{"$f":"MIN(Ct!O104:O105)","v":0}]
[6,6,0,"Min",{"$f":"MIN(Ct!E105:E106)","v":0},{"$f":"MIN(Ct!F105:F106)","v":0},{"$f":"MIN(Ct!G105:G106)","v":0},{"$f":"MIN(Ct!H105:H106)","v":0},{"$f":"MIN(Ct!I105:I106)","v":0},{"$f":"MIN(Ct!J105:J106)","v":0},{"$f":"MIN(Ct!K105:K106)","v":0},{"$f":"MIN(Ct!L105:L106)","v":0},{"$f":"MIN(Ct!M105:M106)","v":0},{"$f":"MIN(Ct!N105:N106)","v":0},{"$f":"MIN(Ct!O105:O106)","v":0}]
[6,6,0,null,{"$f":"MIN(Ct!E106:E107)","v":0},{"$f":"MIN(Ct!F106:F107)","v":0},{"$f":"MIN(Ct!G106:G107)","v":0},{"$f":"MIN(Ct!H106:H107)","v":0},{"$f":"MIN(Ct!I106:I107)","v":0},{"$f":"MIN(Ct!J106:J107)","v":0},{"$f":"MIN(Ct!K106:K107)","v":0},{"$f":"MIN(Ct!L106:L107)","v":0},{"$f":"MIN(Ct!M106:M107)","v":0},{"$f":"MIN(Ct!N106:N107)","v":0},{"$f":"MIN(Ct!O106:O107)","v":0}]
[7,0,7,"Min",{"$f":"MIN(Ct!E107:E108)","v":0},{"$f":"MIN(Ct!F107:F108)","v":0},{"$f":"MIN(Ct!G107:G108)","v":0},{"$f":"MIN(Ct!H107:H108)","v":0},{"$f":"MIN(Ct!I107:I108)","v":0},{"$f":"MIN(Ct!J107:J108)","v":0},{"$f":"MIN(Ct!K107:K108)","v":0},{"$f":"MIN(Ct!L107:L108)","v":0},{"$f":"MIN(Ct!M107:M108)","v":0},{"$f":"MIN(Ct!N107:N108)","v":0},{"$f":"MIN(Ct!O107:O108)","v":0}]
[7,0,7,null,{"$f":"MIN(Ct!E108:E109)","v":0},{"$f":"MIN(Ct!F108:F109)","v":0},{"$f":"MIN(Ct!G108:G109)","v":0},{"$f":"MIN(Ct!H108:H109)","v":0},{"$f":"MIN(Ct!I108:I109)","v":0},{"$f":"MIN(Ct!J108:J109)","v":0},{"$f":"MIN(Ct!K108:K109)","v":0},{"$f":"MIN(Ct!L108:L109)","v":0},{"$f":"MIN(Ct!M108:M109)","v":0},{"$f":"MIN(Ct!N108:N109)","v":0},{"$f":"MIN(Ct!O108:O109)","v":0}]
[7,1,6,"Min",{"$f":"MIN(Ct!E109:E110)","v":0},{"$f":"MIN(Ct!F109:F110)","v":0},{"$f":"MIN(Ct!G109:G110)","v":0},{"$f":"MIN(Ct!H109:H110)","v":0},{"$f":"MIN(Ct!I109:I110)","v":0},{"$f":"MIN(Ct!J109:J110)","v":0},{"$f":"MIN(Ct!K109:K110)","v":0},{"$f":"MIN(Ct!L109:L110)","v":0},{"$f":"MIN(Ct!M109:M110)","v":0},{"$f":"MIN(Ct!N109:N110)","v":0},{"$f":"MIN(Ct!O109:O110)","v":0}]
[7,1,6,null,{"$f":"MIN(Ct!E110:E111)","v":0},{"$f":"MIN(Ct!F110:F111)","v":0},{"$f":"MIN(Ct!G110:G111)","v":0},{"$f":"MIN(Ct!H110:H111)","v":0},{"$f":"MIN(Ct!I110:I111)","v":0},{"$f":"MIN(Ct!J110:J111)","v":0},{"$f":"MIN(Ct!K110:K111)","v":0},{"$f":"MIN(Ct!L110:L111)","v":0},{"$f":"MIN(Ct!M110:M111)","v":0},{"$f":"MIN(Ct!N110:N111)","v":0},{"$f":"MIN(Ct!O110:O111)","v":0}]
[7,2,5,"Min",{"$f":"MIN(Ct!E111:E112)","v":0},{"$f":"MIN(Ct!F111:F112)","v":0},{"$f":"MIN(Ct!G111:G112)","v":0},{"$f":"MIN(Ct!H111:H112)","v":0},{"$f":"MIN(Ct!I111:I112)","v":0},{"$f":"MIN(Ct!J111:J112)","v":0},{"$f":"MIN(Ct!K111:K112)","v":0},{"$f":"MIN(Ct!L111:L112)","v":0},{"$f":"MIN(Ct!M111:M112)","v":0},{"$f":"MIN(Ct!N111:N112)","v":0},{"$f":"MIN(Ct!O111:O112)","v":0}]
[7,2,5,null,{"$f":"MIN(Ct!E112:E113)","v":0},{"$f":"MIN(Ct!F112:F113)","v":0},{"$f":"MIN(Ct!G112:G113)","v":0},{"$f":"MIN(Ct!H112:H113)","v":0},{"$f":"MIN(Ct!I112:I113)","v":0},{"$f":"MIN(Ct!J112:J113)","v":0},{"$f":"MIN(Ct!K112:K113)","v":0},{"$f":"MIN(Ct!L112:L113)","v":0},{"$f":"MIN(Ct!M112:M113)","v":0},{"$f":"MIN(Ct!N112:N113)","v":0},{"$f":"MIN(Ct!O112:O113)","v":0}]
[7,3,4,"Min",{"$f":"MIN(Ct!E113:E114)","v":0},{"$f":"MIN(Ct!F113:F114)","v":0},{"$f":"MIN(Ct!G113:G114)","v":0},{"$f":"MIN(Ct!H113:H114)","v":0},{"$f":"MIN(Ct!I113:I114)","v":0},{"$f":"MIN(Ct!J113:J114)","v":0},{"$f":"MIN(Ct!K113:K114)","v":0},{"$f":"MIN(Ct!L113:L114)","v":0},{"$f":"MIN(Ct!M113:M114)","v":0},{"$f":"MIN(Ct!N113:N114)","v":0},{"$f":"MIN(Ct!O113:O114)","v":0}]
[7,3,4,null,{"$f":"MIN(Ct!E114:E115)","v":0},{"$f":"MIN(Ct!F114:F115)","v":0},{"$f":"MIN(Ct!G114:G115)","v":0},{"$f":"MIN(Ct!H114:H115)","v":0},{"$f":"MIN(Ct!I114:I115)","v":0},{"$f":"MIN(Ct!J114:J115)","v":0},{"$f":"MIN(Ct!K114:K115)","v":0},{"$f":"MIN(Ct!L114:L115)","v":0},{"$f":"MIN(Ct!M114:M115)","v":0},{"$f":"MIN(Ct!N114:N115)","v":0},{"$f":"MIN(Ct!O114:O115)","v":0}]
[7,4,3,"Min",{"$f":"MIN(Ct!E115:E116)","v":0},{"$f":"MIN(Ct!F115:F116)","v":0},{"$f":"MIN(Ct!G115:G116)","v":0},{"$f":"MIN(Ct!H115:H116)","v":0},{"$f":"MIN(Ct!I115:I116)","v":0},{"$f":"MIN(Ct!J115:J116)","v":0},{"$f":"MIN(Ct!K115:K116)","v":0},{"$f":"MIN(Ct!L115:L116)","v":0},{"$f":"MIN(Ct!M115:M116)","v":0},{"$f":"MIN(Ct!N115:N116)","v":0},{"$f":"MIN(Ct!O115:O116)","v":0}]
[7,4,3,null,{"$f":"MIN(Ct!E116:E117)","v":0},{"$f":"MIN(Ct!F116:F117)","v":0},{"$f":"MIN(Ct!G116:G117)","v":0},{"$f":"MIN(Ct!H116:H117)","v":0},{"$f":"MIN(Ct!I116:I117)","v":0},{"$f":"MIN(Ct!J116:J117)","v":0},{"$f":"MIN(Ct!K116:K117)","v":0},{"$f":"MIN(Ct!L116:L117)","v":0},{"$f":"MIN(Ct!M116:M117)","v":0},{"$f":"MIN(Ct!N116:N117)","v":0},{"$f":"MIN(Ct!O116:O117)","v":0}]
[7,5,2,"Min",{"$f":"MIN(Ct!E117:E118)","v":0},{"$f":"MIN(Ct!F117:F118)","v":0},{"$f":"MIN(Ct!G117:G118)","v":0},{"$f":"MIN(Ct!H117:H118)","v":0},{"$f":"MIN(Ct!I117:I118)","v":0},{"$f":"MIN(Ct!J117:J118)","v":0},{"$f":"MIN(Ct!K117:K118)","v":0},{"$f":"MIN(Ct!L117:L118)","v":0},{"$f":"MIN(Ct!M117:M118)","v":0},{"$f":"MIN(Ct!N117:N118)","v":0},{"$f":"MIN(Ct!O117:O118)","v":0}]
[7,5,2,null,{"$f":"MIN(Ct!E118:E119)","v":0},{"$f":"MIN(Ct!F118:F119)","v":0},{"$f":"MIN(Ct!G118:G119)","v":0},{"$f":"MIN(Ct!H118:H119)","v":0},{"$f":"MIN(Ct!I118:I119)","v":0},{"$f":"MIN(Ct!J118:J119)","v":0},{"$f":"MIN(Ct!K118:K119)","v":0},{"$f":"MIN(Ct!L118:L119)","v":0},{"$f":"MIN(Ct!M118:M119)","v":0},{"$f":"MIN(Ct!N118:N119)","v":0},{"$f":"MIN(Ct!O118:O119)","v":0}]
[7,6,1,"Min",{"$f":"MIN(Ct!E119:E120)","v":0},{"$f":"MIN(Ct!F119:F120)","v":0},{"$f":"MIN(Ct!G119:G120)","v":0},{"$f":"MIN(Ct!H119:H120)","v":0},{"$f":"MIN(Ct!I119:I120)","v":0},{"$f":"MIN(Ct!J119:J120)","v":0},{"$f":"MIN(Ct!K119:K120)","v":0},{"$f":"MIN(Ct!L119:L120)","v":0},{"$f":"MIN(Ct!M119:M120)","v":0},{"$f":"MIN(Ct!N119:N120)","v":0},{"$f":"MIN(Ct!O119:O120)","v":0}]
[7,6,1,null,{"$f":"MIN(Ct!E120:E121)","v":0},{"$f":"MIN(Ct!F120:F121)","v":0},{"$f":"MIN(Ct!G120:G121)","v":0},{"$f":"MIN(Ct!H120:H121)","v":0},{"$f":"MIN(Ct!I120:I121)","v":0},{"$f":"MIN(Ct!J120:J121)","v":0},{"$f":"MIN(Ct!K120:K121)","v":0},{"$f":"MIN(Ct!L120:L121)","v":0},{"$f":"MIN(Ct!M120:M121)","v":0},{"$f":"MIN(Ct!N120:N121)","v":0},{"$f":"MIN(Ct!O120:O121)","v":0}]
[7,7,0,"Min",{"$f":"MIN(Ct!E121:E122)","v":0},{"$f":"MIN(Ct!F121:F122)","v":0},{"$f":"MIN(Ct!G121:G122)","v":0},{"$f":"MIN(Ct!H121:H122)","v":0},{"$f":"MIN(Ct!I121:I122)","v":0},{"$f":"MIN(Ct!J121:J122)","v":0},{"$f":"MIN(Ct!K121:K122)","v":0},{"$f":"MIN(Ct!L121:L122)","v":0},{"$f":"MIN(Ct!M121:M122)","v":0},{"$f":"MIN(Ct!N121:N122)","v":0},{"$f":"MIN(Ct!O121:O122)","v":0}]
[7,7,0,null,{"$f":"MIN(Ct!E122:E123)","v":0},{"$f":"MIN(Ct!F122:F123)","v":0},{"$f":"MIN(Ct!G122:G123)","v":0},{"$f":"MIN(Ct!H122:H123)","v":0},{"$f":"MIN(Ct!I122:I123)","v":0},{"$f":"MIN(Ct!J122:J123)","v":0},{"$f":"MIN(Ct!K122:K123)","v":0},{"$f":"MIN(Ct!L122:L123)","v":0},{"$f":"MIN(Ct!M122:M123)","v":0},{"$f":"MIN(Ct!N122:N123)","v":0},{"$f":"MIN(Ct!O122:O123)","v":0}]
[8,0,8,"Min",{"$f":"MIN(Ct!E123:E124)","v":0},{"$f":"MIN(Ct!F123:F124)","v":0},{"$f":"MIN(Ct!G123:G124)","v":0},{"$f":"MIN(Ct!H123:H124)","v":0},{"$f":"MIN(Ct!I123:I124)","v":0},{"$f":"MIN(Ct!J123:J124)","v":0},{"$f":"MIN(Ct!K123:K124)","v":0},{"$f":"MIN(Ct!L123:L124)","v":0},{"$f":"MIN(Ct!M123:M124)","v":0},{"$f":"MIN(Ct!N123:N124)","v":0},{"$f":"MIN(Ct!O123:O124)","v":0}]
[8,0,8,null,{"$f":"MIN(Ct!E124:E125)","v":0},{"$f":"MIN(Ct!F124:F125)","v":0},{"$f":"MIN(Ct!G124:G125)","v":0},{"$f":"MIN(Ct!H124:H125)","v":0},{"$f":"MIN(Ct!I124:I125)","v":0},{"$f":"MIN(Ct!J124:J125)","v":0},{"$f":"MIN(Ct!K124:K125)","v":0},{"$f":"MIN(Ct!L124:L125)","v":0},{"$f":"MIN(Ct!M124:M125)","v":0},{"$f":"MIN(Ct!N124:N125)","v":0},{"$f":"MIN(Ct!O124:O125)","v":0}]
[8,1,7,"Min",{"$f":"MIN(Ct!E125:E126)","v":0},{"$f":"MIN(Ct!F125:F126)","v":0},{"$f":"MIN(Ct!G125:G126)","v":0},{"$f":"MIN(Ct!H125:H126)","v":0},{"$f":"MIN(Ct!I125:I126)","v":0},{"$f":"MIN(Ct!J125:J126)","v":0},{"$f":"MIN(Ct!K125:K126)","v":0},{"$f":"MIN(Ct!L125:L126)","v":0},{"$f":"MIN(Ct!M125:M126)","v":0},{"$f":"MIN(Ct!N125:N126)","v":0},{"$f":"MIN(Ct!O125:O126)","v":0}]
[8,1,7,null,{"$f":"MIN(Ct!E126:E127)","v":0},{"$f":"MIN(Ct!F126:F127)","v":0},{"$f":"MIN(Ct!G126:G127)","v":0},{"$f":"MIN(Ct!H126:H127)","v":0},{"$f":"MIN(Ct!I126:I127)","v":0},{"$f":"MIN(Ct!J126:J127)","v":0},{"$f":"MIN(Ct!K126:K127)","v":0},{"$f":"MIN(Ct!L126:L127)","v":0},{"$f":"MIN(Ct!M126:M127)","v":0},{"$f":"MIN(Ct!N126:N127)","v":0},{"$f":"MIN(Ct!O126:O127)","v":0}]
[8,2,6,"Min",{"$f":"MIN(Ct!E127:E128)","v":0},{"$f":"MIN(Ct!F127:F128)","v":0},{"$f":"MIN(Ct!G127:G128)","v":0},{"$f":"MIN(Ct!H127:H128)","v":0},{"$f":"MIN(Ct!I127:I128)","v":0},{"$f":"MIN(Ct!J127:J128)","v":0},{"$f":"MIN(Ct!K127:K128)","v":0},{"$f":"MIN(Ct!L127:L128)","v":0},{"$f":"MIN(Ct!M127:M128)","v":0},{"$f":"MIN(Ct!N127:N128)","v":0},{"$f":"MIN(Ct!O127:O128)","v":0}]
[8,2,6,null,{"$f":"MIN(Ct!E128:E129)","v":0},{"$f":"MIN(Ct!F128:F129)","v":0},{"$f":"MIN(Ct!G128:G129)","v":0},{"$f":"MIN(Ct!H128:H129)","v":0},{"$f":"MIN(Ct!I128:I129)","v":0},{"$f":"MIN(Ct!J128:J129)","v":0},{"$f":"MIN(Ct!K128:K129)","v":0},{"$f":"MIN(Ct!L128:L129)","v":0},{"$f":"MIN(Ct!M128:M129)","v":0},{"$f":"MIN(Ct!N128:N129)","v":0},{"$f":"MIN(Ct!O128:O129)","v":0}]
[8,3,5,"Min",{"$f":"MIN(Ct!E129:E130)","v":0},{"$f":"MIN(Ct!F129:F130)","v":0},{"$f":"MIN(Ct!G129:G130)","v":0},{"$f":"MIN(Ct!H129:H130)","v":0},{"$f":"MIN(Ct!I129:I130)","v":0},{"$f":"MIN(Ct!J129:J130)","v":0},{"$f":"MIN(Ct!K129:K130)","v":0},{"$f":"MIN(Ct!L129:L130)","v":0},{"$f":"MIN(Ct!M129:M130)","v":0},{"$f":"MIN(Ct!N129:N130)","v":0},{"$f":"MIN(Ct!O129:O130)","v":0}]
[8,3,5,null,{"$f":"MIN(Ct!E130:E131)","v":0},{"$f":"MIN(Ct!F130:F131)","v":0},{"$f":"MIN(Ct!G130:G131)","v":0},{"$f":"MIN(Ct!H130:H131)","v":0},{"$f":"MIN(Ct!I130:I131)","v":0},{"$f":"MIN(Ct!J130:J131)","v":0},{"$f":"MIN(Ct!K130:K131)","v":0},{"$f":"MIN(Ct!L130:L131)","v":0},{"$f":"MIN(Ct!M130:M131)","v":0},{"$f":"MIN(Ct!N130:N131)","v":0},{"$f":"MIN(Ct!O130:O131)","v":0}]
[8,4,4,"Min",{"$f":"MIN(Ct!E131:E132)","v":0},{"$f":"MIN(Ct!F131:F132)","v":0},{"$f":"MIN(Ct!G131:G132)","v":0},{"$f":"MIN(Ct!H131:H132)","v":0},{"$f":"MIN(Ct!I131:I132)","v":0},{"$f":"MIN(Ct!J131:J132)","v":0},{"$f":"MIN(Ct!K131:K132)","v":0},{"$f":"MIN(Ct!L131:L132)","v":0},{"$f":"MIN(Ct!M131:M132)","v":0},{"$f":"MIN(Ct!N131:N132)","v":0},{"$f":"MIN(Ct!O131:O132)","v":0}]
[8,4,4,null,{"$f":"MIN(Ct!E132:E133)","v":0},{"$f":"MIN(Ct!F132:F133)","v":0},{"$f":"MIN(Ct!G132:G133)","v":0},{"$f":"MIN(Ct!H132:H133)","v":0},{"$f":"MIN(Ct!I132:I133)","v":0},{"$f":"MIN(Ct!J132:J133)","v":0},{"$f":"MIN(Ct!K132:K133)","v":0},{"$f":"MIN(Ct!L132:L133)","v":0},{"$f":"MIN(Ct!M132:M133)","v":0},{"$f":"MIN(Ct!N132:N133)","v":0},{"$f":"MIN(Ct!O132:O133)","v":0}]
[8,5,3,"Min",{"$f":"MIN(Ct!E133:E134)","v":0},{"$f":"MIN(Ct!F133:F134)","v":0},{"$f":"MIN(Ct!G133:G134)","v":0},{"$f":"MIN(Ct!H133:H134)","v":0},{"$f":"MIN(Ct!I133:I134)","v":0},{"$f":"MIN(Ct!J133:J134)","v":0},{"$f":"MIN(Ct!K133:K134)","v":0},{"$f":"MIN(Ct!L133:L134)","v":0},{"$f":"MIN(Ct!M133:M134)","v":0},{"$f":"MIN(Ct!N133:N134)","v":0},{"$f":"MIN(Ct!O133:O134)","v":0}]
[8,5,3,null,{"$f":"MIN(Ct!E134:E135)","v":0},{"$f":"MIN(Ct!F134:F135)","v":0},{"$f":"MIN(Ct!G134:G135)","v":0},{"$f":"MIN(Ct!H134:H135)","v":0},{"$f":"MIN(Ct!I134:I135)","v":0},{"$f":"MIN(Ct!J134:J135)","v":0},{"$f":"MIN(Ct!K134:K135)","v":0},{"$f":"MIN(Ct!L134:L135)","v":0},{"$f":"MIN(Ct!M134:M135)","v":0},{"$f":"MIN(Ct!N134:N135)","v":0},{"$f":"MIN(Ct!O134:O135)","v":0}]
[8,6,2,"Min",{"$f":"MIN(Ct!E135:E136)","v":0},{"$f":"MIN(Ct!F135:F136)","v":0},{"$f":"MIN(Ct!G135:G136)","v":0},{"$f":"MIN(Ct!H135:H136)","v":0},{"$f":"MIN(Ct!I135:I136)","v":0},{"$f":"MIN(Ct!J135:J136)","v":0},{"$f":"MIN(Ct!K135:K136)","v":0},{"$f":"MIN(Ct!L135:L136)","v":0},{"$f":"MIN(Ct!M135:M136)","v":0},{"$f":"MIN(Ct!N135:N136)","v":0},{"$f":"MIN(Ct!O135:O136)","v":0}]
[8,6,2,null,{"$f":"MIN(Ct!E136:E137)","v":0},{"$f":"MIN(Ct!F136:F137)","v":0},{"$f":"MIN(Ct!G136:G137)","v":0},{"$f":"MIN(Ct!H136:H137)","v":0},{"$f":"MIN(Ct!I136:I137)","v":0},{"$f":"MIN(Ct!J136:J137)","v":0},{"$f":"MIN(Ct!K136:K137)","v":0},{"$f":"MIN(Ct!L136:L137)","v":0},{"$f":"MIN(Ct!M136:M137)","v":0},{"$f":"MIN(Ct!N136:N137)","v":0},{"$f":"MIN(Ct!O136:O137)","v":0}]
[8,7,1,"Min",{"$f":"MIN(Ct!E137:E138)","v":0},{"$f":"MIN(Ct!F137:F138)","v":0},{"$f":"MIN(Ct!G137:G138)","v":0},{"$f":"MIN(Ct!H137:H138)","v":0},{"$f":"MIN(Ct!I137:I138)","v":0},{"$f":"MIN(Ct!J137:J138)","v":0},{"$f":"MIN(Ct!K137:K138)","v":0},{"$f":"MIN(Ct!L137:L138)","v":0},{"$f":"MIN(Ct!M137:M138)","v":0},{"$f":"MIN(Ct!N137:N138)","v":0},{"$f":"MIN(Ct!O137:O138)","v":0}]
[8,7,1,null,{"$f":"MIN(Ct!E138:E139)","v":0},{"$f":"MIN(Ct!F138:F139)","v":0},{"$f":"MIN(Ct!G138:G139)","v":0},{"$f":"MIN(Ct!H138:H139)","v":0},{"$f":"MIN(Ct!I138:I139)","v":0},{"$f":"MIN(Ct!J138:J139)","v":0},{"$f":"MIN(Ct!K138:K139)","v":0},{"$f":"MIN(Ct!L138:L139)","v":0},{"$f":"MIN(Ct!M138:M139)","v":0},{"$f":"MIN(Ct!N138:N139)","v":0},{"$f":"MIN(Ct!O138:O139)","v":0}]
[8,8,0,"Min",{"$f":"MIN(Ct!E139:E140)","v":0},{"$f":"MIN(Ct!F139:F140)","v":0},{"$f":"MIN(Ct!G139:G140)","v":0},{"$f":"MIN(Ct!H139:H140)","v":0},{"$f":"MIN(Ct!I139:I140)","v":0},{"$f":"MIN(Ct!J139:J140)","v":0},{"$f":"MIN(Ct!K139:K140)","v":0},{"$f":"MIN(Ct!L139:L140)","v":0},{"$f":"MIN(Ct!M139:M140)","v":0},{"$f":"MIN(Ct!N139:N140)","v":0},{"$f":"MIN(Ct!O139:O140)","v":0}]
[8,8,0,null,{"$f":"MIN(Ct!E140:E141)","v":0},{"$f":"MIN(Ct!F140:F141)","v":0},{"$f":"MIN(Ct!G140:G141)","v":0},{"$f":"MIN(Ct!H140:H141)","v":0},{"$f":"MIN(Ct!I140:I141)","v":0},{"$f":"MIN(Ct!J140:J141)","v":0},{"$f":"MIN(Ct!K140:K141)","v":0},{"$f":"MIN(Ct!L140:L141)","v":0},{"$f":"MIN(Ct!M140:M141)","v":0},{"$f":"MIN(Ct!N140:N141)","v":0},{"$f":"MIN(Ct!O140:O141)","v":0}]
[9,0,9,"Min",{"$f":"MIN(Ct!E141:E142)","v":0},{"$f":"MIN(Ct!F141:F142)","v":0},{"$f":"MIN(Ct!G141:G142)","v":0},{"$f":"MIN(Ct!H141:H142)","v":0},{"$f":"MIN(Ct!I141:I142)","v":0},{"$f":"MIN(Ct!J141:J142)","v":0},{"$f":"MIN(Ct!K141:K142)","v":0},{"$f":"MIN(Ct!L141:L142)","v":0},{"$f":"MIN(Ct!M141:M142)","v":0},{"$f":"MIN(Ct!N141:N142)","v":0},{"$f":"MIN(Ct!O141:O142)","v":0}]
[9,0,9,null,{"$f":"MIN(Ct!E142:E143)","v":0},{"$f":"MIN(Ct!F142:F143)","v":0},{"$f":"MIN(Ct!G142:G143)","v":0},{"$f":"MIN(Ct!H142:H143)","v":0},{"$f":"MIN(Ct!I142:I143)","v":0},{"$f":"MIN(Ct!J142:J143)","v":0},{"$f":"MIN(Ct!K142:K143)","v":0},{"$f":"MIN(Ct!L142:L143)","v":0},{"$f":"MIN(Ct!M142:M143)","v":0},{"$f":"MIN(Ct!N142:N143)","v":0},{"$f":"MIN(Ct!O142:O143)","v":0}]
[9,1,8,"Min",{"$f":"MIN(Ct!E143:E144)","v":0},{"$f":"MIN(Ct!F143:F144)","v":0},{"$f":"MIN(Ct!G143:G144)","v":0},{"$f":"MIN(Ct!H143:H144)","v":0},{"$f":"MIN(Ct!I143:I144)","v":0},{"$f":"MIN(Ct!J143:J144)","v":0},{"$f":"MIN(Ct!K143:K144)","v":0},{"$f":"MIN(Ct!L143:L144)","v":0},{"$f":"MIN(Ct!M143:M144)","v":0},{"$f":"MIN(Ct!N143:N144)","v":0},{"$f":"MIN(Ct!O143:O144)","v":0}]
[9,1,8,null,{"$f":"MIN(Ct!E144:E145)","v":0},{"$f":"MIN(Ct!F144:F145)","v":0},{"$f":"MIN(Ct!G144:G145)","v":0},{"$f":"MIN(Ct!H144:H145)","v":0},{"$f":"MIN(Ct!I144:I145)","v":0},{"$f":"MIN(Ct!J144:J145)","v":0},{"$f":"MIN(Ct!K144:K145)","v":0},{"$f":"MIN(Ct!L144:L145)","v":0},{"$f":"MIN(Ct!M144:M145)","v":0},{"$f":"MIN(Ct!N144:N145)","v":0},{"$f":"MIN(Ct!O144:O145)","v":0}]
[9,2,7,"Min",{"$f":"MIN(Ct!E145:E146)","v":0},{"$f":"MIN(Ct!F145:F146)","v":0},{"$f":"MIN(Ct!G145:G146)","v":0},{"$f":"MIN(Ct!H145:H146)","v":0},{"$f":"MIN(Ct!I145:I146)","v":0},{"$f":"MIN(Ct!J145:J146)","v":0},{"$f":"MIN(Ct!K145:K146)","v":0},{"$f":"MIN(Ct!L145:L146)","v":0},{"$f":"MIN(Ct!M145:M146)","v":0},{"$f":"MIN(Ct!N145:N146)","v":0},{"$f":"MIN(Ct!O145:O146)","v":0}]
[9,2,7,null,{"$f":"MIN(Ct!E146:E147)","v":0},{"$f":"MIN(Ct!F146:F147)","v":0},{"$f":"MIN(Ct!G146:G147)","v":0},{"$f":"MIN(Ct!H146:H147)","v":0},{"$f":"MIN(Ct!I146:I147)","v":0},{"$f":"MIN(Ct!J146:J147)","v":0},{"$f":"MIN(Ct!K146:K147)","v":0},{"$f":"MIN(Ct!L146:L147)","v":0},{"$f":"MIN(Ct!M146:M147)","v":0},{"$f":"MIN(Ct!N146:N147)","v":0},{"$f":"MIN(Ct!O146:O147)","v":0}]
[9,3,6,"Min",{"$f":"MIN(Ct!E147:E148)","v":0},{"$f":"MIN(Ct!F147:F148)","v":0},{"$f":"MIN(Ct!G147:G148)","v":0},{"$f":"MIN(Ct!H147:H148)","v":0},{"$f":"MIN(Ct!I147:I148)","v":0},{"$f":"MIN(Ct!J147:J148)","v":0},{"$f":"MIN(Ct!K147:K148)","v":0},{"$f":"MIN(Ct!L147:L148)","v":0},{"$f":"MIN(Ct!M147:M148)","v":0},{"$f":"MIN(Ct!N147:N148)","v":0},{"$f":"MIN(Ct!O147:O148)","v":0}]
[9,3,6,null,{"$f":"MIN(Ct!E148:E149)","v":0},{"$f":"MIN(Ct!F148:F149)","v":0},{"$f":"MIN(Ct!G148:G149)","v":0},{"$f":"MIN(Ct!H148:H149)","v":0},{"$f":"MIN(Ct!I148:I149)","v":0},{"$f":"MIN(Ct!J148:J149)","v":0},{"$f":"MIN(Ct!K148:K149)","v":0},{"$f":"MIN(Ct!L148:L149)","v":0},{"$f":"MIN(Ct!M148:M149)","v":0},{"$f":"MIN(Ct!N148:N149)","v":0},{"$f":"MIN(Ct!O148:O149)","v":0}]
[9,4,5,"Min",{"$f":"MIN(Ct!E149:E150)","v":0},{"$f":"MIN(Ct!F149:F150)","v":0},{"$f":"MIN(Ct!G149:G150)","v":0},{"$f":"MIN(Ct!H149:H150)","v":0},{"$f":"MIN(Ct!I149:I150)","v":0},{"$f":"MIN(Ct!J149:J150)","v":0},{"$f":"MIN(Ct!K149:K150)","v":0},{"$f":"MIN(Ct!L149:L150)","v":0},{"$f":"MIN(Ct!M149:M150)","v":0},{"$f":"MIN(Ct!N149:N150)","v":0},{"$f":"MIN(Ct!O149:O150)","v":0}]
[9,4,5,null,{"$f":"MIN(Ct!E150:E151)","v":0},{"$f":"MIN(Ct!F150:F151)","v":0},{"$f":"MIN(Ct!G150:G151)","v":0},{"$f":"MIN(Ct!H150:H151)","v":0},{"$f":"MIN(Ct!I150:I151)","v":0},{"$f":"MIN(Ct!J150:J151)","v":0},{"$f":"MIN(Ct!K150:K151)","v":0},{"$f":"MIN(Ct!L150:L151)","v":0},{"$f":"MIN(Ct!M150:M151)","v":0},{"$f":"MIN(Ct!N150:N151)","v":0},{"$f":"MIN(Ct!O150:O151)","v":0}]
[9,5,4,"Min",{"$f":"MIN(Ct!E151:E152)","v":0},{"$f":"MIN(Ct!F151:F152)","v":0},{"$f":"MIN(Ct!G151:G152)","v":0},{"$f":"MIN(Ct!H151:H152)","v":0},{"$f":"MIN(Ct!I151:I152)","v":0},{"$f":"MIN(Ct!J151:J152)","v":0},{"$f":"MIN(Ct!K151:K152)","v":0},{"$f":"MIN(Ct!L151:L152)","v":0},{"$f":"MIN(Ct!M151:M152)","v":0},{"$f":"MIN(Ct!N151:N152)","v":0},{"$f":"MIN(Ct!O151:O152)","v":0}]
[9,5,4,null,{"$f":"MIN(Ct!E152:E153)","v":0},{"$f":"MIN(Ct!F152:F153)","v":0},{"$f":"MIN(Ct!G152:G153)","v":0},{"$f":"MIN(Ct!H152:H153)","v":0},{"$f":"MIN(Ct!I152:I153)","v":0},{"$f":"MIN(Ct!J152:J153)","v":0},{"$f":"MIN(Ct!K152:K153)","v":0},{"$f":"MIN(Ct!L152:L153)","v":0},{"$f":"MIN(Ct!M152:M153)","v":0},{"$f":"MIN(Ct!N152:N153)","v":0},{"$f":"MIN(Ct!O152:O153)","v":0}]
[9,6,3,"Min",{"$f":"MIN(Ct!E153:E154)","v":0},{"$f":"MIN(Ct!F153:F154)","v":0},{"$f":"MIN(Ct!G153:G154)","v":0},{"$f":"MIN(Ct!H153:H154)","v":0},{"$f":"MIN(Ct!I153:I154)","v":0},{"$f":"MIN(Ct!J153:J154)","v":0},{"$f":"MIN(Ct!K153:K154)","v":0},{"$f":"MIN(Ct!L153:L154)","v":0},{"$f":"MIN(Ct!M153:M154)","v":0},{"$f":"MIN(Ct!N153:N154)","v":0},{"$f":"MIN(Ct!O153:O154)","v":0}]
[9,6,3,null,{"$f":"MIN(Ct!E154:E155)","v":0},{"$f":"MIN(Ct!F154:F155)","v":0},{"$f":"MIN(Ct!G154:G155)","v":0},{"$f":"MIN(Ct!H154:H155)","v":0},{"$f":"MIN(Ct!I154:I155)","v":0},{"$f":"MIN(Ct!J154:J155)","v":0},{"$f":"MIN(Ct!K154:K155)","v":0},{"$f":"MIN(Ct!L154:L155)","v":0},{"$f":"MIN(Ct!M154:M155)","v":0},{"$f":"MIN(Ct!N154:N155)","v":0},{"$f":"MIN(Ct!O154:O155)","v":0}]
[9,7,2,"Min",{"$f":"MIN(Ct!E155:E156)","v":0},{"$f":"MIN(Ct!F155:F156)","v":0},{"$f":"MIN(Ct!G155:G156)","v":0},{"$f":"MIN(Ct!H155:H156)","v":0},{"$f":"MIN(Ct!I155:I156)","v":0},{"$f":"MIN(Ct!J155:J156)","v":0},{"$f":"MIN(Ct!K155:K156)","v":0},{"$f":"MIN(Ct!L155:L156)","v":0},{"$f":"MIN(Ct!M155:M156)","v":0},{"$f":"MIN(Ct!N155:N156)","v":0},{"$f":"MIN(Ct!O155:O156)","v":0}]
[9,7,2,null,{"$f":"MIN(Ct!E156:E157)","v":0},{"$f":"MIN(Ct!F156:F157)","v":0},{"$f":"MIN(Ct!G156:G157)","v":0},{"$f":"MIN(Ct!H156:H157)","v":0},{"$f":"MIN(Ct!I156:I157)","v":0},{"$f":"MIN(Ct!J156:J157)","v":0},{"$f":"MIN(Ct!K156:K157)","v":0},{"$f":"MIN(Ct!L156:L157)","v":0},{"$f":"MIN(Ct!M156:M157)","v":0},{"$f":"MIN(Ct!N156:N157)","v":0},{"$f":"MIN(Ct!O156:O157)","v":0}]
[9,8,1,"Min",{"$f":"MIN(Ct!E157:E158)","v":0},{"$f":"MIN(Ct!F157:F158)","v":0},{"$f":"MIN(Ct!G157:G158)","v":0},{"$f":"MIN(Ct!H157:H158)","v":0},{"$f":"MIN(Ct!I157:I158)","v":0},{"$f":"MIN(Ct!J157:J158)","v":0},{"$f":"MIN(Ct!K157:K158)","v":0},{"$f":"MIN(Ct!L157:L158)","v":0},{"$f":"MIN(Ct!M157:M158)","v":0},{"$f":"MIN(Ct!N157:N158)","v":0},{"$f":"MIN(Ct!O157:O158)","v":0}]
[9,8,1,null,{"$f":"MIN(Ct!E158:E159)","v":0},{"$f":"MIN(Ct!F158:F159)","v":0},{"$f":"MIN(Ct!G158:G159)","v":0},{"$f":"MIN(Ct!H158:H159)","v":0},{"$f":"MIN(Ct!I158:I159)","v":0},{"$f":"MIN(Ct!J158:J159)","v":0},{"$f":"MIN(Ct!K158:K159)","v":0},{"$f":"MIN(Ct!L158:L159)","v":0},{"$f":"MIN(Ct!M158:M159)","v":0},{"$f":"MIN(Ct!N158:N159)","v":0},{"$f":"MIN(Ct!O158:O159)","v":0}]
[9,9,0,"Min",{"$f":"MIN(Ct!E159:E160)","v":0},{"$f":"MIN(Ct!F159:F160)","v":0},{"$f":"MIN(Ct!G159:G160)","v":0},{"$f":"MIN(Ct!H159:H160)","v":0},{"$f":"MIN(Ct!I159:I160)","v":0},{"$f":"MIN(Ct!J159:J160)","v":0},{"$f":"MIN(Ct!K159:K160)","v":0},{"$f":"MIN(Ct!L159:L160)","v":0},{"$f":"MIN(Ct!M159:M160)","v":0},{"$f":"MIN(Ct!N159:N160)","v":0},{"$f":"MIN(Ct!O159:O160)","v":0}]
[9,9,0,null,{"$f":"MIN(Ct!E160:E161)","v":0},{"$f":"MIN(Ct!F160:F161)","v":0},{"$f":"MIN(Ct!G160:G161)","v":0},{"$f":"MIN(Ct!H160:H161)","v":0},{"$f":"MIN(Ct!I160:I161)","v":0},{"$f":"MIN(Ct!J160:J161)","v":0},{"$f":"MIN(Ct!K160:K161)","v":0},{"$f":"MIN(Ct!L160:L161)","v":0},{"$f":"MIN(Ct!M160:M161)","v":0},{"$f":"MIN(Ct!N160:N161)","v":0},{"$f":"MIN(Ct!O160:O161)","v":0}]
[10,0,10,"Min",{"$f":"MIN(Ct!E161:E162)","v":0},{"$f":"MIN(Ct!F161:F162)","v":0},{"$f":"MIN(Ct!G161:G162)","v":0},{"$f":"MIN(Ct!H161:H162)","v":0},{"$f":"MIN(Ct!I161:I162)","v":0},{"$f":"MIN(Ct!J161:J162)","v":0},{"$f":"MIN(Ct!K161:K162)","v":0},{"$f":"MIN(Ct!L161:L162)","v":0},{"$f":"MIN(Ct!M161:M162)","v":0},{"$f":"MIN(Ct!N161:N162)","v":0},{"$f":"MIN(Ct!O161:O162)","v":0}]
[10,0,10,null,{"$f":"MIN(Ct!E162:E163)","v":0},{"$f":"MIN(Ct!F162:F163)","v":0},{"$f":"MIN(Ct!G162:G163)","v":0},{"$f":"MIN(Ct!H162:H163)","v":0},{"$f":"MIN(Ct!I162:I163)","v":0},{"$f":"MIN(Ct!J162:J163)","v":0},{"$f":"MIN(Ct!K162:K163)","v":0},{"$f":"MIN(Ct!L162:L163)","v":0},{"$f":"MIN(Ct!M162:M163)","v":0},{"$f":"MIN(Ct!N162:N163)","v":0},{"$f":"MIN(Ct!O162:O163)","v":0}]
[10,1,9,"Min",{"$f":"MIN(Ct!E163:E164)","v":0},{"$f":"MIN(Ct!F163:F164)","v":0},{"$f":"MIN(Ct!G163:G164)","v":0},{"$f":"MIN(Ct!H163:H164)","v":0},{"$f":"MIN(Ct!I163:I164)","v":0},{"$f":"MIN(Ct!J163:J164)","v":0},{"$f":"MIN(Ct!K163:K164)","v":0},{"$f":"MIN(Ct!L163:L164)","v":0},{"$f":"MIN(Ct!M163:M164)","v":0},{"$f":"MIN(Ct!N163:N164)","v":0},{"$f":"MIN(Ct!O163:O164)","v":0}]
[10,1,9,null,{"$f":"MIN(Ct!E164:E165)","v":0},{"$f":"MIN(Ct!F164:F165)","v":0},{"$f":"MIN(Ct!G164:G165)","v":0},{"$f":"MIN(Ct!H164:H165)","v":0},{"$f":"MIN(Ct!I164:I165)","v":0},{"$f":"MIN(Ct!J164:J165)","v":0},{"$f":"MIN(Ct!K164:K165)","v":0},{"$f":"MIN(Ct!L164:L165)","v":0},{"$f":"MIN(Ct!M164:M165)","v":0},{"$f":"MIN(Ct!N164:N165)","v":0},{"$f":"MIN(Ct!O164:O165)","v":0}]
[10,2,8,"Min",{"$f":"MIN(Ct!E165:E166)","v":0},{"$f":"MIN(Ct!F165:F166)","v":0},{"$f":"MIN(Ct!G165:G166)","v":0},{"$f":"MIN(Ct!H165:H166)","v":0},{"$f":"MIN(Ct!I165:I166)","v":0},{"$f":"MIN(Ct!J165:J166)","v":0},{"$f":"MIN(Ct!K165:K166)","v":0},{"$f":"MIN(Ct!L165:L166)","v":0},{"$f":"MIN(Ct!M165:M166)","v":0},{"$f":"MIN(Ct!N165:N166)","v":0},{"$f":"MIN(Ct!O165:O166)","v":0}]
[10,2,8,null,{"$f":"MIN(Ct!E166:E167)","v":0},{"$f":"MIN(Ct!F166:F167)","v":0},{"$f":"MIN(Ct!G166:G167)","v":0},{"$f":"MIN(Ct!H166:H167)","v":0},{"$f":"MIN(Ct!I166:I167)","v":0},{"$f":"MIN(Ct!J166:J167)","v":0},{"$f":"MIN(Ct!K166:K167)","v":0},{"$f":"MIN(Ct!L166:L167)","v":0},{"$f":"MIN(Ct!M166:M167)","v":0},{"$f":"MIN(Ct!N166:N167)","v":0},{"$f":"MIN(Ct!O166:O167)","v":0}]
[10,3,7,"Min",{"$f":"MIN(Ct!E167:E168)","v":0},{"$f":"MIN(Ct!F167:F168)","v":0},{"$f":"MIN(Ct!G167:G168)","v":0},{"$f":"MIN(Ct!H167:H168)","v":0},{"$f":"MIN(Ct!I167:I168)","v":0},{"$f":"MIN(Ct!J167:J168)","v":0},{"$f":"MIN(Ct!K167:K168)","v":0},{"$f":"MIN(Ct!L167:L168)","v":0},{"$f":"MIN(Ct!M167:M168)","v":0},{"$f":"MIN(Ct!N167:N168)","v":0},{"$f":"MIN(Ct!O167:O168)","v":0}]
[10,3,7,null,{"$f":"MIN(Ct!E168:E169)","v":0},{"$f":"MIN(Ct!F168:F169)","v":0},{"$f":"MIN(Ct!G168:G169)","v":0},{"$f":"MIN(Ct!H168:H169)","v":0},{"$f":"MIN(Ct!I168:I169)","v":0},{"$f":"MIN(Ct!J168:J169)","v":0},{"$f":"MIN(Ct!K168:K169)","v":0},{"$f":"MIN(Ct!L168:L169)","v":0},{"$f":"MIN(Ct!M168:M169)","v":0},{"$f":"MIN(Ct!N168:N169)","v":0},{"$f":"MIN(Ct!O168:O169)","v":0}]
[10,4,6,"Min",{"$f":"MIN(Ct!E169:E170)","v":0},{"$f":"MIN(Ct!F169:F170)","v":0},{"$f":"MIN(Ct!G169:G170)","v":0},{"$f":"MIN(Ct!H169:H170)","v":0},{"$f":"MIN(Ct!I169:I170)","v":0},{"$f":"MIN(Ct!J169:J170)","v":0},{"$f":"MIN(Ct!K169:K170)","v":0},{"$f":"MIN(Ct!L169:L170)","v":0},{"$f":"MIN(Ct!M169:M170)","v":0},{"$f":"MIN(Ct!N169:N170)","v":0},{"$f":"MIN(Ct!O169:O170)","v":0}]
[10,4,6,null,{"$f":"MIN(Ct!E170:E171)","v":0},{"$f":"MIN(Ct!F170:F171)","v":0},{"$f":"MIN(Ct!G170:G171)","v":0},{"$f":"MIN(Ct!H170:H171)","v":0},{"$f":"MIN(Ct!I170:I171)","v":0},{"$f":"MIN(Ct!J170:J171)","v":0},{"$f":"MIN(Ct!K170:K171)","v":0},{"$f":"MIN(Ct!L170:L171)","v":0},{"$f":"MIN(Ct!M170:M171)","v":0},{"$f":"MIN(Ct!N170:N171)","v":0},{"$f":"MIN(Ct!O170:O171)","v":0}]
[10,5,5,"Min",{"$f":"MIN(Ct!E171:E172)","v":0},{"$f":"MIN(Ct!F171:F172)","v":0},{"$f":"MIN(Ct!G171:G172)","v":0},{"$f":"MIN(Ct!H171:H172)","v":0},{"$f":"MIN(Ct!I171:I172)","v":0},{"$f":"MIN(Ct!J171:J172)","v":0},{"$f":"MIN(Ct!K171:K172)","v":0},{"$f":"MIN(Ct!L171:L172)","v":0},{"$f":"MIN(Ct!M171:M172)","v":0},{"$f":"MIN(Ct!N171:N172)","v":0},{"$f":"MIN(Ct!O171:O172)","v":0}]
[10,5,5,null,{"$f":"MIN(Ct!E172:E173)","v":0},{"$f":"MIN(Ct!F172:F173)","v":0},{"$f":"MIN(Ct!G172:G173)","v":0},{"$f":"MIN(Ct!H172:H173)","v":0},{"$f":"MIN(Ct!I172:I173)","v":0},{"$f":"MIN(Ct!J172:J173)","v":0},{"$f":"MIN(Ct!K172:K173)","v":0},{"$f":"MIN(Ct!L172:L173)","v":0},{"$f":"MIN(Ct!M172:M173)","v":0},{"$f":"MIN(Ct!N172:N173)","v":0},{"$f":"MIN(Ct!O172:O173)","v":0}]
[10,6,4,"Min",{"$f":"MIN(Ct!E173:E174)","v":0},{"$f":"MIN(Ct!F173:F174)","v":0},{"$f":"MIN(Ct!G173:G174)","v":0},{"$f":"MIN(Ct!H173:H174)","v":0},{"$f":"MIN(Ct!I173:I174)","v":0},{"$f":"MIN(Ct!J173:J174)","v":0},{"$f":"MIN(Ct!K173:K174)","v":0},{"$f":"MIN(Ct!L173:L174)","v":0},{"$f":"MIN(Ct!M173:M174)","v":0},{"$f":"MIN(Ct!N173:N174)","v":0},{"$f":"MIN(Ct!O173:O174)","v":0}]
[10,6,4,null,{"$f":"MIN(Ct!E174:E175)","v":0},{"$f":"MIN(Ct!F174:F175)","v":0},{"$f":"MIN(Ct!G174:G175)","v":0},{"$f":"MIN(Ct!H174:H175)","v":0},{"$f":"MIN(Ct!I174:I175)","v":0},{"$f":"MIN(Ct!J174:J175)","v":0},{"$f":"MIN(Ct!K174:K175)","v":0},{"$f":"MIN(Ct!L174:L175)","v":0},{"$f":"MIN(Ct!M174:M175)","v":0},{"$f":"MIN(Ct!N174:N175)","v":0},{"$f":"MIN(Ct!O174:O175)","v":0}]
[10,7,3,"Min",{"$f":"MIN(Ct!E175:E176)","v":0},{"$f":"MIN(Ct!F175:F176)","v":0},{"$f":"MIN(Ct!G175:G176)","v":0},{"$f":"MIN(Ct!H175:H176)","v":0},{"$f":"MIN(Ct!I175:I176)","v":0},{"$f":"MIN(Ct!J175:J176)","v":0},{"$f":"MIN(Ct!K175:K176)","v":0},{"$f":"MIN(Ct!L175:L176)","v":0},{"$f":"MIN(Ct!M175:M176)","v":0},{"$f":"MIN(Ct!N175:N176)","v":0},{"$f":"MIN(Ct!O175:O176)","v":0}]
[10,7,3,null,{"$f":"MIN(Ct!E176:E177)","v":0},{"$f":"MIN(Ct!F176:F177)","v":0},{"$f":"MIN(Ct!G176:G177)","v":0},{"$f":"MIN(Ct!H176:H177)","v":0},{"$f":"MIN(Ct!I176:I177)","v":0},{"$f":"MIN(Ct!J176:J177)","v":0},{"$f":"MIN(Ct!K176:K177)","v":0},{"$f":"MIN(Ct!L176:L177)","v":0},{"$f":"MIN(Ct!M176:M177)","v":0},{"$f":"MIN(Ct!N176:N177)","v":0},{"$f":"MIN(Ct!O176:O177)","v":0}]
[10,8,2,"Min",{"$f":"MIN(Ct!E177:E178)","v":0},{"$f":"MIN(Ct!F177:F178)","v":0},{"$f":"MIN(Ct!G177:G178)","v":0},{"$f":"MIN(Ct!H177:H178)","v":0},{"$f":"MIN(Ct!I177:I178)","v":0},{"$f":"MIN(Ct!J177:J178)","v":0},{"$f":"MIN(Ct!K177:K178)","v":0},{"$f":"MIN(Ct!L177:L178)","v":0},{"$f":"MIN(Ct!M177:M178)","v":0},{"$f":"MIN(Ct!N177:N178)","v":0},{"$f":"MIN(Ct!O177:O178)","v":0}]
[10,8,2,null,{"$f":"MIN(Ct!E178:E179)","v":0},{"$f":"MIN(Ct!F178:F179)","v":0},{"$f":"MIN(Ct!G178:G179)","v":0},{"$f":"MIN(Ct!H178:H179)","v":0},{"$f":"MIN(Ct!I178:I179)","v":0},{"$f":"MIN(Ct!J178:J179)","v":0},{"$f":"MIN(Ct!K178:K179)","v":0},{"$f":"MIN(Ct!L178:L179)","v":0},{"$f":"MIN(Ct!M178:M179)","v":0},{"$f":"MIN(Ct!N178:N179)","v":0},{"$f":"MIN(Ct!O178:O179)","v":0}]
[10,9,1,"Min",{"$f":"MIN(Ct!E179:E180)","v":0},{"$f":"MIN(Ct!F179:F180)","v":0},{"$f":"MIN(Ct!G179:G180)","v":0},{"$f":"MIN(Ct!H179:H180)","v":0},{"$f":"MIN(Ct!I179:I180)","v":0},{"$f":"MIN(Ct!J179:J180)","v":0},{"$f":"MIN(Ct!K179:K180)","v":0},{"$f":"MIN(Ct!L179:L180)","v":0},{"$f":"MIN(Ct!M179:M180)","v":0},{"$f":"MIN(Ct!N179:N180)","v":0},{"$f":"MIN(Ct!O179:O180)","v":0}]
[10,9,1,null,{"$f":"MIN(Ct!E180:E181)","v":0},{"$f":"MIN(Ct!F180:F181)","v":0},{"$f":"MIN(Ct!G180:G181)","v":0},{"$f":"MIN(Ct!H180:H181)","v":0},{"$f":"MIN(Ct!I180:I181)","v":0},{"$f":"MIN(Ct!J180:J181)","v":0},{"$f":"MIN(Ct!K180:K181)","v":0},{"$f":"MIN(Ct!L180:L181)","v":0},{"$f":"MIN(Ct!M180:M181)","v":0},{"$f":"MIN(Ct!N180:N181)","v":0},{"$f":"MIN(Ct!O180:O181)","v":0}]
[10,10,0,"Min",{"$f":"MIN(Ct!E181:E182)","v":0},{"$f":"MIN(Ct!F181:F182)","v":0},{"$f":"MIN(Ct!G181:G182)","v":0},{"$f":"MIN(Ct!H181:H182)","v":0},{"$f":"MIN(Ct!I181:I182)","v":0},{"$f":"MIN(Ct!J181:J182)","v":0},{"$f":"MIN(Ct!K181:K182)","v":0},{"$f":"MIN(Ct!L181:L182)","v":0},{"$f":"MIN(Ct!M181:M182)","v":0},{"$f":"MIN(Ct!N181:N182)","v":0},{"$f":"MIN(Ct!O181:O182)","v":0}]
[10,10,0,null,{"$f":"MIN(Ct!E182:E183)","v":0},{"$f":"MIN(Ct!F182:F183)","v":0},{"$f":"MIN(Ct!G182:G183)","v":0},{"$f":"MIN(Ct!H182:H183)","v":0},{"$f":"MIN(Ct!I182:I183)","v":0},{"$f":"MIN(Ct!J182:J183)","v":0},{"$f":"MIN(Ct!K182:K183)","v":0},{"$f":"MIN(Ct!L182:L183)","v":0},{"$f":"MIN(Ct!M182:M183)","v":0},{"$f":"MIN(Ct!N182:N183)","v":0},{"$f":"MIN(Ct!O182:O183)","v":0}]

{"sheet":"Output","index":8,"n_rows":31,"n_cols":11,"rows_kept":31,"cut":false,"hidden":false,"merged":[]}
[]
["Output"]
["Stochastic Equipment Replacement Problem"]
["Back To Input"]
[]
["Criteria"]
["Maximum number of stages, T",null,{"$f":"Input!C7","v":0}]
["Maximum number of equipment, rmax",null,{"$f":"Input!C8","v":0}]
["Number of available equipment at stage 1",null,{"$f":"Input!C9","v":0}]
["Total internal transaction costs",null,{"$f":"Input!C10","v":0}]
["Initial operating cost of new equipment, ṅ",null,{"$f":"Input!C11","v":0}]
["Efficiency index of new equipment per stage, η",null,{"$f":"Input!C12","v":0}]
[]
["Output Display Table"]
[]
["Stage"]
["Stage, t",1,{"$f":"B$17+1","v":2},{"$f":"C$17+1","v":3},4,5,6,{"$f":"G$17+1","v":7},{"$f":"H$17+1","v":8},{"$f":"I$17+1","v":9},{"$f":"J$17+1","v":10}]
["<Description>",{"$f":"Input!B$18","v":0},{"$f":"Input!C$18","v":0},{"$f":"Input!D$18","v":0},{"$f":"Input!E$18","v":0},{"$f":"Input!F$18","v":0},{"$f":"Input!G$18","v":0},{"$f":"Input!H$18","v":0},{"$f":"Input!I$18","v":0},{"$f":"Input!J$18","v":0},{"$f":"Input!K$18","v":0}]
["Demand"]
["Final demand on the number of equipment, ãt",{"$f":" INDEX(Input!$22:$22, MATCH(B$17,Input!$17:$17, 0))","v":0},{"$f":" INDEX(Input!$22:$22, MATCH(C$17,Input!$17:$17, 0))","v":0},{"$f":" INDEX(Input!$22:$22, MATCH(D$17,Input!$17:$17, 0))","v":0},{"$f":" INDEX(Input!$22:$22, MATCH(E$17,Input!$17:$17, 0))","v":0},{"$f":" INDEX(Input!$22:$22, MATCH(F$17,Input!$17:$17, 0))","v":0},{"$f":" INDEX(Input!$22:$22, MATCH(G$17,Input!$17:$17, 0))","v":0},{"$f":" INDEX(Input!$22:$22, MATCH(H$17,Input!$17:$17, 0))","v":0},{"$f":" INDEX(Input!$22:$22, MATCH(I$17,Input!$17:$17, 0))","v":0},{"$f":" INDEX(Input!$22:$22, MATCH(J$17,Input!$17:$17, 0))","v":0},{"$f":" INDEX(Input!$22:$22, MATCH(K$17,Input!$17:$17, 0))","v":0}]
["Number of available equipment (state)"]
["Total number, rt",{"$f":"Input!$C$9","v":0},{"$f":"IF(B$26=0, B$22, B$22+INDEX(Input!$24:$24-Input!$35:$35, MATCH(B$17,Input!$17:$17, 0)))","v":0},{"$f":"IF(C$26=0, C$22, C$22+INDEX(Input!$24:$24-Input!$35:$35, MATCH(C$17,Input!$17:$17, 0)))","v":0},{"$f":"IF(D$26=0, D$22, D$22+INDEX(Input!$24:$24-Input!$35:$35, MATCH(D$17,Input!$17:$17, 0)))","v":0},{"$f":"IF(E$26=0, E$22, E$22+INDEX(Input!$24:$24-Input!$35:$35, MATCH(E$17,Input!$17:$17, 0)))","v":0},{"$f":"IF(F$26=0, F$22, F$22+INDEX(Input!$24:$24-Input!$35:$35, MATCH(F$17,Input!$17:$17, 0)))","v":0},{"$f":"IF(G$26=0, G$22, G$22+INDEX(Input!$24:$24-Input!$35:$35, MATCH(G$17,Input!$17:$17, 0)))","v":0},{"$f":"IF(H$26=0, H$22, H$22+INDEX(Input!$24:$24-Input!$35:$35, MATCH(H$17,Input!$17:$17, 0)))","v":0},{"$f":"IF(I$26=0, I$22, I$22+INDEX(Input!$24:$24-Input!$35:$35, MATCH(I$17,Input!$17:$17, 0)))","v":0},{"$f":"IF(J$26=0, J$22, J$22+INDEX(Input!$24:$24-Input!$35:$35, MATCH(J$17,Input!$17:$17, 0)))","v":0}]
["Number of new equipment, rtN",0,{"$f":"IF(B$26=0, B$23, B$23+INDEX(Input!$24:$24, MATCH(B$17,Input!$17:$17, 0)))","v":0},{"$f":"IF(C$26=0, C$23, C$23+INDEX(Input!$24:$24, MATCH(C$17,Input!$17:$17, 0)))","v":0},{"$f":"IF(D$26=0, D$23, D$23+INDEX(Input!$24:$24, MATCH(D$17,Input!$17:$17, 0)))","v":0},{"$f":"IF(E$26=0, E$23, E$23+INDEX(Input!$24:$24, MATCH(E$17,Input!$17:$17, 0)))","v":0},{"$f":"IF(F$26=0, F$23, F$23+INDEX(Input!$24:$24, MATCH(F$17,Input!$17:$17, 0)))","v":0},{"$f":"IF(G$26=0, G$23, G$23+INDEX(Input!$24:$24, MATCH(G$17,Input!$17:$17, 0)))","v":0},{"$f":"IF(H$26=0, H$23, H$23+INDEX(Input!$24:$24, MATCH(H$17,Input!$17:$17, 0)))","v":0},{"$f":"IF(I$26=0, I$23, I$23+INDEX(Input!$24:$24, MATCH(I$17,Input!$17:$17, 0)))","v":0},{"$f":"IF(J$26=0, J$23, J$23+INDEX(Input!$24:$24, MATCH(J$17,Input!$17:$17, 0)))","v":0}]
["Number of old equipment, rtO",{"$f":"Input!$C$9","v":0},{"$f":"IF(B$26=0, B$24, B$24-INDEX(Input!$35:$35, MATCH(B$17,Input!$17:$17, 0)))","v":0},{"$f":"IF(C$26=0, C$24, C$24-INDEX(Input!$35:$35, MATCH(C$17,Input!$17:$17, 0)))","v":0},{"$f":"IF(D$26=0, D$24, D$24-INDEX(Input!$35:$35, MATCH(D$17,Input!$17:$17, 0)))","v":0},{"$f":"IF(E$26=0, E$24, E$24-INDEX(Input!$35:$35, MATCH(E$17,Input!$17:$17, 0)))","v":0},{"$f":"IF(F$26=0, F$24, F$24-INDEX(Input!$35:$35, MATCH(F$17,Input!$17:$17, 0)))","v":0},{"$f":"IF(G$26=0, G$24, G$24-INDEX(Input!$35:$35, MATCH(G$17,Input!$17:$17, 0)))","v":0},{"$f":"IF(H$26=0, H$24, H$24-INDEX(Input!$35:$35, MATCH(H$17,Input!$17:$17, 0)))","v":0},{"$f":"IF(I$26=0, I$24, I$24-INDEX(Input!$35:$35, MATCH(I$17,Input!$17:$17, 0)))","v":0},{"$f":"IF(J$26=0, J$24, J$24-INDEX(Input!$35:$35, MATCH(J$17,Input!$17:$17, 0)))","v":0}]
["Optimal policy decision"]
["Keep or replace (0 or 1)",{"$f":"IF(INDEX(OFFSET(Ct!$A:$A, 0, MATCH(B$17,Ct!$50:$50, 0)-1), MATCH(B$22,Ct!$A:$A, 0)+B$23*2)=INDEX(OFFSET(Vt!$A:$A, 0, MATCH(B$17,Vt!$50:$50, 0)-1), MATCH(B$22,Vt!$A:$A, 0)+B$23*2),0,1)","v":0},{"$f":"IF(INDEX(OFFSET(Ct!$A:$A, 0, MATCH(C$17,Ct!$50:$50, 0)-1), MATCH(C$22,Ct!$A:$A, 0)+C$23*2)=INDEX(OFFSET(Vt!$A:$A, 0, MATCH(C$17,Vt!$50:$50, 0)-1), MATCH(C$22,Vt!$A:$A, 0)+C$23*2),0,1)","v":0},{"$f":"IF(INDEX(OFFSET(Ct!$A:$A, 0, MATCH(D$17,Ct!$50:$50, 0)-1), MATCH(D$22,Ct!$A:$A, 0)+D$23*2)=INDEX(OFFSET(Vt!$A:$A, 0, MATCH(D$17,Vt!$50:$50, 0)-1), MATCH(D$22,Vt!$A:$A, 0)+D$23*2),0,1)","v":0},{"$f":"IF(INDEX(OFFSET(Ct!$A:$A, 0, MATCH(E$17,Ct!$50:$50, 0)-1), MATCH(E$22,Ct!$A:$A, 0)+E$23*2)=INDEX(OFFSET(Vt!$A:$A, 0, MATCH(E$17,Vt!$50:$50, 0)-1), MATCH(E$22,Vt!$A:$A, 0)+E$23*2),0,1)","v":0},{"$f":"IF(INDEX(OFFSET(Ct!$A:$A, 0, MATCH(F$17,Ct!$50:$50, 0)-1), MATCH(F$22,Ct!$A:$A, 0)+F$23*2)=INDEX(OFFSET(Vt!$A:$A, 0, MATCH(F$17,Vt!$50:$50, 0)-1), MATCH(F$22,Vt!$A:$A, 0)+F$23*2),0,1)","v":0},{"$f":"IF(INDEX(OFFSET(Ct!$A:$A, 0, MATCH(G$17,Ct!$50:$50, 0)-1), MATCH(G$22,Ct!$A:$A, 0)+G$23*2)=INDEX(OFFSET(Vt!$A:$A, 0, MATCH(G$17,Vt!$50:$50, 0)-1), MATCH(G$22,Vt!$A:$A, 0)+G$23*2),0,1)","v":0},{"$f":"IF(INDEX(OFFSET(Ct!$A:$A, 0, MATCH(H$17,Ct!$50:$50, 0)-1), MATCH(H$22,Ct!$A:$A, 0)+H$23*2)=INDEX(OFFSET(Vt!$A:$A, 0, MATCH(H$17,Vt!$50:$50, 0)-1), MATCH(H$22,Vt!$A:$A, 0)+H$23*2),0,1)","v":0},{"$f":"IF(INDEX(OFFSET(Ct!$A:$A, 0, MATCH(I$17,Ct!$50:$50, 0)-1), MATCH(I$22,Ct!$A:$A, 0)+I$23*2)=INDEX(OFFSET(Vt!$A:$A, 0, MATCH(I$17,Vt!$50:$50, 0)-1), MATCH(I$22,Vt!$A:$A, 0)+I$23*2),0,1)","v":0},{"$f":"IF(INDEX(OFFSET(Ct!$A:$A, 0, MATCH(J$17,Ct!$50:$50, 0)-1), MATCH(J$22,Ct!$A:$A, 0)+J$23*2)=INDEX(OFFSET(Vt!$A:$A, 0, MATCH(J$17,Vt!$50:$50, 0)-1), MATCH(J$22,Vt!$A:$A, 0)+J$23*2),0,1)","v":0},{"$f":"IF(INDEX(OFFSET(Ct!$A:$A, 0, MATCH(K$17,Ct!$50:$50, 0)-1), MATCH(K$22,Ct!$A:$A, 0)+K$23*2)=INDEX(OFFSET(Vt!$A:$A, 0, MATCH(K$17,Vt!$50:$50, 0)-1), MATCH(K$22,Vt!$A:$A, 0)+K$23*2),0,1)","v":0}]
["Operating cost of new equipment"]
["Operating cost of new equipment, ntN",{"$f":"$C$11","v":0},{"$f":"IF(C$23=0,$C$11,(B$23*B$28/$C$12+(C$23-B$23)*$C$11)/C$23)","v":0},{"$f":"IF(D$23=0,$C$11,(C$23*C$28/$C$12+(D$23-C$23)*$C$11)/D$23)","v":0},0,0,0,0,0,0,0]
["Minimum estimated cost"]
["Minimum estimated cost",{"$f":"INDEX(OFFSET(Vt!$A:$A, 0, MATCH(B$17,Vt!$50:$50, 0)-1), MATCH(B$22,Vt!$A:$A, 0)+B$23*2)","v":0},{"$f":"INDEX(OFFSET(Vt!$A:$A, 0, MATCH(C$17,Vt!$50:$50, 0)-1), MATCH(C$22,Vt!$A:$A, 0)+C$23*2)","v":0},{"$f":"INDEX(OFFSET(Vt!$A:$A, 0, MATCH(D$17,Vt!$50:$50, 0)-1), MATCH(D$22,Vt!$A:$A, 0)+D$23*2)","v":0},{"$f":"INDEX(OFFSET(Vt!$A:$A, 0, MATCH(E$17,Vt!$50:$50, 0)-1), MATCH(E$22,Vt!$A:$A, 0)+E$23*2)","v":0},{"$f":"INDEX(OFFSET(Vt!$A:$A, 0, MATCH(F$17,Vt!$50:$50, 0)-1), MATCH(F$22,Vt!$A:$A, 0)+F$23*2)","v":0},{"$f":"INDEX(OFFSET(Vt!$A:$A, 0, MATCH(G$17,Vt!$50:$50, 0)-1), MATCH(G$22,Vt!$A:$A, 0)+G$23*2)","v":0},{"$f":"INDEX(OFFSET(Vt!$A:$A, 0, MATCH(H$17,Vt!$50:$50, 0)-1), MATCH(H$22,Vt!$A:$A, 0)+H$23*2)","v":0},{"$f":"INDEX(OFFSET(Vt!$A:$A, 0, MATCH(I$17,Vt!$50:$50, 0)-1), MATCH(I$22,Vt!$A:$A, 0)+I$23*2)","v":0},{"$f":"INDEX(OFFSET(Vt!$A:$A, 0, MATCH(J$17,Vt!$50:$50, 0)-1), MATCH(J$22,Vt!$A:$A, 0)+J$23*2)","v":0},{"$f":"INDEX(OFFSET(Vt!$A:$A, 0, MATCH(K$17,Vt!$50:$50, 0)-1), MATCH(K$22,Vt!$A:$A, 0)+K$23*2)","v":0}]
["Total estimated cost (including internal cost)",{"$f":"$B$30+$C$10","v":0}]